{"text_format":"1","workbook":"xlsx","n_sheets":100,"sheets":["O firmie","Instrukcja","Komunikat","Pobierz_dane","Parametry","Strona_tyt","LICENCJA","Wprowadz_1_inf_ogólne","Wprowadz_2_zasady_rach","Bilans_AKTYWA","Bilans_PASYWA","Rachunek_ZiS_porównawczy","Rachunek_ZiS_kalkulacyjny","Zestawienie_zmian_w_kapitale","Rachunek_przepływów_pieniężnych","WNiP","WNiP_UM","Prace_rozwojowe","ŚR_TRW","ŚR_TRW_UM","ŚR_TRW_w_bud","Zaliczki_na_ŚR_TRW_w_bud","Grunty","Struktura_ŚR_TRW","Inwest_długot","Aktywa_fin_długot_J_Pow","Aktywa_fin_długot_J_Poz_zk","Aktywa_fin_długot_J_Poz","Jednostki_zaangaż_w_kapitale","Zapasy","Należności","Odpisy_aktual_należ_długot","Odpisy_akt_należ_krót_j_pow","Odpisy_akt_należ_krót_j_poz_zk","Odpisy_akt_należ_krót_j_poz","Inwest_krótk","Papiery_wart","Kapitały","Struktura_kapitału_S.A.","Struktura_kapitału_inne_jedn","Akcje_P.S.A.","Akcje_własne","Podział_wyniku","Zobow_długot_1","Zobow_długot_2","Rezerwy","Zobow_krótk","RMC_Długot","RMC_Krótk","Bierne_RMK","RMP","Usługi_długot","Przeds_deweloperskie","Zobow_zabezp_na_majątku","Aktywa_Pasywa_wiele_pozycji","Rozrachunki_warunkowe","Aktywa_wart_godziwa","Aktywa_wart_godziwa_KAW","Przychody","Koszty_rodzajowe","Koszty_ukł_kalkulacyjny","Poz_przych_oper","Poz_koszty_oper","Przych_fin","Koszty_fin","Inf_o_dział_zaniechanej","Kursy_walut","Odsetki_i_róznice_kursowe","Koszt_wytw_ŚR_TRW_w_bud","Nakłady_na_N_A_T","Przychody_i_koszty_incydent","Ukryte_zyski","Podatek_CIT","Pod_odroczony","Transakcje_nierynkowe","Instr_finans_Aktywa","Instr_finans_Zobowiązania","Instr_finans_wart_godziwa","Instr_finans_kapitał_akt_wyceny","Zatrudnienie","Pożyczki_zarząd_nadz","Wynagr_i_zobow_org_zarząd","Wynagrodzenie_audytora","Transakcje_z_jed_pow","Objaśnienie_do_przepływów","Wydruk_sprawozdania","Wydruk_noty1","Wydruk_noty2","Błędy_zmiany_polit_zdarz_po_bil","Wspólne_przeds_grupa_kapit","Pozostałe_info","Ostatnia_str","AKTYWAT_ANALIZA","PASYWAT_ANALIZA","RACH_POR_ANALIZA","WSKAŹNIKI_POR_ANALIZA","RACH_KALK_ANALIZA","WSKAŹNIKI_KALK_ANALIZA","KOSZTY_RODZ_POR_ANALIZA","KOSZTY_RODZ_KALK_ANALIZA"],"not_rendered":{"charts":0,"images":5,"macros":1,"external_links":0,"defined_names":373,"comments":11,"pivot_tables":0},"unopened":[],"bounds":{"document_bytes":16777216,"sheet_cells":100000,"rows_first":2000,"rows_last":500,"rows_between":2000,"halvings":0,"cell_chars":16384,"cell_head_chars":4096},"cells_cut":0,"cells_raw":0,"read":"whole","date_system":"1900"}

{"sheet":"O firmie","index":0,"n_rows":63,"n_cols":7,"rows_kept":63,"cut":false,"hidden":false,"merged":[[48,1,48,7],[1,1,1,7],[15,1,15,7],[42,3,42,7],[2,2,3,7]]}
["Ver. 1.8"]
[]
[null,null,"W dniu 3 stycznia 2022 r. nastapiło połączenie spółek Morison Finansista Audit sp. z o.o. i Wspólnicy sp.k. oraz Moore Rewit sp. z o.o. w wyniku czego powstała spółka Moore Polska sp. z o.o.  Wszelkie prawa do programu e-Sprawozdanie przeszły na spółke Moore Polska sp. z o.o."]
[]
[]
[]
[]
[]
[]
[]
[]
[]
[]
[]
[]
[]
[]
[]
[]
[]
[]
[]
[]
[]
[]
[]
[]
[]
[]
[]
[]
[]
[]
[]
[]
[]
[]
[]
[]
[]
[]
[]
[]
[]
[]
[]
[]
[]
[]
[]
[]
[]
[]
[]
[]
[]
[]
[]
[]
[]
[]
[]
[null,null,"www.moorepolska.pl","kontakt: Biuro w Poznaniu, email: poznan@moorepolska.pl",null,null,"tel. +48 61 65 44 102"]

{"sheet":"Instrukcja","index":1,"n_rows":56,"n_cols":2,"rows_kept":56,"cut":false,"hidden":false,"merged":[]}
[]
[null,"INSTRUKCJA OBSŁUGI PROGRAMU"]
[]
[]
[]
[]
[]
[null,"OPIS PROGRAMU:"]
[null,"Program przeznaczony jest do sporządzenia sprawozdania finansowego obejmującego bilans, rachunek zysków i strat, zestawienie zmian w kapitale własnym, rachunek przepływów pieniężnych oraz dodatkowe informacje i objaśnienia, zgodnie z wymogami ustawy o rachunkowości z dnia 29 września 1994 r. "]
[null,"Na podstawie sporządzonego w programie sprawozdania finansowgo można wygenerować sprawozdanie w strukturze logicznej oraz formacie (XML) udostępnionym w Biuletynie Informacji Publicznej na stronie Ministerstwa Finansów, z zastosowaniem generatora XML dostepnego na stronie:"]
[null,"https://sf.moorepolska.pl/"]
[]
[null,"Dla sprawnego i prawidłowego działania programu zaleca się jego użytkowanie na komputerach z zainstalowanym pakietem Microsoft Office 2007 lub nowszym."]
[null,"Plik ma rozszerzenie .xlsm, które oznacza że jest to skoroszyt programu Excel z obsługą makr. Prosimy nie zmieniać rozszerzenia."]
[null,"ZASADY DZIAŁANIA:"]
[null,"Przed ropoczęciem pracy z programem należy upewnić się, że makra są wszystkie włączone.  Inne ustawienia makr spowdują, że program nie będzie działał prawidłowo!!! Ustawienia makr zmienia się  w Plik > Opcje programu Excel > Centrum Zaufania > Ustawienia Centrum Zaufania > Ustawienia makr > Zaznaczyć \"włącz wszystkie makra (niezalecane, może zostać uruchomiony niebezpieczny kod)\" > OK. Po zmianie zapisz, zamknij i ponownie otwórz plik."]
[]
[null,"1. Pracę z programem rozpoczynamy od arkusza \"Parametry\", który to podzielony jest na trzy części. Dane do programu wprowadzamy przez wypełnienie pustych pól w ramkach (proszę zwracać uwagę na zamieszczone komentarze w polach). Kolejność sporządzania, wariant RZiS, wersję SF oraz formę podatku dochodowego ustawiamy w menu głównym programu \"e-Sprawozdanie MP.xml\" (patrz górny pasek menu). "]
[]
[null,"W pierwszej kolejności podajemy dane, które będą charakteryzować przygotowywane sprawozdanie finansowe zgodnie z poniżej zamieszczonym opisem:"]
[null,"Pole \"Nazwa\" - uzupełnia się automatycznie po pobraniu licencji"]
[null,"Pole \"Temat\" - służy do opisania sprawozdania finansowego tytułem; podajemy rok za który sporządzamy sprawozdanie finansowe (w tym celu zastępujemy litery \"rrrr\" np.: 2020)"]
[null,"Pole \"Miejscowość / Data sporządzenia\" - pole służy do wpisania miejsca oraz daty sporządzenia sprawozdania finansowego; format daty rrrr-mm-dd np.: Poznań / 2020-03-31"]
[null,"Pole \"Stan bieżący\" - w tym miejscu podajemy stan na który sporządzamy sprawozdanie finansowe; format daty to \"dd.mm.rrrr\" gdzie \"dd\" dzień, \"mm\" miesiąc, a rrrr to rok np.: Stan na dzień 31.12.2020"]
[null,"Pole \"Stan poprzedni\" - w tym miejscu uzupełniamy stan poprzedni do tego za, który sporządzamy sprawozdanie finansowe; format daty to \"dd.mm.rrrr\" np.: Stan na dzień 31.12.2019"]
[null,"Pole \"Rok obrotowy bieżący\" - tutaj podajmy okres za który sporządzamy sprawozdanie finansowe; format daty to d.mm.-dd.mm.rrrr np.: 1.01-31.12.2020"]
[null,"Pole \"Rok obrotowy poprzedni\" - w tym polu - wpisujemy okres poprzedni do tego za który sporządzamy sprawozdanie finansowe; format daty d.mm-dd.mm.rrrr np.: 1.01-31.12.2019"]
[null,"Pole \"Data od\" - wpisz poczatek okresu objętego sprawozdaniem,  format daty to \"rrrr-mm-dd\" np. 2020-01-01 (format daty wymagany przez XML) "]
[null,"Pole \"Data do\" - wpisz koniec okresu objętego sprawozdaniem, format daty to \"rrrr-mm-dd\" np. 2020-12-31 (format daty wymagany przez XML) "]
[]
[null,"W następnym kroku ustawiamy parametry w menu głównym \"e-Sprawozdanie MP.xml\" (patrz górny pasek menu). "]
[null,"Pole \"Kolejność sporządzania\" - tutaj istnieje możliwość wybrania jednej z dwu opcji. Pierwszą opisaną jako \"Wypełnienie sprawozdania na podstawie danych z not\" wybieramy wówczas jeśli chcemy, aby dane wprowadzane do not przenosiły się automatycznie do sprawozdania finansowego. W przypadku wyboru tego wariantu nie wypełniamy arkuszy bilansu i rachunku zysku i strat. \nJeśli natomiast wybierzemy opcję drugą zwaną \"Porównanie danych w sprawozdaniu i w notach\" to osobno należy wypełnić dane w bilansie i rachunku zysków i strat oraz osobno w notach objaśniających. W przypadku podania różnych danych w bilansie i rachunku zysków i strat oraz w notach w polach pod notami zatytułowanymi \"Sprawdzenie\" pojawi się kwota różnicy oraz pole zmieni kolor na żółty."]
[null,"Pole \"Wariant RZiS\" - służy do wyboru wariantu sprawozdania finansowego tj. sprawozdania finansowego zawierającego rachunek zysków i strat w wersji porównawczej lub wersji kalkulacyjnej."]
[null,"Pole \"Wersja SF\" - w tym miejscu można wybrać pomiędzy wersję sprawozdania finansowego, która obejmuje rachunek przepływów pieniężnych, notę objaśniającą przepływy oraz zestawienie zmian w kapitale - tzw. wersja \"Pełna\", a wersją która tych elementów nie zawiera - tzw. wersja \"Niepełna\"."]
[null,"Pole \"Forma podatku dochodowego\": - tutaj wybieramy sposób opodatkowania. \n\"Podatek CIT\" - spółki kapitałowe oraz osobowe bedące podatnikami podatku CIT oraz pozostałe osoby prawne, \n\"Nie dotyczy\" - spółki osobowe niebedące podatnikami podatku CIT oraz przedsiębiorstwa osób fizycznych"]
[null,"W kolejnym kroku zaznaczamy elementy, które będą zaprezentowane w przygotowywanym sprawozdaniu finansowym. W tej części mamy możliwość rezygnacji z wypełnienia not, których nie zamierzamy prezentować w sprawozdaniu finansowym (dokonujemy tego przez odznaczanie noty w okienku przy jej tytule). Niewybrane elementy sprawozdania finansowego i noty nie będą uwzględniane przy tworzeniu wydruku.\nNie powinno się wyłączać not wymaganych przez załącznik nr 1 do ustawy o rachunkowości, chyba że pozycja sprawozdania których dotyczą nie występuje.  Nie zalaca się wyłączania noty \"Zobowiązania i należności warunkowe\"."]
[]
[null,"2. Po wypełnieniu arkusza \"Parametry\" należy uzupełnić danymi  arkusze \"Wprowadz_1_inf_ogólne\" oraz \"Wprowadz_2_zasady_rach\". \nW zależności od wybranego wariantu kolejności sporządzania SF przechodzimy do wypełniania wybranych not objaśniających, a w przypadku wyboru opcji 2 (w polu zatytułowanym \"Kolejność sporządzania\") dodatkowo jeszcze odpowiednie elementy sprawozdania finansowego. "]
[]
[null,"3. Pod każdą notą znajduje się pole (białe pole) na dodanie dodatkowego opisu, które umożliwi uzupełnienie danych liczbowych o ważne informacje."]
[null,"4. PRZYGOTOWANIE PLIKU DO XML\nPo sporządzeniu sprawozdania finansowgo należy przejść do arkusza zatytułowanego \"Parametry\" i nacisnąć przycisk \"Przygotowanie pliku do XML\", w ten sposób zostanie wygenerowana wersja sprawozdania finansowego wraz z notami objaśniającymi, która będzie gotowa do wydruku na wewnętrzne potrzeby Jednostki oraz do wygenerowania plików pdf:\n-  Zasady (polityka) rachunkowości (ZR)\n-  Dodatkowe informacje i objaśnienia (DI),\nktóre będą służyły do załączenia do pliku XML.\n\nZaleca się tworzenie wersji do wydruku po zakończeniu prac nad sprawozdaniem finansowym i notami ze względu na czas potrzebny do wygenerowania wydruku. W zależności od szybkości komputera może to trwać od kilkudziesięciu sekund do kilku minut.\n\n1. Aby przygotować plik do XML, w zakładce „Parametry” lub w menu głównym \"e-Sprawozdanie MP.xml\" należy wybrać (kliknąć) pole „Przygotowanie pliku do XML”. Potwierdzić „OK”. Przygotowany plik zapisze się w tym samym katalogu, w którym znajduje się program do sporządzania SF.\n2. Od tego momentu pracujemy już na pliku, który oprócz nazwy firmy zawiera treść „plik_do_XML”. \n3. Następnie należy postępować zgodnie ze wskazówkami, które pojawią się w przygotowanym pliku – przede wszystkim skorygować ustawienia wydruku przesuwając niebieskie linie. Zachować ewentualne zmiany.\n4. Na ostatniej stronie – klikamy pole „Przygotowanie plików PDF celem konwertowania do XML”. W ten sposób zapiszą się w tym samym katalogu dwa pliki w formacie PDF:\n• Zasady (polityka) rachunkowości ZR\n• Dodatkowe informacje i objaśnienia DI \n5. Jeżeli zauważymy jakieś błędy na tym etapie, należy wrócić do pliku z programu (MP_SF_v_55.xlsm lub wersje kolejne), dokonać poprawek i przygotować ponownie plik do XML oraz pliki PDF, o których mowa w pkt. 4\n6. W ten sposób oprócz pliku z programem, w którym sporządziliśmy SF powstaną 3 pliki, które posłużą Państwu do wygenerowania pliku XML\n7. Następnie, należy zalogować się na stronie https://sf.moorepolska.pl i skorzystać z naszego Generatora XML\n8. Importujemy „plik_do_XML.xlsm” oraz dodajemy załączniki, o których mowa w pkt.4. (Nie importujemy pliku z programem w którym sporządziliśmy SF).\n9. Po uiszczeniu opłaty można pobrać plik XML i zapisać go w wybranym folderze. W zależności od ustawień pliki zwykle automatycznie zapisują się w folderze „Pobrane”."]
[null,"Program umożliwia przygotowanie wydruku kompletnego SF w Excelu, a nastepnie w PDF. Przypominamy, że zgodnie z obowiazującymi przepisami wydrukowane SF nie jest oryginalnym SF. Oryginalne SF musi być sporządzone w wersji elektronicznej w strukturze logicznej oraz formacie XML. Moore Polska udostepnia możliwość przekonwertowania niniejszej wersji do XML na portalu https://sf.moorepolska.pl "]
[]
[null,"!!!Po wprowadzeniu jakichkolwiek zmian do arkusza parametry i/lub bilansu i/lub rachunku zysków i strat i/lub rachunku przepływów pieniężnych i/lub zestawienia zmian w kapitale i/lub not objaśniających należy ponownie nacisnąć przycisk \"Przygotowanie pliku do XML\"  w celu uwzględnienia wprowadzonych zmian !!!"]
[]
[null,"UWAGI DLA KORZYSTAJĄCYCH"]
[null,"W arkuszach należy wypełniać tylko puste komórki. Nie należy wprowadzać informacji do komórek zawierających formuły (w pierwotnej wersji są to komórki z zerowymi wartościami)."]
[null,"!!!Treść wierszy w poszczególnych notach są tytułami przykładowymi, które podmiot może w pełni edytować. Sugeruje się zmienienie tytułów już istniejących zamiast dodawania kolejnych wierszy w notach.!!!"]
[null,"W celu ułatwienia pracy z programem z arkusza Parametry można przenieść się do dowolnej noty przez kliknięcie na jej skrócony tytuł np.: kliknięcie na napis WNiP' powoduje przeniesienie do arkusza zatytułowanego \"Zmiany w stanie wartości niematerialnych i prawnych - wartości brutto\". Z każdego arkusza można wrócić do arkusza \"Parametry\" przez kliknięcie na napis \"Powrót do parametrów\". \nW menu głównym \"e-Sprawozdanie MP.xml\" (patrz górny pasek menu) stworzono również rozwijalną listę NOTY, która ulatwia \"poruszanie się\" po programie."]
[null,"Arkusze są chronione przed zmianami. Zdjęcie ochrony pozostaje w gestii jedynie twórcy programu."]
[]
[null,"!!!Odradza się wprowadzanie jakichkolwiek zmian (w tym dodawanie i usuwanie kolumn, zmienianie i usuwanie formuł) w programie przez osoby nie posiadające zaawansowanej wiedzy z zakresu funkcjonowania programu \"EXCEL\".   Jeśli  pojawi się potrzeba dostosowania programu do indywidualnych wymagań klienta prosimy  wówczas o kontakt na poniższy adres.!!!"]
[null,"Opisany wyżej program jest narzędziem mającym pomóc i ułatwić przygotowanie sprawozdania finansowego. Przypominamy, że za jego prawidłowe sporządzenie odpowiada zgodnie z przepisami ustawy o rachunkowości kierownik jednostki."]
[null,"Licencjodawca oświadcza, że jest wyłącznym właścicielem praw autorskich do Programu, a prawa te nie są obciążone żadnymi prawami ani roszczeniami osób trzecich."]
[null,"KONTAKT"]
[null,"W przypadku pytań lub uwag dotyczących funkcjonowania programu prosimy o kontakt na adres e-mail: poznan@moorepolska.pl lub pod nr telefonu 61 65-44-102."]

{"sheet":"Komunikat","index":2,"n_rows":2,"n_cols":2,"rows_kept":2,"cut":false,"hidden":true,"merged":[[1,1,11,27]]}
[]
[null,"Komunikat"]

{"sheet":"Pobierz_dane","index":3,"n_rows":37,"n_cols":19,"rows_kept":37,"cut":false,"hidden":true,"merged":[[8,4,8,9]]}
[]
[]
[]
[]
[]
[null,null,"Sposób:"]
[]
[]
[null,null,"Link do plik źródłowego::"]
[]
[]
[]
[]
[]
[]
[]
[]
[]
[]
[]
[]
[]
[]
[]
[]
[]
[]
[]
[]
[]
[]
[null,null,null,null,null,null,null,null,null,null,null,null,null,null,null,null,null,null,1]
[null,null,null,null,null,null,null,null,null,null,null,null,null,null,null,null,null,null,"Całe sprawozdanie"]
[null,null,null,null,null,null,null,null,null,null,null,null,null,null,null,null,null,null,"Poprzedni rok"]
[null,null,null,null,null,null,null,null,null,null,null,null,null,null,null,null,null,null,2]
[null,null,null,null,null,null,null,null,null,null,null,null,null,null,null,null,null,null,"Ze sprawdzeniem tytułów"]
[null,null,null,null,null,null,null,null,null,null,null,null,null,null,null,null,null,null,"Bez sprawdzenia tytułów"]

{"sheet":"Parametry","index":4,"n_rows":118,"n_cols":18,"rows_kept":118,"cut":false,"hidden":false,"merged":[[56,3,56,9],[64,3,64,9],[63,3,63,9],[62,3,62,9],[61,3,61,9],[27,3,27,9],[39,3,39,9],[28,3,28,9],[29,3,29,9],[30,3,30,9],[33,3,33,9],[34,3,34,9],[117,1,117,9],[81,3,81,9],[116,1,116,9],[102,3,102,9],[99,3,99,9],[98,3,98,9],[95,3,95,9],[83,3,83,9],[89,3,89,9],[101,3,101,9],[91,3,91,9],[92,3,92,9],[93,3,93,9],[96,3,96,9],[97,3,97,9],[87,3,87,9],[2,2,2,3],[4,2,4,3],[38,3,38,9],[6,2,6,3],[2,6,2,7],[4,6,4,7],[6,6,6,7],[36,3,36,9],[35,3,35,9],[26,3,26,9],[37,3,37,9],[25,3,25,9],[8,6,8,7],[22,3,22,9],[32,3,32,9],[31,3,31,9],[42,3,42,9],[60,3,60,9],[49,3,49,9],[52,3,52,9],[46,3,46,9],[53,3,53,9],[51,3,51,9],[50,3,50,9],[48,3,48,9],[59,3,59,9],[57,3,57,9],[54,3,54,9],[55,3,55,9],[58,3,58,9],[47,3,47,9],[44,3,44,9],[78,3,78,9],[77,3,77,9],[72,3,72,9],[73,3,73,9],[65,3,65,9],[66,3,66,9],[25,10,32,12],[90,3,90,9],[74,3,74,9],[71,3,71,9],[84,3,84,9],[80,3,80,9],[79,3,79,9],[86,3,86,9],[85,3,85,9],[76,3,76,9],[75,3,75,9],[82,3,82,9],[43,3,43,9],[41,3,41,9],[40,3,40,9],[45,3,45,9],[11,2,11,3],[109,3,109,9],[110,3,110,9],[111,3,111,9],[104,3,104,9],[105,3,105,9],[106,3,106,9],[107,3,107,9],[108,3,108,9],[103,3,103,9],[100,3,100,9],[69,3,69,9],[94,3,94,9],[88,3,88,9],[23,3,23,9],[67,3,67,9]]}
[null,null,null,null,null,null,null,null,null,null,null,null,null,14,null,16,null,18]
[null,null,null,null,null,null,null,null,null,null,null,null,null,false,"tylko do odczytu"]
[null,"Nazwa:","DEMO",null,null,"Stan bieżący:","Stan na dzień dd.mm.rrrr",null,"Data od:","rrrr-mm-dd","Prawidłowemu wypełnieniu pól pomaga komentarz !",null,null,null,null,null,null,"zakres danych liczbowych"]
[null,null,null,null,null,null,null,null,null,null,null,null,null,null,null,null,null,-999999999999999]
[null,"Temat:","Sprawozdanie finansowe za rok 2023",null,null,"Stan poprzedni:","Stan na dzień dd.mm.rrrr",null,"Data do:","rrrr-mm-dd",null,null,null,null,null,null,null,999999999999999]
[]
[null,"Użytkownik licencji:","DEMO",null,null,"Okres obrotowy bieżący:","dd.mm-dd.mm.rrrr"]
[]
[null,"Miejscowość / Data sporządzenia","Poznań","rrrr-mm-dd",null,"Okres obrotowy poprzedni:","dd.mm-dd.mm.rrrr",null,null,null,null,null,null,{"$f":"C9&\", \"&TEXT(D9,\"RRRR-MM-DD\")","v":"Poznań, rrrr-mm-dd"},"pomocnicze pole"]
[null,null,null,null,null,null,null,null,null,null,null,null,null,null,null,1]
[null,"Ustaw parametry w menu głównym: e-Sprawozdanie MP.xml",null,null,null,null,null,null,null,null,null,null,null,null,"Podatek_CIT"]
[null,"Kolejność sporządzania:",{"$f":"IF(P19=1,P20,P21)","v":"Wypełnienie sprawozdania na podstawie danych z not"},null,null,null,null,null,null,null,null,null,null,null,"nie dotyczy"]
[null,null,null,null,null,null,null,null,null,null,null,null,null,null,null,1]
[null,"Wariant RZiS:",{"$f":"IF(P13=1,P14,P15)","v":"Porównawczy"},"Forma podatku dochodowego:",null,{"$f":"IF(P10=1,O11,O12)","v":"Podatek_CIT"},null,null,null,null,null,null,null,null,null,"Porównawczy"]
[null,null,null,null,null,null,null,null,null,null,null,null,null,null,null,"Kalkulacyjny"]
[null,"Wersja SF:",{"$f":"IF(P16=1,P17,P18)","v":"Pełna"},null,null,null,null,null,null,"Wersja 56.360",null,null,null,null,null,1]
[null,null,null,null,null,null,null,null,null,null,null,null,null,null,null,"Pełna"]
[null,null,null,null,null,null,null,null,null,null,null,null,null,null,null,"Niepełna"]
[null,null,null,null,null,null,null,null,null,"Data wygaśnięcia licencji ",null,null,null,677,"licznik 1",1]
[null,null,null,null,null,null,null,null,null,null,null,null,null,20000,"licznik 2","Wypełnienie sprawozdania na podstawie danych z not"]
[null,null,null,null,null,null,null,null,null,null,null,null,null,null,null,"Porównanie danych w sprawozdaniu i w notach"]
[null,null,null,null,null,null,null,null,null,null,null,null,null,null,null,2]
[null,"Sprawozdanie:","Wprowadz_1_inf_ogólne","Wprowadzenie do sprawozdania finansowego - informacje ogólne",null,null,null,null,null,null,null,null,null,true,null,"Podpis Dyrektora"]
[null,null,"Wprowadz_2_zasady_rach","Wprowadzenie do sprawozdania finansowego - zasady rachunkowości",null,null,null,null,null,null,null,null,null,true,null,"Podpisy Członków Zarządu"]
[null,null,"Bilans_AKTYWA",{"$f":"Bilans_AKTYWA!$A$5","v":"BILANS - AKTYWA"},null,null,null,null,null,null,null,null,null,true,null,"Podpis Kierownika Jednostki"]
[null,null,"Bilans_PASYWA",{"$f":"Bilans_PASYWA!A5","v":"BILANS - PASYWA"},null,null,null,null,null,null,"Nie należy wyłączać not wymaganych przez załącznik nr 1 do ustawy o rachunkowości, chyba że pozycja sprawozdania których dotyczą nie występuje.  Nie zaleca się wyłączania noty \"Zobowiązania i należności warunkowe\". ",null,null,true,null,"Podpis Prezesa"]
[null,null,"Rachunek_ZiS_porównawczy",{"$f":"Rachunek_ZiS_porównawczy!A5","v":"RACHUNEK ZYSKÓW I STRAT - wariant porównawczy"},null,null,null,null,null,null,null,null,null,true,null,"Podpis Właściciela"]
[null,null,"Rachunek_ZiS_kalkulacyjny",{"$f":"Rachunek_ZiS_kalkulacyjny!A5","v":"RACHUNEK ZYSKÓW I STRAT - wariant kalkulacyjny"},null,null,null,null,null,null,null,null,null,true,null,"Podpis Rektora"]
[null,null,"Zestawienie_zmian_w_kapitale",{"$f":"Zestawienie_zmian_w_kapitale!A5","v":"Zestawienie zmian w kapitale (funduszu) własnym"},null,null,null,null,null,null,null,null,null,true]
[null,null,"Rachunek_przepływów_pieniężnych",{"$f":"Rachunek_przepływów_pieniężnych!A5","v":"Rachunek przepływów pieniężnych"},null,null,null,null,null,null,null,null,null,true]
[null,"Noty:",null,null,null,null,null,null,null,null,null,null,null,true]
[null,null,"WNiP",{"$f":"WNiP!A6","v":"Zmiany w stanie wartości niematerialnych i prawnych - wartość brutto"},null,null,null,null,null,null,null,null,null,false]
[null,null,"WNiP_UM",{"$f":"WNiP_UM!A6","v":"Zmiany w stanie umorzeń wartości niematerialnych i prawnych"},null,null,null,null,null,null,null,null,null,false]
[null,null,"Prace_rozwojowe",{"$f":"Prace_rozwojowe!A6","v":"Koszty zakończonych prac rozwojowych oraz wartość firmy"},null,null,null,null,null,null,null,null,null,false]
[null,1,"ŚR_TRW",{"$f":"ŚR_TRW!A6","v":"Zmiany w stanie środków trwałych - wartość początkowa"},null,null,null,null,null,null,null,null,null,true,null,1]
[null,null,"ŚR_TRW_UM",{"$f":"ŚR_TRW_UM!A6","v":"Zmiany w stanie umorzeń środków trwałych"},null,null,null,null,null,null,null,null,null,false]
[null,null,"ŚR_TRW_w_bud",{"$f":"ŚR_TRW_w_bud!A6","v":"Zmiany w stanie środków trwałych w budowie"},null,null,null,null,null,null,null,null,null,false]
[null,null,"Zaliczki_na_ŚR_TRW_w_bud",{"$f":"Zaliczki_na_ŚR_TRW_w_bud!A6","v":"Zaliczki na środki trwałe w budowie"},null,null,null,null,null,null,null,null,null,false]
[null,null,"Grunty",{"$f":"Grunty!A6","v":"Wartość gruntów użytkowanych wieczyście"},null,null,null,null,null,null,null,null,null,false]
[null,null,"Struktura_ŚR_TRW",{"$f":"Struktura_ŚR_TRW!A6","v":"Struktura wykorzystywanych środków trwałych - według tytułów własności (wartość początkowa)"},null,null,null,null,null,null,null,null,null,false]
[null,null,"Inwest_długot",{"$f":"Inwest_długot!A6","v":"Zmiana stanu inwestycji długoterminowych"},null,null,null,null,null,null,null,null,null,false]
[null,null,"Aktywa_fin_długot_J_Pow",{"$f":"Aktywa_fin_długot_J_Pow!A6","v":"Zmiana stanu długoterminowych aktywów finansowych - w jednostkach powiązanych"},null,null,null,null,null,null,null,null,null,false]
[null,null,"Aktywa_fin_długot_J_Poz_zk",{"$f":"Aktywa_fin_długot_J_Poz_zk!A6","v":"Zmiana stanu długoterminowych aktywów finansowych - w pozostałych jednostkach, w których jednostka posiada zaangażowanie w kapitale"},null,null,null,null,null,null,null,null,null,false]
[null,null,"Aktywa_fin_długot_J_Poz",{"$f":"Aktywa_fin_długot_J_Poz!A6","v":"Zmiana stanu długoterminowych aktywów finansowych - w pozostałych jednostkach"},null,null,null,null,null,null,null,null,null,false]
[null,null,"Jednostki_zaangaż_w_kapitale",{"$f":"Jednostki_zaangaż_w_kapitale!A6","v":"Wykaz spółek (nazwa, siedziba), w których jednostka posiada co najmniej 20% udziałów w kapitale lub ogólnej liczbie głosów w organie stanowiącym spółki"},null,null,null,null,null,null,null,null,null,false]
[null,null,"Zapasy",{"$f":"Zapasy!A6","v":"Zapasy składników majątku obrotowego"},null,null,null,null,null,null,null,null,null,false]
[null,null,"Należności",{"$f":"Należności!A6","v":"Należności"},null,null,null,null,null,null,null,null,null,false]
[null,null,"Odpisy_aktual_należ_długot",{"$f":"Odpisy_aktual_należ_długot!A6","v":"Dane o odpisach aktualizujących wartość należności długoterminowych"},null,null,null,null,null,null,null,null,null,false]
[null,null,"Odpisy_akt_należ_krót_j_pow",{"$f":"Odpisy_akt_należ_krót_j_pow!A6","v":"Dane o odpisach aktualizujących wartość należności krótkoterminowych od jednostek powiązanych (wg tytułów należności)"},null,null,null,null,null,null,null,null,null,false]
[null,null,"Odpisy_akt_należ_krót_j_poz_zk",{"$f":"Odpisy_akt_należ_krót_j_poz_zk!A6","v":"Dane o odpisach aktualizujących wartość należności od jednostek pozostałych, w których jednostka posiada zaangażowanie w kapitale (wg tytułów należności)"},null,null,null,null,null,null,null,null,null,false]
[null,null,"Odpisy_akt_należ_krót_j_poz",{"$f":"Odpisy_akt_należ_krót_j_poz!A6","v":"Dane o odpisach aktualizujących wartość należności krótkoterminowych od jednostek pozostałych (wg tytułów należności)"},null,null,null,null,null,null,null,null,null,false]
[null,null,"Inwest_krótk",{"$f":"Inwest_krótk!A6","v":"Inwestycje krótkoterminowe "},null,null,null,null,null,null,null,null,null,false]
[null,null,"Papiery_wart",{"$f":"Papiery_wart!A6","v":"Papiery wartościowe lub prawa"},null,null,null,null,null,null,null,null,null,false]
[null,null,"Kapitały",{"$f":"Kapitały!A6","v":"Zmiany w stanie kapitałów /funduszy zapasowych i rezerwowych"},null,null,null,null,null,null,null,null,null,false]
[null,null,"Struktura_kapitału_S.A.",{"$f":"'Struktura_kapitału_S.A.'!A6","v":"Dane o strukturze własności kapitału podstawowego oraz liczbie i wartości nominalnej subskrybowanych akcji, w tym uprzywilejowanych"},null,null,null,null,null,null,null,null,null,false]
[null,null,"Struktura_kapitału_inne_jedn",{"$f":"Struktura_kapitału_inne_jedn!A6","v":"Dane o strukturze własności kapitału podstawowego"},null,null,null,null,null,null,null,null,null,false]
[null,null,"Akcje_P.S.A.",{"$f":"'Akcje_P.S.A.'!A6","v":"Akcje objęte przez akcjonariuszy w prostej spółce akcyjnej w zamian za wkłady niepieniężne, których przedmiotem jest prawo niezbywalne lub świadczenie pracy lub usług\n"},null,null,null,null,null,null,null,null,null,false]
[null,null,"Akcje_własne",{"$f":"Akcje_własne!A6","v":"Udziały / akcje własne"},null,null,null,null,null,null,null,null,null,false]
[null,null,"Podział_wyniku",{"$f":"Podział_wyniku!A6","v":"Propozycje podziału zysku netto lub pokrycia straty netto za rok obrotowy"},null,null,null,null,null,null,null,null,null,false]
[null,null,"Zobow_długot_1",{"$f":"Zobow_długot_1!A6","v":"Zobowiązania długoterminowe wobec jednostek powiązanych oraz pozostałych, w których jednostka posiada zaangażowanie kapitałowe, według umownego okresu spłaty"},null,null,null,null,null,null,null,null,null,false]
[null,null,"Zobow_długot_2",{"$f":"Zobow_długot_2!A6","v":"Zobowiązania długoterminowe wobec pozostałych jednostek według umownego okresu spłaty"},null,null,null,null,null,null,null,null,null,false]
[null,2,"Rezerwy",{"$f":"Rezerwy!A6","v":"Zmiany w stanie rezerw "},null,null,null,null,null,null,null,null,null,true]
[null,null,"Zobow_krótk",{"$f":"Zobow_krótk!A6","v":"Zobowiązania krótkoterminowe (stan na BZ)  według struktury wiekowej"},null,null,null,null,null,null,null,null,null,false]
[null,null,"RMC_długot",{"$f":"RMC_Długot!A6","v":"Rozliczenia międzyokresowe czynne - długoterminowe"},null,null,null,null,null,null,null,null,null,false]
[null,null,"RMC_krótk",{"$f":"RMC_Krótk!A6","v":"Rozliczenia międzyokresowe czynne - krótkoterminowe"},null,null,null,null,null,null,null,null,null,false]
[null,null,"Bierne_RMK",{"$f":"Bierne_RMK!$A$6","v":"Bierne rozliczenia międzyokresowe kosztów - wykazane w bilansie w pozycji rezerw"},null,null,null,null,null,null,null,null,null,false]
[null,null,"RMP",{"$f":"RMP!A6","v":"Rozliczenia międzyokresowe przychodów"},null,null,null,null,null,null,null,null,null,false]
[null,null,"Usługi_długot",{"$f":"Usługi_długot!A6","v":"Usługi długoterminowe objaśnienia do pozycji bilansu"},null,null,null,null,null,null,null,null,null,false]
[null,null,"Przeds_deweloperskie",{"$f":"Przeds_deweloperskie!A6","v":"Realizacja przedsięwzięć deweloperskich"},null,null,null,null,null,null,null,null,null,false]
[null,null,"Zobow_zabezp_na_majątku",{"$f":"Zobow_zabezp_na_majątku!A6","v":"Zobowiązania i zobowiązania warunkowe zabezpieczone na majątku Jednostki"},null,null,null,null,null,null,null,null,null,false]
[null,null,"Aktywa_Pasywa_wiele_pozycji",{"$f":"Aktywa_Pasywa_wiele_pozycji!A6","v":"Składniki aktywów i pasywów wykazywane w więcej niż jednej pozycji bilansu – powiązania"},null,null,null,null,null,null,null,null,null,false]
[null,null,"Rozrachunki_warunkowe",{"$f":"Rozrachunki_warunkowe!A6","v":"Zobowiązania warunkowe (pozabilansowe)"},null,null,null,null,null,null,null,null,null,false]
[null,null,"Aktywa_wart_godziwa",{"$f":"Aktywa_wart_godziwa!A6","v":"Składniki aktywów niebędących instrumentami finansowymi wyceniane według wartości godziwej "},null,null,null,null,null,null,null,null,null,false]
[null,3,"Aktywa_wart_godziwa_KAW",{"$f":"Aktywa_wart_godziwa_KAW!A6","v":"Składniki aktywów niebędących instrumentami finansowymi wyceniane według wartości godziwej "},null,null,null,null,null,null,null,null,null,true]
[null,4,"Przychody",{"$f":"Przychody!A6","v":"Przychody netto ze sprzedaży produktów (usług), towarów i materiałów (struktura rzeczowa i terytorialna)"},null,null,null,null,null,null,null,null,null,true]
[null,5,"Koszty_rodzajowe",{"$f":"Koszty_rodzajowe!A6","v":"Koszty w układzie rodzajowym"},null,null,null,null,null,null,null,null,null,true]
[null,null,"Koszty_ukł_kalkulacyjny",{"$f":"Koszty_ukł_kalkulacyjny!A6","v":"Koszty w układzie rodzajowym oraz kalkulacyjnym"},null,null,null,null,null,null,null,null,null,false]
[null,null,"Poz_przych_oper",{"$f":"Poz_przych_oper!A6","v":"Pozostałe przychody operacyjne"},null,null,null,null,null,null,null,null,null,false]
[null,null,"Poz_koszty_oper",{"$f":"Poz_koszty_oper!A6","v":"Pozostałe koszty operacyjne"},null,null,null,null,null,null,null,null,null,false]
[null,null,"Przych_fin",{"$f":"Przych_fin!A6","v":"Przychody finansowe"},null,null,null,null,null,null,null,null,null,false]
[null,null,"Koszty_fin",{"$f":"Koszty_fin!A6","v":"Koszty finansowe"},null,null,null,null,null,null,null,null,null,false]
[null,null,"Inf_o_dział_zaniechanej",{"$f":"Inf_o_dział_zaniechanej!A6","v":"Informacje o przychodach, kosztach i wynikach działalności zaniechanej w roku obrotowym lub przewidzianej do zaniechania w roku następnym"},null,null,null,null,null,null,null,null,null,false]
[null,null,"Kursy_walut",{"$f":"Kursy_walut!A6","v":"Kursy walut przyjęte do wyceny składników bilansu oraz rachunku zysków i strat"},null,null,null,null,null,null,null,null,null,false]
[null,null,"Odsetki_i_róznice_kursowe",{"$f":"Odsetki_i_róznice_kursowe!A6","v":"Odsetki oraz różnice kursowe, które powiększyły cenę nabycia towarów lub koszt wytworzenia produktów w roku obrotowym"},null,null,null,null,null,null,null,null,null,false]
[null,null,"Koszt_wytw_ŚR_TRW_w_bud",{"$f":"Koszt_wytw_ŚR_TRW_w_bud!A6","v":"Koszt wytworzenia środków trwałych w budowie"},null,null,null,null,null,null,null,null,null,false]
[null,null,"Nakłady_na_N_A_T",{"$f":"Nakłady_na_N_A_T!A6","v":"Nakłady na niefinansowe aktywa trwałe, w tym nakłady na ochronę środowiska"},null,null,null,null,null,null,null,null,null,false]
[null,null,"Przychody_i_koszty_incydent",{"$f":"Przychody_i_koszty_incydent!A6","v":"Kwota i charakter poszczególnych pozycji przychodów i kosztów o nadzwyczajnej wartości lub które wystąpiły incydentalnie"},null,null,null,null,null,null,null,null,null,false]
[null,null,"Ukryte_zyski",{"$f":"Ukryte_zyski!A6","v":"informacje o dochodach z tytułu ukrytych zysków w rozumieniu art. 28m ust. 1 pkt 2 ustawy z dnia 15.02.1992 r. o podatku doch. od osób prawnych"},null,null,null,null,null,null,null,null,null,false]
[null,null,"Podatek_CIT",{"$f":"Podatek_CIT!A6","v":"Pozycje różniące podstawę opodatkowania podatkiem dochodowym od wyniku finansowego brutto"},null,null,null,null,null,null,null,null,null,false]
[null,null,"Pod_odroczony",{"$f":"Pod_odroczony!A6","v":"Zmiany rezerw i aktywów na odroczony podatek dochodowy"},null,null,null,null,null,null,null,null,null,false]
[null,null,"Transakcje_nierynkowe",{"$f":"Transakcje_nierynkowe!A6","v":"Informacje o istotnych transakcjach zawartych przez jednostkę na innych warunkach niż rynkowe ze stronami powiązanymi, wraz z informacjami określającymi ich charakter"},null,null,null,null,null,null,null,null,null,false]
[null,null,"Instr_finans_Aktywa",{"$f":"Instr_finans_Aktywa!A6","v":"Klasyfikacja instrumentów finansowych - Aktywa finansowe"},null,null,null,null,null,null,null,null,null,false]
[null,null,"Instr_finans_Zobowiązania",{"$f":"Instr_finans_Zobowiązania!A6","v":"Klasyfikacja instrumentów finansowych - Zobowiązania finansowe"},null,null,null,null,null,null,null,null,null,false]
[null,null,"Instr_finans_wart_godziwa",{"$f":"Instr_finans_wart_godziwa!A6","v":"Instrumenty finansowe wyceniane według wartości godziwej "},null,null,null,null,null,null,null,null,null,false]
[null,null,"Instr_finans_kapitał_akt_wyceny",{"$f":"Instr_finans_kapitał_akt_wyceny!A6","v":"Zmiany w kapitale (funduszu) z aktualizacji wyceny w zakresie instrumentów finansowych"},null,null,null,null,null,null,null,null,null,false]
[null,null,"Zatrudnienie",{"$f":"Zatrudnienie!A6","v":"Informacje o przeciętnym zatrudnieniu w grupach zawodowych"},null,null,null,null,null,null,null,null,null,false]
[null,null,"Pożyczki_zarząd_nadz",{"$f":"Pożyczki_zarząd_nadz!A6","v":"Zaliczki, kredyty, pożyczki i świadczenia o podobnym charakterze udzielone osobom wchodzącym w skład organów zarządzających, nadzorujących i administrujących"},null,null,null,null,null,null,null,null,null,false]
[null,null,"Wynagr_i_zobow_org_zarząd","Wynagrodzenia lub zobowiązania wobec aktualnych lub byłych członków organów jednostki",null,null,null,null,null,null,null,null,null,false]
[null,null,"Wynagrodzenie_audytora",{"$f":"Wynagrodzenie_audytora!A6","v":"Informacje o wynagrodzeniu podmiotu badającego sprawozdanie finansowe"},null,null,null,null,null,null,null,null,null,false]
[null,null,"Transakcje_z_jed_pow",{"$f":"Transakcje_z_jed_pow!A6","v":"Transakcje z jednostkami powiązanymi"},null,null,null,null,null,null,null,null,null,false]
[null,null,"Objaśnienie_do_przepływów",{"$f":"Objaśnienie_do_przepływów!A6","v":"Objaśnienie struktury środków pieniężnych przyjętych do rachunku przepływów"},null,null,null,null,null,null,null,null,null,false]
[null,null,"Błędy_zmiany_polit_zdarz_po_bil",{"$f":"Błędy_zmiany_polit_zdarz_po_bil!A6","v":"Błędy lat ubiegłych, zdarzenia po dniu bilansowym oraz\nzmiany polityki rachunkowości"},null,null,null,null,null,null,null,null,null,false]
[null,null,"Wspólne_przeds_grupa_kapit",{"$f":"Wspólne_przeds_grupa_kapit!A6","v":"Informacje o wspólnych przedsięwzięciach, grupie kapitałowej i połączeniach"},null,null,null,null,null,null,null,null,null,false]
[null,null,"Pozostałe_info",{"$f":"Pozostałe_info!A6","v":"Pozostałe informacje"},null,null,null,null,null,null,null,null,null,false]
[null,null,"AKTYWAT_ANALIZA",{"$f":"AKTYWAT_ANALIZA!A5","v":"BILANS - AKTYWA - ANALIZA"},null,null,null,null,null,null,null,null,null,false]
[null,null,"PASYWAT_ANALIZA",{"$f":"PASYWAT_ANALIZA!A5","v":"BILANS - PASYWA - ANALIZA"},null,null,null,null,null,null,null,null,null,false]
[null,null,"RACH_POR_ANALIZA",{"$f":"RACH_POR_ANALIZA!A5","v":"RACHUNEK ZYSKÓW I STRAT - ANALIZA"},null,null,null,null,null,null,null,null,null,false]
[null,null,"WSKAŹNIKI_POR_ANALIZA",{"$f":"WSKAŹNIKI_POR_ANALIZA!A5","v":"WSKAŹNIKI - ANALIZA"},null,null,null,null,null,null,null,null,null,true]
[null,null,"RACH_KALK_ANALIZA",{"$f":"RACH_KALK_ANALIZA!A5","v":"RACHUNEK ZYSKÓW I STRAT - ANALIZA"},null,null,null,null,null,null,null,null,null,false]
[null,null,"WSKAŹNIKI_KALK_ANALIZA",{"$f":"WSKAŹNIKI_KALK_ANALIZA!A5","v":"WSKAŹNIKI - ANALIZA"},null,null,null,null,null,null,null,null,null,false]
[null,null,"KOSZTY_RODZ_POR_ANALIZA",{"$f":"KOSZTY_RODZ_POR_ANALIZA!A5","v":"KOSZTY RODZAJOWE - ANALIZA"},null,null,null,null,null,null,null,null,null,true]
[null,null,"KOSZTY_RODZ_KALK_ANALIZA",{"$f":"KOSZTY_RODZ_KALK_ANALIZA!A5","v":"KOSZTY RODZAJOWE - ANALIZA"},null,null,null,null,null,null,null,null,null,false]
[]
[]
[null,"Pamiętaj:"]
[null,"!!!Zapoznaj się z instrukcją obsługi za nim rozpoczniesz korzystanie z programu!!! Link do instrukcji:",null,null,null,"Instrukcja"]
[null,"!!!Przed rozpoczęciem pracy z programem należy upewnić się, że poziom zabezpieczeń dla makr ustawiony jest na \"niski\". Ustawienie innego poziomu zabezpieczeń spowoduje, że program nie będzie działał prawidłowo!!! Poziom zabezpieczeń zmienia się w menu Narzędzia>Makro>Zabezpieczenia>Niskie. Po zmianie poziomu zabezpieczeń zamknij i ponownie otwórz plik."]
[null,"!!!Po wprowadzeniu jakichkolwiek zmian do arkusza parametry i/lub bilansu i/lub rachunku zysków i strat i/lub rachunku przepływów pieniężnych i/lub zestawienia zmian w kapitale i/lub not objaśniających należy ponownie nacisnąć przycisk \"Przygotowanie pliku do XML\"  w celu uwzględnienia wprowadzonych zmian!!!"]

{"sheet":"Strona_tyt","index":5,"n_rows":34,"n_cols":13,"rows_kept":34,"cut":false,"hidden":true,"merged":[[1,1,3,9],[5,4,12,6],[6,12,7,14],[33,2,33,9],[48,1,50,9],[23,2,23,9],[25,2,25,9],[27,2,27,9],[29,2,29,9],[31,2,31,9],[15,1,16,9],[13,3,13,4],[13,6,13,7],[45,1,47,9]]}
[]
[null,{"$f":"nazwa","v":"DEMO"}]
[]
[]
[]
[]
[null,null,null,null,null,null,null,null,null,null,null,null,"Miejsce na wstawienie logo firmy"]
[]
[]
[]
[]
[]
[]
[]
[]
[null,{"$f":"temat","v":"Sprawozdanie finansowe za rok 2023"}]
[]
[]
[]
[]
[null,null,null,null,null,"OBEJMUJĄCE:"]
[]
[]
[null,null,"1. WPROWADZENIE DO SPRAWOZDANIA FINANSOWEGO"]
[]
[null,null,"2. BILANS"]
[]
[null,null,"3. RACHUNEK ZYSKÓW I STRAT"]
[]
[null,null,"4. RACHUNEK PRZEPŁYWÓW PIENIĘŻNYCH"]
[]
[null,null,"5. ZESTAWIENIE ZMIAN W KAPITALE WŁASNYM"]
[]
[null,null,"6. DODATKOWE INFORMACJE I OBJAŚNIENIA"]

{"sheet":"LICENCJA","index":6,"n_rows":15,"n_cols":58,"rows_kept":15,"cut":false,"hidden":true,"merged":[]}
["DEMO"]
["KRS:",null,null,null,null,null,null,null,null,null,null,null,null,null,null,null,null,null,null,null,null,null,null,null,null,null,null,null,null,null,null,null,null,null,null,null,null,null,null,null,null,null,null,null,null,null,null,null,null,null,null,null,null,null,{"$f":"MID(BC1,31,10)","v":""}," "," "," "]
["NIP:",null,null,null,null,null,null,null,null,null,null,null,null,null,null,null,null,null,null,null,null,null,null,null,null,null,null,null,null,null,null,null,null,null,null,null,null,null,null,null,null,null,null,null,null,null,null,null,null,null,null,null,null,null,{"$f":"MID(BC$1,43,10)","v":""}]
["DEMO"]
[]
[null,null,null,null,null,null,null,null,null,null,null,null,null,null,null,null,null,null,null,null,null,null,null,null,null,null,null,null,null,null,null,null,null,null,null,null,null,null,null,null,null,null,null,null,null,null,null," "," "," "," "," "]
[null,null,null,null,null,null,null,null,null,null,null,null,null,null,null,null,null,null,null,null,null,null,null,null,null,null,null,null,null,null,null,null,null,null,null,null,null,null,null,null,null,null,null," "," "," "," "]
[]
[]
[]
["2024-03-14T14:00:01","2024-03-14T14:00:01"]
[{"$f":"TODAY()","v":"2024-03-14"},null,null,null,null,null,null,null,null,null,null,null,null,null,null,null,null,null,null,null,null,null,null,null,null,null,null,null,null,null,null,null,null,null,null,null,null,null,null,null,null,null,null,null,null,null,{"$f":"DATEVALUE(MID(AU11 & REPT(\" \",53),42,10))","v":{"$error":"#VALUE!"}}]
["2024-03-14T14:00:01",null,null,null,null,null,null,null,null,null,null,null,null,null,null,null,null,null,null,null,null,null,null,null,null,null,null,null,null,null,null,null,null,null,null,null,null,null,null,null,null,null,null,null,null,null,{"$f":"TODAY()","v":"2024-03-14"}]
[]
[null,null,null,null,null,null,null,null,null,null,null,null,null,null,null,null,null,null,null,null,null,null,null,null,null,null,null,null,null,null,null,null,null,null,null,null,null,null,null,null,null,{"$f":"MID(A13,42,10)","v":""}]

{"sheet":"Wprowadz_1_inf_ogólne","index":7,"n_rows":49,"n_cols":23,"rows_kept":49,"cut":false,"hidden":false,"merged":[[39,0,39,3],[40,0,40,3],[46,0,46,3],[47,0,47,3],[48,0,48,3],[41,0,41,3],[42,0,42,3],[43,0,43,3],[44,0,44,3],[45,0,45,3],[34,1,34,3],[35,0,35,3],[36,0,36,3],[37,0,37,3],[38,0,38,3],[29,0,29,3],[30,1,30,3],[31,1,31,3],[32,0,32,3],[33,1,33,3],[24,1,24,3],[25,0,25,3],[26,1,26,3],[27,1,27,3],[28,0,28,3],[8,1,8,3],[9,1,9,3],[40,7,41,21],[10,1,10,3],[11,1,11,3],[12,1,12,3],[13,0,13,3],[14,1,14,3],[15,1,15,3],[16,1,16,3],[17,1,17,3],[18,1,18,3],[20,1,20,3],[21,1,21,3],[22,1,22,3],[23,0,23,3],[0,4,2,5],[4,0,5,3],[6,0,6,3],[1,0,1,3],[7,0,7,3],[0,0,0,3]]}
[{"$f":"nazwa","v":"DEMO"}]
[{"$f":"temat","v":"Sprawozdanie finansowe za rok 2023"}]
[null,null,null,null,null,null,"Powrót do parametrów"]
[]
["Wprowadzenie do sprawozdania finansowego"]
[]
["1. Dane identyfikujące jednostkę"]
["1A. Firma, siedziba albo miejsce zamieszkania"]
["Nazwa",{"$f":"nazwa","v":"DEMO"}]
["Województwo"]
["Powiat"]
["Gmina"]
["Miejscowość"]
["1B. Adres"]
["Kod kraju","PL"]
["Województwo"]
["Powiat"]
["Gmina"]
["Ulica"]
["Nr domu",null,"Nr lokalu"]
["Miejscowość"]
["Kod pocztowy"]
["Poczta"]
["1C. Podstawowy przedmiot działalności jednostki"]
["Kod PKD"]
["1D. Numer we właściwym rejestrze sądowym albo ewidencji"]
["KRS"]
["NIP"]
["2. Czas trwania działalności jednostki, jeżeli jest ograniczony",null,null,null,null,null,null,null,null,null,null,null,null,null,null,null,null,null,null,null,null,null,false]
[{"$f":"IF($W$29, \"Czas trwania działalności jednostki jest ograniczony\",\"Czas trwania działalności jednostki nie jest ograniczony\")","v":"Czas trwania działalności jednostki nie jest ograniczony"}]
["Data od"]
["Data do"]
["3. Wskazanie okresu objętego sprawozdaniem finansowym"]
["Data od",{"$f":"Data_od","v":"rrrr-mm-dd"}]
["Data do",{"$f":"Data_do","v":"rrrr-mm-dd"}]
["4. Wskazanie, że sprawozdanie finansowe zawiera dane łączne, jeżeli w skład jednostki wchodzą wewnętrzne jednostki organizacyjne sporządzające samodzielne sprawozdania finansowe",null,null,null,null,null,null,null,null,null,null,null,null,null,null,null,null,null,null,null,null,null,false]
[{"$f":"IF($W$36, \"Sprawozdanie finansowe zawiera dane łączne\",\"Sprawozdanie nie zawiera danych łącznych\")","v":"Sprawozdanie nie zawiera danych łącznych"}]
["5. Założenie kontynuacji działalności"]
["5A. Wskazanie, czy sprawozdanie finansowe zostało sporządzone przy założeniu kontynuowania działalności gospodarczej przez jednostkę w dającej się przewidzieć przyszłości",null,null,null,null,null,null,null,null,null,null,null,null,null,null,null,null,null,null,null,null,null,true]
[{"$f":"IF($W$39, \"Sprawozdanie finansowe zostało sporządzone przy założeniu kontynuowania działalności.\",\"Sprawozdanie finansowe zostało sporządzone przy założeniu, że działalność gospodarcza nie będzie kontynuowana\")","v":"Sprawozdanie finansowe zostało sporządzone przy założeniu kontynuowania działalności."}]
["5B. Wskazanie, czy nie istnieją okoliczności wskazujące na zagrożenie kontynuowania przez nią działalności",null,null,null,null,null,null,"Czy jest brak okoliczności wskazujących na zagrożenie kontynuowania działalności",null,null,null,null,null,null,null,null,null,null,null,null,null,null,true]
[{"$f":"IF($W$41, \"Nie istnieją okoliczności wskazujące na zagrożenie kontynuowania działalności.\",\"Istnieją okoliczności wskazujące na zagrożenie kontynuowania działalności.\")","v":"Nie istnieją okoliczności wskazujące na zagrożenie kontynuowania działalności."}]
["5C. Opis okoliczności wskazujących na zagrożenie kontynuowania działalności"]
["Nie dotyczy"]
["6. Informacja czy sprawozdanie finansowe jest sporządzone po połączeniu spółek"]
["6A. W przypadku sprawozdania finansowego sporządzonego za okres, w ciągu którego nastąpiło połączenie, wskazanie, że jest to sprawozdanie finansowe sporządzone po połączeniu spółek:",null,null,null,null,null,null,null,null,null,null,null,null,null,null,null,null,null,null,null,null,null,false]
[{"$f":"IF($W$46, \"W okresie objętym sprawozdaniem nastapiło połączenie spółek.\",\"W okresie objętym sprawozdaniem nie nastąpiło połączenie spółek.\")","v":"W okresie objętym sprawozdaniem nie nastąpiło połączenie spółek."}]
["6B. Wskazanie zastosowanej metody rozliczenia połączenia (nabycia, łączenia udziałów)"]
["Nie dotyczy"]

{"sheet":"Wprowadz_2_zasady_rach","index":8,"n_rows":40,"n_cols":26,"rows_kept":40,"cut":false,"hidden":false,"merged":[[32,3,32,8],[29,3,29,8],[0,1,4,2],[30,3,30,8],[14,4,14,9],[6,5,6,23],[4,9,4,27],[0,4,0,10],[1,4,1,10],[2,3,2,4]]}
[{"$f":"nazwa","v":"DEMO"}]
[{"$f":"temat","v":"Sprawozdanie finansowe za rok 2023"}]
[null,null,null,"Powrót do parametrów"]
[]
[null,null,null,null,null,null,null,null,null,"Czy podmiot jest zobowiązany do stosowania Rozporządzenia Min. Fin. o instrumentach finansowych?"]
[null,null,null,null,null,null,null,null,null,null,null,null,1]
["7. Zasady (polityka) rachunkowości. Omówienie przyjętych zasad (polityki) rachunkowości, w zakresie w jakim ustawa pozostawia jednostce prawo wyboru, w tym:",null,null,null,null,"Opisać zasady wyceny dotyczące istotnych pozycji. Dodać inne pozycje jeżeli są istotne, usunąć niepotrzebne - wykorzystując ponizszy mechanizm \"Odkryj, Ukryj\".\n"]
["7A. Metody wyceny aktywów i pasywów (także amortyzacji)",null,null,null,null,null,null,null,null,null,null,null,null,null,null,null,null,null,null,null,null,null,null,null,null,true]
["Wartości niematerialne i prawne oraz środki trwałe.",null,null,null,null,null,null,null,null,null,null,null,null,null,null,null,null,null,null,null,null,null,null,null,null,false]
["Wartości niematerialne i prawne oraz środki trwałe wyceniane są według cen nabycia lub kosztów wytworzenia pomniejszonych o umorzenie oraz odpisy z tytułu trwałej utraty wartości. Odpisy amortyzacyjne dokonywane są na podstawie rocznego planu amortyzacji. Przy ustalaniu okresu amortyzacji bilansowej i rocznej stawki amortyzacyjnej uwzględnia się okres ekonomicznej użyteczności środka trwałego lub wartości niematerialnej i prawnej.\nZasady amortyzacji dla celów ustalenia podstawy opodatkowania wynikają z ustawy o podatku dochodowym od osób prawnych / fizycznych.\nSkładniki majątkowe, których wartość nie przekracza kwoty 10 000 zł / 3 500 zł objęte są ewidencją pozabilansową i odpisywane są jednorazowo w ciężar kosztów w momencie przekazania ich do użytkowania / objęte są ewidencją bilansową i umarzane są w 100% w momencie zakupu.\nWartości niematerialne i prawne amortyzowane są wg następujących stawek:\n- autorskie prawa majątkowe......%\n- pokrewne prawa majątkowe....%\n- licencje....%\n- koncesje....%\n- prawa do wynalazków, patentów, znaków towarowych, wzorów użytkowych oraz zdobniczych.....%\n- know - how....%\n\nŚrodki trwałe amortyzowane są wg następujących stawek:\n- budynki...%\n- lokale i obiekty inżynierii lądowej i wodnej....%\n- urządzenia techniczne i maszyny.....%\n- środki transportu.....%\n- inne środki trwałe.....%\n",null,null,null,null,null,null,null,null,null,null,null,null,null,null,null,null,null,null,null,null,null,null,null,null,false]
["Zasady w zakresie kwalifikacji umów leasingu",null,null,null,null,null,null,null,null,null,null,null,null,null,null,null,null,null,null,null,null,null,null,null,null,false]
["Spółka przyjęła zasadę wykazywania w aktywach, nabytych środków trwałych i wartości niematerialnych i prawnych na podstawie umów leasingu finansowego.\nPrzedmiot leasingu amortyzowany jest przez okres przewidywanej ekonomicznej użyteczności / okres trwania umowy leasingowej – uzasadnić.\nlub\nNa podstawie art. 3 ust. 6 ustawy o rachunkowości, Spółka zrezygnowała z kwalifikacji umów leasingu finansowego na zasadach opisanych w art. 3 ust 4 i stosuje podatkowe zasady rozliczania umów leasingu.\n",null,null,null,null,null,null,null,null,null,null,null,null,null,null,null,null,null,null,null,null,null,null,null,null,false]
["Nieruchomości oraz wartości niematerialne i prawne zaliczone do inwestycji",null,null,null,null,null,null,null,null,null,null,null,null,null,null,null,null,null,null,null,null,null,null,null,null,false]
["Wycenia się według ceny rynkowej bądź inaczej określonej wartości godziwej. Wartość rynkowa została ustalona w oparciu o …………..…\nlub\nWycenia się według zasad stosowanych do środków trwałych oraz wartości niematerialnych i prawnych i amortyzuje przez okres …………..\n",null,null,null,null,null,null,null,null,null,null,null,null,null,null,null,null,null,null,null,null,null,null,null,null,false]
["Aktywa finansowe",null,null,null,null,null,null,null,null,null,null,null,null,null,null,null,null,null,null,null,null,null,null,null,null,false]
["Spółka jest zobowiazana do stosowania przepisów / stosuje przepisy Rozporządzenia Ministra Finansów z dnia 12 grudnia 2001 r. w sprawie szczegółowych zasad uznawania, metod wyceny, zakresu ujawniania i sposobu prezentacji instrumentów finansowych (Rozporządzenie).\nUdziały i akcje w jednostkach podporządkowanych:\nSpółka posiada udziały i akcje w jednostach podporządkowanych, które wycenia się zgodnie z ustawą o rachunkowości (wyłączenie z zakresu Rozporządzenia).\n\nW inwestycjach długoterminowych w pozycji długoterminowe aktywa finansowe Spółka prezentuje akcje / udziały w jednostkach powiązanych / w jednostkach w których posiada zaangażowanie kapitałowe, które wyceniane są zgodnie z ustawą o rachunkowości według cen nabycia pomniejszonych o odpisy spowodowane trwałą utratą ich wartości. Odpisy te obciążają koszty finansowe.\nlub\nW inwestycjach długoterminowych w pozycji długoterminowe aktywa finansowe Spółka prezentuje akcje / udziały w jednostkach powiązanych / w jednostkach w których posiada zaangażowanie kapitałowe, które wyceniane są zgodnie z ustawą o rachunkowości według wartości godziwej / skorygowanej ceny nabycia. Opisać jak wyliczono.\nlub \nW inwestycjach długoterminowych w pozycji długoterminowe aktywa finansowe Spółka prezentuje akcje / udziały w jednostkach powiązanych / w jednostkach w których posiada zaangażowanie kapitałowe, które wyceniane są zgodnie z ustawą o rachunkowości. Cena nabycia akcji / udziałów została przeszacowana do wartości w cenie rynkowej. Skutki przeszacowania inwestycji zwiększyły kapitał (fundusz) z aktualizacji wyceny.\nlub \nW inwestycjach długoterminowych w pozycji długoterminowe aktywa finansowe Spółka prezentuje akcje / udziały w jednostkach powiązanych, które zostały wycenione zgodnie z ustawą o rachunkowości metodą praw własności na podstawie ostatniego sprawozdania finansowego spółki …….. sporządzonego na dzień …....\n\nPozostałe aktywa finansowe Jednostka klasyfikuje zgodnie z Rozporządzeniem , w dniu ich nabycia lub powstania do następujących kategorii:\n- aktywa finansowe przeznaczone do obrotu,\n- pożyczki udzielone i należności własne,\n- aktywa finansowe utrzymywane do terminu wymagalności,\n- aktywa finansowe dostępne do sprzedaży.\n",null,null,null,null,null,null,null,null,null,null,null,null,null,null,null,null,null,null,null,null,null,null,null,null,false]
["Do aktywów finansowych przeznaczonych do obrotu Spółka zakwalifikowała akcje / papiery wartościowe (podać jakie), zaprezentowane w bilansie w pozycji ..........................., które zostały wycenione w wiarygodnie ustalonej wartości godziwej bez jej pomniejszania o koszty transakcji. Wartość godziwą ustalono w oparciu o ………….. \nSpółka przyjęła zasadę ustalania wartości rozchodu krótkoterminowych papierów wartościowych metodą \"cen przeciętnych\"/ \"pierwsze przyszło - pierwsze wyszło\" / \"ostatnie przyszło - pierwsze wyszło\" / szczegółowej identyfikacji.\n\nDo kategorii pożyczek udzielonych i należności własnych Spółka zaliczyła pożyczki / obligacje / ..........\nPożyczki długoterminowe / obligacje / .......................... wyceniane są w skorygowanej ceny nabycia oszacowanej za pomocą efektywnej stopy procentowej. \nlub\nPożyczki długoterminowe / obligacje / .......................... wyceniane są w kwocie wymaganej zapłaty. Jednostka odstąpiła od wyceny w skorygowanej ceny nabycia gdyż wartość bieżąca przyszłych przepływów pieniężnych oczekiwanych przez jednostkę nie różni się istotnie od kwoty wymaganej zapłaty.\nNależności z tytułu pożyczek krótkoterminowych wyceniono w kwocie wymaganej zapłaty, gdyż wartość bieżąca przyszłych przepływów pieniężnych oczekiwanych przez jednostkę nie różni się istotnie od kwoty wymaganej zapłaty. \n\nDo aktywów finansowych utrzymywanych do terminu wymagalności zaliczono ………………………………., które zostały wycenione w wysokości skorygowanej ceny nabycia oszacowanej za pomocą efektywnej stopy procentowej.\n\nPozostałe aktywa finansowe obejmują ........................................., zaprezentowane w bilansie w pozycji ............................... i zaliczono je do aktywów finansowych dostępnych do sprzedaży, które wyceniono w cenie nabycia z uwzględnieniem ostrożnej wyceny.\nŚrodki pieniężne wykazano w wartości nominalnej. ",null,null,null,null,null,null,null,null,null,null,null,null,null,null,null,null,null,null,null,null,null,null,null,null,false]
["Spółka na podstawie art. 28b ust. 1 ustawy o rachunkowości nie stosuje przepisów Rozporządzenia Ministra Finansów z dnia 12 grudnia 2001 r. w sprawie szczegółowych zasad uznawania, metod wyceny, zakresu ujawniania i sposobu prezentacji instrumentów finansowych.\nDługoterminowe aktywa finansowe:\nUdziały i akcje:\nW inwestycjach długoterminowych w pozycji długoterminowe aktywa finansowe Spółka prezentuje akcje / udziały w jednostkach powiązanych / w jednostkach w których posiada zaangażowanie kapitałowe / jednostkach pozostałych, które wyceniane są zgodnie z ustawą o rachunkowości według cen nabycia pomniejszonych o odpisy spowodowane trwałą utratą ich wartości. Odpisy te obciążają koszty finansowe.\nlub\nW inwestycjach długoterminowych w pozycji długoterminowe aktywa finansowe Spółka prezentuje akcje / udziały w jednostkach powiązanych / w jednostkach w których posiada zaangażowanie kapitałowe / jednostkach pozostałych, które wyceniane są zgodnie z ustawą o rachunkowości według wartości godziwej / skorygowanej ceny nabycia. Opisać jak wyliczono.\nlub \nW inwestycjach długoterminowych w pozycji długoterminowe aktywa finansowe Spółka prezentuje akcje / udziały w jednostkach powiązanych / w jednostkach w których posiada zaangażowanie kapitałowe / jednostkach pozostałych, które wyceniane są zgodnie z ustawą o rachunkowości. Cena nabycia akcji / udziałów została przeszacowana do wartości w cenie rynkowej. Skutki przeszacowania inwestycji zwiększyły kapitał (fundusz) z aktualizacji wyceny.\nlub \nW inwestycjach długoterminowych w pozycji długoterminowe aktywa finansowe Spółka prezentuje akcje / udziały w jednostkach powiązanych, które zostały wycenione zgodnie z ustawą o rachunkowości metodą praw własności na podstawie ostatniego sprawozdania finansowego spółki …….. sporządzonego na dzień …....\nInne papiery wartościowe:\nSpółka posiada ............................... wykazane w pozycji papiery wartościowe w aktywach długoterminowych, które wyceniane są według ceny nabycia pomniejszonej o odpisy z tytułu trwałej utraty wartości / lub według wartości godziwej / skorygowanej ceny / cenie nabycia przeszacowanej do wartości w cenie rynkowej, a różnicę z przeszacowania rozliczono z kapitałem z aktualizacji wyceny. \nNależne odsetki zwiększyły cenę nabycia.\nPożyczki:\nPożyczki długoterminowe wyceniane są w kwocie wymagającej zapłaty / skorygowanej ceny nabycia.\nInne długoterminowe aktywa finansowe:\nnp. należności z tytułu leasingu finansowego - opisać zasady wyceny\n",null,null,null,null,null,null,null,null,null,null,null,null,null,null,null,null,null,null,null,null,null,null,null,null,true]
["Krótkoterminowe aktywa finansowe:\nUdziały i akcje:\nDo krótkoterminowych udziałów i akcji zostały zaliczone …………………………w jednostkach powiązanych / w jednostkach w których posiada zaangażowanie kapitałowe / jednostkach pozostałych, które zostały wycenione według wartości rynkowej.\nlub\nDo krótkoterminowych udziałów i akcji zostały zaliczone …………………………w jednostkach powiązanych / w jednostkach w których posiada zaangażowanie kapitałowe / jednostkach pozostałych, które zostały wycenione według ceny nabycia z zachowaniem zasady ostrożności / skorygowanej ceny nabycia. \nlub \nDo krótkoterminowych udziałów i akcji zostały zaliczone …………………………w jednostkach powiązanych / w jednostkach w których posiada zaangażowanie kapitałowe / jednostkach pozostałych a krótkoterminowe inwestycje, dla których nie istnieje aktywny rynek zostały wycenione według wartości godziwej. (podać sposób wyceny).\nInne papiery wartościowe:\nSpółka posiada ............................... wykazane w pozycji papiery wartościowe w aktywach krótkoterminowych, które wyceniane są według cen rynkowych/ ceny nabycia z zachowaniem zasady ostrożności.\nNależne odsetki zwiększyły cenę nabycia.\nSpółka przyjęła zasadę ustalania wartości rozchodu krótkoterminowych papierów wartościowych metodą \"cen przeciętnych\"/ \"pierwsze przyszło - pierwsze wyszło\" / \"ostatnie przyszło - pierwsze wyszło\" / szczegółowej identyfikacji.\nPożyczki:\nPożyczki krótkoterminowe wyceniane są w kwocie wymagającej zapłaty / skorygowanej ceny nabycia.\nŚrodki pieniężne wykazano w wartości nominalnej. \nInne krótkoterminowe aktywa finansowe:\nnp. należności z tytułu leasingu finansowego - opisać zasady wyceny\nInne inwestycje krótkoterminowe\n(metale szlachetne, dzieła sztuki,itp.) opisać co obejmują i jak zostały wycenione",null,null,null,null,null,null,null,null,null,null,null,null,null,null,null,null,null,null,null,null,null,null,null,null,true]
["Należności",null,null,null,null,null,null,null,null,null,null,null,null,null,null,null,null,null,null,null,null,null,null,null,null,false]
["Należności długoterminowe oraz należności krótkoterminowe, w tym nleżności z tytułu dostaw i usług wyceniane są w kwocie wymaganej zapłaty pomniejszonej o odpisy aktualizujące wartość należności.\nOdpisy aktualizacyjne zostały dokonane w oparciu o analizę struktury wiekowej sald należności z uwzględnieniem stopnia ryzyka, jakie wiąże się z daną należnością. \nOpisać zasady tworzenia odpisów\n",null,null,null,null,null,null,null,null,null,null,null,null,null,null,null,null,null,null,null,null,null,null,null,null,false]
["Zapasy",null,null,null,null,null,null,null,null,null,null,null,null,null,null,null,null,null,null,null,null,null,null,null,null,false]
["Zapasy są wykazywane w bilansie w wartości netto tj. pomniejszonej o odpisy aktualizujące.\nZapasy wyceniane są według cen zakupu / nabycia lub kosztu wytworzenia nie wyższych od cen sprzedaży netto. Poszczególne grupy zapasów są wyceniane w następujący sposób:\nmateriały: (wpisać metodę wyceny)\npółprodukty i produkty w toku: (wpisać metodę wyceny)\nprodukty gotowe: (wpisać metodę wyceny)\nW przypadku, gdy zapasy utraciły swoje cechu użytkowe lub przydatność, podlegają wahaniom kursów giełdowych lub obniżce cen spowodowanej konkurencją a także gdy zalegają dłużej niż jeden rok na skutek braku zbytu to ceny nabycia, zakupu lub koszty wytworzenia podlegają odpisom aktualizacyjnym do wysokości możliwych do uzyskania cen sprzedaży netto.\nSpółka przyjęła zasadę ustalania wartości rozchodu zapasów metodą \"cen przeciętnych\"/ \"pierwsze przyszło - pierwsze wyszło\" / \"ostatnie przyszło - pierwsze wyszło\" / szczegółowej identyfikacji.\n\nSpółka ustala poziom niewykorzystanych zdolności produkcyjnych zgodnie zasadami opisanymi w ustawie oraz stanowisku Komitetu Standardów Rachunkowości.\nlub\nSpółka, jako jednostka nie podlegająca obowiązkowi badania sprawozdania finansowego odstąpiła od ustalania poziomu niewykorzystanych zdolności produkcyjnych.\n",null,null,null,null,null,null,null,null,null,null,null,null,null,null,null,null,null,null,null,null,null,null,null,null,false]
["Umowy długoterminowe",null,null,null,null,null,null,null,null,null,null,null,null,null,null,null,null,null,null,null,null,null,null,null,null,false]
["W rachunku zysków i strat w pozycji „przychody netto ze sprzedaży produktów”, przychody z niezakończonych umów budowlanych wykazuje się w wysokości szacowanej ustalonej jako nadwyżkę przychodów szacowanych nad należnościami zafakturowanymi. Drugostronnie Spółka prezentuje ją w bilansie w pozycji Aktywów – „Krótkoterminowe rozliczenia międzyokresowe”. \nRozliczenie budowy następuje metodą kosztową – tzn., że przychody oblicza się w takim odsetku całkowitych przychodów z umowy, jaki procent stanowią dotychczas poniesione koszty wykonania umowy do sumy kosztów wynikających z budżetu kosztów. \n",null,null,null,null,null,null,null,null,null,null,null,null,null,null,null,null,null,null,null,null,null,null,null,null,false]
["Zobowiązania",null,null,null,null,null,null,null,null,null,null,null,null,null,null,null,null,null,null,null,null,null,null,null,null,false]
["W bilansie zaprezentowano wszystkie zobowiązania wynikające z operacji dokonanych i dotyczących roku obrotowego. \nZobowiązania z tytułu dostaw i usług oraz pozostałe wyceniane są w kwocie wymagającej zapłaty łącznie z odsetkami z tytyłu zwłoki w zapłacie.\n\nSpółka jest zobowiazana do stosowania przepisów Rozporządzenia Ministra Finansów z dnia 12 grudnia 2001 r. w sprawie szczegółowych zasad uznawania, metod wyceny, zakresu ujawniania i sposobu prezentacji instrumentów finansowych (Rozporządzenie).\nDługoterminowe zobowiązania finansowe, w tym .......................................... wycenione zostały w wysokości skorygowanej ceny nabycia. Długoterminowe zobowiązania finansowe w tym ............................................  wycenione zostały w  w kwocie wymagającej zapłaty ponieważ różnica do wyceny w wysokości skorygowanej ceny nabycia została uznana za nieistotną.\n\nZobowiązania z tytułu dostaw i usług oraz zobowiązania z tytułu wynagrodzeń, podatków oraz pozostałe zostały wycenione w kwocie wymagającej zapłaty.\nKrótkoterminowe zobowiązania finansowe, w tym ...................................................... które zgodnie z Rozporządzeniem zostały zaliczone do kategorii \"przeznaczone do obrotu\", oraz instrumenty pochodne o charakterze zobowiązań wycenione zostały w wartości godziwej.",null,null,null,null,null,null,null,null,null,null,null,null,null,null,null,null,null,null,null,null,null,null,null,null,false]
["W bilansie zaprezentowano wszystkie zobowiązania wynikające z operacji dokonanych i dotyczących roku obrotowego. \nZobowiązania z tytułu dostaw i usług oraz pozostałe wyceniane są w kwocie wymagającej zapłaty łącznie z odsetkami z tytyłu zwłoki w zapłacie.\n\nDługoterminowe zobowiązania finansowe wycenione zostały w wysokości skorygowanej ceny nabycia / w kwocie wymagającej zapłaty.\n",null,null,null,null,null,null,null,null,null,null,null,null,null,null,null,null,null,null,null,null,null,null,null,null,true]
["Rezerwy i bierne rozliczenia międzyokresowe kosztów",null,null,null,null,null,null,null,null,null,null,null,null,null,null,null,null,null,null,null,null,null,null,null,null,false]
["Spółka tworzy rezerwy na pewne lub prawdopodobne straty oraz na jeszcze nie poniesione, lecz przypadające na rok obrotowy, (zgodnie z zasadą współmierności), koszty.\n\nRezerwę z tytułu odroczonego podatku dochodowego Spółka tworzy w wysokości kwoty podatku dochodowego, wymagającej w przyszłości zapłaty, w związku z występowaniem dodatnich różnic przejściowych, to jest różnic, które spowodują zwiększenie podstawy obliczenia podatku dochodowego w przyszłości.\nAktywa z tytułu odroczonego podatku dochodowego Spółka ustala w wysokości kwoty przewidzianej w przyszłości do odliczenia od podatku dochodowego, w związku z ujemnymi różnicami przejściowymi, które spowodują w przyszłości zmniejszenie podstawy obliczenia podatku dochodowego oraz straty podatkowej możliwej do odliczenia, ustalonej przy uwzględnieniu zasady ostrożności.\nWysokość rezerwy i aktywów z tytułu odroczonego podatku dochodowego ustala się przy uwzględnieniu stawek podatku dochodowego obowiązujących w roku powstania obowiązku podatkowego.\nlub\nNa podstawie art. 37 ust. 10 ustawy o rachunkowości, Spółka odstąpiła od ustalania aktywów i rezerw z tytułu podatku odroczonego.\ndodać opis specyficznych uregulowań branżowych którym podlega jednostka\n",null,null,"Należy opisać zasady tworzenia rezerw (rezerwy z tytułu udzielonych gwarancji, poręczeń, zawarcia deficytowej umowy, toczącego się postępowania sądowego, rezerwy na koszty niewykorzystanych urlopów, niewypłaconych nagród jubileuszowych, odpraw emerytalnych itp.)",null,null,null,null,null,null,null,null,null,null,null,null,null,null,null,null,null,null,null,null,null,false]
[null,null,null,null,null,null,null,null,null,null,null,null,null,null,null,null,null,null,null,null,null,null,null,null,null,false]
[null,null,null,null,null,null,null,null,null,null,null,null,null,null,null,null,null,null,null,null,null,null,null,null,null,false]
[null,null,null,null,null,null,null,null,null,null,null,null,null,null,null,null,null,null,null,null,null,null,null,null,null,false]
[null,null,null,null,null,null,null,null,null,null,null,null,null,null,null,null,null,null,null,null,null,null,null,null,null,false]
["7B. zasady ustalenia wyniku finansowego"]
["Na wynik finansowy netto składają się: \n- wynik działalności operacyjnej, w tym z tytułu pozostałych przychodów i kosztów operacyjnych; \n- wynik operacji finansowych; \n- obowiązkowe obciążenia wyniku finansowego z tytułu podatku dochodowego, \nWynik działalności operacyjnej stanowi różnicę między przychodami netto ze sprzedaży produktów, towarów i materiałów, z uwzględnieniem dotacji, opustów, rabatów i innych zwiększeń lub zmniejszeń, bez podatku od towarów i usług oraz innych podatków bezpośrednio związanych z obrotem, oraz pozostałymi przychodami operacyjnymi a wartością sprzedanych produktów, towarów i materiałów wycenionych w kosztach wytworzenia albo cenach nabycia, albo zakupu, powiększoną o całość poniesionych od początku roku obrotowego kosztów ogólnych zarządu, sprzedaży produktów, towarów i materiałów oraz pozostałych kosztów operacyjnych.\nWynik operacji finansowych stanowi różnicę między przychodami finansowymi, w szczególności z tytułu ……………………………………….. , a kosztami finansowymi, w szczególności z tytułu ………………………………………..\n"]
["7C. Sposób sporządzenia sprawozdania finansowego"]
["Sprawozdanie finansowe składa się z:\n- bilansu,\n- rachunku zysków i strat,\n- zestawienie zmian w kapitale (funduszu) własnym,\n- rachunek przepływów pieniężnych,\n- informacji dodatkowej, obejmującej wprowadzenie do sprawozdania finansowego oraz dodatkowe informacje i objaśnienia.\nRachunek zysków i strat sporządza się w układzie porównawczym / kalkulacyjnym. \nRachunek przepływów pieniężnych sporządzany jest metodą pośrednią.\n"]
["7D. Pozostałe informacje"]
["Sprawozdanie finansowe sporządzone zostało w oparciu o zasady rachunkowości wynikające z przepisów ustawy z dnia 29 września 1994 r. o rachunkowości oraz na podstawie Rozporządzenia Ministra Finansów z dnia 12 grudnia 2001 r. w sprawie szczegółowych zasad uznawania, metod wyceny, zakresu ujawniania i sposobu prezentacji instrumentów finansowych.\nOpisane zasady zastosowane zostały we wszystkich prezentowanych okresach w sposób ciągły, o ile nie zaznaczono inaczej. \nPoszczególne składniki aktywów i pasywów wycenia się z zachowaniem zasady ostrożności. \nWynik finansowy za dany okres obejmuje wszystkie osiągnięte i przypadające na rzecz Jednostki przychody oraz związane z tymi przychodami koszty zgodnie z zasadami memoriału, współmierności przychodów i kosztów oraz ostrożnej wyceny.\nKsięgi rachunkowe prowadzone są siedzibie Spółki / ……………………….w języku polskim i w walucie polskiej.\n"]

{"sheet":"Bilans_AKTYWA","index":9,"n_rows":114,"n_cols":112,"rows_kept":114,"cut":false,"hidden":false,"merged":[[2,29,2,34],[83,78,83,82],[84,56,84,71],[84,73,84,77],[84,78,84,82],[79,84,80,84],[79,85,80,100],[79,101,80,101],[79,102,80,106],[84,85,84,100],[84,102,84,106],[6,55,7,55],[6,73,7,77],[6,78,7,82],[13,78,13,82],[4,55,5,82],[13,56,13,71],[6,56,7,71],[21,73,21,77],[28,73,28,77],[33,73,33,77],[23,73,23,77],[30,73,30,77],[27,73,27,77],[81,85,81,100],[81,102,81,106],[81,107,81,111],[82,85,82,100],[82,102,82,106],[82,107,82,111],[83,85,83,100],[83,102,83,106],[83,107,83,111],[79,0,80,0],[79,1,80,16],[79,17,80,17],[79,18,80,22],[79,23,80,27],[81,1,81,16],[81,18,81,22],[81,23,81,27],[82,1,82,16],[82,18,82,22],[82,23,82,27],[37,0,38,0],[37,55,38,55],[37,56,38,71],[37,72,38,72],[37,73,38,77],[37,78,38,82],[39,56,39,71],[39,73,39,77],[39,78,39,82],[25,0,26,0],[25,1,26,16],[25,17,26,17],[25,18,26,22],[25,23,26,27],[25,55,26,55],[25,56,26,71],[25,72,26,72],[25,73,26,77],[112,85,112,100],[93,85,93,100],[94,85,94,100],[95,85,95,100],[96,85,96,100],[97,85,97,100],[98,85,98,100],[99,85,99,100],[102,85,102,100],[103,85,103,100],[104,85,104,100],[105,85,105,100],[106,85,106,100],[107,85,107,100],[100,85,100,100],[101,85,101,100],[110,85,110,100],[108,85,108,100],[109,85,109,100],[109,23,109,27],[106,23,106,27],[103,23,103,27],[104,23,104,27],[105,23,105,27],[99,23,99,27],[44,23,44,27],[106,73,106,77],[106,78,106,82],[109,56,109,71],[93,73,93,77],[91,73,91,77],[92,73,92,77],[93,78,93,82],[96,73,96,77],[84,23,84,27],[83,23,83,27],[85,23,85,27],[100,73,100,77],[95,73,95,77],[89,55,90,55],[87,73,87,77],[51,73,51,77],[64,73,65,77],[34,56,34,71],[41,1,41,16],[41,18,41,22],[41,23,41,27],[42,1,42,16],[42,18,42,22],[42,23,42,27],[37,1,38,16],[37,17,38,17],[37,18,38,22],[37,23,38,27],[39,1,39,16],[39,18,39,22],[39,23,39,27],[40,1,40,16],[40,18,40,22],[40,23,40,27],[40,56,40,71],[41,56,41,71],[42,56,42,71],[83,1,83,16],[83,18,83,22],[71,1,71,16],[36,23,36,27],[43,23,43,27],[45,78,45,82],[43,73,43,77],[43,78,43,82],[35,56,35,71],[40,73,40,77],[79,55,80,55],[79,56,80,71],[79,72,80,72],[79,73,80,77],[79,78,80,82],[81,56,81,71],[81,73,81,77],[81,78,81,82],[82,56,82,71],[82,73,82,77],[82,78,82,82],[47,23,47,27],[64,23,65,27],[46,23,46,27],[45,23,45,27],[49,23,49,27],[64,18,65,22],[51,23,51,27],[68,1,68,16],[48,23,48,27],[51,18,51,22],[66,18,66,22],[66,23,66,27],[67,23,67,27],[68,23,68,27],[95,1,95,16],[96,1,96,16],[97,1,97,16],[112,1,112,16],[6,1,7,16],[98,1,98,16],[99,1,99,16],[100,1,100,16],[101,1,101,16],[102,1,102,16],[103,1,103,16],[104,1,104,16],[105,1,105,16],[107,1,107,16],[108,1,108,16],[109,1,109,16],[106,1,106,16],[88,1,88,16],[89,1,90,16],[91,1,91,16],[8,1,8,16],[9,1,9,16],[92,1,92,16],[84,1,84,16],[19,23,19,27],[20,23,20,27],[16,23,16,27],[11,23,11,27],[6,23,7,27],[0,22,0,27],[14,18,14,22],[8,23,8,27],[9,23,9,27],[14,23,14,27],[19,18,19,22],[20,18,20,22],[3,0,3,6],[18,23,18,27],[12,23,12,27],[13,23,13,27],[6,0,7,0],[8,18,8,22],[17,18,17,22],[17,23,17,27],[4,0,5,27],[10,23,10,27],[15,23,15,27],[6,18,7,22],[10,18,10,22],[11,18,11,22],[12,18,12,22],[15,18,15,22],[13,18,13,22],[16,18,16,22],[10,1,10,16],[11,1,11,16],[9,18,9,22],[12,1,12,16],[16,1,16,16],[18,18,18,22],[21,18,21,22],[22,18,22,22],[19,1,19,16],[13,1,13,16],[14,1,14,16],[15,1,15,16],[20,1,20,16],[17,1,17,16],[18,1,18,16],[22,1,22,16],[27,1,27,16],[28,1,28,16],[69,1,69,16],[51,1,51,16],[43,1,43,16],[44,1,44,16],[45,1,45,16],[46,1,46,16],[47,1,47,16],[48,1,48,16],[49,1,49,16],[50,1,50,16],[32,1,32,16],[33,1,33,16],[34,1,34,16],[35,1,35,16],[36,1,36,16],[29,1,29,16],[95,18,95,22],[93,18,93,22],[96,18,96,22],[94,18,94,22],[98,18,98,22],[101,18,101,22],[43,18,43,22],[87,18,87,22],[78,18,78,22],[47,18,47,22],[48,18,48,22],[46,18,46,22],[76,18,76,22],[75,18,75,22],[72,18,72,22],[88,18,88,22],[67,18,67,22],[45,18,45,22],[49,18,49,22],[84,18,84,22],[44,18,44,22],[69,18,69,22],[93,1,93,16],[94,1,94,16],[113,0,113,17],[11,73,11,77],[8,78,8,82],[9,73,9,77],[9,78,9,82],[8,73,8,77],[11,78,11,82],[73,18,73,22],[10,73,10,77],[10,78,10,82],[12,73,12,77],[12,78,12,82],[13,73,13,77],[8,56,8,71],[9,56,9,71],[10,56,10,71],[11,56,11,71],[12,56,12,71],[89,18,90,22],[99,18,99,22],[92,18,92,22],[91,18,91,22],[113,18,113,22],[108,18,108,22],[109,18,109,22],[112,23,112,27],[113,23,113,27],[112,18,112,22],[74,18,74,22],[71,18,71,22],[85,18,85,22],[86,18,86,22],[77,18,77,22],[100,18,100,22],[107,18,107,22],[103,18,103,22],[106,18,106,22],[105,18,105,22],[104,18,104,22],[108,23,108,27],[95,23,95,27],[96,23,96,27],[97,23,97,27],[98,23,98,27],[100,23,100,27],[101,23,101,27],[102,18,102,22],[97,18,97,22],[64,0,65,0],[50,18,50,22],[50,23,50,27],[64,1,65,16],[66,1,66,16],[67,1,67,16],[62,0,63,27],[89,17,90,17],[78,1,78,16],[85,1,85,16],[86,1,86,16],[87,1,87,16],[72,1,72,16],[73,1,73,16],[74,1,74,16],[75,1,75,16],[76,1,76,16],[68,18,68,22],[70,18,70,22],[89,0,90,0],[77,1,77,16],[70,1,70,16],[107,23,107,27],[91,23,91,27],[74,23,74,27],[86,23,86,27],[87,23,87,27],[88,23,88,27],[69,23,69,27],[70,23,70,27],[71,23,71,27],[72,23,72,27],[73,23,73,27],[92,23,92,27],[93,23,93,27],[94,23,94,27],[89,23,90,27],[102,23,102,27],[75,23,75,27],[76,23,76,27],[77,23,77,27],[78,23,78,27],[31,18,31,22],[30,1,30,16],[31,1,31,16],[32,18,32,22],[34,18,34,22],[33,18,33,22],[35,18,35,22],[36,18,36,22],[21,23,21,27],[33,23,33,27],[27,18,27,22],[27,23,27,27],[28,23,28,27],[23,23,23,27],[34,23,34,27],[35,23,35,27],[30,18,30,22],[21,1,21,16],[28,18,28,22],[23,18,23,22],[24,18,24,22],[29,18,29,22],[23,1,23,16],[24,1,24,16],[22,56,22,71],[23,56,23,71],[24,56,24,71],[27,56,27,71],[28,56,28,71],[29,56,29,71],[22,23,22,27],[32,23,32,27],[29,23,29,27],[30,23,30,27],[31,23,31,27],[24,23,24,27],[32,56,32,71],[19,73,19,77],[22,78,22,82],[32,73,32,77],[32,78,32,82],[31,73,31,77],[25,78,26,82],[113,55,113,72],[16,73,16,77],[14,73,14,77],[18,78,18,82],[36,78,36,82],[36,73,36,77],[15,73,15,77],[15,78,15,82],[17,78,17,82],[16,78,16,82],[21,78,21,82],[35,78,35,82],[30,78,30,82],[27,78,27,82],[28,78,28,82],[23,78,23,82],[17,73,17,77],[18,73,18,77],[19,78,19,82],[20,73,20,77],[20,78,20,82],[24,73,24,77],[24,78,24,82],[35,73,35,77],[95,78,95,82],[104,78,104,82],[97,73,97,77],[97,78,97,82],[100,78,100,82],[98,73,98,77],[98,78,98,82],[99,73,99,77],[87,78,87,82],[92,78,92,82],[91,78,91,82],[78,73,78,77],[78,78,78,82],[70,78,70,82],[74,73,74,77],[74,78,74,82],[67,78,67,82],[71,73,71,77],[113,73,113,77],[113,78,113,82],[109,73,109,77],[112,73,112,77],[112,78,112,82],[107,73,107,77],[107,78,107,82],[108,73,108,77],[108,78,108,82],[109,78,109,82],[112,56,112,71],[94,73,94,77],[105,73,105,77],[105,78,105,82],[101,73,101,77],[101,78,101,82],[104,56,104,71],[105,56,105,71],[106,56,106,71],[107,56,107,71],[108,56,108,71],[99,78,99,82],[94,78,94,82],[103,56,103,71],[103,73,103,77],[103,78,103,82],[104,73,104,77],[21,85,21,100],[17,102,17,106],[11,102,11,106],[6,85,7,100],[22,102,22,106],[18,102,18,106],[10,102,10,106],[93,56,93,71],[102,73,102,77],[102,78,102,82],[25,85,26,100],[25,101,26,101],[25,102,26,106],[27,85,27,100],[28,85,28,100],[29,85,29,100],[36,85,36,100],[25,84,26,84],[24,102,24,106],[27,102,27,106],[48,85,48,100],[45,85,45,100],[102,56,102,71],[100,56,100,71],[0,80,0,82],[16,85,16,100],[17,85,17,100],[8,85,8,100],[9,85,9,100],[10,85,10,100],[11,85,11,100],[12,85,12,100],[13,85,13,100],[14,85,14,100],[15,85,15,100],[14,78,14,82],[0,109,0,111],[6,84,7,84],[6,102,7,106],[6,107,7,111],[4,84,5,111],[8,107,8,111],[9,102,9,106],[9,107,9,111],[8,102,8,106],[18,107,18,111],[19,102,19,106],[19,107,19,111],[22,85,22,100],[23,85,23,100],[24,85,24,100],[11,107,11,111],[12,102,12,106],[12,107,12,111],[21,107,21,111],[22,107,22,111],[17,107,17,111],[16,102,16,106],[16,107,16,111],[15,107,15,111],[13,102,13,106],[13,107,13,111],[15,102,15,106],[14,102,14,106],[14,107,14,111],[18,85,18,100],[23,102,23,106],[19,85,19,100],[20,85,20,100],[10,107,10,111],[48,107,48,111],[46,107,46,111],[47,107,47,111],[32,102,32,106],[32,107,32,111],[31,102,31,106],[31,107,31,111],[28,102,28,106],[28,107,28,111],[29,102,29,106],[29,107,29,111],[30,102,30,106],[45,102,45,106],[45,107,45,111],[46,102,46,106],[44,107,44,111],[37,102,38,106],[37,107,38,111],[39,102,39,106],[39,107,39,111],[20,107,20,111],[20,102,20,106],[21,102,21,106],[22,73,22,77],[33,85,33,100],[34,85,34,100],[35,85,35,100],[24,107,24,111],[27,107,27,111],[23,107,23,111],[25,107,26,111],[31,78,31,82],[31,85,31,100],[32,85,32,100],[29,73,29,77],[29,78,29,82],[34,73,34,77],[35,102,35,106],[37,84,38,84],[42,102,42,106],[44,85,44,100],[44,78,44,82],[42,107,42,111],[30,107,30,111],[30,85,30,100],[37,85,38,100],[37,101,38,101],[39,85,39,100],[33,78,33,82],[34,78,34,82],[36,102,36,106],[34,102,34,106],[35,107,35,111],[34,107,34,111],[36,107,36,111],[33,102,33,106],[33,107,33,111],[40,78,40,82],[43,102,43,106],[43,107,43,111],[72,56,72,71],[68,78,68,82],[41,73,41,77],[41,78,41,82],[42,73,42,77],[42,78,42,82],[40,85,40,100],[40,102,40,106],[40,107,40,111],[41,85,41,100],[41,102,41,106],[41,107,41,111],[42,85,42,100],[49,107,49,111],[47,73,47,77],[46,73,46,77],[46,78,46,82],[43,85,43,100],[49,85,49,100],[48,102,48,106],[46,85,46,100],[49,78,49,82],[47,78,47,82],[50,78,50,82],[76,73,76,77],[75,73,75,77],[75,78,75,82],[85,73,85,77],[85,78,85,82],[77,73,77,77],[64,78,65,82],[89,78,90,82],[76,78,76,82],[73,78,73,82],[86,78,86,82],[48,78,48,82],[51,102,51,106],[44,102,44,106],[49,102,49,106],[47,102,47,106],[47,85,47,100],[51,107,51,111],[67,102,67,106],[67,107,67,111],[51,85,51,100],[67,85,67,100],[50,107,50,111],[64,102,65,106],[64,107,65,111],[62,84,63,111],[66,102,66,106],[66,107,66,111],[66,85,66,100],[64,85,65,100],[50,85,50,100],[50,102,50,106],[64,84,65,84],[98,107,98,111],[104,107,104,111],[70,107,70,111],[71,102,71,106],[71,107,71,111],[89,85,90,100],[89,101,90,101],[112,107,112,111],[109,102,109,106],[109,107,109,111],[112,102,112,106],[107,102,107,106],[89,102,90,106],[78,107,78,111],[85,102,85,106],[85,107,85,111],[78,102,78,106],[89,107,90,111],[86,102,86,106],[87,102,87,106],[86,107,86,111],[72,107,72,111],[73,102,73,106],[73,107,73,111],[113,84,113,101],[107,107,107,111],[108,102,108,106],[108,107,108,111],[106,102,106,106],[106,107,106,111],[92,107,92,111],[101,107,101,111],[100,102,100,106],[100,107,100,111],[113,107,113,111],[113,102,113,106],[105,107,105,111],[105,102,105,106],[103,102,103,106],[102,102,102,106],[103,107,103,111],[102,107,102,111],[101,102,101,106],[104,102,104,106],[99,102,99,106],[97,107,97,111],[99,107,99,111],[98,102,98,106],[97,102,97,106],[75,102,75,106],[68,85,68,100],[69,85,69,100],[72,85,72,100],[73,85,73,100],[74,85,74,100],[96,102,96,106],[91,85,91,100],[92,85,92,100],[70,102,70,106],[77,102,77,106],[88,102,88,106],[74,102,74,106],[76,102,76,106],[72,102,72,106],[91,102,91,106],[92,102,92,106],[94,102,94,106],[93,102,93,106],[77,85,77,100],[70,85,70,100],[71,85,71,100],[95,102,95,106],[95,107,95,111],[96,107,96,111],[88,85,88,100],[75,85,75,100],[69,107,69,111],[68,107,68,111],[68,102,68,106],[69,102,69,106],[78,85,78,100],[85,85,85,100],[86,85,86,100],[87,85,87,100],[76,107,76,111],[77,107,77,111],[74,107,74,111],[75,107,75,111],[87,107,87,111],[88,107,88,111],[94,107,94,111],[93,107,93,111],[91,107,91,111],[76,85,76,100],[84,107,84,111],[79,107,80,111],[44,56,44,71],[45,56,45,71],[46,56,46,71],[47,56,47,71],[96,78,96,82],[101,56,101,71],[85,56,85,71],[86,56,86,71],[87,56,87,71],[88,56,88,71],[89,56,90,71],[91,56,91,71],[94,56,94,71],[95,56,95,71],[96,56,96,71],[97,56,97,71],[98,56,98,71],[99,56,99,71],[86,73,86,77],[44,73,44,77],[48,73,48,77],[45,73,45,77],[69,78,69,82],[72,78,72,82],[89,84,90,84],[51,78,51,82],[73,73,73,77],[72,73,72,77],[70,73,70,77],[73,56,73,71],[83,56,83,71],[83,73,83,77],[49,73,49,77],[66,73,66,77],[50,73,50,77],[68,56,68,71],[66,78,66,82],[88,73,88,77],[69,73,69,77],[67,73,67,77],[89,73,90,77],[69,56,69,71],[62,55,63,82],[64,55,65,55],[89,72,90,72],[71,78,71,82],[77,78,77,82],[88,78,88,82],[48,56,48,71],[49,56,49,71],[50,56,50,71],[68,73,68,77],[17,56,17,71],[18,56,18,71],[19,56,19,71],[92,56,92,71],[36,56,36,71],[43,56,43,71],[33,56,33,71],[74,56,74,71],[75,56,75,71],[76,56,76,71],[77,56,77,71],[78,56,78,71],[64,56,65,71],[70,56,70,71],[71,56,71,71],[51,56,51,71],[66,56,66,71],[67,56,67,71],[30,56,30,71],[31,56,31,71],[6,72,7,72],[6,101,7,101],[110,102,110,106],[110,107,110,111],[111,85,111,100],[111,102,111,106],[111,107,111,111],[110,1,110,16],[110,18,110,22],[110,23,110,27],[111,1,111,16],[111,18,111,22],[111,23,111,27],[111,56,111,71],[111,73,111,77],[111,78,111,82],[110,56,110,71],[110,73,110,77],[110,78,110,82],[20,56,20,71],[21,56,21,71],[14,56,14,71],[15,56,15,71],[16,56,16,71]]}
[{"$f":"nazwa","v":"DEMO"}]
[{"$f":"temat","v":"Sprawozdanie finansowe za rok 2023"}]
[null,null,null,null,null,null,null,null,null,null,null,null,null,null,null,null,null,null,null,null,null,null,null,null,null,null,null,null,null,"Powrót do parametrów",null,null,null,null,null,null,null,null,null,null,null,null,null,null,null,null,null,null,null,null,null,null,null,null,null,null,null,null,null,null,null,null,null,null,null,null,null,null,null,null,null,null,null,null,null,null,null,null,null,null,null,null,"Wypełnianie z not... ",null,null,null,null,null,null,null,null,null,null,null,null,null,null,null,null,null,null,null,null,null,null,null,null,null,null,null,null,"Porównanie …m "]
[]
["BILANS - AKTYWA",null,null,null,null,null,null,null,null,null,null,null,null,null,null,null,null,null,null,null,null,null,null,null,null,null,null,null,null,null,null,null,null,null,null,null,null,null,null,null,null,null,null,null,null,null,null,null,null,null,null,null,null,null,null,"BILANS - AKTYWA",null,null,null,null,null,null,null,null,null,null,null,null,null,null,null,null,null,null,null,null,null,null,null,null,null,null,null,null,"BILANS - AKTYWA"]
[]
["Lp.","Wyszczególnienie",null,null,null,null,null,null,null,null,null,null,null,null,null,null,null,"Nr",{"$f":"stanb","v":"Stan na dzień dd.mm.rrrr"},null,null,null,null,{"$f":"stanp","v":"Stan na dzień dd.mm.rrrr"},null,null,null,null,null,null,null,null,null,null,null,null,null,null,null,null,null,null,null,null,null,null,null,null,null,null,null,null,null,null,null,null,null,null,null,null,null,null,null,null,null,null,null,null,null,null,null,null,null,{"$f":"stanb","v":"Stan na dzień dd.mm.rrrr"},null,null,null,null,{"$f":"stanp","v":"Stan na dzień dd.mm.rrrr"},null,null,null,null,null,null,null,null,null,null,null,null,null,null,null,null,null,null,null,null,null,null,null,{"$f":"stanb","v":"Stan na dzień dd.mm.rrrr"},null,null,null,null,{"$f":"stanp","v":"Stan na dzień dd.mm.rrrr"}]
[null,null,null,null,null,null,null,null,null,null,null,null,null,null,null,null,null,"noty"]
["A.","Aktywa trwałe",null,null,null,null,null,null,null,null,null,null,null,null,null,null,null,null,{"$f":"S10+S15+S24+S29+S50","v":0},null,null,null,null,{"$f":"X10+X15+X24+X29+X50","v":0},null,null,null,null,null,null,null,null,null,null,null,null,null,null,null,null,null,null,null,null,null,null,null,null,null,null,null,null,null,null,null,null,null,null,null,null,null,null,null,null,null,null,null,null,null,null,null,null,null,{"$f":"BV10+BV15+BV24+BV29+BV50","v":0},null,null,null,null,{"$f":"CA10+CA15+CA24+CA29+CA50","v":0},null,null,null,null,null,null,null,null,null,null,null,null,null,null,null,null,null,null,null,null,null,null,null,{"$f":"CY10+CY15+CY24+CY29+CY50","v":0},null,null,null,null,{"$f":"DD10+DD15+DD24+DD29+DD50","v":0}]
["I.","Wartości niematerialne i prawne",null,null,null,null,null,null,null,null,null,null,null,null,null,null,null,null,{"$f":"SUM(S11:W14)","v":0},null,null,null,null,{"$f":"SUM(X11:AB14)","v":0},null,null,null,null,null,null,null,null,null,null,null,null,null,null,null,null,null,null,null,null,null,null,null,null,null,null,null,null,null,null,null,null,null,null,null,null,null,null,null,null,null,null,null,null,null,null,null,null,null,{"$f":"SUM(BV11:BZ14)","v":0},null,null,null,null,{"$f":"SUM(CA11:CE14)","v":0},null,null,null,null,null,null,null,null,null,null,null,null,null,null,null,null,null,null,null,null,null,null,null,{"$f":"SUM(CY11:DC14)","v":0},null,null,null,null,{"$f":"SUM(DD11:DH14)","v":0}]
["1.","Koszty zakończonych prac rozwojowych",null,null,null,null,null,null,null,null,null,null,null,null,null,null,null,{"$f":"PrzecinekTM(Parametry!$B$32,Parametry!$B$33)","v":""},{"$f":"WNiP!$I$29-WNiP_UM!$L$25-WNiP_UM!$L$30","v":0},null,null,null,null,{"$f":"WNiP!$I$12-WNiP_UM!$L$13-WNiP_UM!$L$27","v":0},null,null,null,null,null,null,null,null,null,null,null,null,null,null,null,null,null,null,null,null,null,null,null,null,null,null,null,null,null,null,null,null,null,null,null,null,null,null,null,null,null,null,null,null,null,null,null,null,null,{"$f":"WNiP!$I$29-WNiP_UM!$L$25-WNiP_UM!$L$30","v":0},null,null,null,null,{"$f":"WNiP!$I$12-WNiP_UM!$L$13-WNiP_UM!$L$27","v":0}]
["2.","Wartość firmy",null,null,null,null,null,null,null,null,null,null,null,null,null,null,null,{"$f":"PrzecinekTM(Parametry!$B$32,Parametry!$B$33)","v":""},{"$f":"WNiP!$N$29-WNiP_UM!$Q$25-WNiP_UM!$Q$30","v":0},null,null,null,null,{"$f":"WNiP!$N$12-WNiP_UM!$Q$13-WNiP_UM!$Q$27","v":0},null,null,null,null,null,null,null,null,null,null,null,null,null,null,null,null,null,null,null,null,null,null,null,null,null,null,null,null,null,null,null,null,null,null,null,null,null,null,null,null,null,null,null,null,null,null,null,null,null,{"$f":"WNiP!$N$29-WNiP_UM!$Q$25-WNiP_UM!$Q$30","v":0},null,null,null,null,{"$f":"WNiP!$N$12-WNiP_UM!$Q$13-WNiP_UM!$Q$27","v":0}]
["3.","Inne wartości niematerialne i prawne",null,null,null,null,null,null,null,null,null,null,null,null,null,null,null,{"$f":"PrzecinekTM(Parametry!$B$32,Parametry!$B$33)","v":""},{"$f":"WNiP!$S$29+WNiP!$X$29+WNiP!$AC$29-WNiP_UM!$V$25-WNiP_UM!$Z$25-WNiP_UM!$AD$25-WNiP_UM!$V$30-WNiP_UM!$Z$30-WNiP_UM!$AD$30","v":0},null,null,null,null,{"$f":"WNiP!$S$12+WNiP!$X$12+WNiP!$AC$12-WNiP_UM!$V$13-WNiP_UM!$Z$13-WNiP_UM!$AD$13-WNiP_UM!$V$27-WNiP_UM!$Z$27-WNiP_UM!$AD$27","v":0},null,null,null,null,null,null,null,null,null,null,null,null,null,null,null,null,null,null,null,null,null,null,null,null,null,null,null,null,null,null,null,null,null,null,null,null,null,null,null,null,null,null,null,null,null,null,null,null,null,{"$f":"WNiP!$S$29+WNiP!$X$29+WNiP!$AC$29-WNiP_UM!$V$25-WNiP_UM!$Z$25-WNiP_UM!$AD$25-WNiP_UM!$V$30-WNiP_UM!$Z$30-WNiP_UM!$AD$30","v":0},null,null,null,null,{"$f":"WNiP!$S$12+WNiP!$X$12+WNiP!$AC$12-WNiP_UM!$V$13-WNiP_UM!$Z$13-WNiP_UM!$AD$13-WNiP_UM!$V$27-WNiP_UM!$Z$27-WNiP_UM!$AD$27","v":0}]
["4.","Zaliczki na wartości niematerialne i prawne",null,null,null,null,null,null,null,null,null,null,null,null,null,null,null,{"$f":"PrzecinekTM(Parametry!$B$32,Parametry!$B$33)","v":""},{"$f":"WNiP!$AH$29-WNiP_UM!$AH$25-WNiP_UM!$AH$30","v":0},null,null,null,null,{"$f":"WNiP!$AH$12-WNiP_UM!$AH$13-WNiP_UM!$AH$27","v":0},null,null,null,null,null,null,null,null,null,null,null,null,null,null,null,null,null,null,null,null,null,null,null,null,null,null,null,null,null,null,null,null,null,null,null,null,null,null,null,null,null,null,null,null,null,null,null,null,null,{"$f":"WNiP!$AH$29-WNiP_UM!$AH$25-WNiP_UM!$AH$30","v":0},null,null,null,null,{"$f":"WNiP!$AH$12-WNiP_UM!$AH$13-WNiP_UM!$AH$27","v":0}]
["II.","Rzeczowe aktywa trwałe",null,null,null,null,null,null,null,null,null,null,null,null,null,null,null,null,{"$f":"S16+S22+S23","v":0},null,null,null,null,{"$f":"X16+X22+X23","v":0},null,null,null,null,null,null,null,null,null,null,null,null,null,null,null,null,null,null,null,null,null,null,null,null,null,null,null,null,null,null,null,null,null,null,null,null,null,null,null,null,null,null,null,null,null,null,null,null,null,{"$f":"BV16+BV22+BV23","v":0},null,null,null,null,{"$f":"CA16+CA22+CA23","v":0},null,null,null,null,null,null,null,null,null,null,null,null,null,null,null,null,null,null,null,null,null,null,null,{"$f":"CY16+CY22+CY23","v":0},null,null,null,null,{"$f":"DD16+DD22+DD23","v":0}]
["1.","Środki trwałe",null,null,null,null,null,null,null,null,null,null,null,null,null,null,null,null,{"$f":"SUM(S17:W21)","v":0},null,null,null,null,{"$f":"SUM(X17:AB21)","v":0},null,null,null,null,null,null,null,null,null,null,null,null,null,null,null,null,null,null,null,null,null,null,null,null,null,null,null,null,null,null,null,null,null,null,null,null,null,null,null,null,null,null,null,null,null,null,null,null,null,{"$f":"SUM(BV17:BZ21)","v":0},null,null,null,null,{"$f":"SUM(CA17:CE21)","v":0},null,null,null,null,null,null,null,null,null,null,null,null,null,null,null,null,null,null,null,null,null,null,null,{"$f":"SUM(CY17:DC21)","v":0},null,null,null,null,{"$f":"SUM(DD17:DH21)","v":0}]
[null,"a) grunty (w tym prawo użytkowania wieczystego gruntu)",null,null,null,null,null,null,null,null,null,null,null,null,null,null,null,{"$f":"PrzecinekTM(Parametry!$B$36,\"\")","v":""},{"$f":"ŚR_TRW_UM!$N$33","v":0},null,null,null,null,{"$f":"ŚR_TRW_UM!$N$32","v":0},null,null,null,null,null,null,null,null,null,null,null,null,null,null,null,null,null,null,null,null,null,null,null,null,null,null,null,null,null,null,null,null,null,null,null,null,null,null,null,null,null,null,null,null,null,null,null,null,null,{"$f":"ŚR_TRW_UM!$N$33","v":0},null,null,null,null,{"$f":"ŚR_TRW_UM!$N$32","v":0}]
[null,"b) budynki, lokale, prawa do lokali i obiekty inżynierii lądowej i wodnej",null,null,null,null,null,null,null,null,null,null,null,null,null,null,null,{"$f":"PrzecinekTM(Parametry!$B$36,\"\")","v":""},{"$f":"ŚR_TRW_UM!$S$33","v":0},null,null,null,null,{"$f":"ŚR_TRW_UM!$S$32","v":0},null,null,null,null,null,null,null,null,null,null,null,null,null,null,null,null,null,null,null,null,null,null,null,null,null,null,null,null,null,null,null,null,null,null,null,null,null,null,null,null,null,null,null,null,null,null,null,null,null,{"$f":"ŚR_TRW_UM!$S$33","v":0},null,null,null,null,{"$f":"ŚR_TRW_UM!$S$32","v":0}]
[null,"c) urządzenia techniczne i maszyny",null,null,null,null,null,null,null,null,null,null,null,null,null,null,null,{"$f":"PrzecinekTM(Parametry!$B$36,\"\")","v":""},{"$f":"ŚR_TRW_UM!$X$33","v":0},null,null,null,null,{"$f":"ŚR_TRW_UM!$X$32","v":0},null,null,null,null,null,null,null,null,null,null,null,null,null,null,null,null,null,null,null,null,null,null,null,null,null,null,null,null,null,null,null,null,null,null,null,null,null,null,null,null,null,null,null,null,null,null,null,null,null,{"$f":"ŚR_TRW_UM!$X$33","v":0},null,null,null,null,{"$f":"ŚR_TRW_UM!$X$32","v":0}]
[null,"d) środki transportu",null,null,null,null,null,null,null,null,null,null,null,null,null,null,null,{"$f":"PrzecinekTM(Parametry!$B$36,\"\")","v":""},{"$f":"ŚR_TRW_UM!$AC$33","v":0},null,null,null,null,{"$f":"ŚR_TRW_UM!$AC$32","v":0},null,null,null,null,null,null,null,null,null,null,null,null,null,null,null,null,null,null,null,null,null,null,null,null,null,null,null,null,null,null,null,null,null,null,null,null,null,null,null,null,null,null,null,null,null,null,null,null,null,{"$f":"ŚR_TRW_UM!$AC$33","v":0},null,null,null,null,{"$f":"ŚR_TRW_UM!$AC$32","v":0}]
[null,"e) inne środki trwałe",null,null,null,null,null,null,null,null,null,null,null,null,null,null,null,{"$f":"PrzecinekTM(Parametry!$B$36,\"\")","v":""},{"$f":"ŚR_TRW_UM!$AH$33","v":0},null,null,null,null,{"$f":"ŚR_TRW_UM!$AH$32","v":0},null,null,null,null,null,null,null,null,null,null,null,null,null,null,null,null,null,null,null,null,null,null,null,null,null,null,null,null,null,null,null,null,null,null,null,null,null,null,null,null,null,null,null,null,null,null,null,null,null,{"$f":"ŚR_TRW_UM!$AH$33","v":0},null,null,null,null,{"$f":"ŚR_TRW_UM!$AH$32","v":0}]
["2.","Środki trwałe w budowie",null,null,null,null,null,null,null,null,null,null,null,null,null,null,null,{"$f":"PrzecinekTM(Parametry!$B$37,\"\")","v":""},{"$f":"ŚR_TRW_w_bud!$AM$20","v":0},null,null,null,null,{"$f":"ŚR_TRW_w_bud!$AM$8","v":0},null,null,null,null,null,null,null,null,null,null,null,null,null,null,null,null,null,null,null,null,null,null,null,null,null,null,null,null,null,null,null,null,null,null,null,null,null,null,null,null,null,null,null,null,null,null,null,null,null,{"$f":"ŚR_TRW_w_bud!$AM$20","v":0},null,null,null,null,{"$f":"ŚR_TRW_w_bud!$AM$8","v":0}]
["3.","Zaliczki na środki trwałe w budowie",null,null,null,null,null,null,null,null,null,null,null,null,null,null,null,{"$f":"PrzecinekTM(Parametry!$B$38,\"\")","v":""},{"$f":"Zaliczki_na_ŚR_TRW_w_bud!$AH$19","v":0},null,null,null,null,{"$f":"Zaliczki_na_ŚR_TRW_w_bud!$AM$19","v":0},null,null,null,null,null,null,null,null,null,null,null,null,null,null,null,null,null,null,null,null,null,null,null,null,null,null,null,null,null,null,null,null,null,null,null,null,null,null,null,null,null,null,null,null,null,null,null,null,null,{"$f":"Zaliczki_na_ŚR_TRW_w_bud!$AH$19","v":0},null,null,null,null,{"$f":"Zaliczki_na_ŚR_TRW_w_bud!$AM$19","v":0}]
["III.","Należności długoterminowe",null,null,null,null,null,null,null,null,null,null,null,null,null,null,null,null,{"$f":"SUM(S25:W28)","v":0},null,null,null,null,{"$f":"SUM(X25:AB28)","v":0},null,null,null,null,null,null,null,null,null,null,null,null,null,null,null,null,null,null,null,null,null,null,null,null,null,null,null,null,null,null,null,null,null,null,null,null,null,null,null,null,null,null,null,null,null,null,null,null,null,{"$f":"SUM(BV25:BZ28)","v":0},null,null,null,null,{"$f":"SUM(CA25:CE28)","v":0},null,null,null,null,null,null,null,null,null,null,null,null,null,null,null,null,null,null,null,null,null,null,null,{"$f":"SUM(CY25:DC28)","v":0},null,null,null,null,{"$f":"SUM(DD25:DH28)","v":0}]
["1.","Od jednostek powiązanych",null,null,null,null,null,null,null,null,null,null,null,null,null,null,null,{"$f":"PrzecinekTM(Parametry!$B$47,\"\")","v":""},{"$f":"Należności!$X$11","v":0},null,null,null,null,{"$f":"Należności!$AM$11","v":0},null,null,null,null,null,null,null,null,null,null,null,null,null,null,null,null,null,null,null,null,null,null,null,null,null,null,null,null,null,null,null,null,null,null,null,null,null,null,null,null,null,null,null,null,null,null,null,null,null,{"$f":"Należności!$X$11","v":0},null,null,null,null,{"$f":"Należności!$AM$11","v":0}]
["2.","Od pozostałych jednostek, w których jednostka posiada zaangażowanie w kapitale",null,null,null,null,null,null,null,null,null,null,null,null,null,null,null,{"$f":"PrzecinekTM(Parametry!$B$47,\"\")","v":""},{"$f":"Należności!$X$12","v":0},null,null,null,null,{"$f":"Należności!$AM$12","v":0},null,null,null,null,null,null,null,null,null,null,null,null,null,null,null,null,null,null,null,null,null,null,null,null,null,null,null,null,null,null,null,null,null,null,null,null,null,null,null,null,null,null,null,null,null,null,null,null,null,{"$f":"Należności!$X$12","v":0},null,null,null,null,{"$f":"Należności!$AM$12","v":0}]
[]
["3.","Od pozostałych jednostek",null,null,null,null,null,null,null,null,null,null,null,null,null,null,null,{"$f":"PrzecinekTM(Parametry!$B$47,\"\")","v":""},{"$f":"Należności!$X$14","v":0},null,null,null,null,{"$f":"Należności!$AM$14","v":0},null,null,null,null,null,null,null,null,null,null,null,null,null,null,null,null,null,null,null,null,null,null,null,null,null,null,null,null,null,null,null,null,null,null,null,null,null,null,null,null,null,null,null,null,null,null,null,null,null,{"$f":"Należności!$X$14","v":0},null,null,null,null,{"$f":"Należności!$AM$14","v":0}]
["IV.","Inwestycje długoterminowe",null,null,null,null,null,null,null,null,null,null,null,null,null,null,null,null,{"$f":"S30+S31+S32+S49","v":0},null,null,null,null,{"$f":"X30+X31+X32+X49","v":0},null,null,null,null,null,null,null,null,null,null,null,null,null,null,null,null,null,null,null,null,null,null,null,null,null,null,null,null,null,null,null,null,null,null,null,null,null,null,null,null,null,null,null,null,null,null,null,null,null,{"$f":"BV30+BV31+BV32+BV49","v":0},null,null,null,null,{"$f":"CA30+CA31+CA32+CA49","v":0},null,null,null,null,null,null,null,null,null,null,null,null,null,null,null,null,null,null,null,null,null,null,null,{"$f":"CY30+CY31+CY32+CY49","v":0},null,null,null,null,{"$f":"DD30+DD31+DD32+DD49","v":0}]
["1.","Nieruchomości",null,null,null,null,null,null,null,null,null,null,null,null,null,null,null,{"$f":"PrzecinekTM(Parametry!$B$41,\"\")","v":""},{"$f":"Inwest_długot!$S$26","v":0},null,null,null,null,{"$f":"Inwest_długot!$S$25","v":0},null,null,null,null,null,null,null,null,null,null,null,null,null,null,null,null,null,null,null,null,null,null,null,null,null,null,null,null,null,null,null,null,null,null,null,null,null,null,null,null,null,null,null,null,null,null,null,null,null,{"$f":"Inwest_długot!$S$26","v":0},null,null,null,null,{"$f":"Inwest_długot!$S$25","v":0}]
["2.","Wartości niematerialne i prawne ",null,null,null,null,null,null,null,null,null,null,null,null,null,null,null,{"$f":"PrzecinekTM(Parametry!$B$41,\"\")","v":""},{"$f":"Inwest_długot!$X$26","v":0},null,null,null,null,{"$f":"Inwest_długot!$X$25","v":0},null,null,null,null,null,null,null,null,null,null,null,null,null,null,null,null,null,null,null,null,null,null,null,null,null,null,null,null,null,null,null,null,null,null,null,null,null,null,null,null,null,null,null,null,null,null,null,null,null,{"$f":"Inwest_długot!$X$26","v":0},null,null,null,null,{"$f":"Inwest_długot!$X$25","v":0}]
["3.","Długoterminowe aktywa finansowe",null,null,null,null,null,null,null,null,null,null,null,null,null,null,null,null,{"$f":"S33+S38+S44","v":0},null,null,null,null,{"$f":"X33+X38+X44","v":0},null,null,null,null,null,null,null,null,null,null,null,null,null,null,null,null,null,null,null,null,null,null,null,null,null,null,null,null,null,null,null,null,null,null,null,null,null,null,null,null,null,null,null,null,null,null,null,null,null,{"$f":"BV33+BV38+BV44","v":0},null,null,null,null,{"$f":"CA33+CA38+CA44","v":0},null,null,null,null,null,null,null,null,null,null,null,null,null,null,null,null,null,null,null,null,null,null,null,{"$f":"CY33+CY38+CY44","v":0},null,null,null,null,{"$f":"DD33+DD38+DD44","v":0}]
[null,"a) w jednostkach powiązanych",null,null,null,null,null,null,null,null,null,null,null,null,null,null,null,null,{"$f":"SUM(S34:W37)","v":0},null,null,null,null,{"$f":"SUM(X34:AB37)","v":0},null,null,null,null,null,null,null,null,null,null,null,null,null,null,null,null,null,null,null,null,null,null,null,null,null,null,null,null,null,null,null,null,null,null,null,null,null,null,null,null,null,null,null,null,null,null,null,null,null,{"$f":"SUM(BV34:BZ37)","v":0},null,null,null,null,{"$f":"SUM(CA34:CE37)","v":0},null,null,null,null,null,null,null,null,null,null,null,null,null,null,null,null,null,null,null,null,null,null,null,{"$f":"SUM(CY34:DC37)","v":0},null,null,null,null,{"$f":"SUM(DD34:DH37)","v":0}]
[null,"- udziały lub akcje",null,null,null,null,null,null,null,null,null,null,null,null,null,null,null,{"$f":"PrzecinekTM(Parametry!$B$42,\"\")","v":""},{"$f":"Aktywa_fin_długot_J_Pow!$S$26","v":0},null,null,null,null,{"$f":"Aktywa_fin_długot_J_Pow!$S$25","v":0},null,null,null,null,null,null,null,null,null,null,null,null,null,null,null,null,null,null,null,null,null,null,null,null,null,null,null,null,null,null,null,null,null,null,null,null,null,null,null,null,null,null,null,null,null,null,null,null,null,{"$f":"Aktywa_fin_długot_J_Pow!$S$26","v":0},null,null,null,null,{"$f":"Aktywa_fin_długot_J_Pow!$S$25","v":0}]
[null,"- inne papiery wartościowe",null,null,null,null,null,null,null,null,null,null,null,null,null,null,null,{"$f":"PrzecinekTM(Parametry!$B$42,\"\")","v":""},{"$f":"Aktywa_fin_długot_J_Pow!$X$26","v":0},null,null,null,null,{"$f":"Aktywa_fin_długot_J_Pow!$X$25","v":0},null,null,null,null,null,null,null,null,null,null,null,null,null,null,null,null,null,null,null,null,null,null,null,null,null,null,null,null,null,null,null,null,null,null,null,null,null,null,null,null,null,null,null,null,null,null,null,null,null,{"$f":"Aktywa_fin_długot_J_Pow!$X$26","v":0},null,null,null,null,{"$f":"Aktywa_fin_długot_J_Pow!$X$25","v":0}]
[null,"- udzielone pożyczki",null,null,null,null,null,null,null,null,null,null,null,null,null,null,null,{"$f":"PrzecinekTM(Parametry!$B$42,\"\")","v":""},{"$f":"Aktywa_fin_długot_J_Pow!$AC$26","v":0},null,null,null,null,{"$f":"Aktywa_fin_długot_J_Pow!$AC$25","v":0},null,null,null,null,null,null,null,null,null,null,null,null,null,null,null,null,null,null,null,null,null,null,null,null,null,null,null,null,null,null,null,null,null,null,null,null,null,null,null,null,null,null,null,null,null,null,null,null,null,{"$f":"Aktywa_fin_długot_J_Pow!$AC$26","v":0},null,null,null,null,{"$f":"Aktywa_fin_długot_J_Pow!$AC$25","v":0}]
[null,"- inne długoterminowe aktywa finansowe",null,null,null,null,null,null,null,null,null,null,null,null,null,null,null,{"$f":"PrzecinekTM(Parametry!$B$42,\"\")","v":""},{"$f":"Aktywa_fin_długot_J_Pow!$AH$26","v":0},null,null,null,null,{"$f":"Aktywa_fin_długot_J_Pow!$AH$25","v":0},null,null,null,null,null,null,null,null,null,null,null,null,null,null,null,null,null,null,null,null,null,null,null,null,null,null,null,null,null,null,null,null,null,null,null,null,null,null,null,null,null,null,null,null,null,null,null,null,null,{"$f":"Aktywa_fin_długot_J_Pow!$AH$26","v":0},null,null,null,null,{"$f":"Aktywa_fin_długot_J_Pow!$AH$25","v":0}]
[null,"b) w pozostałych jednostkach, w których jednostka posiada zaangażowanie w kapitale",null,null,null,null,null,null,null,null,null,null,null,null,null,null,null,null,{"$f":"SUM(S40:W43)","v":0},null,null,null,null,{"$f":"SUM(X40:AB43)","v":0},null,null,null,null,null,null,null,null,null,null,null,null,null,null,null,null,null,null,null,null,null,null,null,null,null,null,null,null,null,null,null,null,null,null,null,null,null,null,null,null,null,null,null,null,null,null,null,null,null,{"$f":"SUM(BV40:BZ43)","v":0},null,null,null,null,{"$f":"SUM(CA40:CE43)","v":0},null,null,null,null,null,null,null,null,null,null,null,null,null,null,null,null,null,null,null,null,null,null,null,{"$f":"SUM(CY40:DC43)","v":0},null,null,null,null,{"$f":"SUM(DD40:DH43)","v":0}]
[]
[null,"- udziały lub akcje",null,null,null,null,null,null,null,null,null,null,null,null,null,null,null,{"$f":"PrzecinekTM(Parametry!$B$43,\"\")","v":""},{"$f":"Aktywa_fin_długot_J_Poz_zk!$S$26","v":0},null,null,null,null,{"$f":"Aktywa_fin_długot_J_Poz_zk!$S$25","v":0},null,null,null,null,null,null,null,null,null,null,null,null,null,null,null,null,null,null,null,null,null,null,null,null,null,null,null,null,null,null,null,null,null,null,null,null,null,null,null,null,null,null,null,null,null,null,null,null,null,{"$f":"Aktywa_fin_długot_J_Poz_zk!$S$26","v":0},null,null,null,null,{"$f":"Aktywa_fin_długot_J_Poz_zk!$S$25","v":0}]
[null,"- inne papiery wartościowe",null,null,null,null,null,null,null,null,null,null,null,null,null,null,null,{"$f":"PrzecinekTM(Parametry!$B$43,\"\")","v":""},{"$f":"Aktywa_fin_długot_J_Poz_zk!$X$26","v":0},null,null,null,null,{"$f":"Aktywa_fin_długot_J_Poz_zk!$X$25","v":0},null,null,null,null,null,null,null,null,null,null,null,null,null,null,null,null,null,null,null,null,null,null,null,null,null,null,null,null,null,null,null,null,null,null,null,null,null,null,null,null,null,null,null,null,null,null,null,null,null,{"$f":"Aktywa_fin_długot_J_Poz_zk!$X$26","v":0},null,null,null,null,{"$f":"Aktywa_fin_długot_J_Poz_zk!$X$25","v":0}]
[null,"- udzielone pożyczki",null,null,null,null,null,null,null,null,null,null,null,null,null,null,null,{"$f":"PrzecinekTM(Parametry!$B$43,\"\")","v":""},{"$f":"Aktywa_fin_długot_J_Poz_zk!$AC$26","v":0},null,null,null,null,{"$f":"Aktywa_fin_długot_J_Poz_zk!$AC$25","v":0},null,null,null,null,null,null,null,null,null,null,null,null,null,null,null,null,null,null,null,null,null,null,null,null,null,null,null,null,null,null,null,null,null,null,null,null,null,null,null,null,null,null,null,null,null,null,null,null,null,{"$f":"Aktywa_fin_długot_J_Poz_zk!$AC$26","v":0},null,null,null,null,{"$f":"Aktywa_fin_długot_J_Poz_zk!$AC$25","v":0}]
[null,"- inne długoterminowe aktywa finansowe",null,null,null,null,null,null,null,null,null,null,null,null,null,null,null,{"$f":"PrzecinekTM(Parametry!$B$43,\"\")","v":""},{"$f":"Aktywa_fin_długot_J_Poz_zk!$AH$26","v":0},null,null,null,null,{"$f":"Aktywa_fin_długot_J_Poz_zk!$AH$25","v":0},null,null,null,null,null,null,null,null,null,null,null,null,null,null,null,null,null,null,null,null,null,null,null,null,null,null,null,null,null,null,null,null,null,null,null,null,null,null,null,null,null,null,null,null,null,null,null,null,null,{"$f":"Aktywa_fin_długot_J_Poz_zk!$AH$26","v":0},null,null,null,null,{"$f":"Aktywa_fin_długot_J_Poz_zk!$AH$25","v":0}]
[null,"c) w pozostałych jednostkach",null,null,null,null,null,null,null,null,null,null,null,null,null,null,null,null,{"$f":"SUM(S45:W48)","v":0},null,null,null,null,{"$f":"SUM(X45:AB48)","v":0},null,null,null,null,null,null,null,null,null,null,null,null,null,null,null,null,null,null,null,null,null,null,null,null,null,null,null,null,null,null,null,null,null,null,null,null,null,null,null,null,null,null,null,null,null,null,null,null,null,{"$f":"SUM(BV45:BZ48)","v":0},null,null,null,null,{"$f":"SUM(CA45:CE48)","v":0},null,null,null,null,null,null,null,null,null,null,null,null,null,null,null,null,null,null,null,null,null,null,null,{"$f":"SUM(CY45:DC48)","v":0},null,null,null,null,{"$f":"SUM(DD45:DH48)","v":0}]
[null,"- udziały lub akcje",null,null,null,null,null,null,null,null,null,null,null,null,null,null,null,{"$f":"PrzecinekTM(Parametry!$B$44,\"\")","v":""},{"$f":"Aktywa_fin_długot_J_Poz!$S$26","v":0},null,null,null,null,{"$f":"Aktywa_fin_długot_J_Poz!$S$25","v":0},null,null,null,null,null,null,null,null,null,null,null,null,null,null,null,null,null,null,null,null,null,null,null,null,null,null,null,null,null,null,null,null,null,null,null,null,null,null,null,null,null,null,null,null,null,null,null,null,null,{"$f":"Aktywa_fin_długot_J_Poz!$S$26","v":0},null,null,null,null,{"$f":"Aktywa_fin_długot_J_Poz!$S$25","v":0}]
[null,"- inne papiery wartościowe",null,null,null,null,null,null,null,null,null,null,null,null,null,null,null,{"$f":"PrzecinekTM(Parametry!$B$44,\"\")","v":""},{"$f":"Aktywa_fin_długot_J_Poz!$X$26","v":0},null,null,null,null,{"$f":"Aktywa_fin_długot_J_Poz!$X$25","v":0},null,null,null,null,null,null,null,null,null,null,null,null,null,null,null,null,null,null,null,null,null,null,null,null,null,null,null,null,null,null,null,null,null,null,null,null,null,null,null,null,null,null,null,null,null,null,null,null,null,{"$f":"Aktywa_fin_długot_J_Poz!$X$26","v":0},null,null,null,null,{"$f":"Aktywa_fin_długot_J_Poz!$X$25","v":0}]
[null,"- udzielone pożyczki",null,null,null,null,null,null,null,null,null,null,null,null,null,null,null,{"$f":"PrzecinekTM(Parametry!$B$44,\"\")","v":""},{"$f":"Aktywa_fin_długot_J_Poz!$AC$26","v":0},null,null,null,null,{"$f":"Aktywa_fin_długot_J_Poz!$AC$25","v":0},null,null,null,null,null,null,null,null,null,null,null,null,null,null,null,null,null,null,null,null,null,null,null,null,null,null,null,null,null,null,null,null,null,null,null,null,null,null,null,null,null,null,null,null,null,null,null,null,null,{"$f":"Aktywa_fin_długot_J_Poz!$AC$26","v":0},null,null,null,null,{"$f":"Aktywa_fin_długot_J_Poz!$AC$25","v":0}]
[null,"- inne długoterminowe aktywa finansowe",null,null,null,null,null,null,null,null,null,null,null,null,null,null,null,{"$f":"PrzecinekTM(Parametry!$B$44,\"\")","v":""},{"$f":"Aktywa_fin_długot_J_Poz!$AH$26","v":0},null,null,null,null,{"$f":"Aktywa_fin_długot_J_Poz!$AH$25","v":0},null,null,null,null,null,null,null,null,null,null,null,null,null,null,null,null,null,null,null,null,null,null,null,null,null,null,null,null,null,null,null,null,null,null,null,null,null,null,null,null,null,null,null,null,null,null,null,null,null,{"$f":"Aktywa_fin_długot_J_Poz!$AH$26","v":0},null,null,null,null,{"$f":"Aktywa_fin_długot_J_Poz!$AH$25","v":0}]
["4.","Inne inwestycje długoterminowe",null,null,null,null,null,null,null,null,null,null,null,null,null,null,null,{"$f":"PrzecinekTM(Parametry!$B$41,\"\")","v":""},{"$f":"Inwest_długot!$AH$26","v":0},null,null,null,null,{"$f":"Inwest_długot!$AH$25","v":0},null,null,null,null,null,null,null,null,null,null,null,null,null,null,null,null,null,null,null,null,null,null,null,null,null,null,null,null,null,null,null,null,null,null,null,null,null,null,null,null,null,null,null,null,null,null,null,null,null,{"$f":"Inwest_długot!$AH$26","v":0},null,null,null,null,{"$f":"Inwest_długot!$AH$25","v":0}]
["V.","Długoterminowe rozliczenia międzyokresowe",null,null,null,null,null,null,null,null,null,null,null,null,null,null,null,null,{"$f":"SUM(S51:W52)","v":0},null,null,null,null,{"$f":"SUM(X51:AB52)","v":0},null,null,null,null,null,null,null,null,null,null,null,null,null,null,null,null,null,null,null,null,null,null,null,null,null,null,null,null,null,null,null,null,null,null,null,null,null,null,null,null,null,null,null,null,null,null,null,null,null,{"$f":"SUM(BV51:BZ52)","v":0},null,null,null,null,{"$f":"SUM(CA51:CE52)","v":0},null,null,null,null,null,null,null,null,null,null,null,null,null,null,null,null,null,null,null,null,null,null,null,{"$f":"SUM(CY51:DC52)","v":0},null,null,null,null,{"$f":"SUM(DD51:DH52)","v":0}]
["1.","Aktywa z tytułu odroczonego podatku dochodowego",null,null,null,null,null,null,null,null,null,null,null,null,null,null,null,{"$f":"PrzecinekTM(Parametry!$B$64,\"\")","v":""},{"$f":"RMC_Długot!$AH$9","v":0},null,null,null,null,{"$f":"RMC_Długot!$AM$9","v":0},null,null,null,null,null,null,null,null,null,null,null,null,null,null,null,null,null,null,null,null,null,null,null,null,null,null,null,null,null,null,null,null,null,null,null,null,null,null,null,null,null,null,null,null,null,null,null,null,null,{"$f":"RMC_Długot!$AH$9","v":0},null,null,null,null,{"$f":"RMC_Długot!$AM$9","v":0}]
["2.","Inne rozliczenia międzyokresowe",null,null,null,null,null,null,null,null,null,null,null,null,null,null,null,{"$f":"PrzecinekTM(Parametry!$B$64,\"\")","v":""},{"$f":"RMC_Długot!$AH$10","v":0},null,null,null,null,{"$f":"RMC_Długot!$AM$10","v":0},null,null,null,null,null,null,null,null,null,null,null,null,null,null,null,null,null,null,null,null,null,null,null,null,null,null,null,null,null,null,null,null,null,null,null,null,null,null,null,null,null,null,null,null,null,null,null,null,null,{"$f":"RMC_Długot!$AH$10","v":0},null,null,null,null,{"$f":"RMC_Długot!$AM$10","v":0}]
[]
[]
[]
[]
[]
[]
[]
[]
[]
[]
["BILANS - AKTYWA",null,null,null,null,null,null,null,null,null,null,null,null,null,null,null,null,null,null,null,null,null,null,null,null,null,null,null,null,null,null,null,null,null,null,null,null,null,null,null,null,null,null,null,null,null,null,null,null,null,null,null,null,null,null,"BILANS - AKTYWA",null,null,null,null,null,null,null,null,null,null,null,null,null,null,null,null,null,null,null,null,null,null,null,null,null,null,null,null,"BILANS - AKTYWA"]
[]
["Lp.","Wyszczególnienie",null,null,null,null,null,null,null,null,null,null,null,null,null,null,null,"Nr",{"$f":"stanb","v":"Stan na dzień dd.mm.rrrr"},null,null,null,null,{"$f":"stanp","v":"Stan na dzień dd.mm.rrrr"},null,null,null,null,null,null,null,null,null,null,null,null,null,null,null,null,null,null,null,null,null,null,null,null,null,null,null,null,null,null,null,null,null,null,null,null,null,null,null,null,null,null,null,null,null,null,null,null,null,{"$f":"stanb","v":"Stan na dzień dd.mm.rrrr"},null,null,null,null,{"$f":"stanp","v":"Stan na dzień dd.mm.rrrr"},null,null,null,null,null,null,null,null,null,null,null,null,null,null,null,null,null,null,null,null,null,null,null,{"$f":"stanb","v":"Stan na dzień dd.mm.rrrr"},null,null,null,null,{"$f":"stanp","v":"Stan na dzień dd.mm.rrrr"}]
[null,null,null,null,null,null,null,null,null,null,null,null,null,null,null,null,null,"noty"]
["B.","Aktywa obrotowe",null,null,null,null,null,null,null,null,null,null,null,null,null,null,null,null,{"$f":"S68+S74+S94+S111","v":0},null,null,null,null,{"$f":"X68+X74+X94+X111","v":0},null,null,null,null,null,null,null,null,null,null,null,null,null,null,null,null,null,null,null,null,null,null,null,null,null,null,null,null,null,null,null,null,null,null,null,null,null,null,null,null,null,null,null,null,null,null,null,null,null,{"$f":"BV68+BV74+BV94+BV111","v":0},null,null,null,null,{"$f":"CA68+CA74+CA94+CA111","v":0},null,null,null,null,null,null,null,null,null,null,null,null,null,null,null,null,null,null,null,null,null,null,null,{"$f":"CY68+CY74+CY94+CY111","v":0},null,null,null,null,{"$f":"DD68+DD74+DD94+DD111","v":0}]
["I.","Zapasy",null,null,null,null,null,null,null,null,null,null,null,null,null,null,null,null,{"$f":"SUM(S69:W73)","v":0},null,null,null,null,{"$f":"SUM(X69:AB73)","v":0},null,null,null,null,null,null,null,null,null,null,null,null,null,null,null,null,null,null,null,null,null,null,null,null,null,null,null,null,null,null,null,null,null,null,null,null,null,null,null,null,null,null,null,null,null,null,null,null,null,{"$f":"SUM(BV69:BZ73)","v":0},null,null,null,null,{"$f":"SUM(CA69:CE73)","v":0},null,null,null,null,null,null,null,null,null,null,null,null,null,null,null,null,null,null,null,null,null,null,null,{"$f":"SUM(CY69:DC73)","v":0},null,null,null,null,{"$f":"SUM(DD69:DH73)","v":0}]
["1.","Materiały",null,null,null,null,null,null,null,null,null,null,null,null,null,null,null,{"$f":"PrzecinekTM(Parametry!$B$46,\"\")","v":""},{"$f":"Zapasy!$AB$12","v":0},null,null,null,null,{"$f":"Zapasy!$AN$12","v":0},null,null,null,null,null,null,null,null,null,null,null,null,null,null,null,null,null,null,null,null,null,null,null,null,null,null,null,null,null,null,null,null,null,null,null,null,null,null,null,null,null,null,null,null,null,null,null,null,null,{"$f":"Zapasy!$AB$12","v":0},null,null,null,null,{"$f":"Zapasy!$AN$12","v":0}]
["2.","Półprodukty i produkty w toku",null,null,null,null,null,null,null,null,null,null,null,null,null,null,null,{"$f":"PrzecinekTM(Parametry!$B$46,\"\")","v":""},{"$f":"Zapasy!$AB$15","v":0},null,null,null,null,{"$f":"Zapasy!$AN$15","v":0},null,null,null,null,null,null,null,null,null,null,null,null,null,null,null,null,null,null,null,null,null,null,null,null,null,null,null,null,null,null,null,null,null,null,null,null,null,null,null,null,null,null,null,null,null,null,null,null,null,{"$f":"Zapasy!$AB$15","v":0},null,null,null,null,{"$f":"Zapasy!$AN$15","v":0}]
["3.","Produkty gotowe",null,null,null,null,null,null,null,null,null,null,null,null,null,null,null,{"$f":"PrzecinekTM(Parametry!$B$46,\"\")","v":""},{"$f":"Zapasy!$AB$18","v":0},null,null,null,null,{"$f":"Zapasy!$AN$18","v":0},null,null,null,null,null,null,null,null,null,null,null,null,null,null,null,null,null,null,null,null,null,null,null,null,null,null,null,null,null,null,null,null,null,null,null,null,null,null,null,null,null,null,null,null,null,null,null,null,null,{"$f":"Zapasy!$AB$18","v":0},null,null,null,null,{"$f":"Zapasy!$AN$18","v":0}]
["4.","Towary",null,null,null,null,null,null,null,null,null,null,null,null,null,null,null,{"$f":"PrzecinekTM(Parametry!$B$46,\"\")","v":""},{"$f":"Zapasy!$AB$21","v":0},null,null,null,null,{"$f":"Zapasy!$AN$21","v":0},null,null,null,null,null,null,null,null,null,null,null,null,null,null,null,null,null,null,null,null,null,null,null,null,null,null,null,null,null,null,null,null,null,null,null,null,null,null,null,null,null,null,null,null,null,null,null,null,null,{"$f":"Zapasy!$AB$21","v":0},null,null,null,null,{"$f":"Zapasy!$AN$21","v":0}]
["5.","Zaliczki na dostawy i usługi",null,null,null,null,null,null,null,null,null,null,null,null,null,null,null,{"$f":"PrzecinekTM(Parametry!$B$46,\"\")","v":""},{"$f":"Zapasy!$AB$22","v":0},null,null,null,null,{"$f":"Zapasy!$AN$22","v":0},null,null,null,null,null,null,null,null,null,null,null,null,null,null,null,null,null,null,null,null,null,null,null,null,null,null,null,null,null,null,null,null,null,null,null,null,null,null,null,null,null,null,null,null,null,null,null,null,null,{"$f":"Zapasy!$AB$22","v":0},null,null,null,null,{"$f":"Zapasy!$AN$22","v":0}]
["II.","Należności krótkoterminowe",null,null,null,null,null,null,null,null,null,null,null,null,null,null,null,null,{"$f":"S75+S80+S86","v":0},null,null,null,null,{"$f":"X75+X80+X86","v":0},null,null,null,null,null,null,null,null,null,null,null,null,null,null,null,null,null,null,null,null,null,null,null,null,null,null,null,null,null,null,null,null,null,null,null,null,null,null,null,null,null,null,null,null,null,null,null,null,null,{"$f":"BV75+BV80+BV86","v":0},null,null,null,null,{"$f":"CA75+CA80+CA86","v":0},null,null,null,null,null,null,null,null,null,null,null,null,null,null,null,null,null,null,null,null,null,null,null,{"$f":"CY75+CY80+CY86","v":0},null,null,null,null,{"$f":"DD75+DD80+DD86","v":0}]
["1.","Należności od jednostek powiązanych",null,null,null,null,null,null,null,null,null,null,null,null,null,null,null,null,{"$f":"S76+S79","v":0},null,null,null,null,{"$f":"X76+X79","v":0},null,null,null,null,null,null,null,null,null,null,null,null,null,null,null,null,null,null,null,null,null,null,null,null,null,null,null,null,null,null,null,null,null,null,null,null,null,null,null,null,null,null,null,null,null,null,null,null,null,{"$f":"BV76+BV79","v":0},null,null,null,null,{"$f":"CA76+CA79","v":0},null,null,null,null,null,null,null,null,null,null,null,null,null,null,null,null,null,null,null,null,null,null,null,{"$f":"CY76+CY79","v":0},null,null,null,null,{"$f":"DD76+DD79","v":0}]
[null,"a) z tytułu dostaw i usług, o okresie spłaty:",null,null,null,null,null,null,null,null,null,null,null,null,null,null,null,null,{"$f":"SUM(S77:W78)","v":0},null,null,null,null,{"$f":"SUM(X77:AB78)","v":0},null,null,null,null,null,null,null,null,null,null,null,null,null,null,null,null,null,null,null,null,null,null,null,null,null,null,null,null,null,null,null,null,null,null,null,null,null,null,null,null,null,null,null,null,null,null,null,null,null,{"$f":"SUM(BV77:BZ78)","v":0},null,null,null,null,{"$f":"SUM(CA77:CE78)","v":0},null,null,null,null,null,null,null,null,null,null,null,null,null,null,null,null,null,null,null,null,null,null,null,{"$f":"SUM(CY77:DC78)","v":0},null,null,null,null,{"$f":"SUM(DD77:DH78)","v":0}]
[null,"- do 12 miesięcy",null,null,null,null,null,null,null,null,null,null,null,null,null,null,null,{"$f":"PrzecinekTM(Parametry!$B$47,\"\")","v":""},{"$f":"Należności!$X$18","v":0},null,null,null,null,{"$f":"Należności!$AM$18","v":0},null,null,null,null,null,null,null,null,null,null,null,null,null,null,null,null,null,null,null,null,null,null,null,null,null,null,null,null,null,null,null,null,null,null,null,null,null,null,null,null,null,null,null,null,null,null,null,null,null,{"$f":"Należności!$X$18","v":0},null,null,null,null,{"$f":"Należności!$AM$18","v":0}]
[null,"- powyżej 12 miesięcy",null,null,null,null,null,null,null,null,null,null,null,null,null,null,null,{"$f":"PrzecinekTM(Parametry!$B$47,\"\")","v":""},{"$f":"Należności!$X$19","v":0},null,null,null,null,{"$f":"Należności!$AM$19","v":0},null,null,null,null,null,null,null,null,null,null,null,null,null,null,null,null,null,null,null,null,null,null,null,null,null,null,null,null,null,null,null,null,null,null,null,null,null,null,null,null,null,null,null,null,null,null,null,null,null,{"$f":"Należności!$X$19","v":0},null,null,null,null,{"$f":"Należności!$AM$19","v":0}]
[null,"b) inne",null,null,null,null,null,null,null,null,null,null,null,null,null,null,null,{"$f":"PrzecinekTM(Parametry!$B$47,\"\")","v":""},{"$f":"Należności!$X$20","v":0},null,null,null,null,{"$f":"Należności!$AM$20","v":0},null,null,null,null,null,null,null,null,null,null,null,null,null,null,null,null,null,null,null,null,null,null,null,null,null,null,null,null,null,null,null,null,null,null,null,null,null,null,null,null,null,null,null,null,null,null,null,null,null,{"$f":"Należności!$X$20","v":0},null,null,null,null,{"$f":"Należności!$AM$20","v":0}]
["2.","Należności od pozostałych jednostek, w których jednostka posiada zaangażowanie w kapitale",null,null,null,null,null,null,null,null,null,null,null,null,null,null,null,null,{"$f":"S82+S85","v":0},null,null,null,null,{"$f":"X82+X85","v":0},null,null,null,null,null,null,null,null,null,null,null,null,null,null,null,null,null,null,null,null,null,null,null,null,null,null,null,null,null,null,null,null,null,null,null,null,null,null,null,null,null,null,null,null,null,null,null,null,null,{"$f":"BV82+BV85","v":0},null,null,null,null,{"$f":"CA82+CA85","v":0},null,null,null,null,null,null,null,null,null,null,null,null,null,null,null,null,null,null,null,null,null,null,null,{"$f":"CY82+CY85","v":0},null,null,null,null,{"$f":"DD82+DD85","v":0}]
[]
[null,"a) z tytułu dostaw i usług, o okresie spłaty:",null,null,null,null,null,null,null,null,null,null,null,null,null,null,null,null,{"$f":"SUM(S83:W84)","v":0},null,null,null,null,{"$f":"SUM(X83:AB84)","v":0},null,null,null,null,null,null,null,null,null,null,null,null,null,null,null,null,null,null,null,null,null,null,null,null,null,null,null,null,null,null,null,null,null,null,null,null,null,null,null,null,null,null,null,null,null,null,null,null,null,{"$f":"SUM(BV83:BZ84)","v":0},null,null,null,null,{"$f":"SUM(CA83:CE84)","v":0},null,null,null,null,null,null,null,null,null,null,null,null,null,null,null,null,null,null,null,null,null,null,null,{"$f":"SUM(CY83:DC84)","v":0},null,null,null,null,{"$f":"SUM(DD83:DH84)","v":0}]
[null,"- do 12 miesięcy",null,null,null,null,null,null,null,null,null,null,null,null,null,null,null,{"$f":"PrzecinekTM(Parametry!$B$47,\"\")","v":""},{"$f":"Należności!$X$24","v":0},null,null,null,null,{"$f":"Należności!$AM$24","v":0},null,null,null,null,null,null,null,null,null,null,null,null,null,null,null,null,null,null,null,null,null,null,null,null,null,null,null,null,null,null,null,null,null,null,null,null,null,null,null,null,null,null,null,null,null,null,null,null,null,{"$f":"Należności!$X$24","v":0},null,null,null,null,{"$f":"Należności!$AM$24","v":0}]
[null,"- powyżej 12 miesięcy",null,null,null,null,null,null,null,null,null,null,null,null,null,null,null,{"$f":"PrzecinekTM(Parametry!$B$47,\"\")","v":""},{"$f":"Należności!$X$25","v":0},null,null,null,null,{"$f":"Należności!$AM$25","v":0},null,null,null,null,null,null,null,null,null,null,null,null,null,null,null,null,null,null,null,null,null,null,null,null,null,null,null,null,null,null,null,null,null,null,null,null,null,null,null,null,null,null,null,null,null,null,null,null,null,{"$f":"Należności!$X$25","v":0},null,null,null,null,{"$f":"Należności!$AM$25","v":0}]
[null,"b) inne",null,null,null,null,null,null,null,null,null,null,null,null,null,null,null,{"$f":"PrzecinekTM(Parametry!$B$47,\"\")","v":""},{"$f":"Należności!$X$26","v":0},null,null,null,null,{"$f":"Należności!$AM$26","v":0},null,null,null,null,null,null,null,null,null,null,null,null,null,null,null,null,null,null,null,null,null,null,null,null,null,null,null,null,null,null,null,null,null,null,null,null,null,null,null,null,null,null,null,null,null,null,null,null,null,{"$f":"Należności!$X$26","v":0},null,null,null,null,{"$f":"Należności!$AM$26","v":0}]
["3.","Należności od pozostałych jednostek",null,null,null,null,null,null,null,null,null,null,null,null,null,null,null,null,{"$f":"S87+S90+S92+S93","v":0},null,null,null,null,{"$f":"X87+X90+X92+X93","v":0},null,null,null,null,null,null,null,null,null,null,null,null,null,null,null,null,null,null,null,null,null,null,null,null,null,null,null,null,null,null,null,null,null,null,null,null,null,null,null,null,null,null,null,null,null,null,null,null,null,{"$f":"BV87+BV90+BV92+BV93","v":0},null,null,null,null,{"$f":"CA87+CA90+CA92+CA93","v":0},null,null,null,null,null,null,null,null,null,null,null,null,null,null,null,null,null,null,null,null,null,null,null,{"$f":"CY87+CY90+CY92+CY93","v":0},null,null,null,null,{"$f":"DD87+DD90+DD92+DD93","v":0}]
[null,"a) z tytułu dostaw i usług, o okresie spłaty:",null,null,null,null,null,null,null,null,null,null,null,null,null,null,null,null,{"$f":"SUM(S88:W89)","v":0},null,null,null,null,{"$f":"SUM(X88:AB89)","v":0},null,null,null,null,null,null,null,null,null,null,null,null,null,null,null,null,null,null,null,null,null,null,null,null,null,null,null,null,null,null,null,null,null,null,null,null,null,null,null,null,null,null,null,null,null,null,null,null,null,{"$f":"SUM(BV88:BZ89)","v":0},null,null,null,null,{"$f":"SUM(CA88:CE89)","v":0},null,null,null,null,null,null,null,null,null,null,null,null,null,null,null,null,null,null,null,null,null,null,null,{"$f":"SUM(CY88:DC89)","v":0},null,null,null,null,{"$f":"SUM(DD88:DH89)","v":0}]
[null,"- do 12 miesięcy",null,null,null,null,null,null,null,null,null,null,null,null,null,null,null,{"$f":"PrzecinekTM(Parametry!$B$47,\"\")","v":""},{"$f":"Należności!$X$29","v":0},null,null,null,null,{"$f":"Należności!$AM$29","v":0},null,null,null,null,null,null,null,null,null,null,null,null,null,null,null,null,null,null,null,null,null,null,null,null,null,null,null,null,null,null,null,null,null,null,null,null,null,null,null,null,null,null,null,null,null,null,null,null,null,{"$f":"Należności!$X$29","v":0},null,null,null,null,{"$f":"Należności!$AM$29","v":0}]
[null,"- powyżej 12 miesięcy",null,null,null,null,null,null,null,null,null,null,null,null,null,null,null,{"$f":"PrzecinekTM(Parametry!$B$47,\"\")","v":""},{"$f":"Należności!$X$30","v":0},null,null,null,null,{"$f":"Należności!$AM$30","v":0},null,null,null,null,null,null,null,null,null,null,null,null,null,null,null,null,null,null,null,null,null,null,null,null,null,null,null,null,null,null,null,null,null,null,null,null,null,null,null,null,null,null,null,null,null,null,null,null,null,{"$f":"Należności!$X$30","v":0},null,null,null,null,{"$f":"Należności!$AM$30","v":0}]
[null,"b) z tytułu podatków, dotacji, ceł, ubezpieczeń społecznych i zdrowotnych oraz innych tytułów",null,null,null,null,null,null,null,null,null,null,null,null,null,null,null,{"$f":"PrzecinekTM(Parametry!$B$47,\"\")","v":""},{"$f":"Należności!$X$31","v":0},null,null,null,null,{"$f":"Należności!$AM$31","v":0},null,null,null,null,null,null,null,null,null,null,null,null,null,null,null,null,null,null,null,null,null,null,null,null,null,null,null,null,null,null,null,null,null,null,null,null,null,null,null,null,null,null,null,null,null,null,null,null,null,{"$f":"Należności!$X$31","v":0},null,null,null,null,{"$f":"Należności!$AM$31","v":0}]
[]
[null,"c) inne",null,null,null,null,null,null,null,null,null,null,null,null,null,null,null,{"$f":"PrzecinekTM(Parametry!$B$47,\"\")","v":""},{"$f":"Należności!$X$33","v":0},null,null,null,null,{"$f":"Należności!$AM$33","v":0},null,null,null,null,null,null,null,null,null,null,null,null,null,null,null,null,null,null,null,null,null,null,null,null,null,null,null,null,null,null,null,null,null,null,null,null,null,null,null,null,null,null,null,null,null,null,null,null,null,{"$f":"Należności!$X$33","v":0},null,null,null,null,{"$f":"Należności!$AM$33","v":0}]
[null,"d) dochodzone na drodze sądowej",null,null,null,null,null,null,null,null,null,null,null,null,null,null,null,{"$f":"PrzecinekTM(Parametry!$B$47,\"\")","v":""},{"$f":"Należności!$X$34","v":0},null,null,null,null,{"$f":"Należności!$AM$34","v":0},null,null,null,null,null,null,null,null,null,null,null,null,null,null,null,null,null,null,null,null,null,null,null,null,null,null,null,null,null,null,null,null,null,null,null,null,null,null,null,null,null,null,null,null,null,null,null,null,null,{"$f":"Należności!$X$34","v":0},null,null,null,null,{"$f":"Należności!$AM$34","v":0}]
["III.","Inwestycje krótkoterminowe",null,null,null,null,null,null,null,null,null,null,null,null,null,null,null,null,{"$f":"S95+S110","v":0},null,null,null,null,{"$f":"X95+X110","v":0},null,null,null,null,null,null,null,null,null,null,null,null,null,null,null,null,null,null,null,null,null,null,null,null,null,null,null,null,null,null,null,null,null,null,null,null,null,null,null,null,null,null,null,null,null,null,null,null,null,{"$f":"BV95+BV110","v":0},null,null,null,null,{"$f":"CA95+CA110","v":0},null,null,null,null,null,null,null,null,null,null,null,null,null,null,null,null,null,null,null,null,null,null,null,{"$f":"CY95+CY110","v":0},null,null,null,null,{"$f":"DD95+DD110","v":0}]
["1.","Krótkoterminowe aktywa finansowe",null,null,null,null,null,null,null,null,null,null,null,null,null,null,null,null,{"$f":"S96+S101+S106","v":0},null,null,null,null,{"$f":"X96+X101+X106","v":0},null,null,null,null,null,null,null,null,null,null,null,null,null,null,null,null,null,null,null,null,null,null,null,null,null,null,null,null,null,null,null,null,null,null,null,null,null,null,null,null,null,null,null,null,null,null,null,null,null,{"$f":"BV96+BV101+BV106","v":0},null,null,null,null,{"$f":"CA96+CA101+CA106","v":0},null,null,null,null,null,null,null,null,null,null,null,null,null,null,null,null,null,null,null,null,null,null,null,{"$f":"CY96+CY101+CY106","v":0},null,null,null,null,{"$f":"DD96+DD101+DD106","v":0}]
[null,"a) w jednostkach powiązanych",null,null,null,null,null,null,null,null,null,null,null,null,null,null,null,null,{"$f":"SUM(S97:W100)","v":0},null,null,null,null,{"$f":"SUM(X97:AB100)","v":0},null,null,null,null,null,null,null,null,null,null,null,null,null,null,null,null,null,null,null,null,null,null,null,null,null,null,null,null,null,null,null,null,null,null,null,null,null,null,null,null,null,null,null,null,null,null,null,null,null,{"$f":"SUM(BV97:BZ100)","v":0},null,null,null,null,{"$f":"SUM(CA97:CE100)","v":0},null,null,null,null,null,null,null,null,null,null,null,null,null,null,null,null,null,null,null,null,null,null,null,{"$f":"SUM(CY97:DC100)","v":0},null,null,null,null,{"$f":"SUM(DD97:DH100)","v":0}]
[null,"- udziały lub akcje",null,null,null,null,null,null,null,null,null,null,null,null,null,null,null,{"$f":"PrzecinekTM(Parametry!$B$52,\"\")","v":""},{"$f":"Inwest_krótk!$X$14","v":0},null,null,null,null,{"$f":"Inwest_krótk!$AM$14","v":0},null,null,null,null,null,null,null,null,null,null,null,null,null,null,null,null,null,null,null,null,null,null,null,null,null,null,null,null,null,null,null,null,null,null,null,null,null,null,null,null,null,null,null,null,null,null,null,null,null,{"$f":"Inwest_krótk!$X$14","v":0},null,null,null,null,{"$f":"Inwest_krótk!$AM$14","v":0}]
[null,"- inne papiery wartościowe",null,null,null,null,null,null,null,null,null,null,null,null,null,null,null,{"$f":"PrzecinekTM(Parametry!$B$52,\"\")","v":""},{"$f":"Inwest_krótk!$X$15","v":0},null,null,null,null,{"$f":"Inwest_krótk!$AM$15","v":0},null,null,null,null,null,null,null,null,null,null,null,null,null,null,null,null,null,null,null,null,null,null,null,null,null,null,null,null,null,null,null,null,null,null,null,null,null,null,null,null,null,null,null,null,null,null,null,null,null,{"$f":"Inwest_krótk!$X$15","v":0},null,null,null,null,{"$f":"Inwest_krótk!$AM$15","v":0}]
[null,"- udzielone pożyczki",null,null,null,null,null,null,null,null,null,null,null,null,null,null,null,{"$f":"PrzecinekTM(Parametry!$B$52,\"\")","v":""},{"$f":"Inwest_krótk!$X$16","v":0},null,null,null,null,{"$f":"Inwest_krótk!$AM$16","v":0},null,null,null,null,null,null,null,null,null,null,null,null,null,null,null,null,null,null,null,null,null,null,null,null,null,null,null,null,null,null,null,null,null,null,null,null,null,null,null,null,null,null,null,null,null,null,null,null,null,{"$f":"Inwest_krótk!$X$16","v":0},null,null,null,null,{"$f":"Inwest_krótk!$AM$16","v":0}]
[null,"- inne krótkoterminowe aktywa finansowe",null,null,null,null,null,null,null,null,null,null,null,null,null,null,null,{"$f":"PrzecinekTM(Parametry!$B$52,\"\")","v":""},{"$f":"Inwest_krótk!$X$17","v":0},null,null,null,null,{"$f":"Inwest_krótk!$AM$17","v":0},null,null,null,null,null,null,null,null,null,null,null,null,null,null,null,null,null,null,null,null,null,null,null,null,null,null,null,null,null,null,null,null,null,null,null,null,null,null,null,null,null,null,null,null,null,null,null,null,null,{"$f":"Inwest_krótk!$X$17","v":0},null,null,null,null,{"$f":"Inwest_krótk!$AM$17","v":0}]
[null,"b) w pozostałych jednostkach",null,null,null,null,null,null,null,null,null,null,null,null,null,null,null,null,{"$f":"SUM(S102:W105)","v":0},null,null,null,null,{"$f":"SUM(X102:AB105)","v":0},null,null,null,null,null,null,null,null,null,null,null,null,null,null,null,null,null,null,null,null,null,null,null,null,null,null,null,null,null,null,null,null,null,null,null,null,null,null,null,null,null,null,null,null,null,null,null,null,null,{"$f":"SUM(BV102:BZ105)","v":0},null,null,null,null,{"$f":"SUM(CA102:CE105)","v":0},null,null,null,null,null,null,null,null,null,null,null,null,null,null,null,null,null,null,null,null,null,null,null,{"$f":"SUM(CY102:DC105)","v":0},null,null,null,null,{"$f":"SUM(DD102:DH105)","v":0}]
[null,"- udziały lub akcje",null,null,null,null,null,null,null,null,null,null,null,null,null,null,null,{"$f":"PrzecinekTM(Parametry!$B$52,\"\")","v":""},{"$f":"Inwest_krótk!$X$19","v":0},null,null,null,null,{"$f":"Inwest_krótk!$AM$19","v":0},null,null,null,null,null,null,null,null,null,null,null,null,null,null,null,null,null,null,null,null,null,null,null,null,null,null,null,null,null,null,null,null,null,null,null,null,null,null,null,null,null,null,null,null,null,null,null,null,null,{"$f":"Inwest_krótk!$X$19","v":0},null,null,null,null,{"$f":"Inwest_krótk!$AM$19","v":0}]
[null,"- inne papiery wartościowe",null,null,null,null,null,null,null,null,null,null,null,null,null,null,null,{"$f":"PrzecinekTM(Parametry!$B$52,\"\")","v":""},{"$f":"Inwest_krótk!$X$20","v":0},null,null,null,null,{"$f":"Inwest_krótk!$AM$20","v":0},null,null,null,null,null,null,null,null,null,null,null,null,null,null,null,null,null,null,null,null,null,null,null,null,null,null,null,null,null,null,null,null,null,null,null,null,null,null,null,null,null,null,null,null,null,null,null,null,null,{"$f":"Inwest_krótk!$X$20","v":0},null,null,null,null,{"$f":"Inwest_krótk!$AM$20","v":0}]
[null,"- udzielone pożyczki",null,null,null,null,null,null,null,null,null,null,null,null,null,null,null,{"$f":"PrzecinekTM(Parametry!$B$52,\"\")","v":""},{"$f":"Inwest_krótk!$X$21","v":0},null,null,null,null,{"$f":"Inwest_krótk!$AM$21","v":0},null,null,null,null,null,null,null,null,null,null,null,null,null,null,null,null,null,null,null,null,null,null,null,null,null,null,null,null,null,null,null,null,null,null,null,null,null,null,null,null,null,null,null,null,null,null,null,null,null,{"$f":"Inwest_krótk!$X$21","v":0},null,null,null,null,{"$f":"Inwest_krótk!$AM$21","v":0}]
[null,"- inne krótkoterminowe aktywa finansowe",null,null,null,null,null,null,null,null,null,null,null,null,null,null,null,{"$f":"PrzecinekTM(Parametry!$B$52,\"\")","v":""},{"$f":"Inwest_krótk!$X$22","v":0},null,null,null,null,{"$f":"Inwest_krótk!$AM$22","v":0},null,null,null,null,null,null,null,null,null,null,null,null,null,null,null,null,null,null,null,null,null,null,null,null,null,null,null,null,null,null,null,null,null,null,null,null,null,null,null,null,null,null,null,null,null,null,null,null,null,{"$f":"Inwest_krótk!$X$22","v":0},null,null,null,null,{"$f":"Inwest_krótk!$AM$22","v":0}]
[null,"c) środki pieniężne i inne aktywa pieniężne",null,null,null,null,null,null,null,null,null,null,null,null,null,null,null,null,{"$f":"SUM(S107:W109)","v":0},null,null,null,null,{"$f":"SUM(X107:AB109)","v":0},null,null,null,null,null,null,null,null,null,null,null,null,null,null,null,null,null,null,null,null,null,null,null,null,null,null,null,null,null,null,null,null,null,null,null,null,null,null,null,null,null,null,null,null,null,null,null,null,null,{"$f":"SUM(BV107:BZ109)","v":0},null,null,null,null,{"$f":"SUM(CA107:CE109)","v":0},null,null,null,null,null,null,null,null,null,null,null,null,null,null,null,null,null,null,null,null,null,null,null,{"$f":"SUM(CY107:DC109)","v":0},null,null,null,null,{"$f":"SUM(DD107:DH109)","v":0}]
[null,"- środki pieniężne w kasie i na rachunkach",null,null,null,null,null,null,null,null,null,null,null,null,null,null,null,{"$f":"PrzecinekTM(Parametry!$B$52,\"\")","v":""},{"$f":"Inwest_krótk!$X$24","v":0},null,null,null,null,{"$f":"Inwest_krótk!$AM$24","v":0},null,null,null,null,null,null,null,null,null,null,null,null,null,null,null,null,null,null,null,null,null,null,null,null,null,null,null,null,null,null,null,null,null,null,null,null,null,null,null,null,null,null,null,null,null,null,null,null,null,{"$f":"Inwest_krótk!$X$24","v":0},null,null,null,null,{"$f":"Inwest_krótk!$AM$24","v":0}]
[null,"- inne środki pieniężne",null,null,null,null,null,null,null,null,null,null,null,null,null,null,null,{"$f":"PrzecinekTM(Parametry!$B$52,\"\")","v":""},{"$f":"Inwest_krótk!$X$25","v":0},null,null,null,null,{"$f":"Inwest_krótk!$AM$25","v":0},null,null,null,null,null,null,null,null,null,null,null,null,null,null,null,null,null,null,null,null,null,null,null,null,null,null,null,null,null,null,null,null,null,null,null,null,null,null,null,null,null,null,null,null,null,null,null,null,null,{"$f":"Inwest_krótk!$X$25","v":0},null,null,null,null,{"$f":"Inwest_krótk!$AM$25","v":0}]
[null,"- inne aktywa pieniężne",null,null,null,null,null,null,null,null,null,null,null,null,null,null,null,{"$f":"PrzecinekTM(Parametry!$B$52,\"\")","v":""},{"$f":"Inwest_krótk!$X$28","v":0},null,null,null,null,{"$f":"Inwest_krótk!$AM$28","v":0},null,null,null,null,null,null,null,null,null,null,null,null,null,null,null,null,null,null,null,null,null,null,null,null,null,null,null,null,null,null,null,null,null,null,null,null,null,null,null,null,null,null,null,null,null,null,null,null,null,{"$f":"Inwest_krótk!$X$28","v":0},null,null,null,null,{"$f":"Inwest_krótk!$AM$28","v":0}]
["2.","Inne inwestycje krótkoterminowe",null,null,null,null,null,null,null,null,null,null,null,null,null,null,null,{"$f":"PrzecinekTM(Parametry!$B$52,\"\")","v":""},{"$f":"Inwest_krótk!$X$29","v":0},null,null,null,null,{"$f":"Inwest_krótk!$AM$29","v":0},null,null,null,null,null,null,null,null,null,null,null,null,null,null,null,null,null,null,null,null,null,null,null,null,null,null,null,null,null,null,null,null,null,null,null,null,null,null,null,null,null,null,null,null,null,null,null,null,null,{"$f":"Inwest_krótk!$X$29","v":0},null,null,null,null,{"$f":"Inwest_krótk!$AM$29","v":0}]
["IV.","Krótkoterminowe rozliczenia międzyokresowe",null,null,null,null,null,null,null,null,null,null,null,null,null,null,null,{"$f":"PrzecinekTM(Parametry!$B$65,\"\")","v":""},{"$f":"RMC_Krótk!$AH$24","v":0},null,null,null,null,{"$f":"RMC_Krótk!$AM$24","v":0},null,null,null,null,null,null,null,null,null,null,null,null,null,null,null,null,null,null,null,null,null,null,null,null,null,null,null,null,null,null,null,null,null,null,null,null,null,null,null,null,null,null,null,null,null,null,null,null,null,{"$f":"RMC_Krótk!$AH$24","v":0},null,null,null,null,{"$f":"RMC_Krótk!$AM$24","v":0}]
["C.","Należne wpłaty na kapitał (fundusz) podstawowy"]
["D.","Udziały (akcje) własne"]
[" Aktywa razem",null,null,null,null,null,null,null,null,null,null,null,null,null,null,null,null,null,{"$f":"S9+S67+S112+S113","v":0},null,null,null,null,{"$f":"X9+X67+X112+X113","v":0},null,null,null,null,null,null,null,null,null,null,null,null,null,null,null,null,null,null,null,null,null,null,null,null,null,null,null,null,null,null,null," Aktywa razem",null,null,null,null,null,null,null,null,null,null,null,null,null,null,null,null,null,{"$f":"BV9+BV67+BV112+BV113","v":0},null,null,null,null,{"$f":"CA9+CA67+CA112+CA113","v":0},null,null,null,null,null," Aktywa razem",null,null,null,null,null,null,null,null,null,null,null,null,null,null,null,null,null,{"$f":"CY9+CY67+CY112+CY113","v":0},null,null,null,null,{"$f":"DD9+DD67+DD112+DD113","v":0}]

{"sheet":"Bilans_PASYWA","index":10,"n_rows":90,"n_cols":168,"rows_kept":90,"cut":false,"hidden":false,"merged":[[19,163,19,167],[16,163,16,167],[16,158,16,162],[21,75,21,79],[22,75,22,79],[21,104,21,108],[22,104,22,108],[19,1,19,16],[21,1,21,16],[22,1,22,16],[19,18,19,22],[19,23,19,27],[19,70,19,74],[19,75,19,79],[19,99,19,103],[19,104,19,108],[21,23,21,27],[22,23,22,27],[21,18,21,22],[20,18,20,22],[22,18,22,22],[20,23,20,27],[17,158,17,162],[17,163,17,167],[9,75,9,79],[16,75,16,79],[23,75,23,79],[10,70,10,74],[10,75,10,79],[9,53,9,68],[4,81,5,108],[13,134,13,138],[13,163,13,167],[13,70,13,74],[13,99,13,103],[13,129,13,133],[13,158,13,162],[21,70,21,74],[22,70,22,74],[21,99,21,103],[22,99,22,103],[21,129,21,133],[22,129,22,133],[21,158,21,162],[22,158,22,162],[19,129,19,133],[19,134,19,138],[19,158,19,162],[40,104,40,108],[17,70,17,74],[27,53,27,68],[23,129,23,133],[37,98,38,98],[32,75,32,79],[40,75,40,79],[2,29,2,34],[9,134,9,138],[24,111,25,111],[11,111,12,111],[26,53,26,68],[24,69,25,69],[31,53,31,68],[20,53,20,68],[31,70,31,74],[17,134,17,138],[18,129,18,133],[18,134,18,138],[10,112,10,127],[14,134,14,138],[24,53,25,68],[24,52,25,52],[6,75,7,79],[46,53,46,68],[28,53,28,68],[29,53,29,68],[16,70,16,74],[40,53,40,68],[34,53,34,68],[35,53,35,68],[20,70,20,74],[30,70,30,74],[32,70,32,74],[28,70,28,74],[29,70,29,74],[42,53,42,68],[39,53,39,68],[41,53,41,68],[45,53,45,68],[24,70,25,74],[64,70,65,74],[64,75,65,79],[64,81,65,81],[64,82,65,97],[64,99,65,103],[64,104,65,108],[9,112,9,127],[20,112,20,127],[23,112,23,127],[24,112,25,127],[17,112,17,127],[18,112,18,127],[31,99,31,103],[20,104,20,108],[24,104,25,108],[24,99,25,103],[26,99,26,103],[26,104,26,108],[27,99,27,103],[27,104,27,108],[28,104,28,108],[30,104,30,108],[13,75,13,79],[13,104,13,108],[11,0,12,0],[11,1,12,16],[11,17,12,17],[11,18,12,22],[11,23,12,27],[14,18,14,22],[14,23,14,27],[15,99,15,103],[15,104,15,108],[14,53,14,68],[11,98,12,98],[15,75,15,79],[11,52,12,52],[11,75,12,79],[14,70,14,74],[15,18,15,22],[15,23,15,27],[11,99,12,103],[11,104,12,108],[13,1,13,16],[13,18,13,22],[13,23,13,27],[15,70,15,74],[30,99,30,103],[35,75,35,79],[36,23,36,27],[28,99,28,103],[29,99,29,103],[36,99,36,103],[30,53,30,68],[33,53,33,68],[30,75,30,79],[28,75,28,79],[29,75,29,79],[30,23,30,27],[31,23,31,27],[29,23,29,27],[24,75,25,79],[26,75,26,79],[35,18,35,22],[36,18,36,22],[29,134,29,138],[28,129,28,133],[28,134,28,138],[24,128,25,128],[26,134,26,138],[26,70,26,74],[27,18,27,22],[33,18,33,22],[29,112,29,128],[27,112,27,128],[27,129,27,133],[29,129,29,133],[36,104,36,108],[29,104,29,108],[31,104,31,108],[27,82,27,97],[28,82,28,97],[27,23,27,27],[34,23,34,27],[33,23,33,27],[37,52,38,52],[37,53,38,68],[37,0,38,0],[37,1,38,16],[37,17,38,17],[20,1,20,16],[27,1,27,16],[28,1,28,16],[29,1,29,16],[23,1,23,16],[30,1,30,16],[26,1,26,16],[24,0,25,0],[24,1,25,16],[32,53,32,68],[36,53,36,68],[37,18,38,22],[37,23,38,27],[24,23,25,27],[26,23,26,27],[32,23,32,27],[35,23,35,27],[28,23,28,27],[30,18,30,22],[40,23,40,27],[41,23,41,27],[43,1,43,16],[44,1,44,16],[45,1,45,16],[46,1,46,16],[39,23,39,27],[39,18,39,22],[41,18,41,22],[42,18,42,22],[42,23,42,27],[43,23,43,27],[45,23,45,27],[44,23,44,27],[41,1,41,16],[46,18,46,22],[42,1,42,16],[43,18,43,22],[40,18,40,22],[49,1,49,16],[47,18,47,22],[73,82,73,97],[74,82,74,97],[75,82,75,97],[76,82,76,97],[77,82,77,97],[24,98,25,98],[29,82,29,97],[30,82,30,97],[31,82,31,97],[44,82,44,97],[45,82,45,97],[46,82,46,97],[47,82,47,97],[48,82,48,97],[49,82,49,97],[68,82,68,97],[69,82,69,97],[50,82,50,97],[66,82,66,97],[67,82,67,97],[26,82,26,97],[40,82,40,97],[71,82,71,97],[72,82,72,97],[8,1,8,16],[9,1,9,16],[10,1,10,16],[14,1,14,16],[16,1,16,16],[10,18,10,22],[16,18,16,22],[8,18,8,22],[16,23,16,27],[9,18,9,22],[15,1,15,16],[18,1,18,16],[10,53,10,68],[18,53,18,68],[24,29,27,35],[24,17,25,17],[24,18,25,22],[17,18,17,22],[47,23,47,27],[49,23,49,27],[45,18,45,22],[46,23,46,27],[89,1,89,17],[87,18,87,22],[88,18,88,22],[89,18,89,22],[87,1,87,17],[23,18,23,22],[26,18,26,22],[28,18,28,22],[31,18,31,22],[29,18,29,22],[31,1,31,16],[32,1,32,16],[33,1,33,16],[34,1,34,16],[32,18,32,22],[88,1,88,17],[34,18,34,22],[80,1,80,16],[44,18,44,22],[50,18,50,22],[50,1,50,16],[82,1,82,16],[73,1,73,16],[74,1,74,16],[75,1,75,16],[50,23,50,27],[77,1,77,16],[54,23,54,27],[55,23,55,27],[53,23,53,27],[51,18,52,22],[51,23,52,27],[62,0,63,27],[69,23,69,27],[67,23,67,27],[67,18,67,22],[68,18,68,22],[64,0,65,0],[55,18,55,22],[64,1,65,16],[64,18,65,22],[64,23,65,27],[48,1,48,16],[51,0,52,0],[51,1,52,16],[51,17,52,17],[53,1,53,16],[54,1,54,16],[86,1,86,17],[66,18,66,22],[47,1,47,16],[79,1,79,16],[78,1,78,16],[75,18,75,22],[79,18,79,22],[70,18,70,22],[74,18,74,22],[71,18,71,22],[72,18,72,22],[66,1,66,16],[55,1,55,16],[54,18,54,22],[73,18,73,22],[69,18,69,22],[82,18,82,22],[81,1,81,16],[83,1,83,16],[76,1,76,16],[71,1,71,16],[72,1,72,16],[89,23,89,27],[82,23,82,27],[87,23,87,27],[80,18,80,22],[81,23,81,27],[71,23,71,27],[76,23,76,27],[78,23,78,27],[79,23,79,27],[80,23,80,27],[83,23,83,27],[74,23,74,27],[72,23,72,27],[75,23,75,27],[77,23,77,27],[73,23,73,27],[81,18,81,22],[77,18,77,22],[88,23,88,27],[83,18,83,22],[84,18,84,22],[76,18,76,22],[84,23,84,27],[51,52,52,52],[51,53,52,68],[51,69,52,69],[53,53,53,68],[55,53,55,68],[53,18,53,22],[70,23,70,27],[78,18,78,22],[64,52,65,52],[64,53,65,68],[89,53,89,69],[89,70,89,74],[89,75,89,79],[87,75,87,79],[88,53,88,69],[88,70,88,74],[88,75,88,79],[66,70,66,74],[77,53,77,68],[74,53,74,68],[75,53,75,68],[76,53,76,68],[87,53,87,69],[84,75,84,79],[86,53,86,69],[87,70,87,74],[84,70,84,74],[78,70,78,74],[78,75,78,79],[71,53,71,68],[82,75,82,79],[81,70,81,74],[75,75,75,79],[68,70,68,74],[68,75,68,79],[77,75,77,79],[76,70,76,74],[76,75,76,79],[77,70,77,74],[73,70,73,74],[74,70,74,74],[72,70,72,74],[72,75,72,79],[69,70,69,74],[70,70,70,74],[71,70,71,74],[88,82,88,98],[88,99,88,103],[75,70,75,74],[72,53,72,68],[73,53,73,68],[74,99,74,103],[83,70,83,74],[83,75,83,79],[82,53,82,68],[79,53,79,68],[80,53,80,68],[81,53,81,68],[79,70,79,74],[79,75,79,79],[81,75,81,79],[80,70,80,74],[81,82,81,97],[82,82,82,97],[83,53,83,68],[82,70,82,74],[83,82,83,97],[79,82,79,97],[80,82,80,97],[78,53,78,68],[88,104,88,108],[83,104,83,108],[84,104,84,108],[71,104,71,108],[49,75,49,79],[89,82,89,98],[89,99,89,103],[89,104,89,108],[80,99,80,103],[80,104,80,108],[78,99,78,103],[83,99,83,103],[84,99,84,103],[50,75,50,79],[80,75,80,79],[74,75,74,79],[70,75,70,79],[67,75,67,79],[78,104,78,108],[78,82,78,97],[73,75,73,79],[79,99,79,103],[74,104,74,108],[75,99,75,103],[75,104,75,108],[16,99,16,103],[87,82,87,98],[87,99,87,103],[81,99,81,103],[79,104,79,108],[35,104,35,108],[69,99,69,103],[76,99,76,103],[73,99,73,103],[73,104,73,108],[68,99,68,103],[87,104,87,108],[86,82,86,98],[81,104,81,108],[82,99,82,103],[82,104,82,108],[39,99,39,103],[34,99,34,103],[20,99,20,103],[70,82,70,97],[77,99,77,103],[77,104,77,108],[76,104,76,108],[66,75,66,79],[67,70,67,74],[71,75,71,79],[69,75,69,79],[42,70,42,74],[53,75,53,79],[46,75,46,79],[41,70,41,74],[9,82,9,97],[10,82,10,97],[14,82,14,97],[27,70,27,74],[27,75,27,79],[18,70,18,74],[18,75,18,79],[9,70,9,74],[31,75,31,79],[40,70,40,74],[34,70,34,74],[34,75,34,79],[53,82,53,97],[54,82,54,97],[55,82,55,97],[39,82,39,97],[72,104,72,108],[32,99,32,103],[32,104,32,108],[72,99,72,103],[69,104,69,108],[49,104,49,108],[68,104,68,108],[66,104,66,108],[67,104,67,108],[49,99,49,103],[66,99,66,103],[45,104,45,108],[47,99,47,103],[46,99,46,103],[50,99,50,103],[50,104,50,108],[67,99,67,103],[48,104,48,108],[70,99,70,103],[70,104,70,108],[71,99,71,103],[46,104,46,108],[34,104,34,108],[35,99,35,103],[0,22,0,27],[8,29,10,46],[4,0,5,27],[6,0,7,0],[6,18,7,22],[10,23,10,27],[3,0,3,6],[4,52,5,79],[23,70,23,74],[8,70,8,74],[8,23,8,27],[9,23,9,27],[6,52,7,52],[8,75,8,79],[14,75,14,79],[20,75,20,79],[23,53,23,68],[17,75,17,79],[23,23,23,27],[17,23,17,27],[18,18,18,22],[18,23,18,27],[16,53,16,68],[17,1,17,16],[4,140,5,167],[6,134,7,138],[11,53,12,68],[11,69,12,69],[11,70,12,74],[15,53,15,68],[17,53,17,68],[6,104,7,108],[9,104,9,108],[8,82,8,97],[16,82,16,97],[11,81,12,81],[11,82,12,97],[15,82,15,97],[17,82,17,97],[17,99,17,103],[17,104,17,108],[4,111,5,138],[6,111,7,111],[6,112,7,128],[6,129,7,133],[16,104,16,108],[14,99,14,103],[6,70,7,74],[6,81,7,81],[8,112,8,128],[8,129,8,133],[8,134,8,138],[20,82,20,97],[23,82,23,97],[24,81,25,81],[24,82,25,97],[18,82,18,97],[18,99,18,103],[18,104,18,108],[15,129,15,133],[15,134,15,138],[8,99,8,103],[8,104,8,108],[10,99,10,103],[10,104,10,108],[23,99,23,103],[23,104,23,108],[6,99,7,103],[9,129,9,133],[9,99,9,103],[14,104,14,108],[23,134,23,138],[8,163,8,167],[9,158,9,162],[9,163,9,167],[23,141,23,156],[24,140,25,140],[24,141,25,156],[14,112,14,127],[11,112,12,127],[15,112,15,127],[20,129,20,133],[16,129,16,133],[16,134,16,138],[16,112,16,127],[14,129,14,133],[24,129,25,133],[24,134,25,138],[24,163,25,167],[17,129,17,133],[10,129,10,133],[10,134,10,138],[11,128,12,128],[11,129,12,133],[11,134,12,138],[11,158,12,162],[6,140,7,140],[6,141,7,157],[6,158,7,162],[6,163,7,167],[9,141,9,156],[8,141,8,157],[17,141,17,156],[18,141,18,156],[20,141,20,156],[10,141,10,156],[14,141,14,156],[11,140,12,140],[11,141,12,156],[15,141,15,156],[16,141,16,156],[11,163,12,167],[15,163,15,167],[11,157,12,157],[15,158,15,162],[14,158,14,162],[14,163,14,167],[10,158,10,162],[10,163,10,167],[8,158,8,162],[29,158,29,162],[29,163,29,167],[27,158,27,162],[28,158,28,162],[28,163,28,167],[28,112,28,128],[28,141,28,157],[27,163,27,167],[27,134,27,138],[27,141,27,157],[29,141,29,157],[23,158,23,162],[20,134,20,138],[20,158,20,162],[20,163,20,167],[26,158,26,162],[26,163,26,167],[26,112,26,128],[26,129,26,133],[26,141,26,157],[21,134,21,138],[22,134,22,138],[21,163,21,167],[22,163,22,167],[23,163,23,167],[24,157,25,157],[24,158,25,162],[30,158,30,162],[30,163,30,167],[31,112,31,128],[31,129,31,133],[31,134,31,138],[31,141,31,157],[31,158,31,162],[30,141,30,157],[30,112,30,128],[30,129,30,133],[30,134,30,138],[31,163,31,167],[40,158,40,162],[39,158,39,162],[34,158,34,162],[34,163,34,167],[35,141,35,157],[35,112,35,128],[35,129,35,133],[40,163,40,167],[32,158,32,162],[32,163,32,167],[32,112,32,128],[32,129,32,133],[32,134,32,138],[32,141,32,157],[33,141,33,157],[35,158,35,162],[39,163,39,167],[33,158,33,162],[33,163,33,167],[36,163,36,167],[36,112,36,128],[36,129,36,133],[36,134,36,138],[36,141,36,157],[35,163,35,167],[36,158,36,162],[35,134,35,138],[33,112,33,128],[33,129,33,133],[34,141,34,157],[39,112,39,128],[39,129,39,133],[39,134,39,138],[39,141,39,157],[34,112,34,128],[34,129,34,133],[34,134,34,138],[33,134,33,138],[43,163,43,167],[41,134,41,138],[41,141,41,157],[45,158,45,162],[45,163,45,167],[44,158,44,162],[43,141,43,157],[41,158,41,162],[41,163,41,167],[44,141,44,157],[44,163,44,167],[43,134,43,138],[43,158,43,162],[44,134,44,138],[45,134,45,138],[46,112,46,128],[46,129,46,133],[46,158,46,162],[47,158,47,162],[47,163,47,167],[48,141,48,157],[48,158,48,162],[48,163,48,167],[49,112,49,128],[49,129,49,133],[49,134,49,138],[46,163,46,167],[46,141,46,157],[47,134,47,138],[47,141,47,157],[46,134,46,138],[47,112,47,128],[47,129,47,133],[50,129,50,133],[50,134,50,138],[50,141,50,157],[49,141,49,157],[48,112,48,128],[48,129,48,133],[48,134,48,138],[49,158,49,162],[49,163,49,167],[40,112,40,128],[87,112,87,128],[87,129,87,133],[87,134,87,138],[87,141,87,157],[89,158,89,162],[89,163,89,167],[86,112,86,128],[86,141,86,157],[88,112,88,128],[88,129,88,133],[89,112,89,128],[89,129,89,133],[89,134,89,138],[89,141,89,157],[87,158,87,162],[87,163,87,167],[88,158,88,162],[88,163,88,167],[88,134,88,138],[88,141,88,157],[50,112,50,128],[50,158,50,162],[50,163,50,167],[6,82,7,97],[6,1,7,16],[67,1,67,16],[68,1,68,16],[69,1,69,16],[70,1,70,16],[6,53,7,68],[8,53,8,68],[6,23,7,27],[68,23,68,27],[66,53,66,68],[67,53,67,68],[68,53,68,68],[69,53,69,68],[70,53,70,68],[48,23,48,27],[48,18,48,22],[66,23,66,27],[49,18,49,22],[35,1,35,16],[36,1,36,16],[39,1,39,16],[40,1,40,16],[55,70,55,74],[55,75,55,79],[45,70,45,74],[43,70,43,74],[47,70,47,74],[49,70,49,74],[48,70,48,74],[47,75,47,79],[50,53,50,68],[47,53,47,68],[48,53,48,68],[49,53,49,68],[43,75,43,79],[44,70,44,74],[44,75,44,79],[43,53,43,68],[44,53,44,68],[51,70,52,74],[51,75,52,79],[53,70,53,74],[50,70,50,74],[45,75,45,79],[46,70,46,74],[54,53,54,68],[54,70,54,74],[54,75,54,79],[39,104,39,108],[32,82,32,97],[33,82,33,97],[34,82,34,97],[35,82,35,97],[36,82,36,97],[33,99,33,103],[33,104,33,108],[44,99,44,103],[40,99,40,103],[41,99,41,103],[48,75,48,79],[43,104,43,108],[44,104,44,108],[41,104,41,108],[47,104,47,108],[48,99,48,103],[45,99,45,103],[37,99,38,103],[37,104,38,108],[43,99,43,103],[41,82,41,97],[41,75,41,79],[51,81,52,81],[51,82,52,97],[51,98,52,98],[33,70,33,74],[33,75,33,79],[39,70,39,74],[39,75,39,79],[36,75,36,79],[37,69,38,69],[37,70,38,74],[37,75,38,79],[37,81,38,81],[43,82,43,97],[42,82,42,97],[42,75,42,79],[37,82,38,97],[35,70,35,74],[36,70,36,74],[56,70,56,74],[56,75,56,79],[56,53,56,68],[56,82,56,97],[56,99,56,103],[56,104,56,108],[56,1,56,16],[56,18,56,22],[56,23,56,27],[18,158,18,162],[18,163,18,167],[55,99,55,103],[55,104,55,108],[42,99,42,103],[42,104,42,108],[53,99,53,103],[53,104,53,108],[54,99,54,103],[54,104,54,108],[51,99,52,103],[51,104,52,108],[44,112,44,128],[45,141,45,157],[43,112,43,128],[43,129,43,133],[41,112,41,128],[44,129,44,133],[45,129,45,133],[45,112,45,128],[40,141,40,157],[40,129,40,133],[40,134,40,138],[41,129,41,133]]}
[{"$f":"nazwa","v":"DEMO"}]
[{"$f":"Bilans_AKTYWA!A2","v":"Sprawozdanie finansowe za rok 2023"}]
[null,null,null,null,null,null,null,null,null,null,null,null,null,null,null,null,null,null,null,null,null,null,null,null,null,null,null,null,null,"Powrót do parametrów",null,null,null,null,null,null,null,null,null,null,null,null,null,null,null,null,null,null,null,null,null,null,null,null,null,null,null,null,null,null,null,null,null,null,null,null,null,null,null,null,null,null,null,null,null,null,null,null,null,"Wypełnianie z not... + Pełne",null,null,null,null,null,null,null,null,null,null,null,null,null,null,null,null,null,null,null,null,null,null,null,null,null,null,null,null,"Porównanie …m + Pełne",null,null,null,null,null,null,null,null,null,null,null,null,null,null,null,null,null,null,null,null,null,null,null,null,null,null,null,null,null,"Wypełnianie z not... + Niepełne",null,null,null,null,null,null,null,null,null,null,null,null,null,null,null,null,null,null,null,null,null,null,null,null,null,null,null,null,"Porównanie …m + Niepełne"]
[]
["BILANS - PASYWA",null,null,null,null,null,null,null,null,null,null,null,null,null,null,null,null,null,null,null,null,null,null,null,null,null,null,null,null,null,null,null,null,null,null,null,null,null,null,null,null,null,null,null,null,null,null,null,null,null,null,null,"BILANS - PASYWA",null,null,null,null,null,null,null,null,null,null,null,null,null,null,null,null,null,null,null,null,null,null,null,null,null,null,null,null,"BILANS - PASYWA",null,null,null,null,null,null,null,null,null,null,null,null,null,null,null,null,null,null,null,null,null,null,null,null,null,null,null,null,null,"BILANS - PASYWA",null,null,null,null,null,null,null,null,null,null,null,null,null,null,null,null,null,null,null,null,null,null,null,null,null,null,null,null,"BILANS - PASYWA"]
[]
["Lp.","Wyszczególnienie",null,null,null,null,null,null,null,null,null,null,null,null,null,null,null,"Nr",{"$f":"stanb","v":"Stan na dzień dd.mm.rrrr"},null,null,null,null,{"$f":"stanp","v":"Stan na dzień dd.mm.rrrr"},null,null,null,null,null,null,null,null,null,null,null,null,null,null,null,null,null,null,null,null,null,null,null,null,null,null,null,null,null,null,null,null,null,null,null,null,null,null,null,null,null,null,null,null,null,null,{"$f":"stanb","v":"Stan na dzień dd.mm.rrrr"},null,null,null,null,{"$f":"stanp","v":"Stan na dzień dd.mm.rrrr"},null,null,null,null,null,null,null,null,null,null,null,null,null,null,null,null,null,null,null,null,null,null,null,{"$f":"stanb","v":"Stan na dzień dd.mm.rrrr"},null,null,null,null,{"$f":"stanp","v":"Stan na dzień dd.mm.rrrr"}]
[null,null,null,null,null,null,null,null,null,null,null,null,null,null,null,null,null,"noty"]
[" A.","Kapitał (fundusz) własny",null,null,null,null,null,null,null,null,null,null,null,null,null,null,null,null,{"$f":"S10+S11+S15+S17+S21+S24+S25","v":0},null,null,null,null,{"$f":"X10+X11+X15+X17+X21+X24+X25","v":0},null,null,null,null,null,"W arkuszach należy wypełniać tylko puste komórki. Nie należy wprowadzać informacji do komórek zawierających formuły (w pierwotnej wersji są to komórki z zerowymi wartościami).",null,null,null,null,null,null,null,null,null,null,null,null,null,null,null,null,null,null,null,null,null,null,null,null,null,null,null,null,null,null,null,null,null,null,null,null,null,null,null,null,{"$f":"BS10+BS11+BS15+BS17+BS21+BS24+BS25","v":0},null,null,null,null,{"$f":"BX10+BX11+BX15+BX17+BX21+BX24+BX25","v":0},null,null,null,null,null,null,null,null,null,null,null,null,null,null,null,null,null,null,null,null,null,null,null,{"$f":"CV10+CV11+CV15+CV17+CV21+CV24+CV25","v":0},null,null,null,null,{"$f":"DA10+DA11+DA15+DA17+DA21+DA24+DA25","v":0}]
["I.","Kapitał (fundusz) podstawowy",null,null,null,null,null,null,null,null,null,null,null,null,null,null,null,null,{"$f":"Zestawienie_zmian_w_kapitale!$S$27","v":0},null,null,null,null,{"$f":"Zestawienie_zmian_w_kapitale!$X$27","v":0},null,null,null,null,null,null,null,null,null,null,null,null,null,null,null,null,null,null,null,null,null,null,null,null,null,null,null,null,null,null,null,null,null,null,null,null,null,null,null,null,null,null,null,null,null,null,{"$f":"Zestawienie_zmian_w_kapitale!$S$27","v":0},null,null,null,null,{"$f":"Zestawienie_zmian_w_kapitale!$X$27","v":0},null,null,null,null,null,null,null,null,null,null,null,null,null,null,null,null,null,null,null,null,null,null,null,null,null,null,null,null,null,null,null,null,null,null,null,null,null,null,null,null,null,null,null,null,null,null,null,null,null,null,null,null,{"$f":"PrzecinekTM(Parametry!$B$54,\"\")","v":""},{"$f":"Kapitały!$AM$17","v":0},null,null,null,null,{"$f":"Kapitały!$AM$8","v":0},null,null,null,null,null,null,null,null,null,null,null,null,null,null,null,null,null,null,null,null,null,null,{"$f":"PrzecinekTM(Parametry!$B$54,\"\")","v":""}]
["II.","Kapitał (fundusz) zapasowy, w tym:",null,null,null,null,null,null,null,null,null,null,null,null,null,null,null,null,{"$f":"Zestawienie_zmian_w_kapitale!$S$42","v":0},null,null,null,null,{"$f":"Zestawienie_zmian_w_kapitale!$X$42","v":0},null,null,null,null,null,null,null,null,null,null,null,null,null,null,null,null,null,null,null,null,null,null,null,null,null,null,null,null,null,null,null,null,null,null,null,null,null,null,null,null,null,null,null,null,null,null,{"$f":"Zestawienie_zmian_w_kapitale!$S$42","v":0},null,null,null,null,{"$f":"Zestawienie_zmian_w_kapitale!$X$42","v":0},null,null,null,null,null,null,null,null,null,null,null,null,null,null,null,null,null,null,null,null,null,null,null,null,null,null,null,null,null,null,null,null,null,null,null,null,null,null,null,null,null,null,null,null,null,null,null,null,null,null,null,null,{"$f":"PrzecinekTM(Parametry!$B$54,\"\")","v":""},{"$f":"Kapitały!$AM$29","v":0},null,null,null,null,{"$f":"Kapitały!$AM$18","v":0},null,null,null,null,null,null,null,null,null,null,null,null,null,null,null,null,null,null,null,null,null,null,{"$f":"PrzecinekTM(Parametry!$B$54,\"\")","v":""}]
[null,"- nadwyżka wartości sprzedaży (wartości emisyjnej) nad wartością nominalną udziałów (akcji)"]
[]
[null,"- zysk wypracowany w latach przed opodatkowaniem ryczałtem"]
["III.","Kapitał (fundusz) z aktualizacji wyceny, w tym:",null,null,null,null,null,null,null,null,null,null,null,null,null,null,null,null,{"$f":"Zestawienie_zmian_w_kapitale!$S$58","v":0},null,null,null,null,{"$f":"Zestawienie_zmian_w_kapitale!$X$58","v":0},null,null,null,null,null,null,null,null,null,null,null,null,null,null,null,null,null,null,null,null,null,null,null,null,null,null,null,null,null,null,null,null,null,null,null,null,null,null,null,null,null,null,null,null,null,null,{"$f":"Zestawienie_zmian_w_kapitale!$S$58","v":0},null,null,null,null,{"$f":"Zestawienie_zmian_w_kapitale!$X$58","v":0},null,null,null,null,null,null,null,null,null,null,null,null,null,null,null,null,null,null,null,null,null,null,null,null,null,null,null,null,null,null,null,null,null,null,null,null,null,null,null,null,null,null,null,null,null,null,null,null,null,null,null,null,{"$f":"PrzecinekTM(Parametry!$B$54,\"\")","v":""},{"$f":"Kapitały!$AM$40","v":0},null,null,null,null,{"$f":"Kapitały!$AM$30","v":0},null,null,null,null,null,null,null,null,null,null,null,null,null,null,null,null,null,null,null,null,null,null,{"$f":"PrzecinekTM(Parametry!$B$54,\"\")","v":""}]
[null,"- z tytułu aktualizacji wartości godziwej"]
["IV.","Pozostałe kapitały (fundusze) rezerwowe, w tym:",null,null,null,null,null,null,null,null,null,null,null,null,null,null,null,null,{"$f":"Zestawienie_zmian_w_kapitale!$S$81","v":0},null,null,null,null,{"$f":"Zestawienie_zmian_w_kapitale!$X$81","v":0},null,null,null,null,null,null,null,null,null,null,null,null,null,null,null,null,null,null,null,null,null,null,null,null,null,null,null,null,null,null,null,null,null,null,null,null,null,null,null,null,null,null,null,null,null,null,{"$f":"Zestawienie_zmian_w_kapitale!$S$81","v":0},null,null,null,null,{"$f":"Zestawienie_zmian_w_kapitale!$X$81","v":0},null,null,null,null,null,null,null,null,null,null,null,null,null,null,null,null,null,null,null,null,null,null,null,null,null,null,null,null,null,null,null,null,null,null,null,null,null,null,null,null,null,null,null,null,null,null,null,null,null,null,null,null,{"$f":"PrzecinekTM(Parametry!$B$54,\"\")","v":""},{"$f":"Kapitały!$AM$49","v":0},null,null,null,null,{"$f":"Kapitały!$AM$41","v":0},null,null,null,null,null,null,null,null,null,null,null,null,null,null,null,null,null,null,null,null,null,null,{"$f":"PrzecinekTM(Parametry!$B$54,\"\")","v":""}]
[null,"- tworzone zgodnie z umową (statutem) spółki"]
[null,"- na udziały (akcje) własne"]
[null,"- zysk wypracowany w latach przed opodatkowaniem ryczałtem"]
["V.","Zysk (strata) z lat ubiegłych, w tym:",null,null,null,null,null,null,null,null,null,null,null,null,null,null,null,null,{"$f":"Zestawienie_zmian_w_kapitale!$S$117","v":0},null,null,null,null,{"$f":"Zestawienie_zmian_w_kapitale!$X$117","v":0},null,null,null,null,null,null,null,null,null,null,null,null,null,null,null,null,null,null,null,null,null,null,null,null,null,null,null,null,null,null,null,null,null,null,null,null,null,null,null,null,null,null,null,null,null,null,{"$f":"Zestawienie_zmian_w_kapitale!$S$117","v":0},null,null,null,null,{"$f":"Zestawienie_zmian_w_kapitale!$X$117","v":0},null,null,null,null,null,null,null,null,null,null,null,null,null,null,null,null,null,null,null,null,null,null,null,null,null,null,null,null,null,null,null,null,null,null,null,null,null,null,null,null,null,null,null,null,null,null,null,null,null,null,null,null,{"$f":"PrzecinekTM(Parametry!$B$54,\"\")","v":""},{"$f":"Kapitały!$AM$59","v":0},null,null,null,null,{"$f":"Kapitały!$AM$50","v":0},null,null,null,null,null,null,null,null,null,null,null,null,null,null,null,null,null,null,null,null,null,null,{"$f":"PrzecinekTM(Parametry!$B$54,\"\")","v":""}]
[null,"- niepodzielone zyski w latach przed opodatkowaniem ryczałtem"]
[null,"- niepokryte straty poniesione w latach przed opodatkowaniem ryczałtem"]
["VI.","Zysk (strata) netto",null,null,null,null,null,null,null,null,null,null,null,null,null,null,null,null,{"$f":"IF(Parametry!$P$13=1,Rachunek_ZiS_porównawczy!$S$61,Rachunek_ZiS_kalkulacyjny!$S$56)","v":0},null,null,null,null,{"$f":"IF(Parametry!$P$13=1,Rachunek_ZiS_porównawczy!$X$61,Rachunek_ZiS_kalkulacyjny!$X$56)","v":0},null,null,null,null,null,null,null,null,null,null,null,null,null,null,null,null,null,null,null,null,null,null,null,null,null,null,null,null,null,null,null,null,null,null,null,null,null,null,null,null,null,null,null,null,null,null,{"$f":"IF(Parametry!$P$13=1,Rachunek_ZiS_porównawczy!$S$61,Rachunek_ZiS_kalkulacyjny!$S$56)","v":0},null,null,null,null,{"$f":"IF(Parametry!$P$13=1,Rachunek_ZiS_porównawczy!$X$61,Rachunek_ZiS_kalkulacyjny!$X$56)","v":0},null,null,null,null,null,null,null,null,null,null,null,null,null,null,null,null,null,null,null,null,null,null,null,null,null,null,null,null,null,null,null,null,null,null,null,null,null,null,null,null,null,null,null,null,null,null,null,null,null,null,null,null,{"$f":"PrzecinekTM(Parametry!$B$54,\"\")","v":""},{"$f":"IF(Parametry!$P$13=1,Rachunek_ZiS_porównawczy!$S$61,Rachunek_ZiS_kalkulacyjny!$S$56)","v":0},null,null,null,null,{"$f":"IF(Parametry!$P$13=1,Rachunek_ZiS_porównawczy!$X$61,Rachunek_ZiS_kalkulacyjny!$X$56)","v":0},null,null,null,null,null,null,null,null,null,null,null,null,null,null,null,null,null,null,null,null,null,null,{"$f":"PrzecinekTM(Parametry!$B$54,\"\")","v":""}]
["VII.","Odpisy z zysku netto w ciągu roku obrotowego (wielkość ujemna)",null,null,null,null,null,null,null,null,null,null,null,null,null,null,null,null,{"$f":"Zestawienie_zmian_w_kapitale!$S$121","v":0},null,null,null,null,{"$f":"Zestawienie_zmian_w_kapitale!$X$121","v":0},null,null,null,null,null,null,null,null,null,null,null,null,null,null,null,null,null,null,null,null,null,null,null,null,null,null,null,null,null,null,null,null,null,null,null,null,null,null,null,null,null,null,null,null,null,null,{"$f":"Zestawienie_zmian_w_kapitale!$S$121","v":0},null,null,null,null,{"$f":"Zestawienie_zmian_w_kapitale!$X$121","v":0},null,null,null,null,null,null,null,null,null,null,null,null,null,null,null,null,null,null,null,null,null,null,null,null,null,null,null,null,null,null,null,null,null,null,null,null,null,null,null,null,null,null,null,null,null,null,null,null,null,null,null,null,{"$f":"PrzecinekTM(Parametry!$B$54,\"\")","v":""},{"$f":"Kapitały!$AM$63","v":0},null,null,null,null,{"$f":"Kapitały!$AM$62","v":0},null,null,null,null,null,null,null,null,null,null,null,null,null,null,null,null,null,null,null,null,null,null,{"$f":"PrzecinekTM(Parametry!$B$54,\"\")","v":""}]
[]
[" B.","Zobowiązania i rezerwy na zobowiązania",null,null,null,null,null,null,null,null,null,null,null,null,null,null,null,null,{"$f":"S28+S36+S46+S80","v":0},null,null,null,null,{"$f":"X28+X36+X46+X80","v":0},null,null,null,null,null,null,null,null,null,null,null,null,null,null,null,null,null,null,null,null,null,null,null,null,null,null,null,null,null,null,null,null,null,null,null,null,null,null,null,null,null,null,null,null,null,null,{"$f":"BS28+BS36+BS46+BS80","v":0},null,null,null,null,{"$f":"BX28+BX36+BX46+BX80","v":0},null,null,null,null,null,null,null,null,null,null,null,null,null,null,null,null,null,null,null,null,null,null,null,{"$f":"CV28+CV36+CV46+CV80","v":0},null,null,null,null,{"$f":"DA28+DA36+DA46+DA80","v":0}]
["I.","Rezerwy na zobowiązania",null,null,null,null,null,null,null,null,null,null,null,null,null,null,null,null,{"$f":"S29+S30+S33","v":0},null,null,null,null,{"$f":"X29+X30+X33","v":0},null,null,null,null,null,null,null,null,null,null,null,null,null,null,null,null,null,null,null,null,null,null,null,null,null,null,null,null,null,null,null,null,null,null,null,null,null,null,null,null,null,null,null,null,null,null,{"$f":"BS29+BS30+BS33","v":0},null,null,null,null,{"$f":"BX29+BX30+BX33","v":0},null,null,null,null,null,null,null,null,null,null,null,null,null,null,null,null,null,null,null,null,null,null,null,{"$f":"CV29+CV30+CV33","v":0},null,null,null,null,{"$f":"DA29+DA30+DA33","v":0}]
["1.","Rezerwa z tytułu odroczonego podatku dochodowego",null,null,null,null,null,null,null,null,null,null,null,null,null,null,null,{"$f":"PrzecinekTM(Parametry!$B$62,\"\")","v":"2"},{"$f":"Rezerwy!$N$23","v":0},null,null,null,null,{"$f":"Rezerwy!$N$11","v":0},null,null,null,null,null,null,null,null,null,null,null,null,null,null,null,null,null,null,null,null,null,null,null,null,null,null,null,null,null,null,null,null,null,null,null,null,null,null,null,null,null,null,null,null,null,null,{"$f":"Rezerwy!$N$23","v":0},null,null,null,null,{"$f":"Rezerwy!$N$11","v":0}]
["2.","Rezerwa na świadczenia emerytalne i podobne",null,null,null,null,null,null,null,null,null,null,null,null,null,null,null,null,{"$f":"SUM(S31:W32)","v":0},null,null,null,null,{"$f":"SUM(X31:AB32)","v":0},null,null,null,null,null,null,null,null,null,null,null,null,null,null,null,null,null,null,null,null,null,null,null,null,null,null,null,null,null,null,null,null,null,null,null,null,null,null,null,null,null,null,null,null,null,null,{"$f":"SUM(BS31:BW32)","v":0},null,null,null,null,{"$f":"SUM(BX31:CB32)","v":0},null,null,null,null,null,null,null,null,null,null,null,null,null,null,null,null,null,null,null,null,null,null,null,{"$f":"SUM(CV31:CZ32)","v":0},null,null,null,null,{"$f":"SUM(DA31:DE32)","v":0}]
[null,"- długoterminowa",null,null,null,null,null,null,null,null,null,null,null,null,null,null,null,{"$f":"PrzecinekTM(Parametry!$B$62,\"\")","v":"2"},{"$f":"Rezerwy!$S$23","v":0},null,null,null,null,{"$f":"Rezerwy!$S$11","v":0},null,null,null,null,null,null,null,null,null,null,null,null,null,null,null,null,null,null,null,null,null,null,null,null,null,null,null,null,null,null,null,null,null,null,null,null,null,null,null,null,null,null,null,null,null,null,{"$f":"Rezerwy!$S$23","v":0},null,null,null,null,{"$f":"Rezerwy!$S$11","v":0}]
[null,"- krótkoterminowa",null,null,null,null,null,null,null,null,null,null,null,null,null,null,null,{"$f":"PrzecinekTM(Parametry!$B$62,\"\")","v":"2"},{"$f":"Rezerwy!$X$23","v":0},null,null,null,null,{"$f":"Rezerwy!$X$11","v":0},null,null,null,null,null,null,null,null,null,null,null,null,null,null,null,null,null,null,null,null,null,null,null,null,null,null,null,null,null,null,null,null,null,null,null,null,null,null,null,null,null,null,null,null,null,null,{"$f":"Rezerwy!$X$23","v":0},null,null,null,null,{"$f":"Rezerwy!$X$11","v":0}]
["3.","Pozostałe rezerwy",null,null,null,null,null,null,null,null,null,null,null,null,null,null,null,null,{"$f":"SUM(S34:W35)","v":0},null,null,null,null,{"$f":"SUM(X34:AB35)","v":0},null,null,null,null,null,null,null,null,null,null,null,null,null,null,null,null,null,null,null,null,null,null,null,null,null,null,null,null,null,null,null,null,null,null,null,null,null,null,null,null,null,null,null,null,null,null,{"$f":"SUM(BS34:BW35)","v":0},null,null,null,null,{"$f":"SUM(BX34:CB35)","v":0},null,null,null,null,null,null,null,null,null,null,null,null,null,null,null,null,null,null,null,null,null,null,null,{"$f":"SUM(CV34:CZ35)","v":0},null,null,null,null,{"$f":"SUM(DA34:DE35)","v":0}]
[null,"- długoterminowe",null,null,null,null,null,null,null,null,null,null,null,null,null,null,null,{"$f":"PrzecinekTM(Parametry!$B$62,\"\")","v":"2"},{"$f":"Rezerwy!$AC$23","v":0},null,null,null,null,{"$f":"Rezerwy!$AC$11","v":0},null,null,null,null,null,null,null,null,null,null,null,null,null,null,null,null,null,null,null,null,null,null,null,null,null,null,null,null,null,null,null,null,null,null,null,null,null,null,null,null,null,null,null,null,null,null,{"$f":"Rezerwy!$AC$23","v":0},null,null,null,null,{"$f":"Rezerwy!$AC$11","v":0}]
[null,"- krótkoterminowe",null,null,null,null,null,null,null,null,null,null,null,null,null,null,null,{"$f":"PrzecinekTM(Parametry!$B$62,\"\")","v":"2"},{"$f":"Rezerwy!$AH$23","v":0},null,null,null,null,{"$f":"Rezerwy!$AH$11","v":0},null,null,null,null,null,null,null,null,null,null,null,null,null,null,null,null,null,null,null,null,null,null,null,null,null,null,null,null,null,null,null,null,null,null,null,null,null,null,null,null,null,null,null,null,null,null,{"$f":"Rezerwy!$AH$23","v":0},null,null,null,null,{"$f":"Rezerwy!$AH$11","v":0}]
["II.","Zobowiązania długoterminowe",null,null,null,null,null,null,null,null,null,null,null,null,null,null,null,null,{"$f":"S37+S38+S40","v":0},null,null,null,null,{"$f":"X37+X38+X40","v":0},null,null,null,null,null,null,null,null,null,null,null,null,null,null,null,null,null,null,null,null,null,null,null,null,null,null,null,null,null,null,null,null,null,null,null,null,null,null,null,null,null,null,null,null,null,null,{"$f":"BS37+BS38+BS40","v":0},null,null,null,null,{"$f":"BX37+BX38+BX40","v":0},null,null,null,null,null,null,null,null,null,null,null,null,null,null,null,null,null,null,null,null,null,null,null,{"$f":"CV37+CV40","v":0},null,null,null,null,{"$f":"DA37+DA40","v":0}]
["1.","Wobec jednostek powiązanych",null,null,null,null,null,null,null,null,null,null,null,null,null,null,null,{"$f":"PrzecinekTM(Parametry!$B$60,\"\")","v":""},{"$f":"Zobow_długot_1!$AC$14","v":0},null,null,null,null,{"$f":"Zobow_długot_1!$AC$13","v":0},null,null,null,null,null,null,null,null,null,null,null,null,null,null,null,null,null,null,null,null,null,null,null,null,null,null,null,null,null,null,null,null,null,null,null,null,null,null,null,null,null,null,null,null,null,null,{"$f":"Zobow_długot_1!$AC$14","v":0},null,null,null,null,{"$f":"Zobow_długot_1!$AC$13","v":0}]
["2.","Wobec pozostałych jednostek, w których jednostka posiada zaangażowanie w kapitale",null,null,null,null,null,null,null,null,null,null,null,null,null,null,null,{"$f":"PrzecinekTM(Parametry!$B$60,\"\")","v":""},{"$f":"Zobow_długot_1!$AH$14","v":0},null,null,null,null,{"$f":"Zobow_długot_1!$AH$13","v":0},null,null,null,null,null,null,null,null,null,null,null,null,null,null,null,null,null,null,null,null,null,null,null,null,null,null,null,null,null,null,null,null,null,null,null,null,null,null,null,null,null,null,null,null,null,null,{"$f":"Zobow_długot_1!$AH$14","v":0},null,null,null,null,{"$f":"Zobow_długot_1!$AH$13","v":0}]
[]
["3.","Wobec pozostałych jednostek",null,null,null,null,null,null,null,null,null,null,null,null,null,null,null,null,{"$f":"SUM(S41:W45)","v":0},null,null,null,null,{"$f":"SUM(X41:AB45)","v":0},null,null,null,null,null,null,null,null,null,null,null,null,null,null,null,null,null,null,null,null,null,null,null,null,null,null,null,null,null,null,null,null,null,null,null,null,null,null,null,null,null,null,null,null,null,null,{"$f":"SUM(BS41:BW45)","v":0},null,null,null,null,{"$f":"SUM(BX41:CB45)","v":0},null,null,null,null,null,null,null,null,null,null,null,null,null,null,null,null,null,null,null,null,null,null,null,{"$f":"SUM(CV41:CZ45)","v":0},null,null,null,null,{"$f":"SUM(DA41:DE45)","v":0}]
[null,"a) kredyty i pożyczki",null,null,null,null,null,null,null,null,null,null,null,null,null,null,null,{"$f":"PrzecinekTM(Parametry!$B$61,\"\")","v":""},{"$f":"Zobow_długot_2!$N$13","v":0},null,null,null,null,{"$f":"Zobow_długot_2!$N$12","v":0},null,null,null,null,null,null,null,null,null,null,null,null,null,null,null,null,null,null,null,null,null,null,null,null,null,null,null,null,null,null,null,null,null,null,null,null,null,null,null,null,null,null,null,null,null,null,{"$f":"Zobow_długot_2!$N$13","v":0},null,null,null,null,{"$f":"Zobow_długot_2!$N$12","v":0}]
[null,"b) z tytułu emisji dłużnych papierów wartościowych",null,null,null,null,null,null,null,null,null,null,null,null,null,null,null,{"$f":"PrzecinekTM(Parametry!$B$61,\"\")","v":""},{"$f":"Zobow_długot_2!$S$13","v":0},null,null,null,null,{"$f":"Zobow_długot_2!$S$12","v":0},null,null,null,null,null,null,null,null,null,null,null,null,null,null,null,null,null,null,null,null,null,null,null,null,null,null,null,null,null,null,null,null,null,null,null,null,null,null,null,null,null,null,null,null,null,null,{"$f":"Zobow_długot_2!$S$13","v":0},null,null,null,null,{"$f":"Zobow_długot_2!$S$12","v":0}]
[null,"c) inne zobowiązania finansowe",null,null,null,null,null,null,null,null,null,null,null,null,null,null,null,{"$f":"PrzecinekTM(Parametry!$B$61,\"\")","v":""},{"$f":"Zobow_długot_2!$X$13","v":0},null,null,null,null,{"$f":"Zobow_długot_2!$X$12","v":0},null,null,null,null,null,null,null,null,null,null,null,null,null,null,null,null,null,null,null,null,null,null,null,null,null,null,null,null,null,null,null,null,null,null,null,null,null,null,null,null,null,null,null,null,null,null,{"$f":"Zobow_długot_2!$X$13","v":0},null,null,null,null,{"$f":"Zobow_długot_2!$X$12","v":0}]
[null,"d) zobowiązania wekslowe",null,null,null,null,null,null,null,null,null,null,null,null,null,null,null,{"$f":"PrzecinekTM(Parametry!$B$61,\"\")","v":""},{"$f":"Zobow_długot_2!$AC$13","v":0},null,null,null,null,{"$f":"Zobow_długot_2!$AC$12","v":0},null,null,null,null,null,null,null,null,null,null,null,null,null,null,null,null,null,null,null,null,null,null,null,null,null,null,null,null,null,null,null,null,null,null,null,null,null,null,null,null,null,null,null,null,null,null,{"$f":"Zobow_długot_2!$AC$13","v":0},null,null,null,null,{"$f":"Zobow_długot_2!$AC$12","v":0}]
[null,"e) inne",null,null,null,null,null,null,null,null,null,null,null,null,null,null,null,{"$f":"PrzecinekTM(Parametry!$B$61,\"\")","v":""},{"$f":"Zobow_długot_2!$AH$13","v":0},null,null,null,null,{"$f":"Zobow_długot_2!$AH$12","v":0},null,null,null,null,null,null,null,null,null,null,null,null,null,null,null,null,null,null,null,null,null,null,null,null,null,null,null,null,null,null,null,null,null,null,null,null,null,null,null,null,null,null,null,null,null,null,{"$f":"Zobow_długot_2!$AH$13","v":0},null,null,null,null,{"$f":"Zobow_długot_2!$AH$12","v":0}]
["III.","Zobowiązania krótkoterminowe",null,null,null,null,null,null,null,null,null,null,null,null,null,null,null,null,{"$f":"S47+S52+S67+S79","v":0},null,null,null,null,{"$f":"X47+X52+X67+X79","v":0},null,null,null,null,null,null,null,null,null,null,null,null,null,null,null,null,null,null,null,null,null,null,null,null,null,null,null,null,null,null,null,null,null,null,null,null,null,null,null,null,null,null,null,null,null,null,{"$f":"BS47+BS52+BS67+BS79","v":0},null,null,null,null,{"$f":"BX47+BX52+BX67+BX79","v":0},null,null,null,null,null,null,null,null,null,null,null,null,null,null,null,null,null,null,null,null,null,null,null,{"$f":"CV47+CV52+CV67+CV79","v":0},null,null,null,null,{"$f":"DA47+DA52+DA67+DA79","v":0}]
["1.","Zobowiązania wobec jednostek powiązanych",null,null,null,null,null,null,null,null,null,null,null,null,null,null,null,null,{"$f":"S48+S51","v":0},null,null,null,null,{"$f":"X48+X51","v":0},null,null,null,null,null,null,null,null,null,null,null,null,null,null,null,null,null,null,null,null,null,null,null,null,null,null,null,null,null,null,null,null,null,null,null,null,null,null,null,null,null,null,null,null,null,null,{"$f":"BS48+BS51","v":0},null,null,null,null,{"$f":"BX48+BX51","v":0},null,null,null,null,null,null,null,null,null,null,null,null,null,null,null,null,null,null,null,null,null,null,null,{"$f":"CV48+CV51","v":0},null,null,null,null,{"$f":"DA48+DA51","v":0}]
[null,"a) z tytułu dostaw i usług, o okresie wymagalności:",null,null,null,null,null,null,null,null,null,null,null,null,null,null,null,null,{"$f":"SUM(S49:W50)","v":0},null,null,null,null,{"$f":"SUM(X49:AB50)","v":0},null,null,null,null,null,null,null,null,null,null,null,null,null,null,null,null,null,null,null,null,null,null,null,null,null,null,null,null,null,null,null,null,null,null,null,null,null,null,null,null,null,null,null,null,null,null,{"$f":"SUM(BS49:BW50)","v":0},null,null,null,null,{"$f":"SUM(BX49:CB50)","v":0},null,null,null,null,null,null,null,null,null,null,null,null,null,null,null,null,null,null,null,null,null,null,null,{"$f":"SUM(CV49:CZ50)","v":0},null,null,null,null,{"$f":"SUM(DA49:DE50)","v":0}]
[null,"- do 12 miesięcy",null,null,null,null,null,null,null,null,null,null,null,null,null,null,null,{"$f":"PrzecinekTM(Parametry!$B$63,\"\")","v":""},{"$f":"Zobow_krótk!$P$13","v":0},null,null,null,null,{"$f":"Zobow_krótk!$L$13","v":0},null,null,null,null,null,null,null,null,null,null,null,null,null,null,null,null,null,null,null,null,null,null,null,null,null,null,null,null,null,null,null,null,null,null,null,null,null,null,null,null,null,null,null,null,null,null,{"$f":"Zobow_krótk!$P$13","v":0},null,null,null,null,{"$f":"Zobow_krótk!$L$13","v":0}]
[null,"- powyżej 12 miesięcy",null,null,null,null,null,null,null,null,null,null,null,null,null,null,null,{"$f":"PrzecinekTM(Parametry!$B$63,\"\")","v":""},{"$f":"Zobow_krótk!$P$14","v":0},null,null,null,null,{"$f":"Zobow_krótk!$L$14","v":0},null,null,null,null,null,null,null,null,null,null,null,null,null,null,null,null,null,null,null,null,null,null,null,null,null,null,null,null,null,null,null,null,null,null,null,null,null,null,null,null,null,null,null,null,null,null,{"$f":"Zobow_krótk!$P$14","v":0},null,null,null,null,{"$f":"Zobow_krótk!$L$14","v":0}]
[null,"b) inne",null,null,null,null,null,null,null,null,null,null,null,null,null,null,null,{"$f":"PrzecinekTM(Parametry!$B$63,\"\")","v":""},{"$f":"Zobow_krótk!$P$15","v":0},null,null,null,null,{"$f":"Zobow_krótk!$L$15","v":0},null,null,null,null,null,null,null,null,null,null,null,null,null,null,null,null,null,null,null,null,null,null,null,null,null,null,null,null,null,null,null,null,null,null,null,null,null,null,null,null,null,null,null,null,null,null,{"$f":"Zobow_krótk!$P$15","v":0},null,null,null,null,{"$f":"Zobow_krótk!$L$15","v":0}]
["2.","Zobowiązania wobec pozostałych jednostek, w których jednostka posiada zaangażowanie w kapitale",null,null,null,null,null,null,null,null,null,null,null,null,null,null,null,null,{"$f":"S54+S57","v":0},null,null,null,null,{"$f":"X54+X57","v":0},null,null,null,null,null,null,null,null,null,null,null,null,null,null,null,null,null,null,null,null,null,null,null,null,null,null,null,null,null,null,null,null,null,null,null,null,null,null,null,null,null,null,null,null,null,null,{"$f":"BS54+BS57","v":0},null,null,null,null,{"$f":"BX54+BX57","v":0},null,null,null,null,null,null,null,null,null,null,null,null,null,null,null,null,null,null,null,null,null,null,null,{"$f":"CV54+CV57","v":0},null,null,null,null,{"$f":"DA54+DA57","v":0}]
[]
[null,"a) z tytułu dostaw i usług, o okresie wymagalności:",null,null,null,null,null,null,null,null,null,null,null,null,null,null,null,null,{"$f":"SUM(S55:W56)","v":0},null,null,null,null,{"$f":"SUM(X55:AB56)","v":0},null,null,null,null,null,null,null,null,null,null,null,null,null,null,null,null,null,null,null,null,null,null,null,null,null,null,null,null,null,null,null,null,null,null,null,null,null,null,null,null,null,null,null,null,null,null,{"$f":"SUM(BS55:BW56)","v":0},null,null,null,null,{"$f":"SUM(BX55:CB56)","v":0},null,null,null,null,null,null,null,null,null,null,null,null,null,null,null,null,null,null,null,null,null,null,null,{"$f":"CV55+CV56","v":0},null,null,null,null,{"$f":"DA55+DA56","v":0}]
[null,"- do 12 miesięcy",null,null,null,null,null,null,null,null,null,null,null,null,null,null,null,{"$f":"PrzecinekTM(Parametry!$B$63,\"\")","v":""},{"$f":"Zobow_krótk!$P$21","v":0},null,null,null,null,{"$f":"Zobow_krótk!$L$21","v":0},null,null,null,null,null,null,null,null,null,null,null,null,null,null,null,null,null,null,null,null,null,null,null,null,null,null,null,null,null,null,null,null,null,null,null,null,null,null,null,null,null,null,null,null,null,null,{"$f":"Zobow_krótk!$P$21","v":0},null,null,null,null,{"$f":"Zobow_krótk!$L$21","v":0}]
[null,"- powyżej 12 miesięcy",null,null,null,null,null,null,null,null,null,null,null,null,null,null,null,{"$f":"PrzecinekTM(Parametry!$B$63,\"\")","v":""},{"$f":"Zobow_krótk!$P$22","v":0},null,null,null,null,{"$f":"Zobow_krótk!$L$22","v":0},null,null,null,null,null,null,null,null,null,null,null,null,null,null,null,null,null,null,null,null,null,null,null,null,null,null,null,null,null,null,null,null,null,null,null,null,null,null,null,null,null,null,null,null,null,null,{"$f":"Zobow_krótk!$P$22","v":0},null,null,null,null,{"$f":"Zobow_krótk!$L$22","v":0}]
[null,"b) inne",null,null,null,null,null,null,null,null,null,null,null,null,null,null,null,{"$f":"PrzecinekTM(Parametry!$B$63,\"\")","v":""},{"$f":"Zobow_krótk!$P$23","v":0},null,null,null,null,{"$f":"Zobow_krótk!$L$23","v":0},null,null,null,null,null,null,null,null,null,null,null,null,null,null,null,null,null,null,null,null,null,null,null,null,null,null,null,null,null,null,null,null,null,null,null,null,null,null,null,null,null,null,null,null,null,null,{"$f":"Zobow_krótk!$P$23","v":0},null,null,null,null,{"$f":"Zobow_krótk!$L$23","v":0}]
[]
[]
[]
[]
[]
["BILANS - PASYWA"]
[]
["Lp.","Wyszczególnienie",null,null,null,null,null,null,null,null,null,null,null,null,null,null,null,"Nr",{"$f":"stanb","v":"Stan na dzień dd.mm.rrrr"},null,null,null,null,{"$f":"stanp","v":"Stan na dzień dd.mm.rrrr"},null,null,null,null,null,null,null,null,null,null,null,null,null,null,null,null,null,null,null,null,null,null,null,null,null,null,null,null,"Lp.","Wyszczególnienie",null,null,null,null,null,null,null,null,null,null,null,null,null,null,null,null,{"$f":"stanb","v":"Stan na dzień dd.mm.rrrr"},null,null,null,null,{"$f":"stanp","v":"Stan na dzień dd.mm.rrrr"},null,null,null,null,null,"Lp.","Wyszczególnienie",null,null,null,null,null,null,null,null,null,null,null,null,null,null,null,null,{"$f":"stanb","v":"Stan na dzień dd.mm.rrrr"},null,null,null,null,{"$f":"stanp","v":"Stan na dzień dd.mm.rrrr"}]
[null,null,null,null,null,null,null,null,null,null,null,null,null,null,null,null,null,"noty"]
["3.","Zobowiązania wobec pozostałych jednostek",null,null,null,null,null,null,null,null,null,null,null,null,null,null,null,null,{"$f":"S68+S69+S70+S71+S74+S75+S76+S77+S78","v":0},null,null,null,null,{"$f":"X68+X69+X70+X71+X74+X75+X76+X77+X78","v":0},null,null,null,null,null,null,null,null,null,null,null,null,null,null,null,null,null,null,null,null,null,null,null,null,null,null,null,null,null,null,null,null,null,null,null,null,null,null,null,null,null,null,null,null,null,null,{"$f":"BS68+BS69+BS70+BS71+BS74+BS75+BS76+BS77+BS78","v":0},null,null,null,null,{"$f":"BX68+BX69+BX70+BX71+BX74+BX75+BX76+BX77+BX78","v":0},null,null,null,null,null,null,null,null,null,null,null,null,null,null,null,null,null,null,null,null,null,null,null,{"$f":"CV68+CV69+CV70+CV71+CV74+CV75+CV76+CV77+CV78","v":0},null,null,null,null,{"$f":"DA68+DA69+DA70+DA71+DA74+DA75+DA76+DA77+DA78","v":0}]
[null,"a) kredyty i pożyczki",null,null,null,null,null,null,null,null,null,null,null,null,null,null,null,{"$f":"PrzecinekTM(Parametry!$B$63,\"\")","v":""},{"$f":"Zobow_krótk!$P$25","v":0},null,null,null,null,{"$f":"Zobow_krótk!$L$25","v":0},null,null,null,null,null,null,null,null,null,null,null,null,null,null,null,null,null,null,null,null,null,null,null,null,null,null,null,null,null,null,null,null,null,null,null,null,null,null,null,null,null,null,null,null,null,null,{"$f":"Zobow_krótk!$P$25","v":0},null,null,null,null,{"$f":"Zobow_krótk!$L$25","v":0}]
[null,"b) z tytułu emisji dłużnych papierów wartościowych",null,null,null,null,null,null,null,null,null,null,null,null,null,null,null,{"$f":"PrzecinekTM(Parametry!$B$63,\"\")","v":""},{"$f":"Zobow_krótk!$P$26","v":0},null,null,null,null,{"$f":"Zobow_krótk!$L$26","v":0},null,null,null,null,null,null,null,null,null,null,null,null,null,null,null,null,null,null,null,null,null,null,null,null,null,null,null,null,null,null,null,null,null,null,null,null,null,null,null,null,null,null,null,null,null,null,{"$f":"Zobow_krótk!$P$26","v":0},null,null,null,null,{"$f":"Zobow_krótk!$L$26","v":0}]
[null,"c) inne zobowiązania finansowe",null,null,null,null,null,null,null,null,null,null,null,null,null,null,null,{"$f":"PrzecinekTM(Parametry!$B$63,\"\")","v":""},{"$f":"Zobow_krótk!$P$28","v":0},null,null,null,null,{"$f":"Zobow_krótk!$L$28","v":0},null,null,null,null,null,null,null,null,null,null,null,null,null,null,null,null,null,null,null,null,null,null,null,null,null,null,null,null,null,null,null,null,null,null,null,null,null,null,null,null,null,null,null,null,null,null,{"$f":"Zobow_krótk!$P$28","v":0},null,null,null,null,{"$f":"Zobow_krótk!$L$28","v":0}]
[null,"d) z tytułu dostaw i usług, o okresie wymagalności:",null,null,null,null,null,null,null,null,null,null,null,null,null,null,null,null,{"$f":"SUM(S72:W73)","v":0},null,null,null,null,{"$f":"SUM(X72:AB73)","v":0},null,null,null,null,null,null,null,null,null,null,null,null,null,null,null,null,null,null,null,null,null,null,null,null,null,null,null,null,null,null,null,null,null,null,null,null,null,null,null,null,null,null,null,null,null,null,{"$f":"SUM(BS72:BW73)","v":0},null,null,null,null,{"$f":"SUM(BX72:CB73)","v":0},null,null,null,null,null,null,null,null,null,null,null,null,null,null,null,null,null,null,null,null,null,null,null,{"$f":"SUM(CV72:CZ73)","v":0},null,null,null,null,{"$f":"SUM(DA72:DE73)","v":0}]
[null,"- do 12 miesięcy",null,null,null,null,null,null,null,null,null,null,null,null,null,null,null,{"$f":"PrzecinekTM(Parametry!$B$63,\"\")","v":""},{"$f":"Zobow_krótk!$P$31","v":0},null,null,null,null,{"$f":"Zobow_krótk!$L$31","v":0},null,null,null,null,null,null,null,null,null,null,null,null,null,null,null,null,null,null,null,null,null,null,null,null,null,null,null,null,null,null,null,null,null,null,null,null,null,null,null,null,null,null,null,null,null,null,{"$f":"Zobow_krótk!$P$31","v":0},null,null,null,null,{"$f":"Zobow_krótk!$L$31","v":0}]
[null,"- powyżej 12 miesięcy",null,null,null,null,null,null,null,null,null,null,null,null,null,null,null,{"$f":"PrzecinekTM(Parametry!$B$63,\"\")","v":""},{"$f":"Zobow_krótk!$P$32","v":0},null,null,null,null,{"$f":"Zobow_krótk!$L$32","v":0},null,null,null,null,null,null,null,null,null,null,null,null,null,null,null,null,null,null,null,null,null,null,null,null,null,null,null,null,null,null,null,null,null,null,null,null,null,null,null,null,null,null,null,null,null,null,{"$f":"Zobow_krótk!$P$32","v":0},null,null,null,null,{"$f":"Zobow_krótk!$L$32","v":0}]
[null,"e) zaliczki otrzymane na dostawy i usługi",null,null,null,null,null,null,null,null,null,null,null,null,null,null,null,{"$f":"PrzecinekTM(Parametry!$B$63,\"\")","v":""},{"$f":"Zobow_krótk!$P$33","v":0},null,null,null,null,{"$f":"Zobow_krótk!$L$33","v":0},null,null,null,null,null,null,null,null,null,null,null,null,null,null,null,null,null,null,null,null,null,null,null,null,null,null,null,null,null,null,null,null,null,null,null,null,null,null,null,null,null,null,null,null,null,null,{"$f":"Zobow_krótk!$P$33","v":0},null,null,null,null,{"$f":"Zobow_krótk!$L$33","v":0}]
[null,"f) zobowiązania wekslowe",null,null,null,null,null,null,null,null,null,null,null,null,null,null,null,{"$f":"PrzecinekTM(Parametry!$B$63,\"\")","v":""},{"$f":"Zobow_krótk!$P$34","v":0},null,null,null,null,{"$f":"Zobow_krótk!$L$34","v":0},null,null,null,null,null,null,null,null,null,null,null,null,null,null,null,null,null,null,null,null,null,null,null,null,null,null,null,null,null,null,null,null,null,null,null,null,null,null,null,null,null,null,null,null,null,null,{"$f":"Zobow_krótk!$P$34","v":0},null,null,null,null,{"$f":"Zobow_krótk!$L$34","v":0}]
[null,"g) z tytułu podatków, ceł, ubezpieczeń społecznych i innych świadczeń",null,null,null,null,null,null,null,null,null,null,null,null,null,null,null,{"$f":"PrzecinekTM(Parametry!$B$63,\"\")","v":""},{"$f":"Zobow_krótk!$P$35","v":0},null,null,null,null,{"$f":"Zobow_krótk!$L$35","v":0},null,null,null,null,null,null,null,null,null,null,null,null,null,null,null,null,null,null,null,null,null,null,null,null,null,null,null,null,null,null,null,null,null,null,null,null,null,null,null,null,null,null,null,null,null,null,{"$f":"Zobow_krótk!$P$35","v":0},null,null,null,null,{"$f":"Zobow_krótk!$L$35","v":0}]
[null,"h) z tytułu wynagrodzeń",null,null,null,null,null,null,null,null,null,null,null,null,null,null,null,{"$f":"PrzecinekTM(Parametry!$B$63,\"\")","v":""},{"$f":"Zobow_krótk!$P$37","v":0},null,null,null,null,{"$f":"Zobow_krótk!$L$37","v":0},null,null,null,null,null,null,null,null,null,null,null,null,null,null,null,null,null,null,null,null,null,null,null,null,null,null,null,null,null,null,null,null,null,null,null,null,null,null,null,null,null,null,null,null,null,null,{"$f":"Zobow_krótk!$P$37","v":0},null,null,null,null,{"$f":"Zobow_krótk!$L$37","v":0}]
[null,"i) inne",null,null,null,null,null,null,null,null,null,null,null,null,null,null,null,{"$f":"PrzecinekTM(Parametry!$B$63,\"\")","v":""},{"$f":"Zobow_krótk!$P$38","v":0},null,null,null,null,{"$f":"Zobow_krótk!$L$38","v":0},null,null,null,null,null,null,null,null,null,null,null,null,null,null,null,null,null,null,null,null,null,null,null,null,null,null,null,null,null,null,null,null,null,null,null,null,null,null,null,null,null,null,null,null,null,null,{"$f":"Zobow_krótk!$P$38","v":0},null,null,null,null,{"$f":"Zobow_krótk!$L$38","v":0}]
["4.","Fundusze specjalne",null,null,null,null,null,null,null,null,null,null,null,null,null,null,null,{"$f":"PrzecinekTM(Parametry!$B$63,\"\")","v":""},{"$f":"Zobow_krótk!$P$39","v":0},null,null,null,null,{"$f":"Zobow_krótk!$L$39","v":0},null,null,null,null,null,null,null,null,null,null,null,null,null,null,null,null,null,null,null,null,null,null,null,null,null,null,null,null,null,null,null,null,null,null,null,null,null,null,null,null,null,null,null,null,null,null,{"$f":"Zobow_krótk!$P$39","v":0},null,null,null,null,{"$f":"Zobow_krótk!$L$39","v":0}]
["IV.","Rozliczenia międzyokresowe",null,null,null,null,null,null,null,null,null,null,null,null,null,null,null,null,{"$f":"S81+S82","v":0},null,null,null,null,{"$f":"X81+X82","v":0},null,null,null,null,null,null,null,null,null,null,null,null,null,null,null,null,null,null,null,null,null,null,null,null,null,null,null,null,null,null,null,null,null,null,null,null,null,null,null,null,null,null,null,null,null,null,{"$f":"BS81+BS82","v":0},null,null,null,null,{"$f":"BX81+BX82","v":0},null,null,null,null,null,null,null,null,null,null,null,null,null,null,null,null,null,null,null,null,null,null,null,{"$f":"CV81+CV82","v":0},null,null,null,null,{"$f":"DA81+DA82","v":0}]
["1.","Ujemna wartość firmy",null,null,null,null,null,null,null,null,null,null,null,null,null,null,null,{"$f":"PrzecinekTM(Parametry!$B$67,\"\")","v":""},{"$f":"RMP!$AH$10","v":0},null,null,null,null,{"$f":"RMP!$AM$10","v":0},null,null,null,null,null,null,null,null,null,null,null,null,null,null,null,null,null,null,null,null,null,null,null,null,null,null,null,null,null,null,null,null,null,null,null,null,null,null,null,null,null,null,null,null,null,null,{"$f":"RMP!$AH$10","v":0},null,null,null,null,{"$f":"RMP!$AM$10","v":0}]
["2.","Inne rozliczenia międzyokresowe",null,null,null,null,null,null,null,null,null,null,null,null,null,null,null,null,{"$f":"SUM(S83:W84)","v":0},null,null,null,null,{"$f":"SUM(X83:AB84)","v":0},null,null,null,null,null,null,null,null,null,null,null,null,null,null,null,null,null,null,null,null,null,null,null,null,null,null,null,null,null,null,null,null,null,null,null,null,null,null,null,null,null,null,null,null,null,null,{"$f":"SUM(BS83:BW84)","v":0},null,null,null,null,{"$f":"SUM(BX83:CB84)","v":0},null,null,null,null,null,null,null,null,null,null,null,null,null,null,null,null,null,null,null,null,null,null,null,{"$f":"SUM(CV83:CZ84)","v":0},null,null,null,null,{"$f":"SUM(DA83:DE84)","v":0}]
[null,"- długoterminowe",null,null,null,null,null,null,null,null,null,null,null,null,null,null,null,{"$f":"PrzecinekTM(Parametry!$B$67,\"\")","v":""},{"$f":"RMP!$AH$12","v":0},null,null,null,null,{"$f":"RMP!$AM$12","v":0},null,null,null,null,null,null,null,null,null,null,null,null,null,null,null,null,null,null,null,null,null,null,null,null,null,null,null,null,null,null,null,null,null,null,null,null,null,null,null,null,null,null,null,null,null,null,{"$f":"RMP!$AH$12","v":0},null,null,null,null,{"$f":"RMP!$AM$12","v":0}]
[null,"- krótkoterminowe",null,null,null,null,null,null,null,null,null,null,null,null,null,null,null,{"$f":"PrzecinekTM(Parametry!$B$67,\"\")","v":""},{"$f":"RMP!$AH$18","v":0},null,null,null,null,{"$f":"RMP!$AM$18","v":0},null,null,null,null,null,null,null,null,null,null,null,null,null,null,null,null,null,null,null,null,null,null,null,null,null,null,null,null,null,null,null,null,null,null,null,null,null,null,null,null,null,null,null,null,null,null,{"$f":"RMP!$AH$18","v":0},null,null,null,null,{"$f":"RMP!$AM$18","v":0}]
[" Pasywa razem",null,null,null,null,null,null,null,null,null,null,null,null,null,null,null,null,null,{"$f":"S9+S27","v":0},null,null,null,null,{"$f":"X9+X27","v":0},null,null,null,null,null,null,null,null,null,null,null,null,null,null,null,null,null,null,null,null,null,null,null,null,null,null,null,null," Pasywa razem",null,null,null,null,null,null,null,null,null,null,null,null,null,null,null,null,null,{"$f":"BS9+BS27","v":0},null,null,null,null,{"$f":"BX9+BX27","v":0},null,null,null,null,null," Pasywa razem",null,null,null,null,null,null,null,null,null,null,null,null,null,null,null,null,null,{"$f":"CV9+CV27","v":0},null,null,null,null,{"$f":"DA9+DA27","v":0}]
[]
[null,"Sprawdzenie"]
[null,"Aktywa",null,null,null,null,null,null,null,null,null,null,null,null,null,null,null,null,{"$f":"Bilans_AKTYWA!S114","v":0},null,null,null,null,{"$f":"Bilans_AKTYWA!X114","v":0}]
[null,"Pasywa",null,null,null,null,null,null,null,null,null,null,null,null,null,null,null,null,{"$f":"S85","v":0},null,null,null,null,{"$f":"X85","v":0}]
[null,"różnica",null,null,null,null,null,null,null,null,null,null,null,null,null,null,null,null,{"$f":"S88-S89","v":0},null,null,null,null,{"$f":"X88-X89","v":0}]

{"sheet":"Rachunek_ZiS_porównawczy","index":11,"n_rows":66,"n_cols":110,"rows_kept":66,"cut":false,"hidden":false,"merged":[[4,54,5,81],[4,82,5,109],[54,100,54,104],[54,105,54,109],[24,18,24,22],[24,23,24,27],[41,18,41,22],[42,18,42,22],[43,18,43,22],[53,83,53,98],[41,83,41,98],[42,83,42,98],[43,83,43,98],[47,83,47,98],[41,55,41,70],[42,55,42,70],[43,55,43,70],[47,55,47,70],[52,55,52,70],[53,55,53,70],[48,83,48,98],[51,83,51,98],[52,83,52,98],[25,72,25,76],[27,18,27,22],[45,23,45,27],[28,23,28,27],[29,23,29,27],[38,18,38,22],[59,1,59,16],[34,1,34,16],[35,1,35,16],[36,1,36,16],[37,1,37,16],[51,1,51,16],[52,1,52,16],[53,1,53,16],[42,1,42,16],[43,1,43,16],[58,1,58,16],[55,1,55,16],[56,1,56,16],[57,1,57,16],[41,1,41,16],[38,1,38,16],[39,1,39,16],[44,1,44,16],[45,1,45,16],[33,1,33,16],[31,1,31,16],[49,1,49,16],[50,1,50,16],[47,1,47,16],[31,18,31,22],[36,18,36,22],[48,1,48,16],[46,1,46,16],[39,72,39,76],[39,77,39,81],[50,72,50,76],[50,77,50,81],[28,18,28,22],[29,18,29,22],[32,23,32,27],[33,23,33,27],[30,23,30,27],[27,72,27,76],[28,83,28,98],[31,55,31,70],[36,83,36,98],[30,83,30,98],[32,83,32,98],[33,83,33,98],[37,83,37,98],[31,83,31,98],[29,83,29,98],[29,72,29,76],[29,77,29,81],[30,72,30,76],[35,55,35,70],[36,55,36,70],[37,55,37,70],[33,55,33,70],[34,55,34,70],[30,77,30,81],[29,55,29,70],[30,55,30,70],[28,77,28,81],[32,77,32,81],[27,77,27,81],[0,22,0,27],[9,29,11,46],[12,18,13,22],[14,23,14,27],[15,23,15,27],[14,18,14,22],[15,18,15,22],[16,18,16,22],[13,29,16,35],[9,18,9,22],[10,18,10,22],[11,18,11,22],[7,18,8,22],[2,29,2,34],[6,1,8,16],[16,23,16,27],[3,0,3,6],[6,0,8,0],[4,0,5,27],[7,23,8,27],[12,0,13,0],[11,23,11,27],[12,23,13,27],[9,23,9,27],[10,23,10,27],[14,1,14,16],[15,1,15,16],[16,1,16,16],[9,1,9,16],[10,1,10,16],[11,1,11,16],[12,1,13,16],[12,17,13,17],[7,17,8,17],[21,1,21,16],[22,1,22,16],[23,1,23,16],[25,1,25,16],[26,1,26,16],[17,1,17,16],[18,1,18,16],[46,18,46,22],[19,1,19,16],[20,1,20,16],[24,1,24,16],[27,1,27,16],[28,1,28,16],[29,1,29,16],[30,1,30,16],[17,18,17,22],[19,18,19,22],[30,18,30,22],[32,1,32,16],[32,18,32,22],[35,18,35,22],[33,18,33,22],[40,1,40,16],[39,18,39,22],[65,1,65,17],[63,18,63,22],[64,18,64,22],[65,18,65,22],[63,1,63,17],[64,1,64,17],[60,18,60,22],[60,1,60,16],[65,23,65,27],[58,23,58,27],[59,23,59,27],[59,18,59,22],[64,23,64,27],[63,23,63,27],[58,55,58,70],[60,23,60,27],[65,55,65,71],[63,55,63,71],[58,18,58,22],[17,23,17,27],[23,18,23,22],[26,18,26,22],[25,18,25,22],[25,23,25,27],[35,23,35,27],[48,23,48,27],[56,23,56,27],[36,23,36,27],[55,23,55,27],[52,23,52,27],[19,23,19,27],[37,18,37,22],[34,18,34,22],[26,23,26,27],[22,18,22,22],[23,23,23,27],[21,18,21,22],[18,23,18,27],[22,23,22,27],[20,23,20,27],[21,23,21,27],[20,18,20,22],[18,18,18,22],[23,55,23,70],[25,55,25,70],[26,55,26,70],[24,55,24,70],[19,55,19,70],[51,23,51,27],[49,23,49,27],[34,23,34,27],[31,23,31,27],[46,23,46,27],[18,29,21,35],[38,23,38,27],[37,23,37,27],[50,23,50,27],[38,55,38,70],[27,55,27,70],[28,55,28,70],[27,23,27,27],[55,18,55,22],[56,18,56,22],[47,23,47,27],[44,23,44,27],[39,23,39,27],[53,23,53,27],[57,23,57,27],[51,18,51,22],[44,18,44,22],[45,18,45,22],[48,18,48,22],[47,18,47,22],[40,18,40,22],[57,18,57,22],[54,18,54,22],[54,23,54,27],[52,18,52,22],[40,23,40,27],[41,23,41,27],[42,23,42,27],[43,23,43,27],[49,18,49,22],[50,18,50,22],[53,18,53,22],[6,54,8,54],[7,72,8,76],[18,72,18,76],[22,72,22,76],[19,72,19,76],[12,54,13,54],[20,72,20,76],[21,72,21,76],[17,55,17,70],[18,55,18,70],[9,55,9,70],[10,55,10,70],[11,55,11,70],[12,55,13,70],[6,55,8,70],[12,71,13,71],[14,55,14,70],[15,55,15,70],[16,55,16,70],[20,55,20,70],[21,55,21,70],[22,55,22,70],[52,72,52,76],[52,77,52,81],[54,72,54,76],[54,77,54,81],[51,77,51,81],[53,72,53,76],[53,77,53,81],[51,72,51,76],[41,72,41,76],[41,77,41,81],[42,72,42,76],[42,77,42,81],[43,72,43,76],[43,77,43,81],[63,72,63,76],[63,77,63,81],[64,55,64,71],[60,55,60,70],[64,72,64,76],[64,77,64,81],[65,72,65,76],[65,77,65,81],[60,72,60,76],[60,77,60,81],[50,100,50,104],[47,100,47,104],[45,72,45,76],[45,77,45,81],[36,77,36,81],[49,77,49,81],[37,77,37,81],[44,72,44,76],[44,77,44,81],[40,72,40,76],[48,77,48,81],[49,72,49,76],[50,83,50,98],[49,83,49,98],[39,83,39,98],[48,72,48,76],[36,72,36,76],[47,72,47,76],[47,77,47,81],[38,83,38,98],[40,83,40,98],[44,83,44,98],[45,83,45,98],[46,83,46,98],[12,82,13,82],[22,77,22,81],[18,77,18,81],[12,72,13,76],[37,72,37,76],[46,72,46,76],[46,77,46,81],[40,77,40,81],[34,72,34,76],[34,77,34,81],[35,72,35,76],[35,77,35,81],[14,77,14,81],[21,77,21,81],[12,77,13,81],[15,72,15,76],[15,77,15,81],[14,72,14,76],[24,77,24,81],[25,77,25,81],[28,72,28,76],[32,72,32,76],[38,72,38,76],[38,77,38,81],[19,83,19,98],[20,83,20,98],[21,83,21,98],[23,72,23,76],[34,83,34,98],[35,83,35,98],[16,83,16,98],[17,83,17,98],[18,83,18,98],[19,77,19,81],[23,77,23,81],[16,72,16,76],[16,77,16,81],[33,72,33,76],[33,77,33,81],[26,72,26,76],[26,77,26,81],[17,72,17,76],[17,77,17,81],[20,77,20,81],[31,72,31,76],[31,77,31,81],[24,72,24,76],[27,83,27,98],[22,83,22,98],[23,83,23,98],[25,83,25,98],[26,83,26,98],[6,83,8,98],[0,107,0,109],[7,100,8,104],[7,105,8,109],[9,100,9,104],[9,105,9,109],[9,83,9,98],[20,100,20,104],[20,105,20,109],[10,100,10,104],[10,105,10,109],[11,100,11,104],[11,105,11,109],[15,100,15,104],[17,100,17,104],[23,100,23,104],[19,100,19,104],[12,99,13,99],[16,100,16,104],[24,83,24,98],[9,77,9,81],[0,79,0,81],[11,72,11,76],[11,77,11,81],[9,72,9,76],[10,77,10,81],[7,77,8,81],[10,72,10,76],[19,105,19,109],[12,105,13,109],[12,100,13,104],[14,100,14,104],[17,105,17,109],[15,105,15,109],[16,105,16,109],[10,83,10,98],[11,83,11,98],[12,83,13,98],[14,83,14,98],[15,83,15,98],[6,82,8,82],[18,100,18,104],[18,105,18,109],[14,105,14,109],[21,100,21,104],[21,105,21,109],[22,100,22,104],[22,105,22,109],[29,100,29,104],[29,105,29,109],[25,100,25,104],[26,100,26,104],[28,100,28,104],[28,105,28,109],[25,105,25,109],[26,105,26,109],[24,105,24,109],[24,100,24,104],[23,105,23,109],[46,100,46,104],[46,105,46,109],[34,100,34,104],[34,105,34,109],[35,100,35,104],[35,105,35,109],[37,100,37,104],[38,100,38,104],[36,100,36,104],[36,105,36,109],[41,100,41,104],[42,100,42,104],[43,100,43,104],[38,105,38,109],[37,105,37,109],[40,105,40,109],[41,105,41,109],[42,105,42,109],[43,105,43,109],[30,105,30,109],[32,100,32,104],[32,105,32,109],[33,100,33,104],[33,105,33,109],[27,100,27,104],[27,105,27,109],[30,100,30,104],[31,100,31,104],[31,105,31,109],[64,105,64,109],[64,83,64,99],[65,83,65,99],[64,100,64,104],[65,100,65,104],[65,105,65,109],[50,105,50,109],[39,100,39,104],[39,105,39,109],[40,100,40,104],[48,100,48,104],[56,105,56,109],[57,105,57,109],[57,100,57,104],[58,100,58,104],[53,100,53,104],[53,105,53,109],[51,100,51,104],[51,105,51,109],[52,100,52,104],[52,105,52,109],[48,105,48,109],[49,100,49,104],[47,105,47,109],[63,83,63,99],[63,100,63,104],[63,105,63,109],[60,83,60,98],[32,55,32,70],[60,100,60,104],[60,105,60,109],[55,100,55,104],[55,105,55,109],[56,100,56,104],[39,55,39,70],[40,55,40,70],[49,55,49,70],[50,55,50,70],[51,55,51,70],[44,55,44,70],[45,55,45,70],[46,55,46,70],[48,55,48,70],[49,105,49,109],[44,100,44,104],[44,105,44,109],[45,100,45,104],[45,105,45,109],[58,105,58,109],[59,100,59,104],[59,105,59,109],[59,83,59,98],[57,55,57,70],[55,55,55,70],[56,55,56,70],[57,83,57,98],[58,83,58,98],[55,83,55,98],[56,83,56,98],[56,72,56,76],[56,77,56,81],[57,72,57,76],[57,77,57,81],[59,72,59,76],[59,77,59,81],[58,72,58,76],[58,77,58,81],[59,55,59,70],[55,72,55,76],[55,77,55,81]]}
[{"$f":"nazwa","v":"DEMO"}]
[{"$f":"Bilans_AKTYWA!A2","v":"Sprawozdanie finansowe za rok 2023"}]
[null,null,null,null,null,null,null,null,null,null,null,null,null,null,null,null,null,null,null,null,null,null,null,null,null,null,null,null,null,"Powrót do parametrów",null,null,null,null,null,null,null,null,null,null,null,null,null,null,null,null,null,null,null,null,null,null,null,null,null,null,null,null,null,null,null,null,null,null,null,null,null,null,null,null,null,null,null,null,null,null,null,null,null,null,null,"Wypełnianie z not... ",null,null,null,null,null,null,null,null,null,null,null,null,null,null,null,null,null,null,null,null,null,null,null,null,null,null,null,"Porównanie …"]
[]
["RACHUNEK ZYSKÓW I STRAT - wariant porównawczy",null,null,null,null,null,null,null,null,null,null,null,null,null,null,null,null,null,null,null,null,null,null,null,null,null,null,null,null,null,null,null,null,null,null,null,null,null,null,null,null,null,null,null,null,null,null,null,null,null,null,null,null,null,"RACHUNEK ZYSKÓW I STRAT - wariant porównawczy",null,null,null,null,null,null,null,null,null,null,null,null,null,null,null,null,null,null,null,null,null,null,null,null,null,null,null,"RACHUNEK ZYSKÓW I STRAT - wariant porównawczy"]
[]
["Lp.","Wyszczególnienie",null,null,null,null,null,null,null,null,null,null,null,null,null,null,null,"Nr","Wykonanie za okres",null,null,null,null,null,null,null,null,null,null,null,null,null,null,null,null,null,null,null,null,null,null,null,null,null,null,null,null,null,null,null,null,null,null,null,"Lp.","Wyszczególnienie",null,null,null,null,null,null,null,null,null,null,null,null,null,null,null,"Nr","Wykonanie za okres",null,null,null,null,null,null,null,null,null,"Lp.","Wyszczególnienie",null,null,null,null,null,null,null,null,null,null,null,null,null,null,null,"Nr","Wykonanie za okres"]
[null,null,null,null,null,null,null,null,null,null,null,null,null,null,null,null,null,"noty",{"$f":"rokb","v":"dd.mm-dd.mm.rrrr"},null,null,null,null,{"$f":"rokp","v":"dd.mm-dd.mm.rrrr"},null,null,null,null,null,null,null,null,null,null,null,null,null,null,null,null,null,null,null,null,null,null,null,null,null,null,null,null,null,null,null,null,null,null,null,null,null,null,null,null,null,null,null,null,null,null,null,"no-",{"$f":"rokb","v":"dd.mm-dd.mm.rrrr"},null,null,null,null,{"$f":"rokp","v":"dd.mm-dd.mm.rrrr"},null,null,null,null,null,null,null,null,null,null,null,null,null,null,null,null,null,null,null,null,null,"no-",{"$f":"rokb","v":"dd.mm-dd.mm.rrrr"},null,null,null,null,{"$f":"rokp","v":"dd.mm-dd.mm.rrrr"}]
[null,null,null,null,null,null,null,null,null,null,null,null,null,null,null,null,null,null,null,null,null,null,null,null,null,null,null,null,null,null,null,null,null,null,null,null,null,null,null,null,null,null,null,null,null,null,null,null,null,null,null,null,null,null,null,null,null,null,null,null,null,null,null,null,null,null,null,null,null,null,null,"ty",null,null,null,null,null,null,null,null,null,null,null,null,null,null,null,null,null,null,null,null,null,null,null,null,null,null,null,"ty"]
["A.","Przychody netto ze sprzedaży i zrównane z nimi, w tym:",null,null,null,null,null,null,null,null,null,null,null,null,null,null,null,null,{"$f":"SUM(S12:W16)","v":0},null,null,null,null,{"$f":"SUM(X12:AB16)","v":0},null,null,null,null,null,"W arkuszach należy wypełniać tylko puste komórki. Nie należy wprowadzać informacji do komórek zawierających formuły (w pierwotnej wersji są to komórki z zerowymi wartościami).",null,null,null,null,null,null,null,null,null,null,null,null,null,null,null,null,null,null,null,null,null,null,null,null,null,null,null,null,null,null,null,null,null,null,null,null,null,null,null,null,null,null,{"$f":"SUM(BU12:BY16)","v":0},null,null,null,null,{"$f":"SUM(BZ12:CD16)","v":0},null,null,null,null,null,null,null,null,null,null,null,null,null,null,null,null,null,null,null,null,null,null,{"$f":"SUM(CW12:DA16)","v":0},null,null,null,null,{"$f":"SUM(DB12:DF16)","v":0}]
[null,"- od jednostek powiązanych",null,null,null,null,null,null,null,null,null,null,null,null,null,null,null,{"$f":"PrzecinekTM(Parametry!$B$75,\"\")","v":"4"},{"$f":"Przychody!$V$12","v":0},null,null,null,null,{"$f":"Przychody!$AM$12","v":0},null,null,null,null,null,null,null,null,null,null,null,null,null,null,null,null,null,null,null,null,null,null,null,null,null,null,null,null,null,null,null,null,null,null,null,null,null,null,null,null,null,null,null,null,null,null,null,null,{"$f":"Przychody!$V$12","v":0},null,null,null,null,{"$f":"Przychody!$AM$12","v":0}]
["I.","Przychody netto ze sprzedaży produktów",null,null,null,null,null,null,null,null,null,null,null,null,null,null,null,{"$f":"PrzecinekTM(Parametry!$B$75,\"\")","v":"4"},{"$f":"Przychody!$V$13+Przychody!$V$26","v":0},null,null,null,null,{"$f":"Przychody!$AM$13+Przychody!$AM$26","v":0},null,null,null,null,null,null,null,null,null,null,null,null,null,null,null,null,null,null,null,null,null,null,null,null,null,null,null,null,null,null,null,null,null,null,null,null,null,null,null,null,null,null,null,null,null,null,null,null,{"$f":"Przychody!$V$13+Przychody!$V$26","v":0},null,null,null,null,{"$f":"Przychody!$AM$13+Przychody!$AM$26","v":0}]
["II.","Zmiana stanu produktów (zwiększenie - wartość dodatnia, zmniejszenie - wartość ujemna)",null,null,null,null,null,null,null,null,null,null,null,null,null,null,null,{"$f":"PrzecinekTM(Parametry!$B$76,\"\")","v":"5"},{"$f":"Koszty_rodzajowe!$AC$31","v":0},null,null,null,null,{"$f":"Koszty_rodzajowe!$AM$31","v":0},null,null,null,null,null,null,null,null,null,null,null,null,null,null,null,null,null,null,null,null,null,null,null,null,null,null,null,null,null,null,null,null,null,null,null,null,null,null,null,null,null,null,null,null,null,null,null,null,{"$f":"Koszty_rodzajowe!$AC$31","v":0},null,null,null,null,{"$f":"Koszty_rodzajowe!$AM$31","v":0}]
[]
["III.","Koszt wytworzenia produktów na własne potrzeby jednostki",null,null,null,null,null,null,null,null,null,null,null,null,null,null,null,{"$f":"PrzecinekTM(Parametry!$B$76,\"\")","v":"5"},{"$f":"Koszty_rodzajowe!$AC$30","v":0},null,null,null,null,{"$f":"Koszty_rodzajowe!$AM$30","v":0},null,null,null,null,null,null,null,null,null,null,null,null,null,null,null,null,null,null,null,null,null,null,null,null,null,null,null,null,null,null,null,null,null,null,null,null,null,null,null,null,null,null,null,null,null,null,null,null,{"$f":"Koszty_rodzajowe!$AC$30","v":0},null,null,null,null,{"$f":"Koszty_rodzajowe!$AM$30","v":0}]
["IV.","Przychody netto ze sprzedaży towarów i materiałów",null,null,null,null,null,null,null,null,null,null,null,null,null,null,null,{"$f":"PrzecinekTM(Parametry!$B$75,\"\")","v":"4"},{"$f":"Przychody!$V$19","v":0},null,null,null,null,{"$f":"Przychody!$AM$19","v":0},null,null,null,null,null,null,null,null,null,null,null,null,null,null,null,null,null,null,null,null,null,null,null,null,null,null,null,null,null,null,null,null,null,null,null,null,null,null,null,null,null,null,null,null,null,null,null,null,{"$f":"Przychody!$V$19","v":0},null,null,null,null,{"$f":"Przychody!$AM$19","v":0}]
["B.","Koszty działalności operacyjnej",null,null,null,null,null,null,null,null,null,null,null,null,null,null,null,null,{"$f":"S18+S19+S20+S21+S23+S24+S26+S27","v":0},null,null,null,null,{"$f":"X18+X19+X20+X21+X23+X24+X26+X27","v":0},null,null,null,null,null,null,null,null,null,null,null,null,null,null,null,null,null,null,null,null,null,null,null,null,null,null,null,null,null,null,null,null,null,null,null,null,null,null,null,null,null,null,null,null,null,null,null,null,{"$f":"BU18+BU19+BU20+BU21+BU23+BU24+BU26+BU27","v":0},null,null,null,null,{"$f":"BZ18+BZ19+BZ20+BZ21+BZ23+BZ24+BZ26+BZ27","v":0},null,null,null,null,null,null,null,null,null,null,null,null,null,null,null,null,null,null,null,null,null,null,{"$f":"CW18+CW19+CW20+CW21+CW23+CW24+CW26+CW27","v":0},null,null,null,null,{"$f":"DB18+DB19+DB20+DB21+DB23+DB24+DB26+DB27","v":0}]
["I.","Amortyzacja",null,null,null,null,null,null,null,null,null,null,null,null,null,null,null,{"$f":"PrzecinekTM(Parametry!$B$76,\"\")","v":"5"},{"$f":"Koszty_rodzajowe!$AC$10","v":0},null,null,null,null,{"$f":"Koszty_rodzajowe!$AM$10","v":0},null,null,null,null,null,null,null,null,null,null,null,null,null,null,null,null,null,null,null,null,null,null,null,null,null,null,null,null,null,null,null,null,null,null,null,null,null,null,null,null,null,null,null,null,null,null,null,null,{"$f":"Koszty_rodzajowe!$AC$10","v":0},null,null,null,null,{"$f":"Koszty_rodzajowe!$AM$10","v":0}]
["II.","Zużycie materiałów i energii",null,null,null,null,null,null,null,null,null,null,null,null,null,null,null,{"$f":"PrzecinekTM(Parametry!$B$76,\"\")","v":"5"},{"$f":"Koszty_rodzajowe!$AC$11","v":0},null,null,null,null,{"$f":"Koszty_rodzajowe!$AM$11","v":0},null,null,null,null,null,null,null,null,null,null,null,null,null,null,null,null,null,null,null,null,null,null,null,null,null,null,null,null,null,null,null,null,null,null,null,null,null,null,null,null,null,null,null,null,null,null,null,null,{"$f":"Koszty_rodzajowe!$AC$11","v":0},null,null,null,null,{"$f":"Koszty_rodzajowe!$AM$11","v":0}]
["III.","Usługi obce",null,null,null,null,null,null,null,null,null,null,null,null,null,null,null,{"$f":"PrzecinekTM(Parametry!$B$76,\"\")","v":"5"},{"$f":"Koszty_rodzajowe!$AC$12","v":0},null,null,null,null,{"$f":"Koszty_rodzajowe!$AM$12","v":0},null,null,null,null,null,null,null,null,null,null,null,null,null,null,null,null,null,null,null,null,null,null,null,null,null,null,null,null,null,null,null,null,null,null,null,null,null,null,null,null,null,null,null,null,null,null,null,null,{"$f":"Koszty_rodzajowe!$AC$12","v":0},null,null,null,null,{"$f":"Koszty_rodzajowe!$AM$12","v":0}]
["IV.","Podatki i opłaty, w tym:",null,null,null,null,null,null,null,null,null,null,null,null,null,null,null,{"$f":"PrzecinekTM(Parametry!$B$76,\"\")","v":"5"},{"$f":"Koszty_rodzajowe!$AC$17","v":0},null,null,null,null,{"$f":"Koszty_rodzajowe!$AM$17","v":0},null,null,null,null,null,null,null,null,null,null,null,null,null,null,null,null,null,null,null,null,null,null,null,null,null,null,null,null,null,null,null,null,null,null,null,null,null,null,null,null,null,null,null,null,null,null,null,null,{"$f":"Koszty_rodzajowe!$AC$17","v":0},null,null,null,null,{"$f":"Koszty_rodzajowe!$AM$17","v":0}]
[null," - podatek akcyzowy",null,null,null,null,null,null,null,null,null,null,null,null,null,null,null,{"$f":"PrzecinekTM(Parametry!$B$76,\"\")","v":"5"},{"$f":"Koszty_rodzajowe!$AC$18","v":0},null,null,null,null,{"$f":"Koszty_rodzajowe!$AM$18","v":0},null,null,null,null,null,null,null,null,null,null,null,null,null,null,null,null,null,null,null,null,null,null,null,null,null,null,null,null,null,null,null,null,null,null,null,null,null,null,null,null,null,null,null,null,null,null,null,null,{"$f":"Koszty_rodzajowe!$AC$18","v":0},null,null,null,null,{"$f":"Koszty_rodzajowe!$AM$18","v":0}]
["V.","Wynagrodzenia",null,null,null,null,null,null,null,null,null,null,null,null,null,null,null,{"$f":"PrzecinekTM(Parametry!$B$76,\"\")","v":"5"},{"$f":"Koszty_rodzajowe!$AC$19","v":0},null,null,null,null,{"$f":"Koszty_rodzajowe!$AM$19","v":0},null,null,null,null,null,null,null,null,null,null,null,null,null,null,null,null,null,null,null,null,null,null,null,null,null,null,null,null,null,null,null,null,null,null,null,null,null,null,null,null,null,null,null,null,null,null,null,null,{"$f":"Koszty_rodzajowe!$AC$19","v":0},null,null,null,null,{"$f":"Koszty_rodzajowe!$AM$19","v":0}]
["VI.","Ubezpieczenia społeczne i inne świadczenia, w tym:",null,null,null,null,null,null,null,null,null,null,null,null,null,null,null,{"$f":"PrzecinekTM(Parametry!$B$76,\"\")","v":"5"},{"$f":"Koszty_rodzajowe!$AC$20","v":0},null,null,null,null,{"$f":"Koszty_rodzajowe!$AM$20","v":0},null,null,null,null,null,null,null,null,null,null,null,null,null,null,null,null,null,null,null,null,null,null,null,null,null,null,null,null,null,null,null,null,null,null,null,null,null,null,null,null,null,null,null,null,null,null,null,null,{"$f":"Koszty_rodzajowe!$AC$20","v":0},null,null,null,null,{"$f":"Koszty_rodzajowe!$AM$20","v":0}]
[null,"- emerytalne",null,null,null,null,null,null,null,null,null,null,null,null,null,null,null,{"$f":"PrzecinekTM(Parametry!$B$76,\"\")","v":"5"},{"$f":"Koszty_rodzajowe!$AC$21","v":0},null,null,null,null,{"$f":"Koszty_rodzajowe!$AM$21","v":0},null,null,null,null,null,null,null,null,null,null,null,null,null,null,null,null,null,null,null,null,null,null,null,null,null,null,null,null,null,null,null,null,null,null,null,null,null,null,null,null,null,null,null,null,null,null,null,null,{"$f":"Koszty_rodzajowe!$AC$21","v":0},null,null,null,null,{"$f":"Koszty_rodzajowe!$AM$21","v":0}]
["VII.","Pozostałe koszty rodzajowe",null,null,null,null,null,null,null,null,null,null,null,null,null,null,null,{"$f":"PrzecinekTM(Parametry!$B$76,\"\")","v":"5"},{"$f":"Koszty_rodzajowe!$AC$22","v":0},null,null,null,null,{"$f":"Koszty_rodzajowe!$AM$22","v":0},null,null,null,null,null,null,null,null,null,null,null,null,null,null,null,null,null,null,null,null,null,null,null,null,null,null,null,null,null,null,null,null,null,null,null,null,null,null,null,null,null,null,null,null,null,null,null,null,{"$f":"Koszty_rodzajowe!$AC$22","v":0},null,null,null,null,{"$f":"Koszty_rodzajowe!$AM$22","v":0}]
["VIII.","Wartość sprzedanych towarów i materiałów",null,null,null,null,null,null,null,null,null,null,null,null,null,null,null,{"$f":"PrzecinekTM(Parametry!$B$76,\"\")","v":"5"},{"$f":"Koszty_rodzajowe!$AC$29","v":0},null,null,null,null,{"$f":"Koszty_rodzajowe!$AM$29","v":0},null,null,null,null,null,null,null,null,null,null,null,null,null,null,null,null,null,null,null,null,null,null,null,null,null,null,null,null,null,null,null,null,null,null,null,null,null,null,null,null,null,null,null,null,null,null,null,null,{"$f":"Koszty_rodzajowe!$AC$29","v":0},null,null,null,null,{"$f":"Koszty_rodzajowe!$AM$29","v":0}]
["C.","Zysk (strata) ze sprzedaży (A - B)",null,null,null,null,null,null,null,null,null,null,null,null,null,null,null,null,{"$f":"S10-S17","v":0},null,null,null,null,{"$f":"X10-X17","v":0},null,null,null,null,null,null,null,null,null,null,null,null,null,null,null,null,null,null,null,null,null,null,null,null,null,null,null,null,null,null,null,null,null,null,null,null,null,null,null,null,null,null,null,null,null,null,null,null,{"$f":"BU10-BU17","v":0},null,null,null,null,{"$f":"BZ10-BZ17","v":0},null,null,null,null,null,null,null,null,null,null,null,null,null,null,null,null,null,null,null,null,null,null,{"$f":"CW10-CW17","v":0},null,null,null,null,{"$f":"DB10-DB17","v":0}]
["D.","Pozostałe przychody operacyjne",null,null,null,null,null,null,null,null,null,null,null,null,null,null,null,null,{"$f":"SUM(S30:W33)","v":0},null,null,null,null,{"$f":"SUM(X30:AB33)","v":0},null,null,null,null,null,null,null,null,null,null,null,null,null,null,null,null,null,null,null,null,null,null,null,null,null,null,null,null,null,null,null,null,null,null,null,null,null,null,null,null,null,null,null,null,null,null,null,null,{"$f":"SUM(BU30:BY33)","v":0},null,null,null,null,{"$f":"SUM(BZ30:CD33)","v":0},null,null,null,null,null,null,null,null,null,null,null,null,null,null,null,null,null,null,null,null,null,null,{"$f":"SUM(CW30:DA33)","v":0},null,null,null,null,{"$f":"SUM(DB30:DF33)","v":0}]
["I.","Zysk z tytułu rozchodu niefinansowych aktywów trwałych",null,null,null,null,null,null,null,null,null,null,null,null,null,null,null,{"$f":"PrzecinekTM(Parametry!$B$78,\"\")","v":""},{"$f":"Poz_przych_oper!$AC$9","v":0},null,null,null,null,{"$f":"Poz_przych_oper!$AM$9","v":0},null,null,null,null,null,null,null,null,null,null,null,null,null,null,null,null,null,null,null,null,null,null,null,null,null,null,null,null,null,null,null,null,null,null,null,null,null,null,null,null,null,null,null,null,null,null,null,null,{"$f":"Poz_przych_oper!$AC$9","v":0},null,null,null,null,{"$f":"Poz_przych_oper!$AM$9","v":0}]
["II.","Dotacje",null,null,null,null,null,null,null,null,null,null,null,null,null,null,null,{"$f":"PrzecinekTM(Parametry!$B$78,\"\")","v":""},{"$f":"Poz_przych_oper!$AC$18","v":0},null,null,null,null,{"$f":"Poz_przych_oper!$AM$18","v":0},null,null,null,null,null,null,null,null,null,null,null,null,null,null,null,null,null,null,null,null,null,null,null,null,null,null,null,null,null,null,null,null,null,null,null,null,null,null,null,null,null,null,null,null,null,null,null,null,{"$f":"Poz_przych_oper!$AC$18","v":0},null,null,null,null,{"$f":"Poz_przych_oper!$AM$18","v":0}]
["III.","Aktualizacja wartości aktywów niefinansowych",null,null,null,null,null,null,null,null,null,null,null,null,null,null,null,{"$f":"PrzecinekTM(Parametry!$B$78,\"\")","v":""},{"$f":"Poz_przych_oper!$AC$21","v":0},null,null,null,null,{"$f":"Poz_przych_oper!$AM$21","v":0},null,null,null,null,null,null,null,null,null,null,null,null,null,null,null,null,null,null,null,null,null,null,null,null,null,null,null,null,null,null,null,null,null,null,null,null,null,null,null,null,null,null,null,null,null,null,null,null,{"$f":"Poz_przych_oper!$AC$21","v":0},null,null,null,null,{"$f":"Poz_przych_oper!$AM$21","v":0}]
["IV.","Inne przychody operacyjne",null,null,null,null,null,null,null,null,null,null,null,null,null,null,null,{"$f":"PrzecinekTM(Parametry!$B$78,\"\")","v":""},{"$f":"Poz_przych_oper!$AC$24","v":0},null,null,null,null,{"$f":"Poz_przych_oper!$AM$24","v":0},null,null,null,null,null,null,null,null,null,null,null,null,null,null,null,null,null,null,null,null,null,null,null,null,null,null,null,null,null,null,null,null,null,null,null,null,null,null,null,null,null,null,null,null,null,null,null,null,{"$f":"Poz_przych_oper!$AC$24","v":0},null,null,null,null,{"$f":"Poz_przych_oper!$AM$24","v":0}]
["E.","Pozostałe koszty operacyjne",null,null,null,null,null,null,null,null,null,null,null,null,null,null,null,null,{"$f":"SUM(S35:W37)","v":0},null,null,null,null,{"$f":"SUM(X35:AB37)","v":0},null,null,null,null,null,null,null,null,null,null,null,null,null,null,null,null,null,null,null,null,null,null,null,null,null,null,null,null,null,null,null,null,null,null,null,null,null,null,null,null,null,null,null,null,null,null,null,null,{"$f":"SUM(BU35:BY37)","v":0},null,null,null,null,{"$f":"SUM(BZ35:CD37)","v":0},null,null,null,null,null,null,null,null,null,null,null,null,null,null,null,null,null,null,null,null,null,null,{"$f":"SUM(CW35:DA37)","v":0},null,null,null,null,{"$f":"SUM(DB35:DF37)","v":0}]
["I.","Strata z tytułu rozchodu niefinansowych aktywów trwałych",null,null,null,null,null,null,null,null,null,null,null,null,null,null,null,{"$f":"PrzecinekTM(Parametry!$B$79,\"\")","v":""},{"$f":"Poz_koszty_oper!$AC$9","v":0},null,null,null,null,{"$f":"Poz_koszty_oper!$AM$9","v":0},null,null,null,null,null,null,null,null,null,null,null,null,null,null,null,null,null,null,null,null,null,null,null,null,null,null,null,null,null,null,null,null,null,null,null,null,null,null,null,null,null,null,null,null,null,null,null,null,{"$f":"Poz_koszty_oper!$AC$9","v":0},null,null,null,null,{"$f":"Poz_koszty_oper!$AM$9","v":0}]
["II.","Aktualizacja wartości aktywów niefinansowych",null,null,null,null,null,null,null,null,null,null,null,null,null,null,null,{"$f":"PrzecinekTM(Parametry!$B$79,\"\")","v":""},{"$f":"Poz_koszty_oper!$AC$20","v":0},null,null,null,null,{"$f":"Poz_koszty_oper!$AM$20","v":0},null,null,null,null,null,null,null,null,null,null,null,null,null,null,null,null,null,null,null,null,null,null,null,null,null,null,null,null,null,null,null,null,null,null,null,null,null,null,null,null,null,null,null,null,null,null,null,null,{"$f":"Poz_koszty_oper!$AC$20","v":0},null,null,null,null,{"$f":"Poz_koszty_oper!$AM$20","v":0}]
["III.","Inne koszty operacyjne",null,null,null,null,null,null,null,null,null,null,null,null,null,null,null,{"$f":"PrzecinekTM(Parametry!$B$79,\"\")","v":""},{"$f":"Poz_koszty_oper!$AC$27","v":0},null,null,null,null,{"$f":"Poz_koszty_oper!$AM$27","v":0},null,null,null,null,null,null,null,null,null,null,null,null,null,null,null,null,null,null,null,null,null,null,null,null,null,null,null,null,null,null,null,null,null,null,null,null,null,null,null,null,null,null,null,null,null,null,null,null,{"$f":"Poz_koszty_oper!$AC$27","v":0},null,null,null,null,{"$f":"Poz_koszty_oper!$AM$27","v":0}]
["F.","Zysk (strata) z działalności operacyjnej (C + D - E)",null,null,null,null,null,null,null,null,null,null,null,null,null,null,null,null,{"$f":"S28+S29-S34","v":0},null,null,null,null,{"$f":"X28+X29-X34","v":0},null,null,null,null,null,null,null,null,null,null,null,null,null,null,null,null,null,null,null,null,null,null,null,null,null,null,null,null,null,null,null,null,null,null,null,null,null,null,null,null,null,null,null,null,null,null,null,null,{"$f":"BU28+BU29-BU34","v":0},null,null,null,null,{"$f":"BZ28+BZ29-BZ34","v":0},null,null,null,null,null,null,null,null,null,null,null,null,null,null,null,null,null,null,null,null,null,null,{"$f":"CW28+CW29-CW34","v":0},null,null,null,null,{"$f":"DB28+DB29-DB34","v":0}]
["G.","Przychody finansowe",null,null,null,null,null,null,null,null,null,null,null,null,null,null,null,null,{"$f":"S40+S45+S47+S49+S50","v":0},null,null,null,null,{"$f":"X40+X45+X47+X49+X50","v":0},null,null,null,null,null,null,null,null,null,null,null,null,null,null,null,null,null,null,null,null,null,null,null,null,null,null,null,null,null,null,null,null,null,null,null,null,null,null,null,null,null,null,null,null,null,null,null,null,{"$f":"BU40+BU45+BU47+BU49+BU50","v":0},null,null,null,null,{"$f":"BZ40+BZ45+BZ47+BZ49+BZ50","v":0},null,null,null,null,null,null,null,null,null,null,null,null,null,null,null,null,null,null,null,null,null,null,{"$f":"CW40+CW45+CW47+CW49+CW50","v":0},null,null,null,null,{"$f":"DB40+DB45+DB47+DB49+DB50","v":0}]
["I.","Dywidendy i udziały w zyskach, w tym:",null,null,null,null,null,null,null,null,null,null,null,null,null,null,null,{"$f":"PrzecinekTM(Parametry!$B$80,\"\")","v":""},{"$f":"Przych_fin!$AC$9","v":0},null,null,null,null,{"$f":"Przych_fin!$AM$9","v":0},null,null,null,null,null,null,null,null,null,null,null,null,null,null,null,null,null,null,null,null,null,null,null,null,null,null,null,null,null,null,null,null,null,null,null,null,null,null,null,null,null,null,null,null,null,null,null,null,{"$f":"Przych_fin!$AC$9","v":0},null,null,null,null,{"$f":"Przych_fin!$AM$9","v":0}]
[null,"a) od jednostek powiązanych, w tym:",null,null,null,null,null,null,null,null,null,null,null,null,null,null,null,{"$f":"PrzecinekTM(Parametry!$B$80,\"\")","v":""},{"$f":"Przych_fin!$AC$10","v":0},null,null,null,null,{"$f":"Przych_fin!$AM$10","v":0},null,null,null,null,null,null,null,null,null,null,null,null,null,null,null,null,null,null,null,null,null,null,null,null,null,null,null,null,null,null,null,null,null,null,null,null,null,null,null,null,null,null,null,null,null,null,null,null,{"$f":"Przych_fin!$AC$10","v":0},null,null,null,null,{"$f":"Przych_fin!$AM$10","v":0}]
[null,"- w których jednostka posiada zaangażowanie w kapitale",null,null,null,null,null,null,null,null,null,null,null,null,null,null,null,{"$f":"PrzecinekTM(Parametry!$B$80,\"\")","v":""},{"$f":"Przych_fin!$AC$11","v":0},null,null,null,null,{"$f":"Przych_fin!$AM$11","v":0},null,null,null,null,null,null,null,null,null,null,null,null,null,null,null,null,null,null,null,null,null,null,null,null,null,null,null,null,null,null,null,null,null,null,null,null,null,null,null,null,null,null,null,null,null,null,null,null,{"$f":"Przych_fin!$AC$11","v":0},null,null,null,null,{"$f":"Przych_fin!$AM$11","v":0}]
[null,"b) od jednostek pozostałych, w tym:",null,null,null,null,null,null,null,null,null,null,null,null,null,null,null,{"$f":"PrzecinekTM(Parametry!$B$80,\"\")","v":""},{"$f":"Przych_fin!$AC$12","v":0},null,null,null,null,{"$f":"Przych_fin!$AM$12","v":0},null,null,null,null,null,null,null,null,null,null,null,null,null,null,null,null,null,null,null,null,null,null,null,null,null,null,null,null,null,null,null,null,null,null,null,null,null,null,null,null,null,null,null,null,null,null,null,null,{"$f":"Przych_fin!$AC$12","v":0},null,null,null,null,{"$f":"Przych_fin!$AM$12","v":0}]
[null,"- w których jednostka posiada zaangażowanie w kapitale",null,null,null,null,null,null,null,null,null,null,null,null,null,null,null,{"$f":"PrzecinekTM(Parametry!$B$80,\"\")","v":""},{"$f":"Przych_fin!$AC$13","v":0},null,null,null,null,{"$f":"Przych_fin!$AM$13","v":0},null,null,null,null,null,null,null,null,null,null,null,null,null,null,null,null,null,null,null,null,null,null,null,null,null,null,null,null,null,null,null,null,null,null,null,null,null,null,null,null,null,null,null,null,null,null,null,null,{"$f":"Przych_fin!$AC$13","v":0},null,null,null,null,{"$f":"Przych_fin!$AM$13","v":0}]
["II.","Odsetki, w tym:",null,null,null,null,null,null,null,null,null,null,null,null,null,null,null,{"$f":"PrzecinekTM(Parametry!$B$80,\"\")","v":""},{"$f":"Przych_fin!$AC$14","v":0},null,null,null,null,{"$f":"Przych_fin!$AM$14","v":0},null,null,null,null,null,null,null,null,null,null,null,null,null,null,null,null,null,null,null,null,null,null,null,null,null,null,null,null,null,null,null,null,null,null,null,null,null,null,null,null,null,null,null,null,null,null,null,null,{"$f":"Przych_fin!$AC$14","v":0},null,null,null,null,{"$f":"Przych_fin!$AM$14","v":0}]
[null,"- od jednostek powiązanych",null,null,null,null,null,null,null,null,null,null,null,null,null,null,null,{"$f":"PrzecinekTM(Parametry!$B$80,\"\")","v":""},{"$f":"Przych_fin!$AC$15","v":0},null,null,null,null,{"$f":"Przych_fin!$AM$15","v":0},null,null,null,null,null,null,null,null,null,null,null,null,null,null,null,null,null,null,null,null,null,null,null,null,null,null,null,null,null,null,null,null,null,null,null,null,null,null,null,null,null,null,null,null,null,null,null,null,{"$f":"Przych_fin!$AC$15","v":0},null,null,null,null,{"$f":"Przych_fin!$AM$15","v":0}]
["III.","Zysk z tytułu rozchodu aktywów finansowych, w tym:",null,null,null,null,null,null,null,null,null,null,null,null,null,null,null,{"$f":"PrzecinekTM(Parametry!$B$80,\"\")","v":""},{"$f":"Przych_fin!$AC$26","v":0},null,null,null,null,{"$f":"Przych_fin!$AM$26","v":0},null,null,null,null,null,null,null,null,null,null,null,null,null,null,null,null,null,null,null,null,null,null,null,null,null,null,null,null,null,null,null,null,null,null,null,null,null,null,null,null,null,null,null,null,null,null,null,null,{"$f":"Przych_fin!$AC$26","v":0},null,null,null,null,{"$f":"Przych_fin!$AM$26","v":0}]
[null,"- w jednostkach powiązanych"]
["IV.","Aktualizacja wartości aktywów finansowych",null,null,null,null,null,null,null,null,null,null,null,null,null,null,null,{"$f":"PrzecinekTM(Parametry!$B$80,\"\")","v":""},{"$f":"Przych_fin!$AC$31","v":0},null,null,null,null,{"$f":"Przych_fin!$AM$31","v":0},null,null,null,null,null,null,null,null,null,null,null,null,null,null,null,null,null,null,null,null,null,null,null,null,null,null,null,null,null,null,null,null,null,null,null,null,null,null,null,null,null,null,null,null,null,null,null,null,{"$f":"Przych_fin!$AC$31","v":0},null,null,null,null,{"$f":"Przych_fin!$AM$31","v":0}]
["V.","Inne",null,null,null,null,null,null,null,null,null,null,null,null,null,null,null,{"$f":"PrzecinekTM(Parametry!$B$80,\"\")","v":""},{"$f":"Przych_fin!$AC$33","v":0},null,null,null,null,{"$f":"Przych_fin!$AM$33","v":0},null,null,null,null,null,null,null,null,null,null,null,null,null,null,null,null,null,null,null,null,null,null,null,null,null,null,null,null,null,null,null,null,null,null,null,null,null,null,null,null,null,null,null,null,null,null,null,null,{"$f":"Przych_fin!$AC$33","v":0},null,null,null,null,{"$f":"Przych_fin!$AM$33","v":0}]
["H.","Koszty finansowe",null,null,null,null,null,null,null,null,null,null,null,null,null,null,null,null,{"$f":"S52+S54+S56+S57","v":0},null,null,null,null,{"$f":"X52+X54+X56+X57","v":0},null,null,null,null,null,null,null,null,null,null,null,null,null,null,null,null,null,null,null,null,null,null,null,null,null,null,null,null,null,null,null,null,null,null,null,null,null,null,null,null,null,null,null,null,null,null,null,null,{"$f":"BU52+BU54+BU56+BU57","v":0},null,null,null,null,{"$f":"BZ52+BZ54+BZ56+BZ57","v":0},null,null,null,null,null,null,null,null,null,null,null,null,null,null,null,null,null,null,null,null,null,null,{"$f":"CW52+CW54+CW56+CW57","v":0},null,null,null,null,{"$f":"DB52+DB54+DB56+DB57","v":0}]
["I.","Odsetki, w tym:",null,null,null,null,null,null,null,null,null,null,null,null,null,null,null,{"$f":"PrzecinekTM(Parametry!$B$81,\"\")","v":""},{"$f":"Koszty_fin!$AC$9","v":0},null,null,null,null,{"$f":"Koszty_fin!$AM$9","v":0},null,null,null,null,null,null,null,null,null,null,null,null,null,null,null,null,null,null,null,null,null,null,null,null,null,null,null,null,null,null,null,null,null,null,null,null,null,null,null,null,null,null,null,null,null,null,null,null,{"$f":"Koszty_fin!$AC$9","v":0},null,null,null,null,{"$f":"Koszty_fin!$AM$9","v":0}]
[null,"- dla jednostek powiązanych",null,null,null,null,null,null,null,null,null,null,null,null,null,null,null,{"$f":"PrzecinekTM(Parametry!$B$81,\"\")","v":""},{"$f":"Koszty_fin!$AC$10","v":0},null,null,null,null,{"$f":"Koszty_fin!$AM$10","v":0},null,null,null,null,null,null,null,null,null,null,null,null,null,null,null,null,null,null,null,null,null,null,null,null,null,null,null,null,null,null,null,null,null,null,null,null,null,null,null,null,null,null,null,null,null,null,null,null,{"$f":"Koszty_fin!$AC$10","v":0},null,null,null,null,{"$f":"Koszty_fin!$AM$10","v":0}]
["II.","Strata z tytułu rozchodu aktywów finansowych, w tym:",null,null,null,null,null,null,null,null,null,null,null,null,null,null,null,{"$f":"PrzecinekTM(Parametry!$B$81,\"\")","v":""},{"$f":"Koszty_fin!$AC$27","v":0},null,null,null,null,{"$f":"Koszty_fin!$AM$27","v":0},null,null,null,null,null,null,null,null,null,null,null,null,null,null,null,null,null,null,null,null,null,null,null,null,null,null,null,null,null,null,null,null,null,null,null,null,null,null,null,null,null,null,null,null,null,null,null,null,{"$f":"Koszty_fin!$AC$27","v":0},null,null,null,null,{"$f":"Koszty_fin!$AM$27","v":0}]
[null,"- w jednostkach powiązanych"]
["III.","Aktualizacja wartości aktywów finansowych",null,null,null,null,null,null,null,null,null,null,null,null,null,null,null,{"$f":"PrzecinekTM(Parametry!$B$81,\"\")","v":""},{"$f":"Koszty_fin!$AC$31","v":0},null,null,null,null,{"$f":"Koszty_fin!$AM$31","v":0},null,null,null,null,null,null,null,null,null,null,null,null,null,null,null,null,null,null,null,null,null,null,null,null,null,null,null,null,null,null,null,null,null,null,null,null,null,null,null,null,null,null,null,null,null,null,null,null,{"$f":"Koszty_fin!$AC$31","v":0},null,null,null,null,{"$f":"Koszty_fin!$AM$31","v":0}]
["IV.","Inne",null,null,null,null,null,null,null,null,null,null,null,null,null,null,null,{"$f":"PrzecinekTM(Parametry!$B$81,\"\")","v":""},{"$f":"Koszty_fin!$AC$33","v":0},null,null,null,null,{"$f":"Koszty_fin!$AM$33","v":0},null,null,null,null,null,null,null,null,null,null,null,null,null,null,null,null,null,null,null,null,null,null,null,null,null,null,null,null,null,null,null,null,null,null,null,null,null,null,null,null,null,null,null,null,null,null,null,null,{"$f":"Koszty_fin!$AC$33","v":0},null,null,null,null,{"$f":"Koszty_fin!$AM$33","v":0}]
["I.","Zysk (strata) brutto (F + G - H)",null,null,null,null,null,null,null,null,null,null,null,null,null,null,null,null,{"$f":"S38+S39-S51","v":0},null,null,null,null,{"$f":"X38+X39-X51","v":0},null,null,null,null,null,null,null,null,null,null,null,null,null,null,null,null,null,null,null,null,null,null,null,null,null,null,null,null,null,null,null,null,null,null,null,null,null,null,null,null,null,null,null,null,null,null,null,null,{"$f":"BU38+BU39-BU51","v":0},null,null,null,null,{"$f":"BZ38+BZ39-BZ51","v":0},null,null,null,null,null,null,null,null,null,null,null,null,null,null,null,null,null,null,null,null,null,null,{"$f":"CW38+CW39-CW51","v":0},null,null,null,null,{"$f":"DB38+DB39-DB51","v":0}]
["J.","Podatek dochodowy",null,null,null,null,null,null,null,null,null,null,null,null,null,null,null,{"$f":"PrzecinekTM(IF(Parametry!$P$10=2,\"\",Parametry!$B$89),Parametry!$B$90)","v":""},{"$f":"Podatek_CIT!$T23+Pod_odroczony!$AM$17","v":0},null,null,null,null,null,null,null,null,null,"Pole z komentarzem!",null,null,null,null,null,null,null,null,null,null,null,null,null,null,null,null,null,null,null,null,null,null,null,null,null,null,null,null,null,null,null,null,null,null,null,null,null,null,null,null,null,null,null,{"$f":"Podatek_CIT!$T23+Pod_odroczony!$AM$17","v":0}]
["K.","Pozostałe obowiązkowe zmniejszenia zysku (zwiększenia straty)"]
["L.","Zysk (strata) netto (I - J - K)",null,null,null,null,null,null,null,null,null,null,null,null,null,null,null,null,{"$f":"S58-S59-S60","v":0},null,null,null,null,{"$f":"X58-X59-X60","v":0},null,null,null,null,null,null,null,null,null,null,null,null,null,null,null,null,null,null,null,null,null,null,null,null,null,null,null,null,null,null,null,null,null,null,null,null,null,null,null,null,null,null,null,null,null,null,null,null,{"$f":"BU58-BU59-BU60","v":0},null,null,null,null,{"$f":"BZ58-BZ59-BZ60","v":0},null,null,null,null,null,null,null,null,null,null,null,null,null,null,null,null,null,null,null,null,null,null,{"$f":"CW58-CW59-CW60","v":0},null,null,null,null,{"$f":"DB58-DB59-DB60","v":0}]
[]
[]
[null,"Bilans",null,null,null,null,null,null,null,null,null,null,null,null,null,null,null,null,{"$f":"IF(Parametry!$N$24=\"p\",Bilans_PASYWA!S24,0)","v":0},null,null,null,null,{"$f":"IF(Parametry!$N$24=\"p\",Bilans_PASYWA!X24,0)","v":0}]
[null,"RZiS",null,null,null,null,null,null,null,null,null,null,null,null,null,null,null,null,{"$f":"S61","v":0},null,null,null,null,{"$f":"X61","v":0}]
[null,"różnica",null,null,null,null,null,null,null,null,null,null,null,null,null,null,null,null,{"$f":"S64-S65","v":0},null,null,null,null,{"$f":"X64-X65","v":0}]

{"sheet":"Rachunek_ZiS_kalkulacyjny","index":12,"n_rows":61,"n_cols":116,"rows_kept":61,"cut":false,"hidden":false,"merged":[[53,0,54,0],[53,1,54,16],[53,17,54,17],[51,23,51,27],[50,23,50,27],[51,18,51,22],[35,75,35,79],[35,80,35,84],[36,75,36,79],[36,80,36,84],[37,75,37,79],[37,80,37,84],[48,75,48,79],[48,80,48,84],[48,18,48,22],[48,23,48,27],[42,18,42,22],[42,23,42,27],[39,23,39,27],[40,18,40,22],[40,23,40,27],[41,18,41,22],[41,23,41,27],[35,1,35,16],[2,29,2,34],[29,75,29,79],[26,1,26,16],[30,1,30,16],[31,1,31,16],[32,1,32,16],[33,1,33,16],[34,1,34,16],[27,1,27,16],[28,1,28,16],[29,1,29,16],[29,18,29,22],[13,29,14,35],[7,23,8,27],[6,57,8,57],[5,28,5,29],[9,29,11,46],[6,58,8,73],[9,58,10,73],[11,58,11,73],[12,58,12,73],[25,23,25,27],[22,58,22,73],[23,58,23,73],[43,75,43,79],[42,75,42,79],[43,80,43,84],[45,18,45,22],[44,18,44,22],[34,18,34,22],[43,18,43,22],[31,18,31,22],[36,1,36,16],[37,1,37,16],[40,75,40,79],[41,58,41,73],[41,75,41,79],[34,75,34,79],[39,75,39,79],[38,80,38,84],[34,80,34,84],[37,58,37,73],[35,18,35,22],[36,18,36,22],[37,18,37,22],[39,18,39,22],[38,18,38,22],[32,18,32,22],[52,111,52,115],[53,106,54,110],[53,111,54,115],[55,106,55,110],[52,89,52,104],[47,80,47,84],[44,80,44,84],[46,75,46,79],[46,80,46,84],[47,75,47,79],[45,75,45,79],[45,80,45,84],[44,75,44,79],[45,89,45,104],[46,89,46,104],[51,106,51,110],[35,89,35,104],[36,89,36,104],[37,89,37,104],[24,89,24,104],[26,89,26,104],[27,89,27,104],[28,89,28,104],[25,89,25,104],[20,89,20,104],[21,89,21,104],[22,89,22,104],[23,89,23,104],[34,89,34,104],[29,89,29,104],[30,89,30,104],[31,89,31,104],[32,89,32,104],[33,89,33,104],[19,89,19,104],[13,80,13,84],[13,58,13,73],[14,58,14,73],[33,80,33,84],[20,58,20,73],[21,58,21,73],[0,113,0,115],[26,111,26,115],[6,106,6,115],[12,106,12,110],[0,82,0,84],[7,75,8,79],[7,80,8,84],[4,57,5,84],[9,57,10,57],[6,89,8,104],[9,89,10,104],[11,89,11,104],[12,89,12,104],[9,106,10,110],[7,106,8,110],[12,75,12,79],[15,89,15,104],[38,111,38,115],[43,106,43,110],[32,111,32,115],[31,106,31,110],[43,111,43,115],[35,106,35,110],[35,111,35,115],[36,106,36,110],[36,111,36,115],[37,106,37,110],[37,111,37,115],[39,106,39,110],[39,111,39,115],[40,106,40,110],[40,111,40,115],[41,106,41,110],[41,111,41,115],[42,106,42,110],[42,111,42,115],[60,111,60,115],[51,111,51,115],[55,111,55,115],[58,111,58,115],[59,111,59,115],[6,88,8,88],[14,106,14,110],[16,106,16,110],[9,88,10,88],[18,106,18,110],[49,111,49,115],[47,111,47,115],[14,111,14,115],[13,111,13,115],[30,111,30,115],[16,111,16,115],[24,111,24,115],[15,111,15,115],[21,111,21,115],[18,111,18,115],[45,111,45,115],[32,106,32,110],[30,106,30,110],[33,106,33,110],[11,80,11,84],[6,75,6,84],[9,80,10,84],[50,111,50,115],[50,106,50,110],[46,106,46,110],[44,111,44,115],[44,106,44,110],[47,106,47,110],[46,111,46,115],[17,111,17,115],[11,111,11,115],[12,80,12,84],[17,80,17,84],[20,80,20,84],[29,80,29,84],[21,80,21,84],[22,80,22,84],[14,89,14,104],[34,106,34,110],[14,80,14,84],[15,80,15,84],[48,106,48,110],[48,111,48,115],[7,111,8,115],[13,106,13,110],[29,106,29,110],[45,106,45,110],[27,106,27,110],[9,111,10,115],[16,89,16,104],[17,89,17,104],[18,89,18,104],[17,106,17,110],[23,111,23,115],[13,89,13,104],[11,106,11,110],[12,111,12,115],[38,106,38,110],[22,106,22,110],[19,106,19,110],[19,111,19,115],[28,111,28,115],[33,111,33,115],[34,111,34,115],[21,106,21,110],[29,111,29,115],[31,111,31,115],[23,106,23,110],[22,111,22,115],[15,106,15,110],[20,111,20,115],[24,106,24,110],[28,106,28,110],[27,111,27,115],[20,106,20,110],[25,106,25,110],[25,111,25,115],[26,106,26,110],[60,89,60,105],[59,89,59,105],[59,106,59,110],[60,106,60,110],[58,89,58,105],[57,89,57,105],[58,106,58,110],[41,89,41,104],[49,106,49,110],[53,89,54,104],[53,105,54,105],[55,89,55,104],[52,106,52,110],[60,75,60,79],[60,80,60,84],[58,58,58,74],[58,75,58,79],[59,58,59,74],[59,75,59,79],[59,80,59,84],[58,80,58,84],[38,89,38,104],[39,89,39,104],[40,89,40,104],[42,89,42,104],[43,89,43,104],[44,89,44,104],[47,89,47,104],[51,89,51,104],[49,89,49,104],[50,89,50,104],[53,88,54,88],[40,80,40,84],[38,75,38,79],[42,80,42,84],[39,80,39,84],[41,80,41,84],[57,58,57,74],[49,75,49,79],[55,75,55,79],[55,80,55,84],[49,58,49,73],[50,58,50,73],[51,58,51,73],[55,58,55,73],[52,58,52,73],[52,75,52,79],[52,80,52,84],[53,80,54,84],[51,75,51,79],[51,80,51,84],[53,58,54,73],[53,74,54,74],[53,75,54,79],[50,75,50,79],[50,80,50,84],[49,80,49,84],[16,80,16,84],[19,80,19,84],[18,80,18,84],[28,23,28,27],[17,23,17,27],[18,23,18,27],[19,23,19,27],[20,23,20,27],[21,23,21,27],[26,80,26,84],[28,80,28,84],[26,75,26,79],[27,75,27,79],[28,75,28,79],[25,58,25,73],[25,75,25,79],[25,80,25,84],[16,58,16,73],[17,58,17,73],[18,58,18,73],[19,58,19,73],[22,23,22,27],[30,75,30,79],[31,75,31,79],[33,75,33,79],[32,75,32,79],[27,80,27,84],[23,80,23,84],[24,58,24,73],[26,58,26,73],[27,58,27,73],[28,58,28,73],[29,58,29,73],[30,58,30,73],[30,80,30,84],[24,80,24,84],[32,80,32,84],[31,80,31,84],[11,75,11,79],[9,75,10,79],[24,75,24,79],[23,75,23,79],[19,75,19,79],[17,75,17,79],[16,75,16,79],[20,75,20,79],[14,75,14,79],[15,75,15,79],[21,75,21,79],[22,75,22,79],[13,75,13,79],[18,75,18,79],[33,18,33,22],[31,23,31,27],[34,23,34,27],[35,23,35,27],[36,23,36,27],[37,23,37,27],[33,23,33,27],[60,23,60,27],[58,18,58,22],[59,18,59,22],[59,1,59,17],[60,1,60,17],[60,18,60,22],[59,23,59,27],[31,58,31,73],[32,58,32,73],[33,58,33,73],[47,23,47,27],[34,58,34,73],[38,58,38,73],[39,58,39,73],[40,58,40,73],[42,58,42,73],[43,58,43,73],[35,58,35,73],[36,58,36,73],[44,58,44,73],[45,58,45,73],[46,58,46,73],[47,58,47,73],[60,58,60,74],[45,23,45,27],[38,23,38,27],[43,1,43,16],[42,1,42,16],[41,1,41,16],[44,1,44,16],[45,1,45,16],[44,23,44,27],[38,1,38,16],[39,1,39,16],[40,1,40,16],[43,23,43,27],[53,57,54,57],[58,1,58,17],[55,18,55,22],[46,18,46,22],[47,18,47,22],[49,18,49,22],[49,1,49,16],[46,1,46,16],[58,23,58,27],[49,23,49,27],[46,23,46,27],[47,1,47,16],[50,18,50,22],[55,1,55,16],[52,18,52,22],[52,23,52,27],[53,18,54,22],[55,23,55,27],[53,23,54,27],[50,1,50,16],[51,1,51,16],[52,1,52,16],[3,0,3,6],[9,0,10,0],[4,0,5,27],[6,0,8,0],[17,18,17,22],[18,18,18,22],[19,18,19,22],[20,18,20,22],[32,23,32,27],[22,18,22,22],[27,18,27,22],[28,18,28,22],[26,18,26,22],[30,18,30,22],[23,18,23,22],[21,18,21,22],[23,23,23,27],[29,23,29,27],[24,23,24,27],[26,23,26,27],[27,23,27,27],[30,23,30,27],[6,1,8,16],[13,18,13,22],[7,18,8,22],[25,1,25,16],[25,18,25,22],[16,1,16,16],[17,1,17,16],[18,1,18,16],[19,1,19,16],[20,1,20,16],[21,1,21,16],[7,17,8,17],[24,1,24,16],[24,18,24,22],[22,1,22,16],[23,1,23,16],[16,18,16,22],[11,18,11,22],[12,18,12,22],[14,18,14,22],[9,1,10,16],[11,1,11,16],[12,1,12,16],[13,1,13,16],[14,1,14,16],[15,1,15,16],[9,18,10,22],[14,23,14,27],[9,23,10,27],[15,58,15,73],[16,29,19,35],[11,23,11,27],[12,23,12,27],[13,23,13,27],[15,23,15,27],[15,18,15,22],[16,23,16,27]]}
[{"$f":"nazwa","v":"DEMO"}]
[{"$f":"temat","v":"Sprawozdanie finansowe za rok 2023"}]
[null,null,null,null,null,null,null,null,null,null,null,null,null,null,null,null,null,null,null,null,null,null,null,null,null,null,null,null,null,"Powrót do parametrów",null,null,null,null,null,null,null,null,null,null,null,null,null,null,null,null,null,null,null,null,null,null,null,null,null,null,null,null,null,null,null,null,null,null,null,null,null,null,null,null,null,null,null,null,null,null,null,null,null,null,null,null,null,null,"Wypełnianie z not... ",null,null,null,null,null,null,null,null,null,null,null,null,null,null,null,null,null,null,null,null,null,null,null,null,null,null,null,null,null,null,"Porównanie …"]
[]
["RACHUNEK ZYSKÓW I STRAT - wariant kalkulacyjny",null,null,null,null,null,null,null,null,null,null,null,null,null,null,null,null,null,null,null,null,null,null,null,null,null,null,null,null,null,null,null,null,null,null,null,null,null,null,null,null,null,null,null,null,null,null,null,null,null,null,null,null,null,null,null,null,"RACHUNEK ZYSKÓW I STRAT",null,null,null,null,null,null,null,null,null,null,null,null,null,null,null,null,null,null,null,null,null,null,null,null,null,null,null,null,null,null,"RACHUNEK ZYSKÓW I STRAT"]
[]
["Lp.","Wyszczególnienie",null,null,null,null,null,null,null,null,null,null,null,null,null,null,null,"Nr","Wykonanie za okres",null,null,null,null,null,null,null,null,null,null,null,null,null,null,null,null,null,null,null,null,null,null,null,null,null,null,null,null,null,null,null,null,null,null,null,null,null,null,"Lp.","Wyszczególnienie",null,null,null,null,null,null,null,null,null,null,null,null,null,null,null,"Nr","Wykonanie za okres",null,null,null,null,null,null,null,null,null,null,null,null,"Lp.","Wyszczególnienie",null,null,null,null,null,null,null,null,null,null,null,null,null,null,null,"Nr","Wykonanie za okres"]
[null,null,null,null,null,null,null,null,null,null,null,null,null,null,null,null,null,"noty",{"$f":"rokb","v":"dd.mm-dd.mm.rrrr"},null,null,null,null,{"$f":"rokp","v":"dd.mm-dd.mm.rrrr"},null,null,null,null,null,null,null,null,null,null,null,null,null,null,null,null,null,null,null,null,null,null,null,null,null,null,null,null,null,null,null,null,null,null,null,null,null,null,null,null,null,null,null,null,null,null,null,null,null,null,"no-",{"$f":"rokb","v":"dd.mm-dd.mm.rrrr"},null,null,null,null,{"$f":"rokp","v":"dd.mm-dd.mm.rrrr"},null,null,null,null,null,null,null,null,null,null,null,null,null,null,null,null,null,null,null,null,null,null,null,null,"no-",{"$f":"rokb","v":"dd.mm-dd.mm.rrrr"},null,null,null,null,{"$f":"rokp","v":"dd.mm-dd.mm.rrrr"}]
[null,null,null,null,null,null,null,null,null,null,null,null,null,null,null,null,null,null,null,null,null,null,null,null,null,null,null,null,null,null,null,null,null,null,null,null,null,null,null,null,null,null,null,null,null,null,null,null,null,null,null,null,null,null,null,null,null,null,null,null,null,null,null,null,null,null,null,null,null,null,null,null,null,null,"ty",null,null,null,null,null,null,null,null,null,null,null,null,null,null,null,null,null,null,null,null,null,null,null,null,null,null,null,null,null,null,"ty"]
["A.","Przychody netto ze sprzedaży produktów, towarów i materiałów, w tym:",null,null,null,null,null,null,null,null,null,null,null,null,null,null,null,null,{"$f":"S13+S14","v":0},null,null,null,null,{"$f":"X13+X14","v":0},null,null,null,null,null,"W arkuszach należy wypełniać tylko puste komórki. Nie należy wprowadzać informacji do komórek zawierających formuły (w pierwotnej wersji są to komórki z zerowymi wartościami).",null,null,null,null,null,null,null,null,null,null,null,null,null,null,null,null,null,null,null,null,null,null,null,null,null,null,null,null,null,null,null,null,null,null,null,null,null,null,null,null,null,null,null,null,null,{"$f":"BX13+BX14","v":0},null,null,null,null,{"$f":"CC13+CC14","v":0},null,null,null,null,null,null,null,null,null,null,null,null,null,null,null,null,null,null,null,null,null,null,null,null,null,{"$f":"DC13+DC14","v":0},null,null,null,null,{"$f":"DH13+DH14","v":0}]
[]
[null,"- od jednostek powiązanych",null,null,null,null,null,null,null,null,null,null,null,null,null,null,null,{"$f":"PrzecinekTM(Parametry!$B$75,\"\")","v":"4"},{"$f":"Przychody!$V$12","v":0},null,null,null,null,{"$f":"Przychody!$AM$12","v":0},null,null,null,null,null,null,null,null,null,null,null,null,null,null,null,null,null,null,null,null,null,null,null,null,null,null,null,null,null,null,null,null,null,null,null,null,null,null,null,null,null,null,null,null,null,null,null,null,null,null,null,{"$f":"Przychody!$V$12","v":0},null,null,null,null,{"$f":"Przychody!$AM$12","v":0}]
["I.","Przychody netto ze sprzedaży produktów",null,null,null,null,null,null,null,null,null,null,null,null,null,null,null,{"$f":"PrzecinekTM(Parametry!$B$75,\"\")","v":"4"},{"$f":"Przychody!$V$13+Przychody!$V$26","v":0},null,null,null,null,{"$f":"Przychody!$AM$13+Przychody!$AM$26","v":0},null,null,null,null,null,null,null,null,null,null,null,null,null,null,null,null,null,null,null,null,null,null,null,null,null,null,null,null,null,null,null,null,null,null,null,null,null,null,null,null,null,null,null,null,null,null,null,null,null,null,null,{"$f":"Przychody!$V$13+Przychody!$V$26","v":0},null,null,null,null,{"$f":"Przychody!$AM$13+Przychody!$AM$26","v":0}]
["II.","Przychody netto ze sprzedaży towarów i materiałów",null,null,null,null,null,null,null,null,null,null,null,null,null,null,null,{"$f":"PrzecinekTM(Parametry!$B$75,\"\")","v":"4"},{"$f":"Przychody!$V$19","v":0},null,null,null,null,{"$f":"Przychody!$AM$19","v":0},null,null,null,null,null,null,null,null,null,null,null,null,null,null,null,null,null,null,null,null,null,null,null,null,null,null,null,null,null,null,null,null,null,null,null,null,null,null,null,null,null,null,null,null,null,null,null,null,null,null,null,{"$f":"Przychody!$V$19","v":0},null,null,null,null,{"$f":"Przychody!$AM$19","v":0}]
["B.","Koszty sprzedanych produktów, towarów i materiałów, w tym:",null,null,null,null,null,null,null,null,null,null,null,null,null,null,null,null,{"$f":"S17+S18","v":0},null,null,null,null,{"$f":"X17+X18","v":0},null,null,null,null,null,null,null,null,null,null,null,null,null,null,null,null,null,null,null,null,null,null,null,null,null,null,null,null,null,null,null,null,null,null,null,null,null,null,null,null,null,null,null,null,null,null,null,null,null,null,null,{"$f":"BX17+BX18","v":0},null,null,null,null,{"$f":"CC17+CC18","v":0},null,null,null,null,null,null,null,null,null,null,null,null,null,null,null,null,null,null,null,null,null,null,null,null,null,{"$f":"DC17+DC18","v":0},null,null,null,null,{"$f":"DH17+DH18","v":0}]
[null,"- jednostkom powiązanym",null,null,null,null,null,null,null,null,null,null,null,null,null,null,null,{"$f":"PrzecinekTM(Parametry!$B$77,\"\")","v":""},{"$f":"Koszty_ukł_kalkulacyjny!$AC$34","v":0},null,null,null,null,{"$f":"Koszty_ukł_kalkulacyjny!$AM$34","v":0},null,null,null,null,null,null,null,null,null,null,null,null,null,null,null,null,null,null,null,null,null,null,null,null,null,null,null,null,null,null,null,null,null,null,null,null,null,null,null,null,null,null,null,null,null,null,null,null,null,null,null,{"$f":"Koszty_ukł_kalkulacyjny!$AC$34","v":0},null,null,null,null,{"$f":"Koszty_ukł_kalkulacyjny!$AM$34","v":0}]
["I.","Koszt wytworzenia sprzedanych produktów",null,null,null,null,null,null,null,null,null,null,null,null,null,null,null,{"$f":"PrzecinekTM(Parametry!$B$77,\"\")","v":""},{"$f":"Koszty_ukł_kalkulacyjny!$AC$35","v":0},null,null,null,null,{"$f":"Koszty_ukł_kalkulacyjny!$AM$35","v":0},null,null,null,null,null,null,null,null,null,null,null,null,null,null,null,null,null,null,null,null,null,null,null,null,null,null,null,null,null,null,null,null,null,null,null,null,null,null,null,null,null,null,null,null,null,null,null,null,null,null,null,{"$f":"Koszty_ukł_kalkulacyjny!$AC$35","v":0},null,null,null,null,{"$f":"Koszty_ukł_kalkulacyjny!$AM$35","v":0}]
["II.","Wartość sprzedanych towarów i materiałów",null,null,null,null,null,null,null,null,null,null,null,null,null,null,null,{"$f":"PrzecinekTM(Parametry!$B$77,\"\")","v":""},{"$f":"Koszty_ukł_kalkulacyjny!$AC$36","v":0},null,null,null,null,{"$f":"Koszty_ukł_kalkulacyjny!$AM$36","v":0},null,null,null,null,null,null,null,null,null,null,null,null,null,null,null,null,null,null,null,null,null,null,null,null,null,null,null,null,null,null,null,null,null,null,null,null,null,null,null,null,null,null,null,null,null,null,null,null,null,null,null,{"$f":"Koszty_ukł_kalkulacyjny!$AC$36","v":0},null,null,null,null,{"$f":"Koszty_ukł_kalkulacyjny!$AM$36","v":0}]
["C.","Zysk (strata) ze sprzedaży (A - B)",null,null,null,null,null,null,null,null,null,null,null,null,null,null,null,null,{"$f":"S10-S15","v":0},null,null,null,null,{"$f":"X10-X15","v":0},null,null,null,null,null,null,null,null,null,null,null,null,null,null,null,null,null,null,null,null,null,null,null,null,null,null,null,null,null,null,null,null,null,null,null,null,null,null,null,null,null,null,null,null,null,null,null,null,null,null,null,{"$f":"BX10-BX15","v":0},null,null,null,null,{"$f":"CC10-CC15","v":0},null,null,null,null,null,null,null,null,null,null,null,null,null,null,null,null,null,null,null,null,null,null,null,null,null,{"$f":"DC10-DC15","v":0},null,null,null,null,{"$f":"DH10-DH15","v":0}]
["D.","Koszty sprzedaży",null,null,null,null,null,null,null,null,null,null,null,null,null,null,null,{"$f":"PrzecinekTM(Parametry!$B$77,\"\")","v":""},{"$f":"Koszty_ukł_kalkulacyjny!$AC$37","v":0},null,null,null,null,{"$f":"Koszty_ukł_kalkulacyjny!$AM$37","v":0},null,null,null,null,null,null,null,null,null,null,null,null,null,null,null,null,null,null,null,null,null,null,null,null,null,null,null,null,null,null,null,null,null,null,null,null,null,null,null,null,null,null,null,null,null,null,null,null,null,null,null,{"$f":"Koszty_ukł_kalkulacyjny!$AC$37","v":0},null,null,null,null,{"$f":"Koszty_ukł_kalkulacyjny!$AM$37","v":0}]
["E.","Koszty ogólnego zarządu",null,null,null,null,null,null,null,null,null,null,null,null,null,null,null,{"$f":"PrzecinekTM(Parametry!$B$77,\"\")","v":""},{"$f":"Koszty_ukł_kalkulacyjny!$AC$38","v":0},null,null,null,null,{"$f":"Koszty_ukł_kalkulacyjny!$AM$38","v":0},null,null,null,null,null,null,null,null,null,null,null,null,null,null,null,null,null,null,null,null,null,null,null,null,null,null,null,null,null,null,null,null,null,null,null,null,null,null,null,null,null,null,null,null,null,null,null,null,null,null,null,{"$f":"Koszty_ukł_kalkulacyjny!$AC$38","v":0},null,null,null,null,{"$f":"Koszty_ukł_kalkulacyjny!$AM$38","v":0}]
["F.","Zysk (strata) ze sprzedaży (C - D - E)",null,null,null,null,null,null,null,null,null,null,null,null,null,null,null,null,{"$f":"S19-S20-S21","v":0},null,null,null,null,{"$f":"X19-X20-X21","v":0},null,null,null,null,null,null,null,null,null,null,null,null,null,null,null,null,null,null,null,null,null,null,null,null,null,null,null,null,null,null,null,null,null,null,null,null,null,null,null,null,null,null,null,null,null,null,null,null,null,null,null,{"$f":"BX19-BX20-BX21","v":0},null,null,null,null,{"$f":"CC19-CC20-CC21","v":0},null,null,null,null,null,null,null,null,null,null,null,null,null,null,null,null,null,null,null,null,null,null,null,null,null,{"$f":"DC19-DC20-DC21","v":0},null,null,null,null,{"$f":"DH19-DH20-DH21","v":0}]
["G.","Pozostałe przychody operacyjne",null,null,null,null,null,null,null,null,null,null,null,null,null,null,null,null,{"$f":"SUM(S24:W27)","v":0},null,null,null,null,{"$f":"SUM(X24:AB27)","v":0},null,null,null,null,null,null,null,null,null,null,null,null,null,null,null,null,null,null,null,null,null,null,null,null,null,null,null,null,null,null,null,null,null,null,null,null,null,null,null,null,null,null,null,null,null,null,null,null,null,null,null,{"$f":"SUM(BX24:CB27)","v":0},null,null,null,null,{"$f":"SUM(CC24:CG27)","v":0},null,null,null,null,null,null,null,null,null,null,null,null,null,null,null,null,null,null,null,null,null,null,null,null,null,{"$f":"SUM(DC24:DG27)","v":0},null,null,null,null,{"$f":"SUM(DH24:DL27)","v":0}]
["I.","Zysk z tytułu rozchodu niefinansowych aktywów trwałych",null,null,null,null,null,null,null,null,null,null,null,null,null,null,null,{"$f":"PrzecinekTM(Parametry!$B$78,\"\")","v":""},{"$f":"Poz_przych_oper!$AC$9","v":0},null,null,null,null,{"$f":"Poz_przych_oper!$AM$9","v":0},null,null,null,null,null,null,null,null,null,null,null,null,null,null,null,null,null,null,null,null,null,null,null,null,null,null,null,null,null,null,null,null,null,null,null,null,null,null,null,null,null,null,null,null,null,null,null,null,null,null,null,{"$f":"Poz_przych_oper!$AC$9","v":0},null,null,null,null,{"$f":"Poz_przych_oper!$AM$9","v":0}]
["II.","Dotacje",null,null,null,null,null,null,null,null,null,null,null,null,null,null,null,{"$f":"PrzecinekTM(Parametry!$B$78,\"\")","v":""},{"$f":"Poz_przych_oper!$AC$18","v":0},null,null,null,null,{"$f":"Poz_przych_oper!$AM$18","v":0},null,null,null,null,null,null,null,null,null,null,null,null,null,null,null,null,null,null,null,null,null,null,null,null,null,null,null,null,null,null,null,null,null,null,null,null,null,null,null,null,null,null,null,null,null,null,null,null,null,null,null,{"$f":"Poz_przych_oper!$AC$18","v":0},null,null,null,null,{"$f":"Poz_przych_oper!$AM$18","v":0}]
["III.","Aktualizacja wartości aktywów niefinansowych",null,null,null,null,null,null,null,null,null,null,null,null,null,null,null,{"$f":"PrzecinekTM(Parametry!$B$78,\"\")","v":""},{"$f":"Poz_przych_oper!$AC$21","v":0},null,null,null,null,{"$f":"Poz_przych_oper!$AM$21","v":0},null,null,null,null,null,null,null,null,null,null,null,null,null,null,null,null,null,null,null,null,null,null,null,null,null,null,null,null,null,null,null,null,null,null,null,null,null,null,null,null,null,null,null,null,null,null,null,null,null,null,null,{"$f":"Poz_przych_oper!$AC$21","v":0},null,null,null,null,{"$f":"Poz_przych_oper!$AM$21","v":0}]
["IV.","Inne przychody operacyjne",null,null,null,null,null,null,null,null,null,null,null,null,null,null,null,{"$f":"PrzecinekTM(Parametry!$B$78,\"\")","v":""},{"$f":"Poz_przych_oper!$AC$24","v":0},null,null,null,null,{"$f":"Poz_przych_oper!$AM$24","v":0},null,null,null,null,null,null,null,null,null,null,null,null,null,null,null,null,null,null,null,null,null,null,null,null,null,null,null,null,null,null,null,null,null,null,null,null,null,null,null,null,null,null,null,null,null,null,null,null,null,null,null,{"$f":"Poz_przych_oper!$AC$24","v":0},null,null,null,null,{"$f":"Poz_przych_oper!$AM$24","v":0}]
["H.","Pozostałe koszty operacyjne",null,null,null,null,null,null,null,null,null,null,null,null,null,null,null,null,{"$f":"SUM(S29:W31)","v":0},null,null,null,null,{"$f":"SUM(X29:AB31)","v":0},null,null,null,null,null,null,null,null,null,null,null,null,null,null,null,null,null,null,null,null,null,null,null,null,null,null,null,null,null,null,null,null,null,null,null,null,null,null,null,null,null,null,null,null,null,null,null,null,null,null,null,{"$f":"SUM(BX29:CB31)","v":0},null,null,null,null,{"$f":"SUM(CC29:CG31)","v":0},null,null,null,null,null,null,null,null,null,null,null,null,null,null,null,null,null,null,null,null,null,null,null,null,null,{"$f":"SUM(DC29:DG31)","v":0},null,null,null,null,{"$f":"SUM(DH29:DL31)","v":0}]
["I.","Strata z tytułu rozchodu niefinansowych aktywów trwałych",null,null,null,null,null,null,null,null,null,null,null,null,null,null,null,{"$f":"PrzecinekTM(Parametry!$B$79,\"\")","v":""},{"$f":"Poz_koszty_oper!$AC$9","v":0},null,null,null,null,{"$f":"Poz_koszty_oper!$AM$9","v":0},null,null,null,null,null,null,null,null,null,null,null,null,null,null,null,null,null,null,null,null,null,null,null,null,null,null,null,null,null,null,null,null,null,null,null,null,null,null,null,null,null,null,null,null,null,null,null,null,null,null,null,{"$f":"Poz_koszty_oper!$AC$9","v":0},null,null,null,null,{"$f":"Poz_koszty_oper!$AM$9","v":0}]
["II.","Aktualizacja wartości aktywów niefinansowych",null,null,null,null,null,null,null,null,null,null,null,null,null,null,null,{"$f":"PrzecinekTM(Parametry!$B$79,\"\")","v":""},{"$f":"Poz_koszty_oper!$AC$20","v":0},null,null,null,null,{"$f":"Poz_koszty_oper!$AM$20","v":0},null,null,null,null,null,null,null,null,null,null,null,null,null,null,null,null,null,null,null,null,null,null,null,null,null,null,null,null,null,null,null,null,null,null,null,null,null,null,null,null,null,null,null,null,null,null,null,null,null,null,null,{"$f":"Poz_koszty_oper!$AC$20","v":0},null,null,null,null,{"$f":"Poz_koszty_oper!$AM$20","v":0}]
["III.","Inne koszty operacyjne",null,null,null,null,null,null,null,null,null,null,null,null,null,null,null,{"$f":"PrzecinekTM(Parametry!$B$79,\"\")","v":""},{"$f":"Poz_koszty_oper!$AC$27","v":0},null,null,null,null,{"$f":"Poz_koszty_oper!$AM$27","v":0},null,null,null,null,null,null,null,null,null,null,null,null,null,null,null,null,null,null,null,null,null,null,null,null,null,null,null,null,null,null,null,null,null,null,null,null,null,null,null,null,null,null,null,null,null,null,null,null,null,null,null,{"$f":"Poz_koszty_oper!$AC$27","v":0},null,null,null,null,{"$f":"Poz_koszty_oper!$AM$27","v":0}]
["I.","Zysk (strata) z działalności operacyjnej (F + G - H)",null,null,null,null,null,null,null,null,null,null,null,null,null,null,null,null,{"$f":"S22+S23-S28","v":0},null,null,null,null,{"$f":"X22+X23-X28","v":0},null,null,null,null,null,null,null,null,null,null,null,null,null,null,null,null,null,null,null,null,null,null,null,null,null,null,null,null,null,null,null,null,null,null,null,null,null,null,null,null,null,null,null,null,null,null,null,null,null,null,null,{"$f":"BX22+BX23-BX28","v":0},null,null,null,null,{"$f":"CC22+CC23-CC28","v":0},null,null,null,null,null,null,null,null,null,null,null,null,null,null,null,null,null,null,null,null,null,null,null,null,null,{"$f":"DC22+DC23-DC28","v":0},null,null,null,null,{"$f":"DH22+DH23-DH28","v":0}]
["J.","Przychody finansowe",null,null,null,null,null,null,null,null,null,null,null,null,null,null,null,null,{"$f":"S34+S39+S41+S43+S44","v":0},null,null,null,null,{"$f":"X34+X39+X41+X43+X44","v":0},null,null,null,null,null,null,null,null,null,null,null,null,null,null,null,null,null,null,null,null,null,null,null,null,null,null,null,null,null,null,null,null,null,null,null,null,null,null,null,null,null,null,null,null,null,null,null,null,null,null,null,{"$f":"BX34+BX39+BX41+BX43+BX44","v":0},null,null,null,null,{"$f":"CC34+CC39+CC41+CC43+CC44","v":0},null,null,null,null,null,null,null,null,null,null,null,null,null,null,null,null,null,null,null,null,null,null,null,null,null,{"$f":"DC34+DC39+DC41+DC43+DC44","v":0},null,null,null,null,{"$f":"DH34+DH39+DH41+DH43+DH44","v":0}]
["I.","Dywidendy i udziały w zyskach, w tym:",null,null,null,null,null,null,null,null,null,null,null,null,null,null,null,{"$f":"PrzecinekTM(Parametry!$B$80,\"\")","v":""},{"$f":"Przych_fin!$AC$9","v":0},null,null,null,null,{"$f":"Przych_fin!$AM$9","v":0},null,null,null,null,null,null,null,null,null,null,null,null,null,null,null,null,null,null,null,null,null,null,null,null,null,null,null,null,null,null,null,null,null,null,null,null,null,null,null,null,null,null,null,null,null,null,null,null,null,null,null,{"$f":"Przych_fin!$AC$9","v":0},null,null,null,null,{"$f":"Przych_fin!$AM$9","v":0}]
[null,"a) od jednostek powiązanych, w tym:",null,null,null,null,null,null,null,null,null,null,null,null,null,null,null,{"$f":"PrzecinekTM(Parametry!$B$80,\"\")","v":""},{"$f":"Przych_fin!$AC$13","v":0},null,null,null,null,{"$f":"Przych_fin!$AM$13","v":0},null,null,null,null,null,null,null,null,null,null,null,null,null,null,null,null,null,null,null,null,null,null,null,null,null,null,null,null,null,null,null,null,null,null,null,null,null,null,null,null,null,null,null,null,null,null,null,null,null,null,null,{"$f":"Przych_fin!$AC$13","v":0},null,null,null,null,{"$f":"Przych_fin!$AM$13","v":0}]
[null,"- w których jednostka posiada zaangażowanie w kapitale",null,null,null,null,null,null,null,null,null,null,null,null,null,null,null,{"$f":"PrzecinekTM(Parametry!$B$80,\"\")","v":""},{"$f":"Przych_fin!$AC$11","v":0},null,null,null,null,{"$f":"Przych_fin!$AM$11","v":0},null,null,null,null,null,null,null,null,null,null,null,null,null,null,null,null,null,null,null,null,null,null,null,null,null,null,null,null,null,null,null,null,null,null,null,null,null,null,null,null,null,null,null,null,null,null,null,null,null,null,null,{"$f":"Przych_fin!$AC$11","v":0},null,null,null,null,{"$f":"Przych_fin!$AM$11","v":0}]
[null,"b) od jednostek pozostałych, w tym:",null,null,null,null,null,null,null,null,null,null,null,null,null,null,null,{"$f":"PrzecinekTM(Parametry!$B$80,\"\")","v":""},{"$f":"Przych_fin!$AC$12","v":0},null,null,null,null,{"$f":"Przych_fin!$AM$12","v":0},null,null,null,null,null,null,null,null,null,null,null,null,null,null,null,null,null,null,null,null,null,null,null,null,null,null,null,null,null,null,null,null,null,null,null,null,null,null,null,null,null,null,null,null,null,null,null,null,null,null,null,{"$f":"Przych_fin!$AC$12","v":0},null,null,null,null,{"$f":"Przych_fin!$AM$12","v":0}]
[null,"- w których jednostka posiada zaangażowanie w kapitale",null,null,null,null,null,null,null,null,null,null,null,null,null,null,null,{"$f":"PrzecinekTM(Parametry!$B$80,\"\")","v":""},{"$f":"Przych_fin!$AC$13","v":0},null,null,null,null,{"$f":"Przych_fin!$AM$13","v":0},null,null,null,null,null,null,null,null,null,null,null,null,null,null,null,null,null,null,null,null,null,null,null,null,null,null,null,null,null,null,null,null,null,null,null,null,null,null,null,null,null,null,null,null,null,null,null,null,null,null,null,{"$f":"Przych_fin!$AC$13","v":0},null,null,null,null,{"$f":"Przych_fin!$AM$13","v":0}]
["II.","Odsetki, w tym:",null,null,null,null,null,null,null,null,null,null,null,null,null,null,null,{"$f":"PrzecinekTM(Parametry!$B$80,\"\")","v":""},{"$f":"Przych_fin!$AC$14","v":0},null,null,null,null,{"$f":"Przych_fin!$AM$14","v":0},null,null,null,null,null,null,null,null,null,null,null,null,null,null,null,null,null,null,null,null,null,null,null,null,null,null,null,null,null,null,null,null,null,null,null,null,null,null,null,null,null,null,null,null,null,null,null,null,null,null,null,{"$f":"Przych_fin!$AC$14","v":0},null,null,null,null,{"$f":"Przych_fin!$AM$14","v":0}]
[null,"- od jednostek powiązanych",null,null,null,null,null,null,null,null,null,null,null,null,null,null,null,{"$f":"PrzecinekTM(Parametry!$B$80,\"\")","v":""},{"$f":"Przych_fin!$AC$15","v":0},null,null,null,null,{"$f":"Przych_fin!$AM$15","v":0},null,null,null,null,null,null,null,null,null,null,null,null,null,null,null,null,null,null,null,null,null,null,null,null,null,null,null,null,null,null,null,null,null,null,null,null,null,null,null,null,null,null,null,null,null,null,null,null,null,null,null,{"$f":"Przych_fin!$AC$15","v":0},null,null,null,null,{"$f":"Przych_fin!$AM$15","v":0}]
["III.","Zysk z tytułu rozchodu aktywów finansowych, w tym:",null,null,null,null,null,null,null,null,null,null,null,null,null,null,null,{"$f":"PrzecinekTM(Parametry!$B$80,\"\")","v":""},{"$f":"Przych_fin!$AC$26","v":0},null,null,null,null,{"$f":"Przych_fin!$AM$26","v":0},null,null,null,null,null,null,null,null,null,null,null,null,null,null,null,null,null,null,null,null,null,null,null,null,null,null,null,null,null,null,null,null,null,null,null,null,null,null,null,null,null,null,null,null,null,null,null,null,null,null,null,{"$f":"Przych_fin!$AC$26","v":0},null,null,null,null,{"$f":"Przych_fin!$AM$26","v":0}]
[null,"- w jednostkach powiązanych"]
["IV.","Aktualizacja wartości aktywów finansowych",null,null,null,null,null,null,null,null,null,null,null,null,null,null,null,{"$f":"PrzecinekTM(Parametry!$B$80,\"\")","v":""},{"$f":"Przych_fin!$AC$31","v":0},null,null,null,null,{"$f":"Przych_fin!$AM$31","v":0},null,null,null,null,null,null,null,null,null,null,null,null,null,null,null,null,null,null,null,null,null,null,null,null,null,null,null,null,null,null,null,null,null,null,null,null,null,null,null,null,null,null,null,null,null,null,null,null,null,null,null,{"$f":"Przych_fin!$AC$31","v":0},null,null,null,null,{"$f":"Przych_fin!$AM$31","v":0}]
["V.","Inne",null,null,null,null,null,null,null,null,null,null,null,null,null,null,null,{"$f":"PrzecinekTM(Parametry!$B$80,\"\")","v":""},{"$f":"Przych_fin!$AC$33","v":0},null,null,null,null,{"$f":"Przych_fin!$AM$33","v":0},null,null,null,null,null,null,null,null,null,null,null,null,null,null,null,null,null,null,null,null,null,null,null,null,null,null,null,null,null,null,null,null,null,null,null,null,null,null,null,null,null,null,null,null,null,null,null,null,null,null,null,{"$f":"Przych_fin!$AC$33","v":0},null,null,null,null,{"$f":"Przych_fin!$AM$33","v":0}]
["K.","Koszty finansowe",null,null,null,null,null,null,null,null,null,null,null,null,null,null,null,null,{"$f":"S46+S48+S50+S51","v":0},null,null,null,null,{"$f":"X46+X48+X50+X51","v":0},null,null,null,null,null,null,null,null,null,null,null,null,null,null,null,null,null,null,null,null,null,null,null,null,null,null,null,null,null,null,null,null,null,null,null,null,null,null,null,null,null,null,null,null,null,null,null,null,null,null,null,{"$f":"BX46+BX48+BX50+BX51","v":0},null,null,null,null,{"$f":"CC46+CC48+CC50+CC51","v":0},null,null,null,null,null,null,null,null,null,null,null,null,null,null,null,null,null,null,null,null,null,null,null,null,null,{"$f":"DC46+DC48+DC50+DC51","v":0},null,null,null,null,{"$f":"DH46+DH48+DH50+DH51","v":0}]
["I.","Odsetki, w tym:",null,null,null,null,null,null,null,null,null,null,null,null,null,null,null,{"$f":"PrzecinekTM(Parametry!$B$81,\"\")","v":""},{"$f":"Koszty_fin!$AC$9","v":0},null,null,null,null,{"$f":"Koszty_fin!$AM$9","v":0},null,null,null,null,null,null,null,null,null,null,null,null,null,null,null,null,null,null,null,null,null,null,null,null,null,null,null,null,null,null,null,null,null,null,null,null,null,null,null,null,null,null,null,null,null,null,null,null,null,null,null,{"$f":"Koszty_fin!$AC$9","v":0},null,null,null,null,{"$f":"Koszty_fin!$AM$9","v":0}]
[null,"- dla jednostek powiązanych",null,null,null,null,null,null,null,null,null,null,null,null,null,null,null,{"$f":"PrzecinekTM(Parametry!$B$81,\"\")","v":""},{"$f":"Koszty_fin!$AC$10","v":0},null,null,null,null,{"$f":"Koszty_fin!$AM$10","v":0},null,null,null,null,null,null,null,null,null,null,null,null,null,null,null,null,null,null,null,null,null,null,null,null,null,null,null,null,null,null,null,null,null,null,null,null,null,null,null,null,null,null,null,null,null,null,null,null,null,null,null,{"$f":"Koszty_fin!$AC$10","v":0},null,null,null,null,{"$f":"Koszty_fin!$AM$10","v":0}]
["II.","Strata z tytułu rozchodu aktywów finansowych, w tym:",null,null,null,null,null,null,null,null,null,null,null,null,null,null,null,{"$f":"PrzecinekTM(Parametry!$B$81,\"\")","v":""},{"$f":"Koszty_fin!$AC$27","v":0},null,null,null,null,{"$f":"Koszty_fin!$AM$27","v":0},null,null,null,null,null,null,null,null,null,null,null,null,null,null,null,null,null,null,null,null,null,null,null,null,null,null,null,null,null,null,null,null,null,null,null,null,null,null,null,null,null,null,null,null,null,null,null,null,null,null,null,{"$f":"Koszty_fin!$AC$27","v":0},null,null,null,null,{"$f":"Koszty_fin!$AM$27","v":0}]
[null,"- w jednostkach powiązanych"]
["III.","Aktualizacja wartości aktywów finansowych",null,null,null,null,null,null,null,null,null,null,null,null,null,null,null,{"$f":"PrzecinekTM(Parametry!$B$81,\"\")","v":""},{"$f":"Koszty_fin!$AC$31","v":0},null,null,null,null,{"$f":"Koszty_fin!$AM$31","v":0},null,null,null,null,null,null,null,null,null,null,null,null,null,null,null,null,null,null,null,null,null,null,null,null,null,null,null,null,null,null,null,null,null,null,null,null,null,null,null,null,null,null,null,null,null,null,null,null,null,null,null,{"$f":"Koszty_fin!$AC$31","v":0},null,null,null,null,{"$f":"Koszty_fin!$AM$31","v":0}]
["IV.","Inne",null,null,null,null,null,null,null,null,null,null,null,null,null,null,null,{"$f":"PrzecinekTM(Parametry!$B$81,\"\")","v":""},{"$f":"Koszty_fin!$AC$33","v":0},null,null,null,null,{"$f":"Koszty_fin!$AM$33","v":0},null,null,null,null,null,null,null,null,null,null,null,null,null,null,null,null,null,null,null,null,null,null,null,null,null,null,null,null,null,null,null,null,null,null,null,null,null,null,null,null,null,null,null,null,null,null,null,null,null,null,null,{"$f":"Koszty_fin!$AC$33","v":0},null,null,null,null,{"$f":"Koszty_fin!$AM$33","v":0}]
["L.","Zysk (strata) brutto (I + J - K)",null,null,null,null,null,null,null,null,null,null,null,null,null,null,null,null,{"$f":"S32+S33-S45","v":0},null,null,null,null,{"$f":"X32+X33-X45","v":0},null,null,null,null,null,null,null,null,null,null,null,null,null,null,null,null,null,null,null,null,null,null,null,null,null,null,null,null,null,null,null,null,null,null,null,null,null,null,null,null,null,null,null,null,null,null,null,null,null,null,null,{"$f":"BX32+BX33-BX45","v":0},null,null,null,null,{"$f":"CC32+CC33-CC45","v":0},null,null,null,null,null,null,null,null,null,null,null,null,null,null,null,null,null,null,null,null,null,null,null,null,null,{"$f":"DC32+DC33-DC45","v":0},null,null,null,null,{"$f":"DH32+DH33-DH45","v":0}]
["M.","Podatek dochodowy",null,null,null,null,null,null,null,null,null,null,null,null,null,null,null,{"$f":"PrzecinekTM(IF(Parametry!$P$10=2,\"\",Parametry!$B$89),Parametry!$B$90)","v":""},{"$f":"Podatek_CIT!$T23+Pod_odroczony!$AM$17","v":0},null,null,null,null,null,null,null,null,null,"Pole z komentarzem!",null,null,null,null,null,null,null,null,null,null,null,null,null,null,null,null,null,null,null,null,null,null,null,null,null,null,null,null,null,null,null,null,null,null,null,null,null,null,null,null,null,null,null,null,null,null,{"$f":"Podatek_CIT!$T23+Pod_odroczony!$AM$17","v":0}]
["N.","Pozostałe obowiązkowe zmniejszenia zysku (zwiększenia straty)"]
[]
["O.","Zysk (strata) netto (L - M - N)",null,null,null,null,null,null,null,null,null,null,null,null,null,null,null,null,{"$f":"S52-S53-S54","v":0},null,null,null,null,{"$f":"X52-X53-X54","v":0},null,null,null,null,null,null,null,null,null,null,null,null,null,null,null,null,null,null,null,null,null,null,null,null,null,null,null,null,null,null,null,null,null,null,null,null,null,null,null,null,null,null,null,null,null,null,null,null,null,null,null,{"$f":"BX52-BX53-BX54","v":0},null,null,null,null,{"$f":"CC52-CC53-CC54","v":0},null,null,null,null,null,null,null,"O.","Zysk (strata) netto (L - M - N)",null,null,null,null,null,null,null,null,null,null,null,null,null,null,null,null,{"$f":"DC52-DC53-DC54","v":0},null,null,null,null,{"$f":"DH52-DH53-DH54","v":0}]
[]
[null,"Sprawdzenie"]
[null,"Bilans",null,null,null,null,null,null,null,null,null,null,null,null,null,null,null,null,{"$f":"IF(Parametry!$N$24=\"p\",0,Bilans_PASYWA!S24)","v":0},null,null,null,null,{"$f":"IF(Parametry!$N$24=\"p\",0,Bilans_PASYWA!X24)","v":0}]
[null,"RZiS",null,null,null,null,null,null,null,null,null,null,null,null,null,null,null,null,{"$f":"S56","v":0},null,null,null,null,{"$f":"X56","v":0}]
[null,"różnica",null,null,null,null,null,null,null,null,null,null,null,null,null,null,null,null,{"$f":"S59-S60","v":0},null,null,null,null,{"$f":"X59-X60","v":0}]

{"sheet":"Zestawienie_zmian_w_kapitale","index":13,"n_rows":143,"n_cols":30,"rows_kept":143,"cut":false,"hidden":true,"merged":[[130,23,130,27],[131,18,131,22],[131,23,131,27],[131,1,131,17],[132,1,132,17],[132,18,132,22],[132,23,132,27],[2,29,2,34],[106,23,106,27],[111,18,111,22],[111,23,111,27],[112,18,112,22],[112,23,112,27],[107,23,107,27],[95,23,95,27],[92,23,92,27],[92,18,92,22],[93,18,93,22],[110,23,110,27],[99,18,99,22],[71,18,71,22],[71,23,71,27],[55,18,55,22],[55,23,55,27],[92,1,92,17],[97,1,97,17],[96,1,96,17],[90,18,90,22],[76,1,76,17],[76,18,76,22],[76,23,76,27],[38,1,38,17],[38,18,38,22],[48,23,48,27],[75,23,75,27],[52,23,52,27],[64,1,65,17],[56,1,56,17],[66,1,66,17],[39,1,39,17],[41,1,41,17],[45,1,45,17],[50,1,50,17],[51,1,51,17],[54,1,54,17],[40,18,40,22],[45,18,45,22],[42,18,43,22],[140,1,140,17],[136,23,136,27],[73,23,73,27],[64,23,65,27],[66,23,66,27],[68,23,68,27],[56,23,56,27],[113,23,113,27],[96,23,96,27],[104,23,104,27],[135,23,135,27],[116,23,116,27],[117,23,117,27],[122,23,123,27],[118,23,118,27],[119,23,119,27],[57,1,57,17],[66,18,66,22],[68,1,68,17],[56,18,56,22],[57,18,57,22],[91,1,91,17],[93,23,93,27],[104,18,104,22],[141,1,141,17],[12,18,12,22],[8,29,10,46],[12,29,14,46],[13,23,13,27],[14,23,14,27],[8,23,8,27],[10,23,10,27],[11,23,11,27],[8,18,8,22],[12,23,12,27],[9,23,9,27],[10,18,10,22],[11,18,11,22],[141,18,141,22],[138,23,138,27],[139,23,139,27],[140,23,140,27],[141,23,141,27],[138,18,138,22],[91,23,91,27],[85,23,85,27],[137,23,137,27],[108,23,108,27],[126,23,126,27],[127,23,127,27],[98,23,98,27],[78,23,78,27],[88,23,88,27],[86,23,86,27],[70,23,70,27],[143,18,143,22],[142,18,142,22],[128,23,128,27],[142,23,142,27],[143,23,143,27],[103,23,103,27],[84,18,84,22],[98,18,98,22],[91,18,91,22],[83,18,83,22],[140,18,140,22],[139,18,139,22],[105,18,105,22],[105,23,105,27],[72,18,72,22],[72,23,72,27],[75,18,75,22],[120,23,120,27],[121,23,121,27],[120,18,120,22],[122,18,123,22],[97,23,97,27],[96,18,96,22],[97,18,97,22],[101,18,101,22],[81,23,81,27],[101,23,101,27],[99,23,99,27],[100,23,100,27],[109,18,109,22],[109,23,109,27],[114,18,114,22],[108,18,108,22],[114,23,114,27],[102,23,102,27],[113,18,113,22],[115,18,115,22],[102,18,102,22],[84,23,84,27],[87,23,87,27],[89,18,89,22],[110,1,110,17],[42,23,43,27],[82,23,82,27],[73,18,73,22],[74,18,74,22],[74,23,74,27],[68,18,68,22],[79,23,79,27],[50,23,50,27],[57,23,57,27],[51,23,51,27],[80,18,80,22],[62,0,63,27],[74,1,74,17],[82,1,82,17],[67,23,67,27],[53,1,53,17],[53,18,53,22],[47,23,47,27],[49,23,49,27],[52,1,52,17],[47,1,47,17],[49,1,49,17],[47,18,47,22],[136,18,136,22],[137,18,137,22],[128,1,128,17],[128,18,128,22],[137,1,137,17],[136,1,136,17],[126,1,126,17],[126,18,126,22],[127,1,127,17],[127,18,127,22],[135,1,135,17],[135,18,135,22],[130,1,130,17],[130,18,130,22],[110,18,110,22],[107,1,107,17],[107,18,107,22],[103,18,103,22],[15,23,15,27],[134,1,134,17],[120,1,120,17],[121,1,121,17],[121,18,121,22],[125,1,125,17],[116,18,116,22],[119,1,119,17],[118,1,118,17],[116,1,116,17],[118,18,118,22],[119,18,119,22],[117,18,117,22],[105,1,105,17],[106,1,106,17],[111,1,111,17],[112,1,112,17],[113,1,113,17],[115,23,115,27],[117,1,117,17],[17,1,17,17],[17,18,17,22],[17,23,17,27],[18,1,18,17],[18,18,18,22],[18,23,18,27],[13,18,13,22],[19,23,19,27],[20,23,20,27],[15,1,15,17],[20,1,20,17],[20,18,20,22],[3,0,3,6],[4,0,5,27],[6,0,7,0],[6,1,7,17],[6,18,7,22],[6,23,7,27],[16,1,16,17],[16,18,16,22],[16,23,16,27],[122,0,123,0],[122,1,123,17],[44,1,44,17],[42,0,43,0],[42,1,43,17],[67,1,67,17],[64,0,65,0],[73,1,73,17],[104,1,104,17],[94,1,94,17],[88,1,88,17],[89,1,89,17],[55,1,55,17],[46,1,46,17],[93,1,93,17],[78,1,78,17],[86,1,86,17],[87,1,87,17],[70,1,70,17],[72,1,72,17],[79,1,79,17],[109,1,109,17],[114,1,114,17],[115,1,115,17],[25,18,25,22],[108,1,108,17],[34,18,34,22],[32,1,32,17],[33,1,33,17],[77,23,77,27],[83,23,83,27],[44,23,44,27],[27,23,27,27],[53,23,53,27],[54,23,54,27],[69,23,69,27],[37,23,37,27],[38,23,38,27],[100,1,100,17],[100,18,100,22],[88,18,88,22],[94,18,94,22],[94,23,94,27],[95,1,95,17],[95,18,95,22],[99,1,99,17],[89,23,89,27],[90,23,90,27],[44,18,44,22],[54,18,54,22],[69,18,69,22],[33,23,33,27],[32,23,32,27],[35,23,35,27],[39,23,39,27],[41,23,41,27],[40,23,40,27],[106,18,106,22],[49,18,49,22],[50,18,50,22],[48,18,48,22],[48,1,48,17],[52,18,52,22],[77,1,77,17],[77,18,77,22],[86,18,86,22],[101,1,101,17],[69,1,69,17],[75,1,75,17],[79,18,79,22],[90,1,90,17],[83,1,83,17],[103,1,103,17],[102,1,102,17],[85,18,85,22],[87,18,87,22],[98,1,98,17],[81,1,81,17],[85,1,85,17],[80,1,80,17],[84,1,84,17],[16,29,18,46],[82,18,82,22],[19,18,19,22],[51,18,51,22],[25,23,25,27],[26,23,26,27],[67,18,67,22],[81,18,81,22],[64,18,65,22],[28,18,28,22],[33,18,33,22],[27,18,27,22],[29,18,29,22],[32,18,32,22],[35,18,35,22],[36,18,36,22],[80,23,80,27],[78,18,78,22],[24,23,24,27],[70,18,70,22],[45,23,45,27],[39,18,39,22],[46,18,46,22],[46,23,46,27],[21,23,21,27],[28,23,28,27],[30,23,30,27],[41,18,41,22],[29,23,29,27],[34,23,34,27],[36,23,36,27],[31,23,31,27],[22,1,22,17],[22,18,22,22],[22,23,22,27],[23,1,23,17],[23,18,23,22],[27,1,27,17],[24,1,24,17],[24,18,24,22],[30,1,30,17],[31,1,31,17],[25,1,25,17],[35,1,35,17],[37,1,37,17],[37,18,37,22],[23,23,23,27],[21,18,21,22],[142,1,142,17],[8,1,8,17],[10,1,10,17],[11,1,11,17],[31,18,31,22],[30,18,30,22],[34,1,34,17],[29,1,29,17],[9,1,9,17],[26,18,26,22],[15,18,15,22],[19,1,19,17],[14,1,14,17],[28,1,28,17],[14,18,14,22],[9,18,9,22],[12,1,12,17],[13,1,13,17],[26,1,26,17],[40,1,40,17],[36,1,36,17],[71,1,71,17],[21,1,21,17],[139,1,139,17]]}
[{"$f":"nazwa","v":"DEMO"}]
[{"$f":"temat","v":"Sprawozdanie finansowe za rok 2023"}]
[null,null,null,null,null,null,null,null,null,null,null,null,null,null,null,null,null,null,null,null,null,null,null,null,null,null,null,null,null,"Powrót do parametrów"]
[]
["Zestawienie zmian w kapitale (funduszu) własnym"]
[]
["Lp.","Wyszczególnienie",null,null,null,null,null,null,null,null,null,null,null,null,null,null,null,null,{"$f":"rokb","v":"dd.mm-dd.mm.rrrr"},null,null,null,null,{"$f":"rokp","v":"dd.mm-dd.mm.rrrr"}]
[]
["I.","Kapitał (fundusz) własny na początek okresu (BO)",null,null,null,null,null,null,null,null,null,null,null,null,null,null,null,null,{"$f":"S13+S28+S43+S67+S82","v":0},null,null,null,null,{"$f":"X13+X28+X43+X67+X82","v":0},null,null,null,null,null,"Zyski i straty do zestawienia zmian w kapitale własnym wprowadzamy z odpowiednim znakiem tj. zyski z znakiem dodatnim straty z znakiem ujemnym."]
[null," - zmiany przyjętych zasad (polityki) rachunkowości",null,null,null,null,null,null,null,null,null,null,null,null,null,null,null,null,{"$f":"S84-S101","v":0},null,null,null,null,{"$f":"X84-X101","v":0}]
[null," - korekty błędów",null,null,null,null,null,null,null,null,null,null,null,null,null,null,null,null,{"$f":"S85-S102","v":0},null,null,null,null,{"$f":"X85-X102","v":0}]
["I.a.","Kapitał (fundusz) własny na początek okresu (BO), po korektach",null,null,null,null,null,null,null,null,null,null,null,null,null,null,null,null,{"$f":"S9+S10+S11","v":0},null,null,null,null,{"$f":"X9+X10+X11","v":0}]
[" 1.","Kapitał (fundusz) podstawowy na początek okresu",null,null,null,null,null,null,null,null,null,null,null,null,null,null,null,null,{"$f":"$X$27","v":0},null,null,null,null,null,null,null,null,null,null,"W arkuszach należy wypełniać tylko puste komórki. Nie należy wprowadzać informacji do komórek zawierających formuły (w pierwotnej wersji są to komórki z zerowymi wartościami)."]
["1.1.","Zmiany kapitału (funduszu) podstawowego",null,null,null,null,null,null,null,null,null,null,null,null,null,null,null,null,{"$f":"S15-S21","v":0},null,null,null,null,{"$f":"X15-X21","v":0}]
[null,"a) zwiększenie (z tytułu)",null,null,null,null,null,null,null,null,null,null,null,null,null,null,null,null,{"$f":"SUM(S16:S20)","v":0},null,null,null,null,{"$f":"SUM(X16:X20)","v":0}]
[null,"- wydania udziałów (emisji akcji)"]
[null," - ",null,null,null,null,null,null,null,null,null,null,null,null,null,null,null,null,null,null,null,null,null,null,null,null,null,null,null,"UWAGA ! W przypadku wyboru wersji wypełnienia sprawozdania na podstawie danych z not - Zestawienie zmian w kapitale własnym wymaga uzupełnienia, nawet gdy nie jest prezentowane"]
[null," - "]
[null," - "]
[null," - "]
[null,"b) zmniejszenie (z tytułu)",null,null,null,null,null,null,null,null,null,null,null,null,null,null,null,null,{"$f":"SUM(S22:S26)","v":0},null,null,null,null,{"$f":"SUM(X22:X26)","v":0}]
[null," - umorzenia udziałów (akcji)"]
[null," - "]
[null," - "]
[null," - "]
[null," - "]
["1.2.","Kapitał (fundusz) podstawowy na koniec okresu",null,null,null,null,null,null,null,null,null,null,null,null,null,null,null,null,{"$f":"S13+S14","v":0},null,null,null,null,{"$f":"X13+X14","v":0}]
[" 2.","Kapitał (fundusz) zapasowy na początek okresu",null,null,null,null,null,null,null,null,null,null,null,null,null,null,null,null,{"$f":"$X$42","v":0}]
["2.1.","Zmiany kapitału (funduszu) zapasowego",null,null,null,null,null,null,null,null,null,null,null,null,null,null,null,null,{"$f":"S30-S36","v":0},null,null,null,null,{"$f":"X30-X36","v":0}]
[null,"a) zwiększenie (z tytułu)",null,null,null,null,null,null,null,null,null,null,null,null,null,null,null,null,{"$f":"SUM(S31:S35)","v":0},null,null,null,null,{"$f":"SUM(X31:X35)","v":0}]
[null," - emisji akcji powyżej wartości nominalnej"]
[null," - podziału zysku (ustawowo)"]
[null," - podziału zysku (ponad wymaganą ustawowo minimalną wartość)"]
[null," - z kapitału z aktualizacji wyceny"]
[]
[null,"b) zmniejszenie (z tytułu)",null,null,null,null,null,null,null,null,null,null,null,null,null,null,null,null,{"$f":"SUM(S37:S41)","v":0},null,null,null,null,{"$f":"SUM(X37:X41)","v":0}]
[null," - pokrycia straty"]
[null," - "]
[null," - "]
[null," - "]
[null," - "]
["2.2.","Stan kapitału (funduszu) zapasowego na koniec okresu",null,null,null,null,null,null,null,null,null,null,null,null,null,null,null,null,{"$f":"S28+S29","v":0},null,null,null,null,{"$f":"X28+X29","v":0}]
[" 3.","Kapitał (fundusz) z aktualizacji wyceny na początek okresu - zmiany przyjętych zasad (polityki) rachunkowości",null,null,null,null,null,null,null,null,null,null,null,null,null,null,null,null,{"$f":"$X$58","v":0}]
[]
["3.1.","Zmiany kapitału (funduszu) z aktualizacji wyceny",null,null,null,null,null,null,null,null,null,null,null,null,null,null,null,null,{"$f":"S46-S52","v":0},null,null,null,null,{"$f":"X46-X52","v":0}]
[null,"a) zwiększenie (z tytułu)",null,null,null,null,null,null,null,null,null,null,null,null,null,null,null,null,{"$f":"SUM(S47:S51)","v":0},null,null,null,null,{"$f":"SUM(X47:X51)","v":0}]
[null," - przeszacowanie inwestycji zaliczonych do aktywów trwałych"]
[null," - "]
[null," - "]
[null," - "]
[null," - "]
[null,"b) zmniejszenie (z tytułu)",null,null,null,null,null,null,null,null,null,null,null,null,null,null,null,null,{"$f":"SUM(S53:S57)","v":0},null,null,null,null,{"$f":"SUM(X53:X57)","v":0}]
[null," - zbycie środków trwałych podlegających aktualizacji"]
[null," - przeszacowanie inwestycji zaliczonych do aktywów trwałych"]
[null," - "]
[null," - "]
[null," - "]
["3.2.","Kapitał (fundusz) z aktualizacji wyceny na koniec okresu",null,null,null,null,null,null,null,null,null,null,null,null,null,null,null,null,{"$f":"S43+S45","v":0},null,null,null,null,{"$f":"X43+X45","v":0}]
[]
[]
[]
[]
[{"$f":"A5","v":"Zestawienie zmian w kapitale (funduszu) własnym"}]
[]
["Lp.","Wyszczególnienie",null,null,null,null,null,null,null,null,null,null,null,null,null,null,null,null,{"$f":"rokb","v":"dd.mm-dd.mm.rrrr"},null,null,null,null,{"$f":"rokp","v":"dd.mm-dd.mm.rrrr"}]
[]
[" 4.","Pozostałe kapitały (fundusze) rezerwowe na początek okresu",null,null,null,null,null,null,null,null,null,null,null,null,null,null,null,null,{"$f":"$X$81","v":0}]
["4.1.","Zmiany pozostałych kapitałów (funduszy) rezerwowych",null,null,null,null,null,null,null,null,null,null,null,null,null,null,null,null,{"$f":"S69-S75","v":0},null,null,null,null,{"$f":"X69-X75","v":0}]
[null,"a) zwiększenie (z tytułu)",null,null,null,null,null,null,null,null,null,null,null,null,null,null,null,null,{"$f":"SUM(S70:S74)","v":0},null,null,null,null,{"$f":"SUM(X70:X74)","v":0}]
[null," - wniesienie dopłat wspólników"]
[null," - kapitał rezerwowy na pokrycie udziałów (akcji) własnych"]
[null," - "]
[null," - "]
[null," - "]
[null,"b) zmniejszenie (z tytułu)",null,null,null,null,null,null,null,null,null,null,null,null,null,null,null,null,{"$f":"SUM(S76:S80)","v":0},null,null,null,null,{"$f":"SUM(X76:X80)","v":0}]
[null,"- "]
[null,"- "]
[null,"- "]
[null,"- "]
[null,"- "]
["4.2.","Pozostałe kapitały (fundusze) rezerwowe na koniec okresu",null,null,null,null,null,null,null,null,null,null,null,null,null,null,null,null,{"$f":"S67+S68","v":0},null,null,null,null,{"$f":"X67+X68","v":0}]
[" 5.","Zysk (strata) z lat ubiegłych na początek okresu",null,null,null,null,null,null,null,null,null,null,null,null,null,null,null,null,{"$f":"S83-S100","v":0},null,null,null,null,{"$f":"X83-X100","v":0}]
["5.1.","Zysk z lat ubiegłych na początek okresu",null,null,null,null,null,null,null,null,null,null,null,null,null,null,null,null,{"$f":"$X$99+$X$119+$X$121","v":0}]
[null,"- zmiany przyjętych zasad (polityki) rachunkowości"]
[null,"- korekty błędów"]
["5.2.","Zysk z lat ubiegłych na początek okresu, po korektach",null,null,null,null,null,null,null,null,null,null,null,null,null,null,null,null,{"$f":"S83+S84+S85","v":0},null,null,null,null,{"$f":"X83+X84+X85","v":0}]
[null,"a) zwiększenie (z tytułu)",null,null,null,null,null,null,null,null,null,null,null,null,null,null,null,null,{"$f":"SUM(S88:S92)","v":0},null,null,null,null,{"$f":"SUM(X88:X92)","v":0}]
[null,"- podziału zysku z lat ubiegłych"]
[null,"- "]
[null,"- "]
[null,"- "]
[null,"- "]
[null,"b) zmniejszenie (z tytułu)",null,null,null,null,null,null,null,null,null,null,null,null,null,null,null,null,{"$f":"SUM(S94:S98)","v":0},null,null,null,null,{"$f":"SUM(X94:X98)","v":0}]
[null,"- przeznaczenie na kapitał zapasowy"]
[null,"- przeznaczenie na ZFŚS"]
[null,"- wypłata dywidendy"]
[null,"- "]
[null,"- "]
["5.3.","Zysk z lat ubiegłych na koniec okresu",null,null,null,null,null,null,null,null,null,null,null,null,null,null,null,null,{"$f":"S86+S87-S93","v":0},null,null,null,null,{"$f":"X86+X87-X93","v":0}]
["5.4.","Strata z lat ubiegłych na początek okresu",null,null,null,null,null,null,null,null,null,null,null,null,null,null,null,null,{"$f":"$X$116+$X$120","v":0}]
[null,"- zmiany przyjętych zasad (polityki) rachunkowości"]
[null,"- korekty błędów"]
["5.5.","Strata z lat ubiegłych na początek okresu, po korektach",null,null,null,null,null,null,null,null,null,null,null,null,null,null,null,null,{"$f":"S100+S101+S102","v":0},null,null,null,null,{"$f":"X100+X101+X102","v":0}]
[null,"a) zwiększenie (z tytułu)",null,null,null,null,null,null,null,null,null,null,null,null,null,null,null,null,{"$f":"SUM(S105:S109)","v":0},null,null,null,null,{"$f":"SUM(X105:X109)","v":0}]
[null,"- przeniesienia straty z lat ubiegłych do pokrycia"]
[null,"- "]
[null,"- "]
[null,"- "]
[null,"- "]
[null,"b) zmniejszenie (z tytułu)",null,null,null,null,null,null,null,null,null,null,null,null,null,null,null,null,{"$f":"SUM(S111:S115)","v":0},null,null,null,null,{"$f":"SUM(X111:X115)","v":0}]
[null,"- "]
[null,"- "]
[null,"- "]
[null,"- "]
[null,"- "]
["5.6.","Strata z lat ubiegłych na koniec okresu",null,null,null,null,null,null,null,null,null,null,null,null,null,null,null,null,{"$f":"S103+S104-S110","v":0},null,null,null,null,{"$f":"X103+X104-X110","v":0}]
["5.7.","Zysk (strata) z lat ubiegłych na koniec okresu",null,null,null,null,null,null,null,null,null,null,null,null,null,null,null,null,{"$f":"S99-S116","v":0},null,null,null,null,{"$f":"X99-X116","v":0}]
[" 6.","Wynik netto",null,null,null,null,null,null,null,null,null,null,null,null,null,null,null,null,{"$f":"S119-S120+S121","v":0},null,null,null,null,{"$f":"X119-X120+X121","v":0}]
[null,"a) zysk netto",null,null,null,null,null,null,null,null,null,null,null,null,null,null,null,null,{"$f":"MAX(IF(Parametry!$P$13=1,Rachunek_ZiS_porównawczy!$S$61,Rachunek_ZiS_kalkulacyjny!$S$56),0)","v":0},null,null,null,null,{"$f":"MAX(IF(Parametry!$P$13=1,Rachunek_ZiS_porównawczy!$X$61,Rachunek_ZiS_kalkulacyjny!$X$56),0)","v":0}]
[null,"b) strata netto",null,null,null,null,null,null,null,null,null,null,null,null,null,null,null,null,{"$f":"-1*MIN(IF(Parametry!$P$13=1,Rachunek_ZiS_porównawczy!$S$61,Rachunek_ZiS_kalkulacyjny!$S$56),0)","v":0},null,null,null,null,{"$f":"-1*MIN(IF(Parametry!$P$13=1,Rachunek_ZiS_porównawczy!$X$61,Rachunek_ZiS_kalkulacyjny!$X$56),0)","v":0}]
[null,"c) odpisy z zysku",null,null,null,null,null,null,null,null,null,null,null,null,null,null,null,null,null,null,null,null,null,null,null,null,null,null,"Pola z komentarzem!"]
["II.","Kapitał (fundusz) własny na koniec okresu (BZ)",null,null,null,null,null,null,null,null,null,null,null,null,null,null,null,null,{"$f":"S27+S42+S58+S81+S117+S118","v":0},null,null,null,null,{"$f":"X27+X42+X58+X81+X117+X118","v":0}]
["III.","Kapitał (fundusz) własny, po uwzględnieniu proponowanego podziału zysku (pokrycia straty)"]
[]
[]
[null,"Sprawdzenie BO"]
[null,"Zestawienie zmian w kapitale własnym - kapitał własny na początek okresu",null,null,null,null,null,null,null,null,null,null,null,null,null,null,null,null,{"$f":"S9","v":0},null,null,null,null,{"$f":"X9","v":0}]
[null,"Zestawienie zmian w kapitale własnym - kapitał własny na koniec okresu poprzedniego",null,null,null,null,null,null,null,null,null,null,null,null,null,null,null,null,{"$f":"X122","v":0},null,null,null,null,null,null,null,null,null,"Pole z komentarzem!"]
[null,"różnica",null,null,null,null,null,null,null,null,null,null,null,null,null,null,null,null,{"$f":"S127-S128","v":0},null,null,null,null,{"$f":"X127-X128","v":0}]
[]
[null,"Zestawienie zmian w kapitale własnym - kapitał własny na początek okresu po korektach poz. I.a.",null,null,null,null,null,null,null,null,null,null,null,null,null,null,null,null,{"$f":"$S$12","v":0},null,null,null,null,{"$f":"$X$12","v":0}]
[null,"Zestawienie zmian w kapitale własnym - kapitał własny na początek okresu po korektach - sumy pozycji",null,null,null,null,null,null,null,null,null,null,null,null,null,null,null,null,{"$f":"S13+S28+S43+S67+S86-S103","v":0},null,null,null,null,{"$f":"X13+X28+X43+X67+X86-X103","v":0}]
[null,"różnica",null,null,null,null,null,null,null,null,null,null,null,null,null,null,null,null,{"$f":"S131-S132","v":0},null,null,null,null,{"$f":"X131-X132","v":0}]
[]
[null,"Sprawdzenie BZ z bilansem"]
[null,"Zestawienie zmian w kapitale własnym - kapitał własny na koniec okresu",null,null,null,null,null,null,null,null,null,null,null,null,null,null,null,null,{"$f":"S122","v":0},null,null,null,null,{"$f":"X122","v":0}]
[null,"Bilans - kapitał własny",null,null,null,null,null,null,null,null,null,null,null,null,null,null,null,null,{"$f":"Bilans_PASYWA!$S$9","v":0},null,null,null,null,{"$f":"Bilans_PASYWA!$X$9","v":0}]
[null,"różnica",null,null,null,null,null,null,null,null,null,null,null,null,null,null,null,null,{"$f":"S136-S137","v":0},null,null,null,null,{"$f":"X136-X137","v":0}]
[]
[null,"Sprawdzenie"]
[null,"Zmiana stanu kapitału własnego - zestawienie zmian w kapitale własnym",null,null,null,null,null,null,null,null,null,null,null,null,null,null,null,null,{"$f":"S122-S9","v":0}]
[null,"Zmiana stanu kapitału własnego - PASYWA",null,null,null,null,null,null,null,null,null,null,null,null,null,null,null,null,{"$f":"Bilans_PASYWA!$S$9-Bilans_PASYWA!$X$9","v":0}]
[null,"różnica",null,null,null,null,null,null,null,null,null,null,null,null,null,null,null,null,{"$f":"S141-S142","v":0}]

{"sheet":"Rachunek_przepływów_pieniężnych","index":14,"n_rows":102,"n_cols":114,"rows_kept":102,"cut":false,"hidden":true,"merged":[[2,29,2,34],[97,1,97,17],[8,87,8,113],[23,58,23,84],[23,87,23,113],[66,58,66,84],[66,87,66,113],[8,1,8,27],[23,1,23,27],[66,1,66,27],[44,104,44,108],[44,109,44,113],[48,109,48,113],[45,87,45,103],[45,104,45,108],[45,109,45,113],[46,87,46,103],[62,86,63,113],[64,86,65,86],[64,87,65,103],[64,104,65,108],[64,109,65,113],[46,104,46,108],[46,109,46,113],[47,87,47,103],[48,104,48,108],[86,109,86,113],[87,87,87,103],[87,109,87,113],[85,109,85,113],[87,104,87,108],[90,109,90,113],[89,87,89,103],[89,104,89,108],[89,109,89,113],[90,87,90,103],[88,109,88,113],[88,87,88,103],[88,104,88,108],[83,87,83,103],[83,104,83,108],[83,109,83,113],[75,87,75,103],[75,104,75,108],[75,109,75,113],[84,104,84,108],[84,109,84,113],[80,87,80,103],[89,80,89,84],[88,58,88,74],[90,104,90,108],[78,87,78,103],[78,104,78,108],[78,109,78,113],[79,87,79,103],[79,104,79,108],[79,109,79,113],[84,87,84,103],[87,58,87,74],[87,75,87,79],[87,80,87,84],[88,75,88,79],[88,80,88,84],[90,58,90,74],[90,75,90,79],[90,80,90,84],[89,58,89,74],[89,75,89,79],[86,87,86,103],[85,87,85,103],[85,104,85,108],[86,104,86,108],[80,109,80,113],[81,87,81,103],[81,104,81,108],[81,109,81,113],[82,87,82,103],[82,104,82,108],[76,104,77,108],[76,109,77,113],[82,109,82,113],[80,104,80,108],[67,87,67,103],[74,87,74,103],[74,104,74,108],[74,109,74,113],[67,104,67,108],[67,109,67,113],[68,86,69,86],[68,87,69,103],[68,104,69,108],[72,87,72,103],[72,104,72,108],[72,109,72,113],[73,87,73,103],[73,104,73,108],[73,109,73,113],[70,87,70,103],[70,104,70,108],[70,109,70,113],[71,87,71,103],[71,104,71,108],[71,109,71,113],[68,109,69,113],[31,109,31,113],[32,87,32,103],[32,104,32,108],[32,109,32,113],[35,87,35,103],[35,104,35,108],[35,109,35,113],[31,104,31,108],[42,87,42,103],[42,104,42,108],[42,109,42,113],[38,87,38,103],[31,87,31,103],[36,87,36,103],[38,104,38,108],[38,109,38,113],[4,86,5,113],[6,86,7,86],[6,87,7,103],[6,104,7,108],[6,109,7,113],[36,104,36,108],[36,109,36,113],[37,87,37,103],[37,104,37,108],[37,109,37,113],[27,109,28,113],[29,87,29,103],[29,104,29,108],[34,109,34,113],[27,87,28,103],[27,86,28,86],[27,104,28,108],[33,87,33,103],[33,104,33,108],[33,109,33,113],[34,87,34,103],[9,87,9,103],[11,87,11,103],[9,109,9,113],[10,109,10,113],[9,104,9,108],[10,87,10,103],[10,104,10,108],[11,104,11,108],[11,109,11,113],[18,109,19,113],[12,87,12,103],[12,104,12,108],[12,109,12,113],[18,87,19,103],[18,104,19,108],[13,87,13,103],[13,109,13,113],[14,109,14,113],[15,109,15,113],[13,104,13,108],[14,87,14,103],[14,104,14,108],[15,87,15,103],[15,104,15,108],[16,87,16,103],[16,104,16,108],[17,87,17,103],[17,109,17,113],[86,58,86,74],[86,75,86,79],[86,80,86,84],[79,80,79,84],[83,58,83,74],[83,75,83,79],[84,58,84,74],[84,75,84,79],[21,87,21,103],[35,58,35,74],[47,104,47,108],[47,109,47,113],[48,87,48,103],[21,104,21,108],[22,87,22,103],[25,86,26,86],[25,87,26,103],[25,104,26,108],[34,104,34,108],[29,109,29,113],[30,87,30,103],[30,104,30,108],[43,104,43,108],[30,109,30,113],[22,104,22,108],[22,109,22,113],[18,86,19,86],[24,87,24,103],[24,104,24,108],[24,109,24,113],[20,109,20,113],[21,109,21,113],[20,87,20,103],[25,109,26,113],[20,104,20,108],[16,109,16,113],[17,104,17,108],[85,58,85,74],[85,75,85,79],[83,80,83,84],[82,58,82,74],[85,80,85,84],[84,80,84,84],[80,80,80,84],[81,58,81,74],[62,57,63,84],[78,58,78,74],[78,75,78,79],[78,80,78,84],[79,58,79,74],[79,75,79,79],[82,75,82,79],[80,58,80,74],[80,75,80,79],[81,75,81,79],[82,80,82,84],[81,80,81,84],[74,80,74,84],[73,58,73,74],[39,86,40,86],[39,87,40,103],[39,104,40,108],[39,109,40,113],[76,57,77,57],[76,58,77,74],[76,75,77,79],[76,80,77,84],[41,87,41,103],[41,104,41,108],[41,109,41,113],[44,87,44,103],[76,86,77,86],[76,87,77,103],[75,58,75,74],[75,75,75,79],[75,80,75,84],[74,58,74,74],[74,75,74,79],[68,57,69,57],[68,58,69,74],[68,75,69,79],[43,109,43,113],[43,87,43,103],[48,80,48,84],[64,57,65,57],[42,58,42,74],[47,58,47,74],[47,75,47,79],[47,80,47,84],[48,58,48,74],[48,75,48,79],[73,75,73,79],[73,80,73,84],[72,58,72,74],[72,75,72,79],[72,80,72,84],[70,58,70,74],[70,75,70,79],[67,80,67,84],[64,58,65,74],[64,75,65,79],[64,80,65,84],[67,58,67,74],[67,75,67,79],[70,80,70,84],[71,58,71,74],[71,75,71,79],[71,80,71,84],[68,80,69,84],[39,57,40,57],[39,58,40,74],[39,75,40,79],[39,80,40,84],[38,58,38,74],[38,75,38,79],[38,80,38,84],[42,75,42,79],[46,58,46,74],[46,75,46,79],[46,80,46,84],[45,58,45,74],[42,80,42,84],[43,80,43,84],[44,58,44,74],[44,75,44,79],[44,80,44,84],[41,58,41,74],[41,75,41,79],[41,80,41,84],[45,75,45,79],[45,80,45,84],[43,58,43,74],[43,75,43,79],[37,58,37,74],[37,75,37,79],[37,80,37,84],[36,80,36,84],[33,58,33,74],[33,75,33,79],[33,80,33,84],[35,80,35,84],[36,58,36,74],[36,75,36,79],[34,58,34,74],[34,75,34,79],[34,80,34,84],[35,75,35,79],[32,58,32,74],[32,75,32,79],[32,80,32,84],[27,57,28,57],[27,75,28,79],[24,75,24,79],[24,80,24,84],[27,80,28,84],[30,58,30,74],[30,75,30,79],[30,80,30,84],[29,80,29,84],[27,58,28,74],[29,58,29,74],[29,75,29,79],[25,75,26,79],[25,80,26,84],[25,57,26,57],[25,58,26,74],[21,80,21,84],[22,58,22,74],[20,75,20,79],[24,58,24,74],[22,75,22,79],[22,80,22,84],[20,80,20,84],[31,58,31,74],[31,75,31,79],[31,80,31,84],[4,57,5,84],[6,57,7,57],[6,58,7,74],[6,75,7,79],[6,80,7,84],[16,75,16,79],[16,80,16,84],[17,58,17,74],[12,80,12,84],[14,80,14,84],[10,58,10,74],[10,75,10,79],[10,80,10,84],[11,58,11,74],[11,75,11,79],[11,80,11,84],[13,58,13,74],[14,58,14,74],[14,75,14,79],[9,58,9,74],[9,75,9,79],[8,58,8,84],[9,80,9,84],[12,58,12,74],[12,75,12,79],[86,23,86,27],[100,23,100,27],[99,23,99,27],[88,23,88,27],[89,23,89,27],[13,75,13,79],[13,80,13,84],[18,57,19,57],[18,58,19,74],[18,75,19,79],[15,58,15,74],[15,75,15,79],[15,80,15,84],[16,58,16,74],[18,80,19,84],[17,75,17,79],[17,80,17,84],[20,58,20,74],[80,23,80,27],[21,58,21,74],[21,75,21,79],[15,23,15,27],[16,23,16,27],[84,18,84,22],[31,23,31,27],[30,23,30,27],[101,18,101,22],[95,18,95,22],[88,1,88,17],[89,1,89,17],[90,1,90,17],[88,18,88,22],[89,18,89,22],[101,1,101,17],[98,23,98,27],[99,18,99,22],[100,1,100,17],[95,1,95,17],[99,1,99,17],[100,18,100,22],[98,18,98,22],[101,23,101,27],[94,23,94,27],[95,23,95,27],[84,23,84,27],[85,23,85,27],[93,1,93,17],[98,1,98,17],[83,23,83,27],[81,23,81,27],[83,1,83,17],[83,18,83,22],[82,1,82,17],[79,18,79,22],[82,23,82,27],[94,1,94,17],[93,18,93,22],[94,18,94,22],[86,18,86,22],[87,18,87,22],[86,1,86,17],[92,1,92,17],[87,1,87,17],[90,23,90,27],[90,18,90,22],[85,1,85,17],[85,18,85,22],[82,18,82,22],[87,23,87,27],[84,1,84,17],[79,23,79,27],[71,23,71,27],[72,23,72,27],[74,23,74,27],[73,18,73,22],[75,23,75,27],[76,23,77,27],[44,23,44,27],[48,23,48,27],[67,18,67,22],[45,18,45,22],[47,23,47,27],[46,18,46,22],[8,29,9,46],[14,23,14,27],[11,29,13,46],[10,23,10,27],[45,23,45,27],[32,23,32,27],[34,18,34,22],[36,23,36,27],[78,18,78,22],[73,23,73,27],[78,23,78,27],[32,18,32,22],[33,18,33,22],[42,18,42,22],[36,18,36,22],[43,18,43,22],[43,23,43,27],[29,18,29,22],[38,18,38,22],[44,18,44,22],[41,23,41,27],[39,23,40,27],[37,18,37,22],[27,18,28,22],[42,23,42,27],[41,18,41,22],[37,1,37,17],[38,1,38,17],[46,1,46,17],[44,1,44,17],[34,1,34,17],[30,1,30,17],[70,23,70,27],[64,23,65,27],[68,23,69,27],[35,1,35,17],[36,1,36,17],[62,0,63,27],[64,0,65,0],[46,23,46,27],[35,23,35,27],[34,23,34,27],[33,23,33,27],[67,23,67,27],[70,18,70,22],[37,23,37,27],[38,23,38,27],[35,18,35,22],[39,18,40,22],[39,0,40,0],[45,1,45,17],[81,1,81,17],[47,1,47,17],[71,18,71,22],[74,18,74,22],[72,18,72,22],[76,1,77,17],[64,18,65,22],[76,18,77,22],[79,1,79,17],[80,1,80,17],[68,18,69,22],[67,1,67,17],[48,18,48,22],[64,1,65,17],[48,1,48,17],[47,18,47,22],[81,18,81,22],[75,18,75,22],[42,1,42,17],[43,1,43,17],[80,18,80,22],[39,1,40,17],[41,1,41,17],[78,1,78,17],[72,1,72,17],[73,1,73,17],[74,1,74,17],[68,1,69,17],[70,1,70,17],[76,0,77,0],[75,1,75,17],[71,1,71,17],[68,0,69,0],[3,0,3,6],[9,1,9,17],[10,1,10,17],[6,0,7,0],[6,1,7,17],[22,1,22,17],[21,18,21,22],[20,18,20,22],[24,18,24,22],[6,18,7,22],[12,1,12,17],[16,18,16,22],[18,0,19,0],[12,18,12,22],[13,18,13,22],[4,0,5,27],[6,23,7,27],[11,23,11,27],[13,23,13,27],[9,23,9,27],[12,23,12,27],[31,1,31,17],[17,1,17,17],[33,1,33,17],[32,1,32,17],[18,18,19,22],[30,18,30,22],[29,1,29,17],[17,18,17,22],[27,23,28,27],[24,23,24,27],[25,23,26,27],[22,23,22,27],[18,1,19,17],[21,23,21,27],[18,23,19,27],[20,23,20,27],[17,23,17,27],[27,1,28,17],[29,23,29,27],[31,18,31,22],[27,0,28,0],[20,1,20,17],[21,1,21,17],[25,1,26,17],[24,1,24,17],[13,1,13,17],[25,18,26,22],[22,18,22,22],[9,18,9,22],[10,18,10,22],[11,18,11,22],[14,1,14,17],[14,18,14,22],[15,1,15,17],[16,1,16,17],[15,18,15,22],[11,1,11,17],[25,0,26,0]]}
[{"$f":"nazwa","v":"DEMO"}]
[{"$f":"temat","v":"Sprawozdanie finansowe za rok 2023"}]
[null,null,null,null,null,null,null,null,null,null,null,null,null,null,null,null,null,null,null,null,null,null,null,null,null,null,null,null,null,"Powrót do parametrów",null,null,null,null,null,null,null,null,null,null,null,null,null,null,null,null,null,null,null,null,null,null,null,null,null,null,null,null,null,null,null,null,null,null,null,null,null,null,null,null,null,null,null,null,null,null,null,null,null,null,null,null,null,null,"Wypełnianie z not... ",null,null,null,null,null,null,null,null,null,null,null,null,null,null,null,null,null,null,null,null,null,null,null,null,null,null,null,null,"Porównanie …"]
[]
["Rachunek przepływów pieniężnych",null,null,null,null,null,null,null,null,null,null,null,null,null,null,null,null,null,null,null,null,null,null,null,null,null,null,null,null,null,null,null,null,null,null,null,null,null,null,null,null,null,null,null,null,null,null,null,null,null,null,null,null,null,null,null,null,"Rachunek przepływów pieniężnych",null,null,null,null,null,null,null,null,null,null,null,null,null,null,null,null,null,null,null,null,null,null,null,null,null,null,null,null,"Rachunek przepływów pieniężnych"]
[]
["Lp.","Wyszczególnienie",null,null,null,null,null,null,null,null,null,null,null,null,null,null,null,null,{"$f":"rokb","v":"dd.mm-dd.mm.rrrr"},null,null,null,null,{"$f":"rokp","v":"dd.mm-dd.mm.rrrr"},null,null,null,null,null,null,null,null,null,null,null,null,null,null,null,null,null,null,null,null,null,null,null,null,null,null,null,null,null,null,null,null,null,"Lp.","Wyszczególnienie",null,null,null,null,null,null,null,null,null,null,null,null,null,null,null,null,{"$f":"rokb","v":"dd.mm-dd.mm.rrrr"},null,null,null,null,{"$f":"rokp","v":"dd.mm-dd.mm.rrrr"},null,null,null,null,null,"Lp.","Wyszczególnienie",null,null,null,null,null,null,null,null,null,null,null,null,null,null,null,null,{"$f":"rokb","v":"dd.mm-dd.mm.rrrr"},null,null,null,null,{"$f":"rokp","v":"dd.mm-dd.mm.rrrr"}]
[]
["A.","Przepływy środków pieniężnych z działalności operacyjnej",null,null,null,null,null,null,null,null,null,null,null,null,null,null,null,null,null,null,null,null,null,null,null,null,null,null,null,"Wpływy i wydatki należy wprowadzać do rachunku przepływów pieniężnych w wartościach bezwzględnych."]
["I.","Zysk (strata) netto",null,null,null,null,null,null,null,null,null,null,null,null,null,null,null,null,{"$f":"IF(Parametry!$P$13=1,Rachunek_ZiS_porównawczy!$S$61,Rachunek_ZiS_kalkulacyjny!$S$56)","v":0},null,null,null,null,{"$f":"IF(Parametry!$P$13=1,Rachunek_ZiS_porównawczy!$X$61,Rachunek_ZiS_kalkulacyjny!$X$56)","v":0},null,null,null,null,null,null,null,null,null,null,null,null,null,null,null,null,null,null,null,null,null,null,null,null,null,null,null,null,null,null,null,null,null,null,null,null,null,null,null,null,null,null,null,null,null,null,null,null,null,null,null,{"$f":"IF(Parametry!$P$13=1,Rachunek_ZiS_porównawczy!$S$61,Rachunek_ZiS_kalkulacyjny!$S$56)","v":0},null,null,null,null,{"$f":"IF(Parametry!$P$13=1,Rachunek_ZiS_porównawczy!$X$61,Rachunek_ZiS_kalkulacyjny!$X$56)","v":0},null,null,null,null,null,null,null,null,null,null,null,null,null,null,null,null,null,null,null,null,null,null,null,{"$f":"IF(Parametry!$P$13=1,Rachunek_ZiS_porównawczy!$S$61,Rachunek_ZiS_kalkulacyjny!$S$56)","v":0},null,null,null,null,{"$f":"IF(Parametry!$P$13=1,Rachunek_ZiS_porównawczy!$X$61,Rachunek_ZiS_kalkulacyjny!$X$56)","v":0}]
["II.","Korekty razem",null,null,null,null,null,null,null,null,null,null,null,null,null,null,null,null,{"$f":"SUM(S12:W22)","v":0},null,null,null,null,{"$f":"SUM(X12:AB22)","v":0},null,null,null,null,null,null,null,null,null,null,null,null,null,null,null,null,null,null,null,null,null,null,null,null,null,null,null,null,null,null,null,null,null,null,null,null,null,null,null,null,null,null,null,null,null,null,null,null,null,null,null,{"$f":"SUM(BX12:CB22)","v":0},null,null,null,null,{"$f":"SUM(CC12:CG22)","v":0},null,null,null,null,null,null,null,null,null,null,null,null,null,null,null,null,null,null,null,null,null,null,null,{"$f":"SUM(DA12:DE22)","v":0},null,null,null,null,{"$f":"SUM(DF12:DJ22)","v":0}]
[" 1.","Amortyzacja",null,null,null,null,null,null,null,null,null,null,null,null,null,null,null,null,{"$f":"Objaśnienie_do_przepływów!$AM$31","v":0},null,null,null,null,null,null,null,null,null,null,"W arkuszach należy wypełniać tylko puste komórki. Nie należy wprowadzać informacji do komórek zawierających formuły (w pierwotnej wersji są to komórki z zerowymi wartościami).",null,null,null,null,null,null,null,null,null,null,null,null,null,null,null,null,null,null,null,null,null,null,null,null,null,null,null,null,null,null,null,null,null,null,null,null,null,null,null,null,null,null,null,null,null,{"$f":"Objaśnienie_do_przepływów!$AM$31","v":0}]
[" 2.","Zyski (straty) z tytułu różnic kursowych",null,null,null,null,null,null,null,null,null,null,null,null,null,null,null,null,{"$f":"Objaśnienie_do_przepływów!$AM$33","v":0},null,null,null,null,null,null,null,null,null,null,null,null,null,null,null,null,null,null,null,null,null,null,null,null,null,null,null,null,null,null,null,null,null,null,null,null,null,null,null,null,null,null,null,null,null,null,null,null,null,null,null,null,null,null,null,null,{"$f":"Objaśnienie_do_przepływów!$AM$33","v":0}]
[" 3.","Odsetki i udziały w zyskach (dywidendy)",null,null,null,null,null,null,null,null,null,null,null,null,null,null,null,null,{"$f":"Objaśnienie_do_przepływów!$AM$44","v":0},null,null,null,null,null,null,null,null,null,null,null,null,null,null,null,null,null,null,null,null,null,null,null,null,null,null,null,null,null,null,null,null,null,null,null,null,null,null,null,null,null,null,null,null,null,null,null,null,null,null,null,null,null,null,null,null,{"$f":"Objaśnienie_do_przepływów!$AM$44","v":0}]
[" 4.","Zysk (strata) z działalności inwestycyjnej",null,null,null,null,null,null,null,null,null,null,null,null,null,null,null,null,{"$f":"Objaśnienie_do_przepływów!$AM$53","v":0},null,null,null,null,null,null,null,null,null,null,null,null,null,null,null,null,null,null,null,null,null,null,null,null,null,null,null,null,null,null,null,null,null,null,null,null,null,null,null,null,null,null,null,null,null,null,null,null,null,null,null,null,null,null,null,null,{"$f":"Objaśnienie_do_przepływów!$AM$53","v":0}]
[" 5.","Zmiana stanu rezerw",null,null,null,null,null,null,null,null,null,null,null,null,null,null,null,null,{"$f":"Objaśnienie_do_przepływów!$AM$67","v":0},null,null,null,null,null,null,null,null,null,null,null,null,null,null,null,null,null,null,null,null,null,null,null,null,null,null,null,null,null,null,null,null,null,null,null,null,null,null,null,null,null,null,null,null,null,null,null,null,null,null,null,null,null,null,null,null,{"$f":"Objaśnienie_do_przepływów!$AM$67","v":0}]
[" 6.","Zmiana stanu zapasów",null,null,null,null,null,null,null,null,null,null,null,null,null,null,null,null,{"$f":"Objaśnienie_do_przepływów!$AM$74","v":0},null,null,null,null,null,null,null,null,null,null,null,null,null,null,null,null,null,null,null,null,null,null,null,null,null,null,null,null,null,null,null,null,null,null,null,null,null,null,null,null,null,null,null,null,null,null,null,null,null,null,null,null,null,null,null,null,{"$f":"Objaśnienie_do_przepływów!$AM$74","v":0}]
[" 7.","Zmiana stanu należności",null,null,null,null,null,null,null,null,null,null,null,null,null,null,null,null,{"$f":"Objaśnienie_do_przepływów!$AM$82","v":0},null,null,null,null,null,null,null,null,null,null,null,null,null,null,null,null,null,null,null,null,null,null,null,null,null,null,null,null,null,null,null,null,null,null,null,null,null,null,null,null,null,null,null,null,null,null,null,null,null,null,null,null,null,null,null,null,{"$f":"Objaśnienie_do_przepływów!$AM$82","v":0}]
[" 8.","Zmiana stanu zobowiązań krótkoterminowych, z wyjątkiem pożyczek i kredytów",null,null,null,null,null,null,null,null,null,null,null,null,null,null,null,null,{"$f":"Objaśnienie_do_przepływów!$AM$89","v":0},null,null,null,null,null,null,null,null,null,null,null,null,null,null,null,null,null,null,null,null,null,null,null,null,null,null,null,null,null,null,null,null,null,null,null,null,null,null,null,null,null,null,null,null,null,null,null,null,null,null,null,null,null,null,null,null,{"$f":"Objaśnienie_do_przepływów!$AM$89","v":0}]
[]
[" 9.","Zmiana stanu rozliczeń międzyokresowych",null,null,null,null,null,null,null,null,null,null,null,null,null,null,null,null,{"$f":"Objaśnienie_do_przepływów!$AM$99","v":0},null,null,null,null,null,null,null,null,null,null,null,null,null,null,null,null,null,null,null,null,null,null,null,null,null,null,null,null,null,null,null,null,null,null,null,null,null,null,null,null,null,null,null,null,null,null,null,null,null,null,null,null,null,null,null,null,{"$f":"Objaśnienie_do_przepływów!$AM$99","v":0}]
[" 10.","Inne korekty",null,null,null,null,null,null,null,null,null,null,null,null,null,null,null,null,{"$f":"Objaśnienie_do_przepływów!$AM$113","v":0},null,null,null,null,null,null,null,null,null,null,null,null,null,null,null,null,null,null,null,null,null,null,null,null,null,null,null,null,null,null,null,null,null,null,null,null,null,null,null,null,null,null,null,null,null,null,null,null,null,null,null,null,null,null,null,null,{"$f":"Objaśnienie_do_przepływów!$AM$113","v":0}]
["III.","Przepływy pieniężne netto z działalności operacyjnej (I +/- II)",null,null,null,null,null,null,null,null,null,null,null,null,null,null,null,null,{"$f":"S10+S11","v":0},null,null,null,null,{"$f":"X10+X11","v":0},null,null,null,null,null,null,null,null,null,null,null,null,null,null,null,null,null,null,null,null,null,null,null,null,null,null,null,null,null,null,null,null,null,null,null,null,null,null,null,null,null,null,null,null,null,null,null,null,null,null,null,{"$f":"BX10+BX11","v":0},null,null,null,null,{"$f":"CC10+CC11","v":0},null,null,null,null,null,null,null,null,null,null,null,null,null,null,null,null,null,null,null,null,null,null,null,{"$f":"DA10+DA11","v":0},null,null,null,null,{"$f":"DF10+DF11","v":0}]
["B.","Przepływy środków pieniężnych z działalności inwestycyjnej"]
["I.","Wpływy",null,null,null,null,null,null,null,null,null,null,null,null,null,null,null,null,{"$f":"S26+S28+S30+S38","v":0},null,null,null,null,{"$f":"X26+X28+X30+X38","v":0},null,null,null,null,null,null,null,null,null,null,null,null,null,null,null,null,null,null,null,null,null,null,null,null,null,null,null,null,null,null,null,null,null,null,null,null,null,null,null,null,null,null,null,null,null,null,null,null,null,null,null,{"$f":"BX26+BX28+BX30+BX38","v":0},null,null,null,null,{"$f":"CC26+CC28+CC30+CC38","v":0},null,null,null,null,null,null,null,null,null,null,null,null,null,null,null,null,null,null,null,null,null,null,null,{"$f":"DA26+DA28+DA30+DA38","v":0},null,null,null,null,{"$f":"DF26+DF28+DF30+DF38","v":0}]
[" 1.","Zbycie wartości niematerialnych i prawnych oraz rzeczowych aktywów trwałych",null,null,null,null,null,null,null,null,null,null,null,null,null,null,null,null,{"$f":"Objaśnienie_do_przepływów!$AM$118","v":0},null,null,null,null,null,null,null,null,null,null,null,null,null,null,null,null,null,null,null,null,null,null,null,null,null,null,null,null,null,null,null,null,null,null,null,null,null,null,null,null,null,null,null,null,null,null,null,null,null,null,null,null,null,null,null,null,{"$f":"Objaśnienie_do_przepływów!$AM$118","v":0}]
[]
[" 2.","Zbycie inwestycji w nieruchomości oraz wartości niematerialne i prawne",null,null,null,null,null,null,null,null,null,null,null,null,null,null,null,null,{"$f":"Objaśnienie_do_przepływów!$AM$123","v":0},null,null,null,null,null,null,null,null,null,null,null,null,null,null,null,null,null,null,null,null,null,null,null,null,null,null,null,null,null,null,null,null,null,null,null,null,null,null,null,null,null,null,null,null,null,null,null,null,null,null,null,null,null,null,null,null,{"$f":"Objaśnienie_do_przepływów!$AM$123","v":0}]
[]
[" 3.","Z aktywów finansowych, w tym:",null,null,null,null,null,null,null,null,null,null,null,null,null,null,null,null,{"$f":"S31+S32","v":0},null,null,null,null,{"$f":"X31+X32","v":0},null,null,null,null,null,null,null,null,null,null,null,null,null,null,null,null,null,null,null,null,null,null,null,null,null,null,null,null,null,null,null,null,null,null,null,null,null,null,null,null,null,null,null,null,null,null,null,null,null,null,null,{"$f":"BX31+BX32","v":0},null,null,null,null,{"$f":"CC31+CC32","v":0},null,null,null,null,null,null,null,null,null,null,null,null,null,null,null,null,null,null,null,null,null,null,null,{"$f":"DA31+DA32","v":0},null,null,null,null,{"$f":"DF31+DF32","v":0}]
[null,"a) w jednostkach powiązanych",null,null,null,null,null,null,null,null,null,null,null,null,null,null,null,null,{"$f":"Objaśnienie_do_przepływów!$AM$129","v":0},null,null,null,null,null,null,null,null,null,null,null,null,null,null,null,null,null,null,null,null,null,null,null,null,null,null,null,null,null,null,null,null,null,null,null,null,null,null,null,null,null,null,null,null,null,null,null,null,null,null,null,null,null,null,null,null,{"$f":"Objaśnienie_do_przepływów!$AM$129","v":0}]
[null,"b) w pozostałych jednostkach",null,null,null,null,null,null,null,null,null,null,null,null,null,null,null,null,{"$f":"SUM(S33:W37)","v":0},null,null,null,null,{"$f":"SUM(X33:AB37)","v":0},null,null,null,null,null,null,null,null,null,null,null,null,null,null,null,null,null,null,null,null,null,null,null,null,null,null,null,null,null,null,null,null,null,null,null,null,null,null,null,null,null,null,null,null,null,null,null,null,null,null,null,{"$f":"SUM(BX33:CB37)","v":0},null,null,null,null,{"$f":"SUM(CC33:CG37)","v":0},null,null,null,null,null,null,null,null,null,null,null,null,null,null,null,null,null,null,null,null,null,null,null,{"$f":"SUM(DA33:DE37)","v":0},null,null,null,null,{"$f":"SUM(DF33:DJ37)","v":0}]
[null,"- zbycie aktywów finansowych",null,null,null,null,null,null,null,null,null,null,null,null,null,null,null,null,{"$f":"Objaśnienie_do_przepływów!$AM$130","v":0},null,null,null,null,null,null,null,null,null,null,null,null,null,null,null,null,null,null,null,null,null,null,null,null,null,null,null,null,null,null,null,null,null,null,null,null,null,null,null,null,null,null,null,null,null,null,null,null,null,null,null,null,null,null,null,null,{"$f":"Objaśnienie_do_przepływów!$AM$130","v":0}]
[null,"- dywidendy i udziały w zyskach",null,null,null,null,null,null,null,null,null,null,null,null,null,null,null,null,{"$f":"Objaśnienie_do_przepływów!$AM$132","v":0},null,null,null,null,null,null,null,null,null,null,null,null,null,null,null,null,null,null,null,null,null,null,null,null,null,null,null,null,null,null,null,null,null,null,null,null,null,null,null,null,null,null,null,null,null,null,null,null,null,null,null,null,null,null,null,null,{"$f":"Objaśnienie_do_przepływów!$AM$132","v":0}]
[null,"- spłata udzielonych pożyczek długoterminowych",null,null,null,null,null,null,null,null,null,null,null,null,null,null,null,null,{"$f":"Objaśnienie_do_przepływów!$AM$136","v":0},null,null,null,null,null,null,null,null,null,null,null,null,null,null,null,null,null,null,null,null,null,null,null,null,null,null,null,null,null,null,null,null,null,null,null,null,null,null,null,null,null,null,null,null,null,null,null,null,null,null,null,null,null,null,null,null,{"$f":"Objaśnienie_do_przepływów!$AM$136","v":0}]
[null,"- odsetki",null,null,null,null,null,null,null,null,null,null,null,null,null,null,null,null,{"$f":"Objaśnienie_do_przepływów!$AM$140","v":0},null,null,null,null,null,null,null,null,null,null,null,null,null,null,null,null,null,null,null,null,null,null,null,null,null,null,null,null,null,null,null,null,null,null,null,null,null,null,null,null,null,null,null,null,null,null,null,null,null,null,null,null,null,null,null,null,{"$f":"Objaśnienie_do_przepływów!$AM$140","v":0}]
[null,"- inne wpływy z aktywów finansowych",null,null,null,null,null,null,null,null,null,null,null,null,null,null,null,null,{"$f":"Objaśnienie_do_przepływów!$AM$144","v":0},null,null,null,null,null,null,null,null,null,null,null,null,null,null,null,null,null,null,null,null,null,null,null,null,null,null,null,null,null,null,null,null,null,null,null,null,null,null,null,null,null,null,null,null,null,null,null,null,null,null,null,null,null,null,null,null,{"$f":"Objaśnienie_do_przepływów!$AM$144","v":0}]
[" 4.","Inne wpływy inwestycyjne",null,null,null,null,null,null,null,null,null,null,null,null,null,null,null,null,{"$f":"Objaśnienie_do_przepływów!$AM$149","v":0},null,null,null,null,null,null,null,null,null,null,null,null,null,null,null,null,null,null,null,null,null,null,null,null,null,null,null,null,null,null,null,null,null,null,null,null,null,null,null,null,null,null,null,null,null,null,null,null,null,null,null,null,null,null,null,null,{"$f":"Objaśnienie_do_przepływów!$AM$149","v":0}]
["II.","Wydatki",null,null,null,null,null,null,null,null,null,null,null,null,null,null,null,null,{"$f":"S40+S42+S43+S48","v":0},null,null,null,null,{"$f":"X40+X42+X43+X48","v":0},null,null,null,null,null,null,null,null,null,null,null,null,null,null,null,null,null,null,null,null,null,null,null,null,null,null,null,null,null,null,null,null,null,null,null,null,null,null,null,null,null,null,null,null,null,null,null,null,null,null,null,{"$f":"BX40+BX42+BX43+BX48","v":0},null,null,null,null,{"$f":"CC40+CC42+CC43+CC48","v":0},null,null,null,null,null,null,null,null,null,null,null,null,null,null,null,null,null,null,null,null,null,null,null,{"$f":"DA40+DA42+DA43+DA48","v":0},null,null,null,null,{"$f":"DF40+DF42+DF43+DF48","v":0}]
[" 1.","Nabycie wartości niematerialnych i prawnych oraz rzeczowych aktywów trwałych",null,null,null,null,null,null,null,null,null,null,null,null,null,null,null,null,{"$f":"Objaśnienie_do_przepływów!$AM$154","v":0},null,null,null,null,null,null,null,null,null,null,null,null,null,null,null,null,null,null,null,null,null,null,null,null,null,null,null,null,null,null,null,null,null,null,null,null,null,null,null,null,null,null,null,null,null,null,null,null,null,null,null,null,null,null,null,null,{"$f":"Objaśnienie_do_przepływów!$AM$154","v":0}]
[]
[" 2.","Inwestycje w nieruchomości oraz wartości niematerialne i prawne",null,null,null,null,null,null,null,null,null,null,null,null,null,null,null,null,{"$f":"Objaśnienie_do_przepływów!$AM$159","v":0},null,null,null,null,null,null,null,null,null,null,null,null,null,null,null,null,null,null,null,null,null,null,null,null,null,null,null,null,null,null,null,null,null,null,null,null,null,null,null,null,null,null,null,null,null,null,null,null,null,null,null,null,null,null,null,null,{"$f":"Objaśnienie_do_przepływów!$AM$159","v":0}]
[" 3.","Na aktywa finansowe, w tym:",null,null,null,null,null,null,null,null,null,null,null,null,null,null,null,null,{"$f":"S45+S44","v":0},null,null,null,null,{"$f":"X45+X44","v":0},null,null,null,null,null,null,null,null,null,null,null,null,null,null,null,null,null,null,null,null,null,null,null,null,null,null,null,null,null,null,null,null,null,null,null,null,null,null,null,null,null,null,null,null,null,null,null,null,null,null,null,{"$f":"BX45+BX44","v":0},null,null,null,null,{"$f":"CC45+CC44","v":0},null,null,null,null,null,null,null,null,null,null,null,null,null,null,null,null,null,null,null,null,null,null,null,{"$f":"DA45+DA44","v":0},null,null,null,null,{"$f":"DF45+DF44","v":0}]
[null,"a) w jednostkach powiązanych",null,null,null,null,null,null,null,null,null,null,null,null,null,null,null,null,{"$f":"Objaśnienie_do_przepływów!$AM$165","v":0},null,null,null,null,null,null,null,null,null,null,null,null,null,null,null,null,null,null,null,null,null,null,null,null,null,null,null,null,null,null,null,null,null,null,null,null,null,null,null,null,null,null,null,null,null,null,null,null,null,null,null,null,null,null,null,null,{"$f":"Objaśnienie_do_przepływów!$AM$165","v":0}]
[null,"b) w pozostałych jednostkach",null,null,null,null,null,null,null,null,null,null,null,null,null,null,null,null,{"$f":"SUM(S46:W47)","v":0},null,null,null,null,{"$f":"SUM(X46:AB47)","v":0},null,null,null,null,null,null,null,null,null,null,null,null,null,null,null,null,null,null,null,null,null,null,null,null,null,null,null,null,null,null,null,null,null,null,null,null,null,null,null,null,null,null,null,null,null,null,null,null,null,null,null,{"$f":"SUM(BX46:CB47)","v":0},null,null,null,null,{"$f":"SUM(CC46:CG47)","v":0},null,null,null,null,null,null,null,null,null,null,null,null,null,null,null,null,null,null,null,null,null,null,null,{"$f":"SUM(DA46:DE47)","v":0},null,null,null,null,{"$f":"SUM(DF46:DJ47)","v":0}]
[null,"- nabycie aktywów finansowych",null,null,null,null,null,null,null,null,null,null,null,null,null,null,null,null,{"$f":"Objaśnienie_do_przepływów!$AM$166","v":0},null,null,null,null,null,null,null,null,null,null,null,null,null,null,null,null,null,null,null,null,null,null,null,null,null,null,null,null,null,null,null,null,null,null,null,null,null,null,null,null,null,null,null,null,null,null,null,null,null,null,null,null,null,null,null,null,{"$f":"Objaśnienie_do_przepływów!$AM$166","v":0}]
[null,"- udzielone pożyczki długoterminowe",null,null,null,null,null,null,null,null,null,null,null,null,null,null,null,null,{"$f":"Objaśnienie_do_przepływów!$AM$168","v":0},null,null,null,null,null,null,null,null,null,null,null,null,null,null,null,null,null,null,null,null,null,null,null,null,null,null,null,null,null,null,null,null,null,null,null,null,null,null,null,null,null,null,null,null,null,null,null,null,null,null,null,null,null,null,null,null,{"$f":"Objaśnienie_do_przepływów!$AM$168","v":0}]
[" 4.","Inne wydatki inwestycyjne",null,null,null,null,null,null,null,null,null,null,null,null,null,null,null,null,{"$f":"Objaśnienie_do_przepływów!$AM$173","v":0},null,null,null,null,null,null,null,null,null,null,null,null,null,null,null,null,null,null,null,null,null,null,null,null,null,null,null,null,null,null,null,null,null,null,null,null,null,null,null,null,null,null,null,null,null,null,null,null,null,null,null,null,null,null,null,null,{"$f":"Objaśnienie_do_przepływów!$AM$173","v":0}]
["III.","Przepływy pieniężne netto z działalności inwestycyjnej (I - II)",null,null,null,null,null,null,null,null,null,null,null,null,null,null,null,null,{"$f":"S25-S39","v":0},null,null,null,null,{"$f":"X25-X39","v":0},null,null,null,null,null,null,null,null,null,null,null,null,null,null,null,null,null,null,null,null,null,null,null,null,null,null,null,null,null,null,null,null,null,null,null,null,null,null,null,null,null,null,null,null,null,null,null,null,null,null,null,{"$f":"BX25-BX39","v":0},null,null,null,null,{"$f":"CC25-CC39","v":0},null,null,null,null,null,null,null,null,null,null,null,null,null,null,null,null,null,null,null,null,null,null,null,{"$f":"DA25-DA39","v":0},null,null,null,null,{"$f":"DF25-DF39","v":0}]
[]
[]
[]
[]
[]
[]
[]
[]
[]
[]
[]
[]
[]
["Rachunek przepływów pieniężnych",null,null,null,null,null,null,null,null,null,null,null,null,null,null,null,null,null,null,null,null,null,null,null,null,null,null,null,null,null,null,null,null,null,null,null,null,null,null,null,null,null,null,null,null,null,null,null,null,null,null,null,null,null,null,null,null,"Rachunek przepływów pieniężnych",null,null,null,null,null,null,null,null,null,null,null,null,null,null,null,null,null,null,null,null,null,null,null,null,null,null,null,null,"Rachunek przepływów pieniężnych"]
[]
["Lp.","Wyszczególnienie",null,null,null,null,null,null,null,null,null,null,null,null,null,null,null,null,{"$f":"rokb","v":"dd.mm-dd.mm.rrrr"},null,null,null,null,{"$f":"rokp","v":"dd.mm-dd.mm.rrrr"},null,null,null,null,null,null,null,null,null,null,null,null,null,null,null,null,null,null,null,null,null,null,null,null,null,null,null,null,null,null,null,null,null,"Lp.","Wyszczególnienie",null,null,null,null,null,null,null,null,null,null,null,null,null,null,null,null,{"$f":"rokb","v":"dd.mm-dd.mm.rrrr"},null,null,null,null,{"$f":"rokp","v":"dd.mm-dd.mm.rrrr"},null,null,null,null,null,"Lp.","Wyszczególnienie",null,null,null,null,null,null,null,null,null,null,null,null,null,null,null,null,{"$f":"rokb","v":"dd.mm-dd.mm.rrrr"},null,null,null,null,{"$f":"rokp","v":"dd.mm-dd.mm.rrrr"}]
[]
["C.","Przepływy środków pieniężnych z działalności finansowej"]
["I.","Wpływy",null,null,null,null,null,null,null,null,null,null,null,null,null,null,null,null,{"$f":"SUM(S69:W73)","v":0},null,null,null,null,{"$f":"SUM(X69:AB73)","v":0},null,null,null,null,null,null,null,null,null,null,null,null,null,null,null,null,null,null,null,null,null,null,null,null,null,null,null,null,null,null,null,null,null,null,null,null,null,null,null,null,null,null,null,null,null,null,null,null,null,null,null,{"$f":"SUM(BX69:CB73)","v":0},null,null,null,null,{"$f":"SUM(CC69:CG73)","v":0},null,null,null,null,null,null,null,null,null,null,null,null,null,null,null,null,null,null,null,null,null,null,null,{"$f":"SUM(DA69:DE73)","v":0},null,null,null,null,{"$f":"SUM(DF69:DJ73)","v":0}]
[" 1.","Wpływy netto z wydania udziałów (emisji akcji) \ni innych instrumentów kapitałowych oraz dopłat do kapitału",null,null,null,null,null,null,null,null,null,null,null,null,null,null,null,null,{"$f":"Objaśnienie_do_przepływów!$AM$178","v":0},null,null,null,null,null,null,null,null,null,null,null,null,null,null,null,null,null,null,null,null,null,null,null,null,null,null,null,null,null,null,null,null,null,null,null,null,null,null,null,null,null,null,null,null,null,null,null,null,null,null,null,null,null,null,null,null,{"$f":"Objaśnienie_do_przepływów!$AM$178","v":0}]
[]
[" 2.","Kredyty i pożyczki",null,null,null,null,null,null,null,null,null,null,null,null,null,null,null,null,{"$f":"Objaśnienie_do_przepływów!$AM$183","v":0},null,null,null,null,null,null,null,null,null,null,null,null,null,null,null,null,null,null,null,null,null,null,null,null,null,null,null,null,null,null,null,null,null,null,null,null,null,null,null,null,null,null,null,null,null,null,null,null,null,null,null,null,null,null,null,null,{"$f":"Objaśnienie_do_przepływów!$AM$183","v":0}]
[" 3.","Emisja dłużnych papierów wartościowych",null,null,null,null,null,null,null,null,null,null,null,null,null,null,null,null,{"$f":"Objaśnienie_do_przepływów!$AM$188","v":0},null,null,null,null,null,null,null,null,null,null,null,null,null,null,null,null,null,null,null,null,null,null,null,null,null,null,null,null,null,null,null,null,null,null,null,null,null,null,null,null,null,null,null,null,null,null,null,null,null,null,null,null,null,null,null,null,{"$f":"Objaśnienie_do_przepływów!$AM$188","v":0}]
[" 4.","Inne wpływy finansowe",null,null,null,null,null,null,null,null,null,null,null,null,null,null,null,null,{"$f":"Objaśnienie_do_przepływów!$AM$193","v":0},null,null,null,null,null,null,null,null,null,null,null,null,null,null,null,null,null,null,null,null,null,null,null,null,null,null,null,null,null,null,null,null,null,null,null,null,null,null,null,null,null,null,null,null,null,null,null,null,null,null,null,null,null,null,null,null,{"$f":"Objaśnienie_do_przepływów!$AM$193","v":0}]
["II.","Wydatki",null,null,null,null,null,null,null,null,null,null,null,null,null,null,null,null,{"$f":"SUM(S75:W84)","v":0},null,null,null,null,{"$f":"SUM(X75:AB84)","v":0},null,null,null,null,null,null,null,null,null,null,null,null,null,null,null,null,null,null,null,null,null,null,null,null,null,null,null,null,null,null,null,null,null,null,null,null,null,null,null,null,null,null,null,null,null,null,null,null,null,null,null,{"$f":"SUM(BX75:CB84)","v":0},null,null,null,null,{"$f":"SUM(CC75:CG84)","v":0},null,null,null,null,null,null,null,null,null,null,null,null,null,null,null,null,null,null,null,null,null,null,null,{"$f":"SUM(DA75:DE84)","v":0},null,null,null,null,{"$f":"SUM(DF75:DJ84)","v":0}]
[" 1.","Nabycie udziałów (akcji) własnych",null,null,null,null,null,null,null,null,null,null,null,null,null,null,null,null,{"$f":"Objaśnienie_do_przepływów!$AM$198","v":0},null,null,null,null,null,null,null,null,null,null,null,null,null,null,null,null,null,null,null,null,null,null,null,null,null,null,null,null,null,null,null,null,null,null,null,null,null,null,null,null,null,null,null,null,null,null,null,null,null,null,null,null,null,null,null,null,{"$f":"Objaśnienie_do_przepływów!$AM$198","v":0}]
[" 2.","Dywidendy i inne wypłaty na rzecz właścicieli",null,null,null,null,null,null,null,null,null,null,null,null,null,null,null,null,{"$f":"Objaśnienie_do_przepływów!$AM$203","v":0},null,null,null,null,null,null,null,null,null,null,null,null,null,null,null,null,null,null,null,null,null,null,null,null,null,null,null,null,null,null,null,null,null,null,null,null,null,null,null,null,null,null,null,null,null,null,null,null,null,null,null,null,null,null,null,null,{"$f":"Objaśnienie_do_przepływów!$AM$203","v":0}]
[" 3.","Inne, niż wypłaty na rzecz właścicieli, wydatki z tytułu podziału zysku",null,null,null,null,null,null,null,null,null,null,null,null,null,null,null,null,{"$f":"Objaśnienie_do_przepływów!$AM$208","v":0},null,null,null,null,null,null,null,null,null,null,null,null,null,null,null,null,null,null,null,null,null,null,null,null,null,null,null,null,null,null,null,null,null,null,null,null,null,null,null,null,null,null,null,null,null,null,null,null,null,null,null,null,null,null,null,null,{"$f":"Objaśnienie_do_przepływów!$AM$208","v":0}]
[]
[" 4.","Spłaty kredytów i pożyczek",null,null,null,null,null,null,null,null,null,null,null,null,null,null,null,null,{"$f":"Objaśnienie_do_przepływów!$AM$213","v":0},null,null,null,null,null,null,null,null,null,null,null,null,null,null,null,null,null,null,null,null,null,null,null,null,null,null,null,null,null,null,null,null,null,null,null,null,null,null,null,null,null,null,null,null,null,null,null,null,null,null,null,null,null,null,null,null,{"$f":"Objaśnienie_do_przepływów!$AM$213","v":0}]
[" 5.","Wykup dłużnych papierów wartościowych",null,null,null,null,null,null,null,null,null,null,null,null,null,null,null,null,{"$f":"Objaśnienie_do_przepływów!$AM$218","v":0},null,null,null,null,null,null,null,null,null,null,null,null,null,null,null,null,null,null,null,null,null,null,null,null,null,null,null,null,null,null,null,null,null,null,null,null,null,null,null,null,null,null,null,null,null,null,null,null,null,null,null,null,null,null,null,null,{"$f":"Objaśnienie_do_przepływów!$AM$218","v":0}]
[" 6.","Z tytułu innych zobowiązań finansowych",null,null,null,null,null,null,null,null,null,null,null,null,null,null,null,null,{"$f":"Objaśnienie_do_przepływów!$AM$223","v":0},null,null,null,null,null,null,null,null,null,null,null,null,null,null,null,null,null,null,null,null,null,null,null,null,null,null,null,null,null,null,null,null,null,null,null,null,null,null,null,null,null,null,null,null,null,null,null,null,null,null,null,null,null,null,null,null,{"$f":"Objaśnienie_do_przepływów!$AM$223","v":0}]
[" 7.","Płatności zobowiązań z tytułu umów leasingu finansowego",null,null,null,null,null,null,null,null,null,null,null,null,null,null,null,null,{"$f":"Objaśnienie_do_przepływów!$AM$228","v":0},null,null,null,null,null,null,null,null,null,null,null,null,null,null,null,null,null,null,null,null,null,null,null,null,null,null,null,null,null,null,null,null,null,null,null,null,null,null,null,null,null,null,null,null,null,null,null,null,null,null,null,null,null,null,null,null,{"$f":"Objaśnienie_do_przepływów!$AM$228","v":0}]
[" 8.","Odsetki",null,null,null,null,null,null,null,null,null,null,null,null,null,null,null,null,{"$f":"Objaśnienie_do_przepływów!$AM$233","v":0},null,null,null,null,null,null,null,null,null,null,null,null,null,null,null,null,null,null,null,null,null,null,null,null,null,null,null,null,null,null,null,null,null,null,null,null,null,null,null,null,null,null,null,null,null,null,null,null,null,null,null,null,null,null,null,null,{"$f":"Objaśnienie_do_przepływów!$AM$233","v":0}]
[" 9.","Inne wydatki finansowe",null,null,null,null,null,null,null,null,null,null,null,null,null,null,null,null,{"$f":"Objaśnienie_do_przepływów!$AM$238","v":0},null,null,null,null,null,null,null,null,null,null,null,null,null,null,null,null,null,null,null,null,null,null,null,null,null,null,null,null,null,null,null,null,null,null,null,null,null,null,null,null,null,null,null,null,null,null,null,null,null,null,null,null,null,null,null,null,{"$f":"Objaśnienie_do_przepływów!$AM$238","v":0}]
["III.","Przepływy pieniężne netto z działalności finansowej (I - II)",null,null,null,null,null,null,null,null,null,null,null,null,null,null,null,null,{"$f":"S68-S74","v":0},null,null,null,null,{"$f":"X68-X74","v":0},null,null,null,null,null,null,null,null,null,null,null,null,null,null,null,null,null,null,null,null,null,null,null,null,null,null,null,null,null,null,null,null,null,null,null,null,null,null,null,null,null,null,null,null,null,null,null,null,null,null,null,{"$f":"BX68-BX74","v":0},null,null,null,null,{"$f":"CC68-CC74","v":0},null,null,null,null,null,null,null,null,null,null,null,null,null,null,null,null,null,null,null,null,null,null,null,{"$f":"DA68-DA74","v":0},null,null,null,null,{"$f":"DF68-DF74","v":0}]
["D.","Przepływy pieniężne netto razem (A.III +/- B.III +/- C.III)",null,null,null,null,null,null,null,null,null,null,null,null,null,null,null,null,{"$f":"S23+S49+S85","v":0},null,null,null,null,{"$f":"X23+X49+X85","v":0},null,null,null,null,null,null,null,null,null,null,null,null,null,null,null,null,null,null,null,null,null,null,null,null,null,null,null,null,null,null,null,null,null,null,null,null,null,null,null,null,null,null,null,null,null,null,null,null,null,null,null,{"$f":"BX23+BX49+BX85","v":0},null,null,null,null,{"$f":"CC23+CC49+CC85","v":0},null,null,null,null,null,null,null,null,null,null,null,null,null,null,null,null,null,null,null,null,null,null,null,{"$f":"DA23+DA49+DA85","v":0},null,null,null,null,{"$f":"DF23+DF49+DF85","v":0}]
["E.","Bilansowa zmiana stanu środków pieniężnych, w tym:",null,null,null,null,null,null,null,null,null,null,null,null,null,null,null,null,{"$f":"Bilans_AKTYWA!$S$106-Bilans_AKTYWA!$X$106","v":0},null,null,null,null,null,null,null,null,null,"Pole z komentarzem!",null,null,null,null,null,null,null,null,null,null,null,null,null,null,null,null,null,null,null,null,null,null,null,null,null,null,null,null,null,null,null,null,null,null,null,null,null,null,null,null,null,null,null,null,null,null,{"$f":"Bilans_AKTYWA!$S$106-Bilans_AKTYWA!$X$106","v":0}]
[null,"- zmiana stanu środków pieniężnych z tytułu różnic kursowych",null,null,null,null,null,null,null,null,null,null,null,null,null,null,null,null,{"$f":"Objaśnienie_do_przepływów!$AM$9","v":0},null,null,null,null,null,null,null,null,null,null,null,null,null,null,null,null,null,null,null,null,null,null,null,null,null,null,null,null,null,null,null,null,null,null,null,null,null,null,null,null,null,null,null,null,null,null,null,null,null,null,null,null,null,null,null,null,{"$f":"Objaśnienie_do_przepływów!$AM$9","v":0}]
["F.","Środki pieniężne na początek okresu",null,null,null,null,null,null,null,null,null,null,null,null,null,null,null,null,{"$f":"Bilans_AKTYWA!$X$106","v":0},null,null,null,null,null,null,null,null,null,"Pole z komentarzem!",null,null,null,null,null,null,null,null,null,null,null,null,null,null,null,null,null,null,null,null,null,null,null,null,null,null,null,null,null,null,null,null,null,null,null,null,null,null,null,null,null,null,null,null,null,null,{"$f":"Bilans_AKTYWA!$X$106","v":0}]
["G.","Środki pieniężne na koniec okresu (F +/- D), w tym",null,null,null,null,null,null,null,null,null,null,null,null,null,null,null,null,{"$f":"S89+S86","v":0},null,null,null,null,{"$f":"X89+X86","v":0},null,null,null,null,null,null,null,null,null,null,null,null,null,null,null,null,null,null,null,null,null,null,null,null,null,null,null,null,null,null,null,null,null,null,null,null,null,null,null,null,null,null,null,null,null,null,null,null,null,null,null,{"$f":"BX89+BX86","v":0},null,null,null,null,{"$f":"CC89+CC86","v":0},null,null,null,null,null,null,null,null,null,null,null,null,null,null,null,null,null,null,null,null,null,null,null,{"$f":"DA89+DA86","v":0},null,null,null,null,{"$f":"DF89+DF86","v":0}]
[null,"- o ograniczonej możliwości dysponowania"]
[]
[null,"Sprawdzenie stanu środków pieniężnych na BO"]
[null,"Bilans - środki pieniężne i inne aktywa pieniężne",null,null,null,null,null,null,null,null,null,null,null,null,null,null,null,null,{"$f":"Bilans_AKTYWA!X106","v":0}]
[null,"Rachunek przepływów - środki pieniężne na początek okresu",null,null,null,null,null,null,null,null,null,null,null,null,null,null,null,null,{"$f":"S89","v":0}]
[null,"różnica",null,null,null,null,null,null,null,null,null,null,null,null,null,null,null,null,{"$f":"S94-S95","v":0}]
[]
[null,"Sprawdzenie "]
[null,"Bilans - środki pieniężne i inne aktywa pieniężne",null,null,null,null,null,null,null,null,null,null,null,null,null,null,null,null,{"$f":"Bilans_AKTYWA!S106","v":0},null,null,null,null,{"$f":"Bilans_AKTYWA!X106","v":0}]
[null,"Korekty między zmianą stanu w rachunku przepływów a w bilansie",null,null,null,null,null,null,null,null,null,null,null,null,null,null,null,null,{"$f":"Objaśnienie_do_przepływów!AM9+Objaśnienie_do_przepływów!AM10","v":0}]
[null,"Rachunek przepływów - środki pieniężne na koniec okresu",null,null,null,null,null,null,null,null,null,null,null,null,null,null,null,null,{"$f":"S90","v":0},null,null,null,null,{"$f":"X90","v":0}]
[null,"różnica",null,null,null,null,null,null,null,null,null,null,null,null,null,null,null,null,{"$f":"S99-S100-S101","v":0},null,null,null,null,{"$f":"X99-X100-X101","v":0}]

{"sheet":"WNiP","index":15,"n_rows":30,"n_cols":45,"rows_kept":30,"cut":false,"hidden":true,"merged":[[18,1,18,7],[19,8,19,12],[2,44,2,49],[30,0,36,42],[4,0,4,9],[6,0,10,0],[6,1,10,7],[6,8,10,12],[5,0,5,42],[6,38,10,42],[14,28,14,32],[15,28,15,32],[12,28,12,32],[12,23,12,27],[13,28,13,32],[14,23,14,27],[15,23,15,27],[13,33,13,37],[6,18,6,32],[7,28,10,32],[7,18,10,22],[11,28,11,32],[11,18,11,22],[11,23,11,27],[6,33,10,37],[7,23,10,27],[6,13,10,17],[15,18,15,22],[16,13,16,17],[15,8,15,12],[13,13,13,17],[16,18,16,22],[14,13,14,17],[15,13,15,17],[16,28,16,32],[16,23,16,27],[11,33,11,37],[11,8,11,12],[13,23,13,27],[11,1,11,7],[20,1,20,7],[14,18,14,22],[12,1,12,7],[13,1,13,7],[13,8,13,12],[17,8,17,12],[16,8,16,12],[12,13,12,17],[14,8,14,12],[11,13,11,17],[12,8,12,12],[14,1,14,7],[15,1,15,7],[12,18,12,22],[20,13,20,17],[17,18,17,22],[16,1,16,7],[17,1,17,7],[18,18,18,22],[18,8,18,12],[17,13,17,17],[19,1,19,7],[13,18,13,22],[27,18,27,22],[26,8,26,12],[21,13,21,17],[18,13,18,17],[24,13,24,17],[26,13,26,17],[25,13,25,17],[19,13,19,17],[19,18,19,22],[28,28,28,32],[27,28,27,32],[27,23,27,27],[22,23,22,27],[23,23,23,27],[17,28,17,32],[18,28,18,32],[19,28,19,32],[26,23,26,27],[20,23,20,27],[20,28,20,32],[28,23,28,27],[21,28,21,32],[26,28,26,32],[25,28,25,32],[22,28,22,32],[23,28,23,32],[26,1,26,7],[17,23,17,27],[18,23,18,27],[24,23,24,27],[25,23,25,27],[19,23,19,27],[21,23,21,27],[21,8,21,12],[24,1,24,7],[22,8,22,12],[23,8,23,12],[24,8,24,12],[20,8,20,12],[23,1,23,7],[22,1,22,7],[21,1,21,7],[23,18,23,22],[20,18,20,22],[21,18,21,22],[24,18,24,22],[22,18,22,22],[22,13,22,17],[25,18,25,22],[26,18,26,22],[29,0,29,42],[20,38,20,42],[13,44,16,50],[18,44,21,50],[20,33,20,37],[16,38,16,42],[15,33,15,37],[12,33,12,37],[17,38,17,42],[18,38,18,42],[17,33,17,37],[19,33,19,37],[15,38,15,42],[14,33,14,37],[19,38,19,42],[18,33,18,37],[16,33,16,37],[25,1,25,7],[28,1,28,7],[25,8,25,12],[28,8,28,12],[28,13,28,17],[13,38,13,42],[22,38,22,42],[22,33,22,37],[23,33,23,37],[24,33,24,37],[25,33,25,37],[26,33,26,37],[11,38,11,42],[28,18,28,22],[27,1,27,7],[12,38,12,42],[21,38,21,42],[28,38,28,42],[25,38,25,42],[26,38,26,42],[27,38,27,42],[24,38,24,42],[23,38,23,42],[28,33,28,37],[27,33,27,37],[14,38,14,42],[21,33,21,37],[24,28,24,32],[27,8,27,12],[23,13,23,17],[27,13,27,17]]}
[{"$f":"nazwa","v":"DEMO"}]
[{"$f":"temat","v":"Sprawozdanie finansowe za rok 2023"}]
[null,null,null,null,null,null,null,null,null,null,null,null,null,null,null,null,null,null,null,null,null,null,null,null,null,null,null,null,null,null,null,null,null,null,null,null,null,null,null,null,null,null,null,null,"Powrót do parametrów"]
[]
[{"$f":"NumerNoty(Parametry!$B$32)","v":"Nota nie podlegająca prezentacji"}]
["Zmiany w stanie wartości niematerialnych i prawnych - wartość brutto"]
["Lp.","Wyszczególnienie",null,null,null,null,null,null,"Koszty zakończonych prac rozwojowych",null,null,null,null,"Wartość firmy",null,null,null,null,"Inne wartości niematerialne i prawne",null,null,null,null,null,null,null,null,null,null,null,null,null,null,"Zaliczki na wartości niematerialne i prawne",null,null,null,null," \nRazem\n"]
[null,null,null,null,null,null,null,null,null,null,null,null,null,null,null,null,null,null,"autorskie prawa majątkowe, prawa pokrewne, licencje, koncesje",null,null,null,null,"prawa do wynalazków, patentów, znaków towarowych, wzorów użytkowych oraz zdobniczych",null,null,null,null,"know-how"]
[]
[]
[]
[" 1.",{"$f":"stanp","v":"Stan na dzień dd.mm.rrrr"},null,null,null,null,null,null,null,null,null,null,null,null,null,null,null,null,null,null,null,null,null,null,null,null,null,null,null,null,null,null,null,null,null,null,null,null,{"$f":"SUM(I12:AL12)","v":0}]
[" 2.","Zwiększenia",null,null,null,null,null,null,{"$f":"SUM(I14:M20)","v":0},null,null,null,null,{"$f":"SUM(N14:R20)","v":0},null,null,null,null,{"$f":"SUM(S14:W20)","v":0},null,null,null,null,{"$f":"SUM(X14:AB20)","v":0},null,null,null,null,{"$f":"SUM(AC14:AG20)","v":0},null,null,null,null,{"$f":"SUM(AH14:AL20)","v":0},null,null,null,null,0]
[null,"zakup",null,null,null,null,null,null,null,null,null,null,null,null,null,null,null,null,null,null,null,null,null,null,null,null,null,null,null,null,null,null,null,null,null,null,null,null,0]
[null,"przyjęcie z inwestycji",null,null,null,null,null,null,null,null,null,null,null,null,null,null,null,null,null,null,null,null,null,null,null,null,null,null,null,null,null,null,null,null,null,null,null,null,0]
[null,"przemieszczenia",null,null,null,null,null,null,null,null,null,null,null,null,null,null,null,null,null,null,null,null,null,null,null,null,null,null,null,null,null,null,null,null,null,null,null,null,0]
[null,"wkład niepieniężny (aport)",null,null,null,null,null,null,null,null,null,null,null,null,null,null,null,null,null,null,null,null,null,null,null,null,null,null,null,null,null,null,null,null,null,null,null,null,0]
[null,"spadek, darowizna",null,null,null,null,null,null,null,null,null,null,null,null,null,null,null,null,null,null,null,null,null,null,null,null,null,null,null,null,null,null,null,null,null,null,null,null,0]
[null,"aktualizacja wartości",null,null,null,null,null,null,null,null,null,null,null,null,null,null,null,null,null,null,null,null,null,null,null,null,null,null,null,null,null,null,null,null,null,null,null,null,0]
[null,"przemieszczenia",null,null,null,null,null,null,null,null,null,null,null,null,null,null,null,null,null,null,null,null,null,null,null,null,null,null,null,null,null,null,null,null,null,null,null,null,0]
[" 3.","Zmniejszenia",null,null,null,null,null,null,{"$f":"SUM(I22:M28)","v":0},null,null,null,null,{"$f":"SUM(N22:R28)","v":0},null,null,null,null,{"$f":"SUM(S22:W28)","v":0},null,null,null,null,{"$f":"SUM(X22:AB28)","v":0},null,null,null,null,{"$f":"SUM(AC22:AG28)","v":0},null,null,null,null,{"$f":"SUM(AH22:AL28)","v":0},null,null,null,null,0]
[null,"sprzedaż",null,null,null,null,null,null,null,null,null,null,null,null,null,null,null,null,null,null,null,null,null,null,null,null,null,null,null,null,null,null,null,null,null,null,null,null,0]
[null,"likwidacja",null,null,null,null,null,null,null,null,null,null,null,null,null,null,null,null,null,null,null,null,null,null,null,null,null,null,null,null,null,null,null,null,null,null,null,null,0]
[null,"przemieszczenia",null,null,null,null,null,null,null,null,null,null,null,null,null,null,null,null,null,null,null,null,null,null,null,null,null,null,null,null,null,null,null,null,null,null,null,null,0]
[null,"wkład niepieniężny (aport)",null,null,null,null,null,null,null,null,null,null,null,null,null,null,null,null,null,null,null,null,null,null,null,null,null,null,null,null,null,null,null,null,null,null,null,null,0]
[null,"darowizna",null,null,null,null,null,null,null,null,null,null,null,null,null,null,null,null,null,null,null,null,null,null,null,null,null,null,null,null,null,null,null,null,null,null,null,null,0]
[null,"aktualizacja wartości",null,null,null,null,null,null,null,null,null,null,null,null,null,null,null,null,null,null,null,null,null,null,null,null,null,null,null,null,null,null,null,null,null,null,null,null,0]
[null,"niedobory",null,null,null,null,null,null,null,null,null,null,null,null,null,null,null,null,null,null,null,null,null,null,null,null,null,null,null,null,null,null,null,null,null,null,null,null,0]
[" 4.",{"$f":"stanb","v":"Stan na dzień dd.mm.rrrr"},null,null,null,null,null,null,{"$f":"I12+I13-I21","v":0},null,null,null,null,{"$f":"N12+N13-N21","v":0},null,null,null,null,{"$f":"S12+S13-S21","v":0},null,null,null,null,{"$f":"X12+X13-X21","v":0},null,null,null,null,{"$f":"AC12+AC13-AC21","v":0},null,null,null,null,{"$f":"AH12+AH13-AH21","v":0},null,null,null,null,{"$f":"SUM(I29:AL29)","v":0}]
[null,null,null,null,null,null,null,null,null,null,null,null,null,null,null,null,null,null,null,null,null,null,null,null,null,null,null,null,null,null,null,null,null,null,null,null,null,null,null,null,null,null,null,null,"Miejsce na dodatkowy opis"]

{"sheet":"WNiP_UM","index":16,"n_rows":47,"n_cols":45,"rows_kept":47,"cut":false,"hidden":true,"merged":[[2,44,2,49],[14,11,14,15],[13,21,13,24],[16,1,16,10],[13,29,13,32],[15,16,15,20],[15,1,15,10],[15,11,15,15],[15,21,15,24],[15,25,15,28],[14,16,14,20],[14,21,14,24],[16,21,16,24],[16,11,16,15],[13,25,13,28],[14,25,14,28],[13,1,13,10],[13,16,13,20],[16,25,16,28],[13,33,13,37],[14,33,14,37],[14,44,17,50],[12,38,12,42],[17,25,17,28],[20,25,20,28],[21,25,21,28],[4,0,4,9],[12,1,12,10],[5,0,5,42],[6,0,11,0],[6,16,11,20],[7,21,11,24],[6,33,11,37],[7,29,11,32],[12,33,12,37],[6,38,11,42],[6,1,11,10],[6,11,11,15],[6,21,6,32],[7,25,11,28],[12,21,12,24],[12,25,12,28],[12,16,12,20],[14,29,14,32],[12,11,12,15],[13,11,13,15],[14,1,14,10],[12,29,12,32],[18,25,18,28],[19,25,19,28],[17,1,17,10],[19,1,19,10],[17,21,17,24],[18,21,18,24],[19,21,19,24],[18,1,18,10],[18,11,18,15],[20,21,20,24],[21,16,21,20],[23,11,23,15],[24,11,24,15],[22,16,22,20],[17,16,17,20],[18,16,18,20],[16,16,16,20],[19,16,19,20],[20,16,20,20],[17,11,17,15],[21,21,21,24],[21,1,21,10],[19,11,19,15],[20,11,20,15],[21,11,21,15],[22,11,22,15],[26,1,26,10],[24,1,24,10],[23,16,23,20],[24,16,24,20],[26,11,26,15],[26,16,26,20],[20,1,20,10],[18,29,18,32],[18,38,18,42],[21,29,21,32],[19,33,19,37],[15,29,15,32],[23,38,23,42],[19,29,19,32],[20,29,20,32],[17,29,17,32],[22,29,22,32],[23,29,23,32],[17,33,17,37],[16,29,16,32],[21,33,21,37],[20,33,20,37],[20,38,20,42],[21,38,21,42],[15,33,15,37],[45,21,45,32],[41,21,41,32],[44,11,44,15],[45,11,45,15],[46,11,46,15],[41,1,41,10],[41,11,41,15],[44,38,44,42],[44,1,44,10],[46,16,46,20],[45,1,45,10],[44,16,44,20],[46,21,46,32],[46,33,46,37],[46,38,46,42],[45,16,45,20],[45,33,45,37],[46,1,46,10],[45,38,45,42],[44,21,44,32],[24,25,24,28],[22,25,22,28],[23,25,23,28],[27,21,27,24],[31,21,31,24],[22,21,22,24],[27,38,27,42],[26,38,26,42],[22,33,22,37],[22,38,22,42],[27,29,27,32],[24,29,24,32],[23,33,23,37],[24,33,24,37],[25,1,25,42],[26,29,26,32],[26,25,26,28],[22,1,22,10],[23,1,23,10],[24,21,24,24],[23,21,23,24],[26,21,26,24],[29,1,29,10],[30,16,30,20],[28,25,28,28],[31,16,31,20],[31,1,31,10],[29,29,29,32],[30,29,30,32],[29,21,29,24],[29,25,29,28],[31,11,31,15],[41,16,41,20],[28,29,28,32],[39,16,39,20],[31,38,31,42],[44,33,44,37],[31,29,31,32],[30,25,30,28],[41,33,41,37],[41,38,41,42],[32,0,32,42],[39,1,39,10],[40,1,40,10],[40,16,40,20],[39,11,39,15],[39,33,39,37],[31,33,31,37],[39,38,39,42],[27,25,27,28],[40,21,40,32],[39,21,39,32],[40,11,40,15],[30,11,30,15],[31,25,31,28],[28,16,28,20],[29,11,29,15],[33,0,36,42],[28,21,28,24],[29,38,29,42],[30,38,30,42],[28,1,28,10],[27,1,27,10],[29,16,29,20],[27,11,27,15],[28,11,28,15],[27,16,27,20],[30,1,30,10],[30,21,30,24],[40,33,40,37],[40,38,40,42],[28,38,28,42],[29,33,29,37],[26,33,26,37],[27,33,27,37],[28,33,28,37],[30,33,30,37],[19,44,22,50],[18,33,18,37],[19,38,19,42],[13,38,13,42],[14,38,14,42],[15,38,15,42],[16,38,16,42],[17,38,17,42],[16,33,16,37],[24,38,24,42]]}
[{"$f":"nazwa","v":"DEMO"}]
[{"$f":"temat","v":"Sprawozdanie finansowe za rok 2023"}]
[null,null,null,null,null,null,null,null,null,null,null,null,null,null,null,null,null,null,null,null,null,null,null,null,null,null,null,null,null,null,null,null,null,null,null,null,null,null,null,null,null,null,null,null,"Powrót do parametrów"]
[]
[{"$f":"NumerNoty( Parametry!$B$33)","v":"Nota nie podlegająca prezentacji"}]
["Zmiany w stanie umorzeń wartości niematerialnych i prawnych"]
["Lp.","Wyszczególnienie",null,null,null,null,null,null,null,null,null,"Koszty zakończonych prac rozwojowych",null,null,null,null,"Wartość firmy",null,null,null,null,"Inne wartości niematerialne i prawne",null,null,null,null,null,null,null,null,null,null,null,"Zaliczki na wartości niematerialne i prawne",null,null,null,null," \nRazem\n"]
[null,null,null,null,null,null,null,null,null,null,null,null,null,null,null,null,null,null,null,null,null,"autorskie prawa majątkowe, prawa pokrewne, licencje, koncesje",null,null,null,"prawa do wynalazków, patentów, znaków towarowych, wzorów użytkowych oraz zdobniczych",null,null,null,"know-how"]
[]
[]
[]
[]
[" 1.",{"$f":"stanp","v":"Stan na dzień dd.mm.rrrr"},null,null,null,null,null,null,null,null,null,null,null,null,null,null,null,null,null,null,null,null,null,null,null,null,null,null,null,null,null,null,null,null,null,null,null,null,{"$f":"SUM(L13:AL13)","v":0}]
[" 2.","Zwiększenia",null,null,null,null,null,null,null,null,null,{"$f":"SUM(L15:P17)","v":0},null,null,null,null,{"$f":"SUM(Q15:U17)","v":0},null,null,null,null,{"$f":"SUM(V15:Y17)","v":0},null,null,null,{"$f":"SUM(Z15:AC17)","v":0},null,null,null,{"$f":"SUM(AD15:AG17)","v":0},null,null,null,{"$f":"SUM(AH15:AL17)","v":0},null,null,null,null,0]
[null,"naliczenie umorzenia (amortyzacja)",null,null,null,null,null,null,null,null,null,null,null,null,null,null,null,null,null,null,null,null,null,null,null,null,null,null,null,null,null,null,null,null,null,null,null,null,0]
[null,"przemieszczenia",null,null,null,null,null,null,null,null,null,null,null,null,null,null,null,null,null,null,null,null,null,null,null,null,null,null,null,null,null,null,null,null,null,null,null,null,0]
[null,null,null,null,null,null,null,null,null,null,null,null,null,null,null,null,null,null,null,null,null,null,null,null,null,null,null,null,null,null,null,null,null,null,null,null,null,null,0]
[" 3.","Zmniejszenia",null,null,null,null,null,null,null,null,null,{"$f":"SUM(L19:P24)","v":0},null,null,null,null,{"$f":"SUM(Q19:U24)","v":0},null,null,null,null,{"$f":"SUM(V19:Y24)","v":0},null,null,null,{"$f":"SUM(Z19:AC24)","v":0},null,null,null,{"$f":"SUM(AD19:AG24)","v":0},null,null,null,{"$f":"SUM(AH19:AL24)","v":0},null,null,null,null,0]
[null,"sprzedaż",null,null,null,null,null,null,null,null,null,null,null,null,null,null,null,null,null,null,null,null,null,null,null,null,null,null,null,null,null,null,null,null,null,null,null,null,0]
[null,"likwidacja",null,null,null,null,null,null,null,null,null,null,null,null,null,null,null,null,null,null,null,null,null,null,null,null,null,null,null,null,null,null,null,null,null,null,null,null,0]
[null,"przemieszczenia",null,null,null,null,null,null,null,null,null,null,null,null,null,null,null,null,null,null,null,null,null,null,null,null,null,null,null,null,null,null,null,null,null,null,null,null,0]
[null,"wkład niepieniężny (aport)",null,null,null,null,null,null,null,null,null,null,null,null,null,null,null,null,null,null,null,null,null,null,null,null,null,null,null,null,null,null,null,null,null,null,null,null,0]
[null,"darowizna",null,null,null,null,null,null,null,null,null,null,null,null,null,null,null,null,null,null,null,null,null,null,null,null,null,null,null,null,null,null,null,null,null,null,null,null,0]
[null,null,null,null,null,null,null,null,null,null,null,null,null,null,null,null,null,null,null,null,null,null,null,null,null,null,null,null,null,null,null,null,null,null,null,null,null,null,0]
[" 4.",{"$f":"stanb","v":"Stan na dzień dd.mm.rrrr"},null,null,null,null,null,null,null,null,null,{"$f":"L13+L14-L18","v":0},null,null,null,null,{"$f":"Q13+Q14-Q18","v":0},null,null,null,null,{"$f":"V13+V14-V18","v":0},null,null,null,{"$f":"Z13+Z14-Z18","v":0},null,null,null,{"$f":"AD13+AD14-AD18","v":0},null,null,null,{"$f":"AH13+AH14-AH18","v":0},null,null,null,null,0]
[" 5.","Odpisy z tytułu trwałej utraty wartości"]
[null,{"$f":"stanp","v":"Stan na dzień dd.mm.rrrr"},null,null,null,null,null,null,null,null,null,null,null,null,null,null,null,null,null,null,null,null,null,null,null,null,null,null,null,null,null,null,null,null,null,null,null,null,0]
[null,"Zwiększenia odpisów",null,null,null,null,null,null,null,null,null,null,null,null,null,null,null,null,null,null,null,null,null,null,null,null,null,null,null,null,null,null,null,null,null,null,null,null,0]
[null,"Zmniejszenia odpisów",null,null,null,null,null,null,null,null,null,null,null,null,null,null,null,null,null,null,null,null,null,null,null,null,null,null,null,null,null,null,null,null,null,null,null,null,0]
[null,{"$f":"stanb","v":"Stan na dzień dd.mm.rrrr"},null,null,null,null,null,null,null,null,null,{"$f":"L27+L28-L29","v":0},null,null,null,null,{"$f":"Q27+Q28-Q29","v":0},null,null,null,null,{"$f":"V27+V28-V29","v":0},null,null,null,{"$f":"Z27+Z28-Z29","v":0},null,null,null,{"$f":"AD27+AD28-AD29","v":0},null,null,null,{"$f":"AH27+AH28-AH29","v":0},null,null,null,null,0]
[" 6.","Wartość netto na początek okresu",null,null,null,null,null,null,null,null,null,{"$f":"WNiP!$I$12-WNiP_UM!$L$13-L27","v":0},null,null,null,null,{"$f":"WNiP!$N$12-WNiP_UM!$Q$13-Q27","v":0},null,null,null,null,{"$f":"WNiP!$S$12-WNiP_UM!$V$13-V27","v":0},null,null,null,{"$f":"WNiP!$X$12-WNiP_UM!$Z$13-Z27","v":0},null,null,null,{"$f":"WNiP!$AC$12-WNiP_UM!$AD$13-AD27","v":0},null,null,null,{"$f":"WNiP!$AH$12-WNiP_UM!$AH$13-AH27","v":0},null,null,null,null,0]
[" 7.","Wartość netto na koniec okresu",null,null,null,null,null,null,null,null,null,{"$f":"WNiP!$I$29-WNiP_UM!$L$25-L30","v":0},null,null,null,null,{"$f":"WNiP!$N$29-WNiP_UM!$Q$25-Q30","v":0},null,null,null,null,{"$f":"WNiP!$S$29-WNiP_UM!$V$25-V30","v":0},null,null,null,{"$f":"WNiP!$X$29-WNiP_UM!$Z$25-Z30","v":0},null,null,null,{"$f":"WNiP!$AC$29-WNiP_UM!$AD$25-AD30","v":0},null,null,null,{"$f":"WNiP!$AH$29-WNiP_UM!$AH$25-AH30","v":0},null,null,null,null,0]
[null,null,null,null,null,null,null,null,null,null,null,null,null,null,null,null,null,null,null,null,null,null,null,null,null,null,null,null,null,null,null,null,null,null,null,null,null,null,null,null,null,null,null,null,"Miejsce na dodatkowy opis"]
[]
[]
[]
[]
[]
[null,"Sprawdzenie BO"]
[null,"Nota",null,null,null,null,null,null,null,null,null,{"$f":"L31","v":0},null,null,null,null,{"$f":"Q31","v":0},null,null,null,null,{"$f":"V31+Z31+AD31","v":0},null,null,null,null,null,null,null,null,null,null,null,{"$f":"AH31","v":0},null,null,null,null,{"$f":"AM31","v":0}]
[null,"Bilans",null,null,null,null,null,null,null,null,null,{"$f":"Bilans_AKTYWA!X11","v":0},null,null,null,null,{"$f":"Bilans_AKTYWA!X12","v":0},null,null,null,null,{"$f":"Bilans_AKTYWA!X13","v":0},null,null,null,null,null,null,null,null,null,null,null,{"$f":"Bilans_AKTYWA!X14","v":0},null,null,null,null,{"$f":"Bilans_AKTYWA!X10","v":0}]
[null,"różnica",null,null,null,null,null,null,null,null,null,{"$f":"L40-L41","v":0},null,null,null,null,{"$f":"Q40-Q41","v":0},null,null,null,null,{"$f":"V40-V41","v":0},null,null,null,null,null,null,null,null,null,null,null,{"$f":"AH40-AH41","v":0},null,null,null,null,{"$f":"AM40-AM41","v":0}]
[]
[null,"Sprawdzenie BZ"]
[null,"Nota",null,null,null,null,null,null,null,null,null,{"$f":"L32","v":0},null,null,null,null,{"$f":"Q32","v":0},null,null,null,null,{"$f":"V32+Z32+AD32","v":0},null,null,null,null,null,null,null,null,null,null,null,{"$f":"AH32","v":0},null,null,null,null,{"$f":"AM32","v":0}]
[null,"Bilans",null,null,null,null,null,null,null,null,null,{"$f":"Bilans_AKTYWA!S11","v":0},null,null,null,null,{"$f":"Bilans_AKTYWA!S12","v":0},null,null,null,null,{"$f":"Bilans_AKTYWA!S13","v":0},null,null,null,null,null,null,null,null,null,null,null,{"$f":"Bilans_AKTYWA!S14","v":0},null,null,null,null,{"$f":"Bilans_AKTYWA!S10","v":0}]
[null,"różnica",null,null,null,null,null,null,null,null,null,{"$f":"L45-L46","v":0},null,null,null,null,{"$f":"Q45-Q46","v":0},null,null,null,null,{"$f":"V45-V46","v":0},null,null,null,null,null,null,null,null,null,null,null,{"$f":"AH45-AH46","v":0},null,null,null,null,{"$f":"AM45-AM46","v":0}]

{"sheet":"Prace_rozwojowe","index":17,"n_rows":24,"n_cols":45,"rows_kept":24,"cut":false,"hidden":true,"merged":[[23,44,24,74],[2,44,2,49],[20,0,36,42],[4,0,4,9],[5,0,5,42],[6,0,9,0],[6,1,9,12],[6,13,9,17],[6,18,9,22],[6,23,9,27],[6,28,9,32],[6,33,9,37],[6,38,9,42],[11,33,11,37],[10,1,10,12],[10,18,10,22],[10,38,10,42],[13,38,13,42],[11,38,11,42],[13,1,13,12],[12,1,12,12],[10,13,10,17],[10,23,10,27],[11,18,11,22],[11,23,11,27],[10,28,10,32],[10,33,10,37],[11,1,11,12],[11,13,11,17],[19,0,19,42],[11,44,14,50],[12,33,12,37],[12,38,12,42],[13,28,13,32],[13,33,13,37],[14,38,14,42],[12,28,12,32],[11,28,11,32],[13,13,13,17],[13,18,13,22],[13,23,13,27],[15,33,15,37],[12,13,12,17],[12,18,12,22],[12,23,12,27],[16,38,16,42],[16,44,17,50],[16,1,16,12],[16,13,16,17],[16,18,16,22],[16,23,16,27],[16,28,16,32],[16,33,16,37],[15,38,15,42],[14,1,14,12],[14,13,14,17],[14,18,14,22],[14,23,14,27],[14,28,14,32],[14,33,14,37],[15,1,15,12],[15,13,15,17],[15,18,15,22],[15,23,15,27],[15,28,15,32],[18,33,18,37],[18,38,18,42],[17,38,17,42],[17,1,17,12],[17,13,17,17],[17,18,17,22],[17,23,17,27],[17,28,17,32],[17,33,17,37],[18,1,18,12],[18,13,18,17],[18,18,18,22],[18,23,18,27],[18,28,18,32]]}
[{"$f":"nazwa","v":"DEMO"}]
[{"$f":"temat","v":"Sprawozdanie finansowe za rok 2023"}]
[null,null,null,null,null,null,null,null,null,null,null,null,null,null,null,null,null,null,null,null,null,null,null,null,null,null,null,null,null,null,null,null,null,null,null,null,null,null,null,null,null,null,null,null,"Powrót do parametrów"]
[]
[{"$f":"NumerNoty( Parametry!$B$34)","v":"Nota nie podlegająca prezentacji"}]
["Koszty zakończonych prac rozwojowych oraz wartość firmy"]
["Lp.","Wyszczególnienie",null,null,null,null,null,null,null,null,null,null,null,"Wartość początkowa",null,null,null,null,"Dotychczasowe umorzenie",null,null,null,null,"Data rozpoczęcia odpisywania",null,null,null,null,"Ustalony okres odpisywania (lata, miesiące)",null,null,null,null,"Zmiana ustalonego okresu odpisywania (lata, miesiące)",null,null,null,null,"Uzasadnienie okresu odpisywania"]
[]
[]
[]
[" 1.","Koszty zakończonych prac rozwojowych",null,null,null,null,null,null,null,null,null,null,null,{"$f":"SUM(N12:R14)","v":0},null,null,null,null,{"$f":"SUM(S12:W14)","v":0}]
[null,null,null,null,null,null,null,null,null,null,null,null,null," "]
[]
[]
[" 2.","Wartość firmy",null,null,null,null,null,null,null,null,null,null,null,{"$f":"SUM(N16:R19)","v":0},null,null,null,null,{"$f":"SUM(S16:W19)","v":0}]
[]
[null,null,null,null,null,null,null,null,null,null,null,null,null," "]
[]
[]
[]
["informacje o kosztach związanych z pracami badawczymi i pracami rozwojowymi, które nie zostały zakwalifikowane zgodnie z art. 33 ust. 2 do wartości niematerialnych i prawnych:",null,null,null,null,null,null,null,null,null,null,null,null,null,null,null,null,null,null,null,null,null,null,null,null,null,null,null,null,null,null,null,null,null,null,null,null,null,null,null,null,null,null,null,"Miejsce na dodatkowy opis"]
[]
[]
[null,null,null,null,null,null,null,null,null,null,null,null,null,null,null,null,null,null,null,null,null,null,null,null,null,null,null,null,null,null,null,null,null,null,null,null,null,null,null,null,null,null,null,null,"Obowiązkowo należy podać nformacje o kosztach związanych z pracami badawczymi i pracami rozwojowymi, które nie zostały zakwalifikowane zgodnie z art. 33 ust. 2 do wartości niematerialnych i prawnych"]

{"sheet":"ŚR_TRW","index":18,"n_rows":33,"n_cols":45,"rows_kept":33,"cut":false,"hidden":false,"merged":[[2,44,2,49],[32,0,32,42],[33,0,36,42],[4,0,4,9],[11,23,11,27],[11,1,11,12],[10,28,10,32],[10,23,10,27],[11,28,11,32],[10,13,10,17],[11,18,11,22],[10,18,10,22],[14,13,14,17],[12,18,12,22],[12,28,12,32],[13,13,13,17],[11,13,11,17],[13,1,13,12],[6,18,9,22],[6,23,9,27],[6,28,9,32],[6,1,9,12],[10,1,10,12],[12,13,12,17],[21,18,21,22],[21,23,21,27],[12,1,12,12],[24,1,24,12],[28,13,28,17],[30,13,30,17],[25,1,25,12],[21,1,21,12],[26,1,26,12],[29,1,29,12],[23,13,23,17],[24,13,24,17],[13,18,13,22],[16,1,16,12],[15,18,15,22],[15,13,15,17],[14,23,14,27],[16,18,16,22],[16,13,16,17],[15,23,15,27],[15,1,15,12],[14,18,14,22],[12,23,12,27],[13,23,13,27],[23,1,23,12],[22,1,22,12],[23,18,23,22],[28,33,28,37],[26,38,26,42],[27,38,27,42],[22,33,22,37],[23,33,23,37],[25,38,25,42],[23,38,23,42],[25,28,25,32],[26,28,26,32],[25,18,25,22],[27,33,27,37],[26,33,26,37],[22,18,22,22],[22,23,22,27],[23,28,23,32],[24,28,24,32],[24,23,24,27],[25,23,25,27],[22,28,22,32],[23,23,23,27],[26,18,26,22],[24,18,24,22],[30,1,30,12],[26,23,26,27],[28,28,28,32],[27,23,27,27],[27,28,27,32],[31,13,31,17],[29,13,29,17],[31,18,31,22],[27,13,27,17],[31,1,31,12],[27,1,27,12],[28,1,28,12],[28,23,28,27],[31,23,31,27],[31,28,31,32],[29,23,29,27],[30,18,30,22],[27,18,27,22],[28,18,28,22],[29,18,29,22],[17,44,20,50],[15,38,15,42],[14,38,14,42],[6,33,9,37],[5,0,5,42],[6,0,9,0],[6,13,9,17],[6,38,9,42],[12,44,15,50],[17,23,17,27],[20,1,20,12],[18,1,19,12],[20,18,20,22],[20,23,20,27],[18,0,19,0],[18,13,19,17],[18,18,19,22],[17,1,17,12],[17,18,17,22],[14,1,14,12],[17,28,17,32],[20,28,20,32],[18,28,19,32],[13,28,13,32],[21,13,21,17],[31,33,31,37],[13,38,13,42],[16,33,16,37],[24,33,24,37],[25,33,25,37],[31,38,31,42],[29,33,29,37],[22,13,22,17],[17,13,17,17],[21,28,21,32],[20,13,20,17],[16,38,16,42],[14,28,14,32],[15,28,15,32],[16,23,16,27],[16,28,16,32],[18,23,19,27],[25,13,25,17],[26,13,26,17],[30,23,30,27],[29,28,29,32],[30,28,30,32],[21,33,21,37],[30,33,30,37],[28,38,28,42],[14,33,14,37],[15,33,15,37],[10,38,10,42],[30,38,30,42],[29,38,29,42],[11,38,11,42],[18,33,19,37],[12,38,12,42],[21,38,21,42],[22,38,22,42],[24,38,24,42],[20,38,20,42],[18,38,19,42],[17,38,17,42],[17,33,17,37],[10,33,10,37],[11,33,11,37],[12,33,12,37],[13,33,13,37],[20,33,20,37]]}
[{"$f":"nazwa","v":"DEMO"}]
[{"$f":"temat","v":"Sprawozdanie finansowe za rok 2023"}]
[null,null,null,null,null,null,null,null,null,null,null,null,null,null,null,null,null,null,null,null,null,null,null,null,null,null,null,null,null,null,null,null,null,null,null,null,null,null,null,null,null,null,null,null,"Powrót do parametrów"]
[]
[{"$f":"NumerNoty( Parametry!$B$35)","v":"Nota nr 1"}]
["Zmiany w stanie środków trwałych - wartość początkowa"]
["Lp.","Wyszczególnienie",null,null,null,null,null,null,null,null,null,null,null,"Grunty (w tym prawo użytkowania wieczystego gruntu)",null,null,null,null,"Budynki, lokale i obiekty inżynierii lądowej i wodnej",null,null,null,null,"Urządzenia techniczne i maszyny",null,null,null,null,"Środki\ntransportu",null,null,null,null,"Inne\nśrodki trwałe",null,null,null,null,"Razem"]
[]
[]
[]
[" 1.",{"$f":"stanp","v":"Stan na dzień dd.mm.rrrr"},null,null,null,null,null,null,null,null,null,null,null,null,null,null,null,null,null,null,null,null,null,null,null,null,null,null,null,null,null,null,null,null,null,null,null,null,{"$f":"SUM(N11:AL11)","v":0}]
[" 2.","Zwiększenia",null,null,null,null,null,null,null,null,null,null,null,{"$f":"SUM(N13:R22)","v":0},null,null,null,null,{"$f":"SUM(S13:W22)","v":0},null,null,null,null,{"$f":"SUM(X13:AB22)","v":0},null,null,null,null,{"$f":"SUM(AC13:AG22)","v":0},null,null,null,null,{"$f":"SUM(AH13:AL22)","v":0},null,null,null,null,0]
[null,"przyjęcie bezpośrednio z zakupu",null,null,null,null,null,null,null,null,null,null,null,null,null,null,null,null,null,null,null,null,null,null,null,null,null,null,null,null,null,null,null,null,null,null,null,null,0]
[null,"przyjęcie z inwestycji",null,null,null,null,null,null,null,null,null,null,null,null,null,null,null,null,null,null,null,null,null,null,null,null,null,null,null,null,null,null,null,null,null,null,null,null,0]
[null,"otrzymanie jako aport",null,null,null,null,null,null,null,null,null,null,null,null,null,null,null,null,null,null,null,null,null,null,null,null,null,null,null,null,null,null,null,null,null,null,null,null,0]
[null,"otrzymanie z darowizny",null,null,null,null,null,null,null,null,null,null,null,null,null,null,null,null,null,null,null,null,null,null,null,null,null,null,null,null,null,null,null,null,null,null,null,null,0]
[null,"nadwyżki inwentaryzacyjne",null,null,null,null,null,null,null,null,null,null,null,null,null,null,null,null,null,null,null,null,null,null,null,null,null,null,null,null,null,null,null,null,null,null,null,null,0]
[null,"przejęcia z leasingu finansowego",null,null,null,null,null,null,null,null,null,null,null,null,null,null,null,null,null,null,null,null,null,null,null,null,null,null,null,null,null,null,null,null,null,null,null,null,0]
[null,"przekwalifikowania do środków trwałych ze środków obrotowych",null,null,null,null,null,null,null,null,null,null,null,null,null,null,null,null,null,null,null,null,null,null,null,null,null,null,null,null,null,null,null,null,null,null,null,null,{"$f":"SUM(N19:AL20)","v":0}]
[]
[null,"aktualizacja wyceny śr. trwałych",null,null,null,null,null,null,null,null,null,null,null,null,null,null,null,null,null,null,null,null,null,null,null,null,null,null,null,null,null,null,null,null,null,null,null,null,{"$f":"SUM(N21:AL21)","v":0}]
[null,null,null,null,null,null,null,null,null,null,null,null,null,null,null,null,null,null,null,null,null,null,null,null,null,null,null,null,null,null,null,null,null,null,null,null,null,null,0]
[" 3.","Zmniejszenia",null,null,null,null,null,null,null,null,null,null,null,{"$f":"SUM(N24:R31)","v":0},null,null,null,null,{"$f":"SUM(S24:W31)","v":0},null,null,null,null,{"$f":"SUM(X24:AB31)","v":0},null,null,null,null,{"$f":"SUM(AC24:AG31)","v":0},null,null,null,null,{"$f":"SUM(AH24:AL31)","v":0},null,null,null,null,0]
[null,"likwidacja",null,null,null,null,null,null,null,null,null,null,null,null,null,null,null,null,null,null,null,null,null,null,null,null,null,null,null,null,null,null,null,null,null,null,null,null,0]
[null,"sprzedaż",null,null,null,null,null,null,null,null,null,null,null,null,null,null,null,null,null,null,null,null,null,null,null,null,null,null,null,null,null,null,null,null,null,null,null,null,0]
[null,"przekazanie jako aport",null,null,null,null,null,null,null,null,null,null,null,null,null,null,null,null,null,null,null,null,null,null,null,null,null,null,null,null,null,null,null,null,null,null,null,null,0]
[null,"przekazanie jako darowizna",null,null,null,null,null,null,null,null,null,null,null,null,null,null,null,null,null,null,null,null,null,null,null,null,null,null,null,null,null,null,null,null,null,null,null,null,0]
[null,"niedobory inwentaryzacyjne",null,null,null,null,null,null,null,null,null,null,null,null,null,null,null,null,null,null,null,null,null,null,null,null,null,null,null,null,null,null,null,null,null,null,null,null,0]
[null,"aktualizacja wyceny śr. trwałych",null,null,null,null,null,null,null,null,null,null,null,null,null,null,null,null,null,null,null,null,null,null,null,null,null,null,null,null,null,null,null,null,null,null,null,null,0]
[null,null,null,null,null,null,null,null,null,null,null,null,null,null,null,null,null,null,null,null,null,null,null,null,null,null,null,null,null,null,null,null,null,null,null,null,null,null,0]
[null,null,null,null,null,null,null,null,null,null,null,null,null,null,null,null,null,null,null,null,null,null,null,null,null,null,null,null,null,null,null,null,null,null,null,null,null,null,0]
[" 4.",{"$f":"stanb","v":"Stan na dzień dd.mm.rrrr"},null,null,null,null,null,null,null,null,null,null,null,{"$f":"N11+N12-N23","v":0},null,null,null,null,{"$f":"S11+S12-S23","v":0},null,null,null,null,{"$f":"X11+X12-X23","v":0},null,null,null,null,{"$f":"AC11+AC12-AC23","v":0},null,null,null,null,{"$f":"AH11+AH12-AH23","v":0},null,null,null,null,0]
[null,null,null,null,null,null,null,null,null,null,null,null,null,null,null,null,null,null,null,null,null,null,null,null,null,null,null,null,null,null,null,null,null,null,null,null,null,null,null,null,null,null,null,null,"Miejsce na dodatkowy opis"]

{"sheet":"ŚR_TRW_UM","index":19,"n_rows":47,"n_cols":45,"rows_kept":47,"cut":false,"hidden":true,"merged":[[39,13,39,17],[30,33,30,37],[30,28,30,32],[31,28,31,32],[31,33,31,37],[28,33,28,37],[28,28,28,32],[46,1,46,12],[45,1,45,12],[46,13,46,17],[45,13,45,17],[44,28,44,32],[41,33,41,37],[43,33,43,37],[39,33,39,37],[40,33,40,37],[39,1,39,12],[40,1,40,12],[41,1,41,12],[44,18,44,22],[44,1,44,12],[39,28,39,32],[39,23,39,27],[46,18,46,22],[43,13,43,17],[40,13,40,17],[41,13,41,17],[45,28,45,32],[45,23,45,27],[40,23,40,27],[41,23,41,27],[43,23,43,27],[44,23,44,27],[40,18,40,22],[41,18,41,22],[43,18,43,22],[44,13,44,17],[39,18,39,22],[43,28,43,32],[46,23,46,27],[46,38,46,42],[46,33,46,37],[44,38,44,42],[45,38,45,42],[45,33,45,37],[44,33,44,37],[45,18,45,22],[39,38,39,42],[40,38,40,42],[41,38,41,42],[43,38,43,42],[46,28,46,32],[40,28,40,32],[41,28,41,32],[33,0,33,42],[34,0,36,42],[29,23,29,27],[30,23,30,27],[32,23,32,27],[31,18,31,22],[29,18,29,22],[27,18,27,22],[32,18,32,22],[31,23,31,27],[30,18,30,22],[28,18,28,22],[27,28,27,32],[27,1,27,12],[28,1,28,12],[29,1,29,12],[32,33,32,37],[28,38,28,42],[27,38,27,42],[29,38,29,42],[30,38,30,42],[31,38,31,42],[32,38,32,42],[29,33,29,37],[26,1,26,42],[32,13,32,17],[32,1,32,12],[23,23,23,27],[24,23,24,27],[25,18,25,22],[25,28,25,32],[24,28,24,32],[24,18,24,22],[25,23,25,27],[30,13,30,17],[29,13,29,17],[25,33,25,37],[29,28,29,32],[27,23,27,27],[28,23,28,27],[23,18,23,22],[28,13,28,17],[31,13,31,17],[27,33,27,37],[23,38,23,42],[32,28,32,32],[20,1,20,12],[24,1,24,12],[30,1,30,12],[31,1,31,12],[23,13,23,17],[24,13,24,17],[22,1,22,12],[23,1,23,12],[17,44,20,50],[17,13,17,17],[19,18,19,22],[22,13,22,17],[27,13,27,17],[24,33,24,37],[25,1,25,12],[21,1,21,12],[21,13,21,17],[23,33,23,37],[20,33,20,37],[21,33,21,37],[18,23,18,27],[17,33,17,37],[18,33,18,37],[19,33,19,37],[20,38,20,42],[19,13,19,17],[17,28,17,32],[18,28,18,32],[22,33,22,37],[21,38,21,42],[25,13,25,17],[20,18,20,22],[19,38,19,42],[21,18,21,22],[20,13,20,17],[22,28,22,32],[20,23,20,27],[21,23,21,27],[22,23,22,27],[21,28,21,32],[20,28,20,32],[22,18,22,22],[22,38,22,42],[24,38,24,42],[25,38,25,42],[23,28,23,32],[17,38,17,42],[18,38,18,42],[17,23,17,27],[19,1,19,12],[16,28,16,32],[16,23,16,27],[15,33,15,37],[16,33,16,37],[15,1,15,12],[16,13,16,17],[18,13,18,17],[17,1,17,12],[15,13,15,17],[18,1,18,12],[15,18,15,22],[18,18,18,22],[16,18,16,22],[17,18,17,22],[16,1,16,12],[19,28,19,32],[19,23,19,27],[14,28,14,32],[11,1,11,12],[12,1,12,12],[13,1,13,12],[12,13,12,17],[14,1,14,12],[14,13,14,17],[15,38,15,42],[16,38,16,42],[13,33,13,37],[13,13,13,17],[11,18,11,22],[14,33,14,37],[10,33,10,37],[6,0,9,0],[6,13,9,17],[6,18,9,22],[4,0,4,9],[10,18,10,22],[5,0,5,42],[6,38,9,42],[10,28,10,32],[6,23,9,27],[6,1,9,12],[10,1,10,12],[6,28,9,32],[6,33,9,37],[2,44,2,49],[12,44,15,50],[10,13,10,17],[12,18,12,22],[12,23,12,27],[13,23,13,27],[14,23,14,27],[13,18,13,22],[14,18,14,22],[15,28,15,32],[15,23,15,27],[13,38,13,42],[14,38,14,42],[11,13,11,17],[11,28,11,32],[12,28,12,32],[10,38,10,42],[11,23,11,27],[11,38,11,42],[12,38,12,42],[13,28,13,32],[11,33,11,37],[12,33,12,37],[10,23,10,27]]}
[{"$f":"nazwa","v":"DEMO"}]
[{"$f":"temat","v":"Sprawozdanie finansowe za rok 2023"}]
[null,null,null,null,null,null,null,null,null,null,null,null,null,null,null,null,null,null,null,null,null,null,null,null,null,null,null,null,null,null,null,null,null,null,null,null,null,null,null,null,null,null,null,null,"Powrót do parametrów"]
[]
[{"$f":"NumerNoty( Parametry!$B$36)","v":"Nota nie podlegająca prezentacji"}]
["Zmiany w stanie umorzeń środków trwałych"]
["Lp.","Wyszczególnienie",null,null,null,null,null,null,null,null,null,null,null,"Grunty (w tym prawo użytkowania wieczystego gruntu)",null,null,null,null,"Budynki, lokale, prawa do lokali i obiekty inżynierii lądowej i wodnej",null,null,null,null,"Urządzenia techniczne\ni maszyny",null,null,null,null,"Środki\ntransportu",null,null,null,null,"Inne\nśrodki trwałe",null,null,null,null,"Razem"]
[]
[]
[]
[" 1.",{"$f":"stanp","v":"Stan na dzień dd.mm.rrrr"},null,null,null,null,null,null,null,null,null,null,null,null,null,null,null,null,null,null,null,null,null,null,null,null,null,null,null,null,null,null,null,null,null,null,null,null,{"$f":"SUM(N11:AL11)","v":0}]
[" 2.","Zwiększenia",null,null,null,null,null,null,null,null,null,null,null,{"$f":"SUM(N13:R16)","v":0},null,null,null,null,{"$f":"SUM(S13:W16)","v":0},null,null,null,null,{"$f":"SUM(X13:AB16)","v":0},null,null,null,null,{"$f":"SUM(AC13:AG16)","v":0},null,null,null,null,{"$f":"SUM(AH13:AL16)","v":0},null,null,null,null,0]
[null,"amortyzacja planowa okresu bieżącego",null,null,null,null,null,null,null,null,null,null,null,null,null,null,null,null,null,null,null,null,null,null,null,null,null,null,null,null,null,null,null,null,null,null,null,null,0]
[null,"aktualizacja środków trwałych",null,null,null,null,null,null,null,null,null,null,null,null,null,null,null,null,null,null,null,null,null,null,null,null,null,null,null,null,null,null,null,null,null,null,null,null,0]
[null,null,null,null,null,null,null,null,null,null,null,null,null,null,null,null,null,null,null,null,null,null,null,null,null,null,null,null,null,null,null,null,null,null,null,null,null,null,0]
[null,null,null,null,null,null,null,null,null,null,null,null,null,null,null,null,null,null,null,null,null,null,null,null,null,null,null,null,null,null,null,null,null,null,null,null,null,null,0]
[" 3.","Zmniejszenia",null,null,null,null,null,null,null,null,null,null,null,{"$f":"SUM(N18:R25)","v":0},null,null,null,null,{"$f":"SUM(S18:W25)","v":0},null,null,null,null,{"$f":"SUM(X18:AB25)","v":0},null,null,null,null,{"$f":"SUM(AC18:AG25)","v":0},null,null,null,null,{"$f":"SUM(AH18:AL25)","v":0},null,null,null,null,0]
[null,"umorzenie śr. trwałych zlikwidowanych",null,null,null,null,null,null,null,null,null,null,null,null,null,null,null,null,null,null,null,null,null,null,null,null,null,null,null,null,null,null,null,null,null,null,null,null,0]
[null,"umorzenie śr. trwałych sprzedanych",null,null,null,null,null,null,null,null,null,null,null,null,null,null,null,null,null,null,null,null,null,null,null,null,null,null,null,null,null,null,null,null,null,null,null,null,0]
[null,"umorzenie śr. trwałych darowanych",null,null,null,null,null,null,null,null,null,null,null,null,null,null,null,null,null,null,null,null,null,null,null,null,null,null,null,null,null,null,null,null,null,null,null,null,0]
[null,"umorzenie śr. trw. stanowiących niedobory",null,null,null,null,null,null,null,null,null,null,null,null,null,null,null,null,null,null,null,null,null,null,null,null,null,null,null,null,null,null,null,null,null,null,null,null,0]
[null,"umorzenie śr. trw. przekazanych w formie aportu",null,null,null,null,null,null,null,null,null,null,null,null,null,null,null,null,null,null,null,null,null,null,null,null,null,null,null,null,null,null,null,null,null,null,null,null,0]
[null,"umorzenie środków trwałych straconych",null,null,null,null,null,null,null,null,null,null,null,null,null,null,null,null,null,null,null,null,null,null,null,null,null,null,null,null,null,null,null,null,null,null,null,null,0]
[null,"umorzenie śr. trwałych aktualizowanych",null,null,null,null,null,null,null,null,null,null,null,null,null,null,null,null,null,null,null,null,null,null,null,null,null,null,null,null,null,null,null,null,null,null,null,null,0]
[null,null,null,null,null,null,null,null,null,null,null,null,null,null,null,null,null,null,null,null,null,null,null,null,null,null,null,null,null,null,null,null,null,null,null,null,null,null,0]
[" 4.",{"$f":"stanb","v":"Stan na dzień dd.mm.rrrr"},null,null,null,null,null,null,null,null,null,null,null,{"$f":"N11+N12-N17","v":0},null,null,null,null,{"$f":"S11+S12-S17","v":0},null,null,null,null,{"$f":"X11+X12-X17","v":0},null,null,null,null,{"$f":"AC11+AC12-AC17","v":0},null,null,null,null,{"$f":"AH11+AH12-AH17","v":0},null,null,null,null,0]
[" 5.","Odpisy z tytułu trwałej utraty wartości"]
[null,{"$f":"stanp","v":"Stan na dzień dd.mm.rrrr"},null,null,null,null,null,null,null,null,null,null,null,null,null,null,null,null,null,null,null,null,null,null,null,null,null,null,null,null,null,null,null,null,null,null,null,null,0]
[null,"Zwiększenia odpisów",null,null,null,null,null,null,null,null,null,null,null,null,null,null,null,null,null,null,null,null,null,null,null,null,null,null,null,null,null,null,null,null,null,null,null,null,0]
[null,"Zmniejszenia odpisów",null,null,null,null,null,null,null,null,null,null,null,null,null,null,null,null,null,null,null,null,null,null,null,null,null,null,null,null,null,null,null,null,null,null,null,null,0]
[null,{"$f":"stanb","v":"Stan na dzień dd.mm.rrrr"},null,null,null,null,null,null,null,null,null,null,null,{"$f":"N28+N29-N30","v":0},null,null,null,null,{"$f":"S28+S29-S30","v":0},null,null,null,null,{"$f":"X28+X29-X30","v":0},null,null,null,null,{"$f":"AC28+AC29-AC30","v":0},null,null,null,null,{"$f":"AH28+AH29-AH30","v":0},null,null,null,null,0]
[" 6.","Wartość netto na początek okresu",null,null,null,null,null,null,null,null,null,null,null,{"$f":"ŚR_TRW!$N$11-ŚR_TRW_UM!$N$11-ŚR_TRW_UM!$N$28","v":0},null,null,null,null,{"$f":"ŚR_TRW!$S$11-ŚR_TRW_UM!$S$11-ŚR_TRW_UM!$S$28","v":0},null,null,null,null,{"$f":"ŚR_TRW!$X$11-ŚR_TRW_UM!$X$11-ŚR_TRW_UM!$X$28","v":0},null,null,null,null,{"$f":"ŚR_TRW!$AC$11-ŚR_TRW_UM!$AC$11-ŚR_TRW_UM!$AC$28","v":0},null,null,null,null,{"$f":"ŚR_TRW!$AH$11-ŚR_TRW_UM!$AH$11-ŚR_TRW_UM!$AH$28","v":0},null,null,null,null,0]
[" 7.","Wartość netto na koniec okresu",null,null,null,null,null,null,null,null,null,null,null,{"$f":"ŚR_TRW!$N$32-ŚR_TRW_UM!$N$26-ŚR_TRW_UM!$N$31","v":0},null,null,null,null,{"$f":"ŚR_TRW!$S$32-ŚR_TRW_UM!$S$26-ŚR_TRW_UM!$S$31","v":0},null,null,null,null,{"$f":"ŚR_TRW!$X$32-ŚR_TRW_UM!$X$26-ŚR_TRW_UM!$X$31","v":0},null,null,null,null,{"$f":"ŚR_TRW!$AC$32-ŚR_TRW_UM!$AC$26-ŚR_TRW_UM!$AC$31","v":0},null,null,null,null,{"$f":"ŚR_TRW!$AH$32-ŚR_TRW_UM!$AH$26-ŚR_TRW_UM!$AH$31","v":0},null,null,null,null,0]
[null,null,null,null,null,null,null,null,null,null,null,null,null,null,null,null,null,null,null,null,null,null,null,null,null,null,null,null,null,null,null,null,null,null,null,null,null,null,null,null,null,null,null,null,"Miejsce na dodatkowy opis"]
[]
[null,null,null,null,null,null,null,null,null,null,null,null,null,null,null,null,null,null,null,null,null,null,null,null,null,null,null,null,null,null,null,null,null,null,null,null,null,null,null,null,null,null,null,null,"wyjaśnienie przyczyn odpisów aktualizujących środki trwałe;"]
[]
[]
[null,"Sprawdzenie BO"]
[null,"Nota",null,null,null,null,null,null,null,null,null,null,null,{"$f":"N32","v":0},null,null,null,null,{"$f":"S32","v":0},null,null,null,null,{"$f":"X32","v":0},null,null,null,null,{"$f":"AC32","v":0},null,null,null,null,{"$f":"AH32","v":0},null,null,null,null,{"$f":"AM32","v":0}]
[null,"Bilans",null,null,null,null,null,null,null,null,null,null,null,{"$f":"Bilans_AKTYWA!X17","v":0},null,null,null,null,{"$f":"Bilans_AKTYWA!X18","v":0},null,null,null,null,{"$f":"Bilans_AKTYWA!X19","v":0},null,null,null,null,{"$f":"Bilans_AKTYWA!X20","v":0},null,null,null,null,{"$f":"Bilans_AKTYWA!X21","v":0},null,null,null,null,{"$f":"Bilans_AKTYWA!X16","v":0}]
[null,"różnica",null,null,null,null,null,null,null,null,null,null,null,{"$f":"N40-N41","v":0},null,null,null,null,{"$f":"S40-S41","v":0},null,null,null,null,{"$f":"X40-X41","v":0},null,null,null,null,{"$f":"AC40-AC41","v":0},null,null,null,null,{"$f":"AH40-AH41","v":0},null,null,null,null,{"$f":"AM40-AM41","v":0}]
[]
[null,"Sprawdzenie BZ"]
[null,"Nota",null,null,null,null,null,null,null,null,null,null,null,{"$f":"N33","v":0},null,null,null,null,{"$f":"S33","v":0},null,null,null,null,{"$f":"X33","v":0},null,null,null,null,{"$f":"AC33","v":0},null,null,null,null,{"$f":"AH33","v":0},null,null,null,null,{"$f":"AM33","v":0}]
[null,"Bilans",null,null,null,null,null,null,null,null,null,null,null,{"$f":"Bilans_AKTYWA!S17","v":0},null,null,null,null,{"$f":"Bilans_AKTYWA!S18","v":0},null,null,null,null,{"$f":"Bilans_AKTYWA!S19","v":0},null,null,null,null,{"$f":"Bilans_AKTYWA!S20","v":0},null,null,null,null,{"$f":"Bilans_AKTYWA!S21","v":0},null,null,null,null,{"$f":"Bilans_AKTYWA!S16","v":0}]
[null,"różnica",null,null,null,null,null,null,null,null,null,null,null,{"$f":"N45-N46","v":0},null,null,null,null,{"$f":"S45-S46","v":0},null,null,null,null,{"$f":"X45-X46","v":0},null,null,null,null,{"$f":"AC45-AC46","v":0},null,null,null,null,{"$f":"AH45-AH46","v":0},null,null,null,null,{"$f":"AM45-AM46","v":0}]

{"sheet":"ŚR_TRW_w_bud","index":20,"n_rows":47,"n_cols":45,"rows_kept":47,"cut":false,"hidden":true,"merged":[[2,44,2,49],[40,38,40,42],[41,1,41,37],[39,1,39,37],[40,1,40,37],[39,38,39,42],[41,38,41,42],[5,0,5,42],[6,1,6,37],[38,1,38,42],[18,1,18,37],[19,38,19,42],[20,0,20,42],[21,0,36,42],[9,38,9,42],[11,1,11,37],[8,1,8,37],[8,38,8,42],[6,38,6,42],[7,38,7,42],[4,0,4,9],[7,1,7,37],[9,1,9,37],[10,1,10,37],[10,38,10,42],[11,38,11,42],[12,38,12,42],[12,44,15,50],[15,1,15,37],[12,1,12,37],[16,38,16,42],[17,44,20,50],[18,38,18,42],[19,1,19,37],[13,38,13,42],[15,38,15,42],[17,38,17,42],[17,1,17,37],[13,1,13,37],[14,1,14,37],[16,1,16,37],[14,38,14,42],[46,1,46,37],[46,38,46,42],[43,1,43,42],[44,1,44,37],[44,38,44,42],[45,1,45,37],[45,38,45,42]]}
[{"$f":"nazwa","v":"DEMO"}]
[{"$f":"temat","v":"Sprawozdanie finansowe za rok 2023"}]
[null,null,null,null,null,null,null,null,null,null,null,null,null,null,null,null,null,null,null,null,null,null,null,null,null,null,null,null,null,null,null,null,null,null,null,null,null,null,null,null,null,null,null,null,"Powrót do parametrów"]
[]
[{"$f":"NumerNoty(Parametry!$B$37)","v":"Nota nie podlegająca prezentacji"}]
["Zmiany w stanie środków trwałych w budowie"]
["Lp.","Wyszczególnienie",null,null,null,null,null,null,null,null,null,null,null,null,null,null,null,null,null,null,null,null,null,null,null,null,null,null,null,null,null,null,null,null,null,null,null,null,"Wartość"]
[" 1.",{"$f":"stanp","v":"Stan na dzień dd.mm.rrrr"}]
[" 2.","Zwiększenia nakładów w ciągu roku",null,null,null,null,null,null,null,null,null,null,null,null,null,null,null,null,null,null,null,null,null,null,null,null,null,null,null,null,null,null,null,null,null,null,null,null,{"$f":"SUM(AM10:AQ12)","v":0}]
[null,"Zakupy gotowych dóbr inwestycyjnych"]
[null,"Zadania inwestycyjne własne"]
[]
[" 3.","Rozliczenie nakładów inwestycyjnych według miejsc odniesienia nakładów",null,null,null,null,null,null,null,null,null,null,null,null,null,null,null,null,null,null,null,null,null,null,null,null,null,null,null,null,null,null,null,null,null,null,null,null,{"$f":"SUM(AM14:AQ19)","v":0}]
[null,"Przekazane do eksploatacji środki trwałe"]
[null,"Przekazane do eksploatacji środki obrotowe"]
[null,"Nieodpłatne przekazanie obiektu infrastruktury technicznej"]
[null,"Nakłady sprzedane, darowizny "]
[null,"Nakłady bez efektu gospodarczego"]
[]
[" 4.",{"$f":"stanb","v":"Stan na dzień dd.mm.rrrr"},null,null,null,null,null,null,null,null,null,null,null,null,null,null,null,null,null,null,null,null,null,null,null,null,null,null,null,null,null,null,null,null,null,null,null,null,{"$f":"AM8+AM9-AM13","v":0}]
[]
[null,null,null,null,null,null,null,null,null,null,null,null,null,null,null,null,null,null,null,null,null,null,null,null,null,null,null,null,null,null,null,null,null,null,null,null,null,null,null,null,null,null,null,null,"Miejsce na dodatkowy opis"]
[]
[]
[]
[]
[]
[]
[]
[]
[]
[]
[]
[]
[]
[]
[]
[]
[null,"Sprawdzenie BO"]
[null,"Nota",null,null,null,null,null,null,null,null,null,null,null,null,null,null,null,null,null,null,null,null,null,null,null,null,null,null,null,null,null,null,null,null,null,null,null,null,{"$f":"AM8","v":0}]
[null,"Bilans",null,null,null,null,null,null,null,null,null,null,null,null,null,null,null,null,null,null,null,null,null,null,null,null,null,null,null,null,null,null,null,null,null,null,null,null,{"$f":"Bilans_AKTYWA!$X$22","v":0}]
[null,"różnica",null,null,null,null,null,null,null,null,null,null,null,null,null,null,null,null,null,null,null,null,null,null,null,null,null,null,null,null,null,null,null,null,null,null,null,null,{"$f":"AM40-AM41","v":0}]
[]
[null,"Sprawdzenie BZ"]
[null,"Nota",null,null,null,null,null,null,null,null,null,null,null,null,null,null,null,null,null,null,null,null,null,null,null,null,null,null,null,null,null,null,null,null,null,null,null,null,{"$f":"AM20","v":0}]
[null,"Bilans",null,null,null,null,null,null,null,null,null,null,null,null,null,null,null,null,null,null,null,null,null,null,null,null,null,null,null,null,null,null,null,null,null,null,null,null,{"$f":"Bilans_AKTYWA!$S$22","v":0}]
[null,"różnica",null,null,null,null,null,null,null,null,null,null,null,null,null,null,null,null,null,null,null,null,null,null,null,null,null,null,null,null,null,null,null,null,null,null,null,null,{"$f":"AM45-AM46","v":0}]

{"sheet":"Zaliczki_na_ŚR_TRW_w_bud","index":21,"n_rows":42,"n_cols":45,"rows_kept":42,"cut":false,"hidden":true,"merged":[[2,44,2,49],[12,1,12,32],[17,33,17,37],[19,0,19,42],[20,0,36,42],[12,33,12,37],[12,38,12,42],[13,1,13,32],[13,33,13,37],[13,38,13,42],[5,0,5,42],[8,38,8,42],[8,33,8,37],[8,1,8,32],[4,0,4,25],[9,1,9,32],[11,38,11,42],[23,44,24,50],[17,1,17,32],[17,38,17,42],[14,1,14,32],[14,33,14,37],[14,38,14,42],[15,1,15,32],[16,1,16,32],[15,33,15,37],[15,38,15,42],[16,33,16,37],[16,38,16,42],[11,1,11,32],[11,33,11,37],[41,1,41,32],[18,0,18,32],[39,38,39,42],[40,38,40,42],[39,33,39,37],[40,33,40,37],[18,38,18,42],[41,33,41,37],[39,1,39,32],[41,38,41,42],[40,1,40,32],[18,33,18,37],[6,1,7,32],[6,0,7,0],[6,33,7,37],[10,1,10,32],[6,38,7,42],[10,33,10,37],[10,38,10,42],[9,33,9,37],[9,38,9,42]]}
[{"$f":"nazwa","v":"DEMO"}]
[{"$f":"temat","v":"Sprawozdanie finansowe za rok 2023"}]
[null,null,null,null,null,null,null,null,null,null,null,null,null,null,null,null,null,null,null,null,null,null,null,null,null,null,null,null,null,null,null,null,null,null,null,null,null,null,null,null,null,null,null,null,"Powrót do parametrów"]
[]
[{"$f":"NumerNoty(Parametry!$B$38)","v":"Nota nie podlegająca prezentacji"}]
["Zaliczki na środki trwałe w budowie"]
["Lp.","Kontrahent",null,null,null,null,null,null,null,null,null,null,null,null,null,null,null,null,null,null,null,null,null,null,null,null,null,null,null,null,null,null,null,{"$f":"stanb","v":"Stan na dzień dd.mm.rrrr"},null,null,null,null,{"$f":"stanp","v":"Stan na dzień dd.mm.rrrr"}]
[]
[" 1."]
[" 2."]
[" 3."]
[" 4."]
[" 5."]
[" 6."]
[" 7."]
[" 8."]
[" 9."]
[" 10."]
["RAZEM",null,null,null,null,null,null,null,null,null,null,null,null,null,null,null,null,null,null,null,null,null,null,null,null,null,null,null,null,null,null,null,null,{"$f":"SUM(AH9:AL18)","v":0},null,null,null,null,{"$f":"SUM(AM9:AQ18)","v":0}]
[null,null,null,null,null,null,null,null,null,null,null,null,null,null,null,null,null,null,null,null,null,null,null,null,null,null,null,null,null,null,null,null,null,null,null,null,null,null,null,null,null,null,null,null,"Miejsce na dodatkowy opis"]
[]
[]
[]
[]
[]
[]
[]
[]
[]
[]
[]
[]
[]
[]
[]
[]
[]
[]
[null,"Sprawdzenie"]
[null,"Nota",null,null,null,null,null,null,null,null,null,null,null,null,null,null,null,null,null,null,null,null,null,null,null,null,null,null,null,null,null,null,null,{"$f":"AH19","v":0},null,null,null,null,{"$f":"AM19","v":0}]
[null,"Bilans",null,null,null,null,null,null,null,null,null,null,null,null,null,null,null,null,null,null,null,null,null,null,null,null,null,null,null,null,null,null,null,{"$f":"Bilans_AKTYWA!S23","v":0},null,null,null,null,{"$f":"Bilans_AKTYWA!X23","v":0}]
[null,"różnica",null,null,null,null,null,null,null,null,null,null,null,null,null,null,null,null,null,null,null,null,null,null,null,null,null,null,null,null,null,null,null,{"$f":"AH40-AH41","v":0},null,null,null,null,{"$f":"AM40-AM41","v":0}]

{"sheet":"Grunty","index":22,"n_rows":26,"n_cols":45,"rows_kept":26,"cut":false,"hidden":true,"merged":[[2,44,2,49],[20,0,20,42],[21,0,36,42],[17,38,17,42],[17,1,17,25],[18,1,18,25],[18,38,18,42],[19,38,19,42],[17,31,17,37],[18,31,18,37],[19,31,19,37],[17,26,17,30],[18,26,18,30],[19,26,19,30],[19,0,19,25],[6,1,8,25],[6,26,6,30],[7,26,8,30],[4,0,4,23],[16,44,19,50],[10,26,10,30],[11,26,11,30],[9,1,9,25],[10,1,10,25],[11,1,11,25],[16,26,16,30],[16,1,16,25],[12,1,12,25],[12,26,12,30],[12,31,12,37],[12,38,12,42],[15,31,15,37],[21,44,24,50],[16,38,16,42],[16,31,16,37],[11,31,11,37],[5,0,5,42],[9,38,9,42],[10,38,10,42],[10,31,10,37],[6,31,8,37],[6,38,8,42],[9,26,9,30],[6,0,8,0],[11,38,11,42],[9,31,9,37],[15,1,15,25],[15,26,15,30],[15,38,15,42],[13,1,13,25],[13,26,13,30],[13,31,13,37],[13,38,13,42],[14,1,14,25],[14,26,14,30],[14,31,14,37],[14,38,14,42]]}
[{"$f":"nazwa","v":"DEMO"}]
[{"$f":"temat","v":"Sprawozdanie finansowe za rok 2023"}]
[null,null,null,null,null,null,null,null,null,null,null,null,null,null,null,null,null,null,null,null,null,null,null,null,null,null,null,null,null,null,null,null,null,null,null,null,null,null,null,null,null,null,null,null,"Powrót do parametrów"]
[]
[{"$f":"NumerNoty(Parametry!$B$39)","v":"Nota nie podlegająca prezentacji"}]
["Wartość gruntów użytkowanych wieczyście"]
["Lp.","Opis (miejsce położenia, powierzchnia)",null,null,null,null,null,null,null,null,null,null,null,null,null,null,null,null,null,null,null,null,null,null,null,null,"Grunty",null,null,null,null,"Odpisy amortyzacyjne (umorzeniowe) oraz odpisy z tytułu trwałej utraty wartości",null,null,null,null,null,null,"Wartość bilansowa ogółem"]
[null,null,null,null,null,null,null,null,null,null,null,null,null,null,null,null,null,null,null,null,null,null,null,null,null,null,"Wartość początkowa"]
[]
[" 1.",null,null,null,null,null,null,null,null,null,null,null,null,null,null,null,null,null,null,null,null,null,null,null,null,null,null,null,null,null,null,null,null,null,null,null,null,null,{"$f":"AA10-AF10","v":0}]
[" 2.",null,null,null,null,null,null,null,null,null,null,null,null,null,null,null,null,null,null,null,null,null,null,null,null,null,null,null,null,null,null,null,null,null,null,null,null,null,0]
[" 3.",null,null,null,null,null,null,null,null,null,null,null,null,null,null,null,null,null,null,null,null,null,null,null,null,null,null,null,null,null,null,null,null,null,null,null,null,null,0]
[" 4.",null,null,null,null,null,null,null,null,null,null,null,null,null,null,null,null,null,null,null,null,null,null,null,null,null,null,null,null,null,null,null,null,null,null,null,null,null,{"$f":"AA13-AF13","v":0}]
[" 5.",null,null,null,null,null,null,null,null,null,null,null,null,null,null,null,null,null,null,null,null,null,null,null,null,null,null,null,null,null,null,null,null,null,null,null,null,null,{"$f":"AA14-AF14","v":0}]
[" 6.",null,null,null,null,null,null,null,null,null,null,null,null,null,null,null,null,null,null,null,null,null,null,null,null,null,null,null,null,null,null,null,null,null,null,null,null,null,{"$f":"AA15-AF15","v":0}]
[" 7.",null,null,null,null,null,null,null,null,null,null,null,null,null,null,null,null,null,null,null,null,null,null,null,null,null,null,null,null,null,null,null,null,null,null,null,null,null,{"$f":"AA16-AF16","v":0}]
[" 8.",null,null,null,null,null,null,null,null,null,null,null,null,null,null,null,null,null,null,null,null,null,null,null,null,null,null,null,null,null,null,null,null,null,null,null,null,null,0]
[" 9.",null,null,null,null,null,null,null,null,null,null,null,null,null,null,null,null,null,null,null,null,null,null,null,null,null,null,null,null,null,null,null,null,null,null,null,null,null,0]
[" 10."," ",null,null,null,null,null,null,null,null,null,null,null,null,null,null,null,null,null,null,null,null,null,null,null,null,null,null,null,null,null,null,null,null,null,null,null,null,0]
["RAZEM",null,null,null,null,null,null,null,null,null,null,null,null,null,null,null,null,null,null,null,null,null,null,null,null,null,{"$f":"SUM(AA10:AE19)","v":0},null,null,null,null,{"$f":"SUM(AF10:AL19)","v":0},null,null,null,null,null,null,0]
[]
[]
[]
[]
[]
[null,null,null,null,null,null,null,null,null,null,null,null,null,null,null,null,null,null,null,null,null,null,null,null,null,null,null,null,null,null,null,null,null,null,null,null,null,null,null,null,null,null,null,null,"Miejsce na dodatkowy opis"]

{"sheet":"Struktura_ŚR_TRW","index":23,"n_rows":23,"n_cols":45,"rows_kept":23,"cut":false,"hidden":true,"merged":[[2,44,2,49],[11,0,11,32],[11,38,11,42],[17,44,20,50],[5,0,5,42],[11,33,11,37],[12,44,15,50],[6,0,7,0],[6,1,7,32],[8,1,8,32],[4,0,4,9],[10,1,10,32],[9,1,9,32],[12,0,12,42],[13,0,36,42],[10,33,10,37],[6,38,7,42],[6,33,7,37],[10,38,10,42],[9,33,9,37],[9,38,9,42],[8,38,8,42],[8,33,8,37]]}
[{"$f":"nazwa","v":"DEMO"}]
[{"$f":"temat","v":"Sprawozdanie finansowe za rok 2023"}]
[null,null,null,null,null,null,null,null,null,null,null,null,null,null,null,null,null,null,null,null,null,null,null,null,null,null,null,null,null,null,null,null,null,null,null,null,null,null,null,null,null,null,null,null,"Powrót do parametrów"]
[]
[{"$f":"NumerNoty(Parametry!$B$40)","v":"Nota nie podlegająca prezentacji"}]
["Struktura wykorzystywanych środków trwałych - według tytułów własności (wartość początkowa)"]
["Lp.","Wyszczególnienie",null,null,null,null,null,null,null,null,null,null,null,null,null,null,null,null,null,null,null,null,null,null,null,null,null,null,null,null,null,null,null,{"$f":"stanb","v":"Stan na dzień dd.mm.rrrr"},null,null,null,null,{"$f":"stanp","v":"Stan na dzień dd.mm.rrrr"}]
[]
[" 1.","Środki trwałe własne"]
[" 2.","Środki trwałe używane na podstawie najmu, dzierżawy lub innej umowy o podobnym charakterze - ujęte w aktywach"]
[" 3.","Środki trw. używane na podst.najmu, dzierżawy lub innej umowy o podobnym charakt.- nie wykazane w aktywach"]
["RAZEM",null,null,null,null,null,null,null,null,null,null,null,null,null,null,null,null,null,null,null,null,null,null,null,null,null,null,null,null,null,null,null,null,{"$f":"SUM(AH9:AL11)","v":0},null,null,null,null,{"$f":"SUM(AM9:AQ11)","v":0}]
[]
[]
[]
[]
[]
[]
[]
[]
[]
[]
[null,null,null,null,null,null,null,null,null,null,null,null,null,null,null,null,null,null,null,null,null,null,null,null,null,null,null,null,null,null,null,null,null,null,null,null,null,null,null,null,null,null,null,null,"Miejsce na dodatkowy opis"]

{"sheet":"Inwest_długot","index":24,"n_rows":47,"n_cols":45,"rows_kept":47,"cut":false,"hidden":true,"merged":[[12,1,12,17],[9,38,9,42],[11,38,11,42],[9,33,9,37],[10,33,10,37],[11,33,11,37],[12,33,12,37],[11,1,11,17],[6,1,8,17],[10,23,10,27],[12,18,12,22],[10,18,10,22],[9,18,9,22],[11,23,11,27],[12,23,12,27],[12,28,12,32],[11,28,11,32],[6,33,8,37],[6,38,8,42],[10,38,10,42],[2,44,2,49],[6,0,8,0],[9,1,9,17],[10,28,10,32],[6,18,8,22],[6,23,8,27],[11,18,11,22],[4,0,4,9],[15,18,15,22],[15,1,15,17],[15,23,15,27],[13,23,13,27],[13,1,13,17],[5,0,5,42],[12,38,12,42],[13,33,13,37],[14,1,14,17],[14,23,14,27],[14,18,14,22],[13,18,13,22],[6,28,8,32],[9,28,9,32],[10,1,10,17],[9,23,9,27],[46,1,46,17],[44,1,44,17],[44,18,44,22],[45,18,45,22],[46,18,46,22],[46,23,46,27],[23,23,23,27],[44,23,44,27],[45,23,45,27],[25,23,25,27],[39,1,39,17],[39,18,39,22],[39,23,39,27],[40,1,40,17],[40,18,40,22],[40,23,40,27],[41,1,41,17],[41,18,41,22],[41,23,41,27],[26,0,26,42],[27,0,36,42],[24,38,24,42],[24,1,24,17],[24,18,24,22],[16,23,16,27],[25,18,25,22],[25,1,25,17],[39,38,39,42],[40,38,40,42],[41,38,41,42],[23,33,23,37],[45,1,45,17],[23,1,23,17],[20,18,20,22],[16,1,16,17],[17,1,17,17],[20,1,20,17],[23,18,23,22],[21,23,21,27],[24,23,24,27],[21,18,21,22],[22,18,22,22],[21,1,21,17],[22,1,22,17],[16,18,16,22],[17,18,17,22],[22,23,22,27],[20,23,20,27],[17,23,17,27],[18,23,18,27],[41,28,41,32],[41,33,41,37],[19,1,19,42],[18,18,18,22],[25,38,25,42],[23,38,23,42],[39,28,39,32],[39,33,39,37],[40,28,40,32],[40,33,40,37],[18,1,18,17],[21,28,21,32],[17,44,20,50],[16,38,16,42],[17,38,17,42],[20,33,20,37],[20,38,20,42],[25,28,25,32],[17,28,17,32],[18,28,18,32],[18,33,18,37],[17,33,17,37],[18,38,18,42],[16,28,16,32],[16,33,16,37],[14,28,14,32],[15,28,15,32],[13,28,13,32],[14,33,14,37],[14,38,14,42],[15,33,15,37],[13,38,13,42],[12,44,15,50],[15,38,15,42],[46,28,46,32],[21,38,21,42],[22,28,22,32],[20,28,20,32],[22,38,22,42],[22,33,22,37],[46,38,46,42],[45,33,45,37],[46,33,46,37],[21,33,21,37],[45,38,45,42],[24,33,24,37],[44,38,44,42],[24,28,24,32],[25,33,25,37],[45,28,45,32],[44,33,44,37],[23,28,23,32],[44,28,44,32]]}
[{"$f":"nazwa","v":"DEMO"}]
[{"$f":"temat","v":"Sprawozdanie finansowe za rok 2023"}]
[null,null,null,null,null,null,null,null,null,null,null,null,null,null,null,null,null,null,null,null,null,null,null,null,null,null,null,null,null,null,null,null,null,null,null,null,null,null,null,null,null,null,null,null,"Powrót do parametrów"]
[]
[{"$f":"NumerNoty(Parametry!$B$41)","v":"Nota nie podlegająca prezentacji"}]
["Zmiana stanu inwestycji długoterminowych"]
["Lp.","Wyszczególnienie",null,null,null,null,null,null,null,null,null,null,null,null,null,null,null,null,"Nieruchomości",null,null,null,null,"Wartości niematerialne i prawne",null,null,null,null,"Długoterminowe aktywa finansowe",null,null,null,null,"Inne inwestycje długoterminowe",null,null,null,null,"Razem"]
[]
[]
[" 1.",{"$f":"stanp &\" (brutto)\"","v":"Stan na dzień dd.mm.rrrr (brutto)"},null,null,null,null,null,null,null,null,null,null,null,null,null,null,null,null,null,null,null,null,null,null,null,null,null,null,null,null,null,null,null,null,null,null,null,null,{"$f":"SUM(S10:AL10)","v":0}]
[" 2.","Zwiększenia",null,null,null,null,null,null,null,null,null,null,null,null,null,null,null,null,{"$f":"SUM(S12:W14)","v":0},null,null,null,null,{"$f":"SUM(X12:AB14)","v":0},null,null,null,null,{"$f":"SUM(AC12:AG14)","v":0},null,null,null,null,{"$f":"SUM(AH12:AL14)","v":0},null,null,null,null,0]
[null,"nabycie",null,null,null,null,null,null,null,null,null,null,null,null,null,null,null,null,null,null,null,null,null,null,null,null,null,null,null,null,null,null,null,null,null,null,null,null,0]
[null,"aktualizacja wartości",null,null,null,null,null,null,null,null,null,null,null,null,null,null,null,null,null,null,null,null,null,null,null,null,null,null,null,null,null,null,null,null,null,null,null,null,0]
[null,null,null,null,null,null,null,null,null,null,null,null,null,null,null,null,null,null,null,null,null,null,null,null,null,null,null,null,null,null,null,null,null,null,null,null,null,null,0]
[" 3.","Zmniejszenia",null,null,null,null,null,null,null,null,null,null,null,null,null,null,null,null,{"$f":"SUM(S16:W18)","v":0},null,null,null,null,{"$f":"SUM(X16:AB18)","v":0},null,null,null,null,{"$f":"SUM(AC16:AG18)","v":0},null,null,null,null,{"$f":"SUM(AH16:AL18)","v":0},null,null,null,null,0]
[null,"sprzedaż",null,null,null,null,null,null,null,null,null,null,null,null,null,null,null,null,null,null,null,null,null,null,null,null,null,null,null,null,null,null,null,null,null,null,null,null,0]
[null,"aktualizacja wartości",null,null,null,null,null,null,null,null,null,null,null,null,null,null,null,null,null,null,null,null,null,null,null,null,null,null,null,null,null,null,null,null,null,null,null,null,0]
[null,null,null,null,null,null,null,null,null,null,null,null,null,null,null,null,null,null,null,null,null,null,null,null,null,null,null,null,null,null,null,null,null,null,null,null,null,null,0]
[" 4.",{"$f":"stanb &\" (brutto)\"","v":"Stan na dzień dd.mm.rrrr (brutto)"},null,null,null,null,null,null,null,null,null,null,null,null,null,null,null,null,{"$f":"+S10+S11-S15","v":0},null,null,null,null,{"$f":"+X10+X11-X15","v":0},null,null,null,null,{"$f":"+AC10+AC11-AC15","v":0},null,null,null,null,{"$f":"+AH10+AH11-AH15","v":0},null,null,null,null,0]
[" 5.","Odpisy z tytułu trwałej utraty wartości"]
[null,{"$f":"stanp","v":"Stan na dzień dd.mm.rrrr"},null,null,null,null,null,null,null,null,null,null,null,null,null,null,null,null,null,null,null,null,null,null,null,null,null,null,null,null,null,null,null,null,null,null,null,null,{"$f":"SUM(S21:AL21)","v":0}]
[null,"Zwiększenia odpisów",null,null,null,null,null,null,null,null,null,null,null,null,null,null,null,null,null,null,null,null,null,null,null,null,null,null,null,null,null,null,null,null,null,null,null,null,0]
[null,"Zmniejszenia odpisów",null,null,null,null,null,null,null,null,null,null,null,null,null,null,null,null,null,null,null,null,null,null,null,null,null,null,null,null,null,null,null,null,null,null,null,null,0]
[null,{"$f":"stanb","v":"Stan na dzień dd.mm.rrrr"},null,null,null,null,null,null,null,null,null,null,null,null,null,null,null,null,{"$f":"S21+S22-S23","v":0},null,null,null,null,{"$f":"X21+X22-X23","v":0},null,null,null,null,{"$f":"AC21+AC22-AC23","v":0},null,null,null,null,{"$f":"AH21+AH22-AH23","v":0},null,null,null,null,0]
[" 6.",{"$f":"stanp &\" (netto)\"","v":"Stan na dzień dd.mm.rrrr (netto)"},null,null,null,null,null,null,null,null,null,null,null,null,null,null,null,null,{"$f":"S10-S21","v":0},null,null,null,null,{"$f":"X10-X21","v":0},null,null,null,null,{"$f":"AC10-AC21","v":0},null,null,null,null,{"$f":"AH10-AH21","v":0},null,null,null,null,0]
[" 7.",{"$f":"stanb &\" (netto)\"","v":"Stan na dzień dd.mm.rrrr (netto)"},null,null,null,null,null,null,null,null,null,null,null,null,null,null,null,null,{"$f":"S19-S24","v":0},null,null,null,null,{"$f":"X19-X24","v":0},null,null,null,null,{"$f":"AC19-AC24","v":0},null,null,null,null,{"$f":"AH19-AH24","v":0},null,null,null,null,0]
[]
[]
[null,null,null,null,null,null,null,null,null,null,null,null,null,null,null,null,null,null,null,null,null,null,null,null,null,null,null,null,null,null,null,null,null,null,null,null,null,null,null,null,null,null,null,null,"Miejsce na dodatkowy opis"]
[]
[]
[]
[]
[]
[]
[]
[]
[]
[null,"Sprawdzenie BO"]
[null,"Nota",null,null,null,null,null,null,null,null,null,null,null,null,null,null,null,null,{"$f":"S25","v":0},null,null,null,null,{"$f":"X25","v":0},null,null,null,null,{"$f":"AC25","v":0},null,null,null,null,{"$f":"AH25","v":0},null,null,null,null,{"$f":"AM25","v":0}]
[null,"Bilans",null,null,null,null,null,null,null,null,null,null,null,null,null,null,null,null,{"$f":"Bilans_AKTYWA!X30","v":0},null,null,null,null,{"$f":"Bilans_AKTYWA!X31","v":0},null,null,null,null,{"$f":"Bilans_AKTYWA!X32","v":0},null,null,null,null,{"$f":"Bilans_AKTYWA!X49","v":0},null,null,null,null,{"$f":"Bilans_AKTYWA!X29","v":0}]
[null,"różnica",null,null,null,null,null,null,null,null,null,null,null,null,null,null,null,null,{"$f":"S40-S41","v":0},null,null,null,null,{"$f":"X40-X41","v":0},null,null,null,null,{"$f":"AC40-AC41","v":0},null,null,null,null,{"$f":"AH40-AH41","v":0},null,null,null,null,{"$f":"AM40-AM41","v":0}]
[]
[null,"Sprawdzenie BZ"]
[null,"Nota",null,null,null,null,null,null,null,null,null,null,null,null,null,null,null,null,{"$f":"S26","v":0},null,null,null,null,{"$f":"X26","v":0},null,null,null,null,{"$f":"AC26","v":0},null,null,null,null,{"$f":"AH26","v":0},null,null,null,null,{"$f":"AM26","v":0}]
[null,"Bilans",null,null,null,null,null,null,null,null,null,null,null,null,null,null,null,null,{"$f":"Bilans_AKTYWA!S30","v":0},null,null,null,null,{"$f":"Bilans_AKTYWA!S31","v":0},null,null,null,null,{"$f":"Bilans_AKTYWA!S32","v":0},null,null,null,null,{"$f":"Bilans_AKTYWA!S49","v":0},null,null,null,null,{"$f":"Bilans_AKTYWA!S29","v":0}]
[null,"różnica",null,null,null,null,null,null,null,null,null,null,null,null,null,null,null,null,{"$f":"S45-S46","v":0},null,null,null,null,{"$f":"X45-X46","v":0},null,null,null,null,{"$f":"AC45-AC46","v":0},null,null,null,null,{"$f":"AH45-AH46","v":0},null,null,null,null,{"$f":"AM45-AM46","v":0}]

{"sheet":"Aktywa_fin_długot_J_Pow","index":25,"n_rows":47,"n_cols":45,"rows_kept":47,"cut":false,"hidden":true,"merged":[[2,44,2,49],[4,0,4,16],[25,18,25,22],[25,23,25,27],[25,28,25,32],[23,18,23,22],[24,18,24,22],[24,23,24,27],[24,28,24,32],[22,23,22,27],[9,28,9,32],[25,1,25,17],[24,1,24,17],[20,1,20,17],[18,23,18,27],[14,18,14,22],[5,0,5,42],[6,18,8,22],[6,38,8,42],[16,23,16,27],[9,33,9,37],[17,28,17,32],[18,28,18,32],[16,38,16,42],[40,28,40,32],[41,18,41,22],[41,23,41,27],[41,28,41,32],[40,33,40,37],[22,1,22,17],[21,28,21,32],[40,1,40,17],[41,1,41,17],[21,23,21,27],[25,33,25,37],[23,33,23,37],[21,18,21,22],[22,18,22,22],[39,33,39,37],[39,18,39,22],[39,23,39,27],[39,28,39,32],[19,1,19,42],[17,38,17,42],[17,1,17,17],[18,1,18,17],[39,1,39,17],[21,38,21,42],[27,0,36,42],[20,18,20,22],[21,1,21,17],[22,28,22,32],[20,28,20,32],[20,33,20,37],[24,33,24,37],[23,23,23,27],[25,38,25,42],[22,38,22,42],[21,33,21,37],[23,38,23,42],[24,38,24,42],[20,38,20,42],[23,1,23,17],[18,38,18,42],[20,23,20,27],[39,38,39,42],[40,38,40,42],[41,33,41,37],[41,38,41,42],[26,0,26,42],[46,38,46,42],[44,1,44,17],[44,18,44,22],[44,23,44,27],[44,28,44,32],[44,33,44,37],[44,38,44,42],[46,33,46,37],[45,1,45,17],[46,1,46,17],[46,23,46,27],[46,28,46,32],[45,33,45,37],[45,18,45,22],[46,18,46,22],[45,23,45,27],[45,28,45,32],[45,38,45,42],[40,18,40,22],[40,23,40,27],[12,44,15,50],[6,23,8,27],[11,18,11,22],[11,23,11,27],[12,23,12,27],[13,23,13,27],[23,28,23,32],[17,18,17,22],[15,18,15,22],[18,18,18,22],[22,33,22,37],[10,23,10,27],[9,18,9,22],[10,18,10,22],[9,23,9,27],[17,44,20,50],[16,18,16,22],[17,23,17,27],[15,38,15,42],[13,18,13,22],[13,38,13,42],[10,38,10,42],[11,38,11,42],[12,38,12,42],[9,38,9,42],[13,33,13,37],[10,28,10,32],[11,28,11,32],[12,28,12,32],[14,28,14,32],[14,38,14,42],[10,33,10,37],[11,33,11,37],[12,33,12,37],[15,33,15,37],[14,23,14,27],[15,23,15,27],[12,18,12,22],[16,33,16,37],[17,33,17,37],[18,33,18,37],[6,0,8,0],[6,1,8,17],[16,28,16,32],[9,1,9,17],[10,1,10,17],[11,1,11,17],[12,1,12,17],[13,1,13,17],[16,1,16,17],[15,1,15,17],[13,28,13,32],[15,28,15,32],[6,33,8,37],[6,28,8,32],[14,33,14,37],[14,1,14,17]]}
[{"$f":"nazwa","v":"DEMO"}]
[{"$f":"temat","v":"Sprawozdanie finansowe za rok 2023"}]
[null,null,null,null,null,null,null,null,null,null,null,null,null,null,null,null,null,null,null,null,null,null,null,null,null,null,null,null,null,null,null,null,null,null,null,null,null,null,null,null,null,null,null,null,"Powrót do parametrów"]
[]
[{"$f":"NumerNoty(Parametry!$B$42)","v":"Nota nie podlegająca prezentacji"}]
["Zmiana stanu długoterminowych aktywów finansowych - w jednostkach powiązanych"]
["Lp.","Wyszczególnienie",null,null,null,null,null,null,null,null,null,null,null,null,null,null,null,null,"Udziały lub akcje",null,null,null,null,"inne papiery wartościowe",null,null,null,null,"udzielone pożyczki",null,null,null,null,"inne długoterminowe aktywa finansowe ",null,null,null,null,"Razem"]
[]
[]
[" 1.",{"$f":"stanp&\" (brutto) \"","v":"Stan na dzień dd.mm.rrrr (brutto) "},null,null,null,null,null,null,null,null,null,null,null,null,null,null,null,null,null,null,null,null,null,null,null,null,null,null,null,null,null,null,null,null,null,null,null,null,{"$f":"SUM(S10:AL10)","v":0}]
[" 2.","Zwiększenia",null,null,null,null,null,null,null,null,null,null,null,null,null,null,null,null,{"$f":"SUM(S12:W14)","v":0},null,null,null,null,{"$f":"SUM(X12:AB14)","v":0},null,null,null,null,{"$f":"SUM(AC12:AG14)","v":0},null,null,null,null,{"$f":"SUM(AH12:AL14)","v":0},null,null,null,null,0]
[null,"nabycie",null,null,null,null,null,null,null,null,null,null,null,null,null,null,null,null,null,null,null,null,null,null,null,null,null,null,null,null,null,null,null,null,null,null,null,null,0]
[null,"aktualizacja wartości",null,null,null,null,null,null,null,null,null,null,null,null,null,null,null,null,null,null,null,null,null,null,null,null,null,null,null,null,null,null,null,null,null,null,null,null,0]
[null,null,null,null,null,null,null,null,null,null,null,null,null,null,null,null,null,null,null,null,null,null,null,null,null,null,null,null,null,null,null,null,null,null,null,null,null,null,0]
[" 3.","Zmniejszenia",null,null,null,null,null,null,null,null,null,null,null,null,null,null,null,null,{"$f":"SUM(S16:W18)","v":0},null,null,null,null,{"$f":"SUM(X16:AB18)","v":0},null,null,null,null,{"$f":"SUM(AC16:AG18)","v":0},null,null,null,null,{"$f":"SUM(AH16:AL18)","v":0},null,null,null,null,0]
[null,"sprzedaż",null,null,null,null,null,null,null,null,null,null,null,null,null,null,null,null,null,null,null,null,null,null,null,null,null,null,null,null,null,null,null,null,null,null,null,null,0]
[null,"aktualizacja wartości",null,null,null,null,null,null,null,null,null,null,null,null,null,null,null,null,null,null,null,null,null,null,null,null,null,null,null,null,null,null,null,null,null,null,null,null,0]
[null,null,null,null,null,null,null,null,null,null,null,null,null,null,null,null,null,null,null,null,null,null,null,null,null,null,null,null,null,null,null,null,null,null,null,null,null,null,0]
[" 4.",{"$f":"stanb &\" (brutto)\"","v":"Stan na dzień dd.mm.rrrr (brutto)"},null,null,null,null,null,null,null,null,null,null,null,null,null,null,null,null,{"$f":"S10+S11-S15","v":0},null,null,null,null,{"$f":"+X10+X11-X15","v":0},null,null,null,null,{"$f":"+AC10+AC11-AC15","v":0},null,null,null,null,{"$f":"+AH10+AH11-AH15","v":0},null,null,null,null,0]
[" 5.","Odpisy z tytułu trwałej utraty wartości"]
[null,{"$f":"stanp","v":"Stan na dzień dd.mm.rrrr"},null,null,null,null,null,null,null,null,null,null,null,null,null,null,null,null,null,null,null,null,null,null,null,null,null,null,null,null,null,null,null,null,null,null,null,null,{"$f":"SUM(S21:AL21)","v":0}]
[null,"Zwiększenia odpisów",null,null,null,null,null,null,null,null,null,null,null,null,null,null,null,null,null,null,null,null,null,null,null,null,null,null,null,null,null,null,null,null,null,null,null,null,0]
[null,"Zmniejszenia odpisów",null,null,null,null,null,null,null,null,null,null,null,null,null,null,null,null,null,null,null,null,null,null,null,null,null,null,null,null,null,null,null,null,null,null,null,null,0]
[null,{"$f":"stanb","v":"Stan na dzień dd.mm.rrrr"},null,null,null,null,null,null,null,null,null,null,null,null,null,null,null,null,{"$f":"S21+S22-S23","v":0},null,null,null,null,{"$f":"X21+X22-X23","v":0},null,null,null,null,{"$f":"AC21+AC22-AC23","v":0},null,null,null,null,{"$f":"AH21+AH22-AH23","v":0},null,null,null,null,0]
[" 6.",{"$f":"stanp &\" (netto)\"","v":"Stan na dzień dd.mm.rrrr (netto)"},null,null,null,null,null,null,null,null,null,null,null,null,null,null,null,null,{"$f":"S10-S21","v":0},null,null,null,null,{"$f":"X10-X21","v":0},null,null,null,null,{"$f":"AC10-AC21","v":0},null,null,null,null,{"$f":"AH10-AH21","v":0},null,null,null,null,0]
[" 7.",{"$f":"stanb &\" (netto)\"","v":"Stan na dzień dd.mm.rrrr (netto)"},null,null,null,null,null,null,null,null,null,null,null,null,null,null,null,null,{"$f":"S19-S24","v":0},null,null,null,null,{"$f":"X19-X24","v":0},null,null,null,null,{"$f":"AC19-AC24","v":0},null,null,null,null,{"$f":"AH19-AH24","v":0},null,null,null,null,0]
[]
[null,null,null,null,null,null,null,null,null,null,null,null,null,null,null,null,null,null,null,null,null,null,null,null,null,null,null,null,null,null,null,null,null,null,null,null,null,null,null,null,null,null,null,null,"Miejsce na dodatkowy opis"]
[]
[]
[]
[]
[]
[]
[]
[]
[]
[]
[null,"Sprawdzenie BO"]
[null,"Nota",null,null,null,null,null,null,null,null,null,null,null,null,null,null,null,null,{"$f":"S25","v":0},null,null,null,null,{"$f":"X25","v":0},null,null,null,null,{"$f":"AC25","v":0},null,null,null,null,{"$f":"AH25","v":0},null,null,null,null,{"$f":"AM25","v":0}]
[null,"Bilans",null,null,null,null,null,null,null,null,null,null,null,null,null,null,null,null,{"$f":"Bilans_AKTYWA!X34","v":0},null,null,null,null,{"$f":"Bilans_AKTYWA!X35","v":0},null,null,null,null,{"$f":"Bilans_AKTYWA!X36","v":0},null,null,null,null,{"$f":"Bilans_AKTYWA!X37","v":0},null,null,null,null,{"$f":"Bilans_AKTYWA!X33","v":0}]
[null,"różnica",null,null,null,null,null,null,null,null,null,null,null,null,null,null,null,null,{"$f":"S40-S41","v":0},null,null,null,null,{"$f":"X40-X41","v":0},null,null,null,null,{"$f":"AC40-AC41","v":0},null,null,null,null,{"$f":"AH40-AH41","v":0},null,null,null,null,{"$f":"AM40-AM41","v":0}]
[]
[null,"Sprawdzenie BZ"]
[null,"Nota",null,null,null,null,null,null,null,null,null,null,null,null,null,null,null,null,{"$f":"S26","v":0},null,null,null,null,{"$f":"X26","v":0},null,null,null,null,{"$f":"AC26","v":0},null,null,null,null,{"$f":"AH26","v":0},null,null,null,null,{"$f":"AM26","v":0}]
[null,"Bilans",null,null,null,null,null,null,null,null,null,null,null,null,null,null,null,null,{"$f":"Bilans_AKTYWA!S34","v":0},null,null,null,null,{"$f":"Bilans_AKTYWA!S35","v":0},null,null,null,null,{"$f":"Bilans_AKTYWA!S36","v":0},null,null,null,null,{"$f":"Bilans_AKTYWA!S37","v":0},null,null,null,null,{"$f":"Bilans_AKTYWA!S33","v":0}]
[null,"różnica",null,null,null,null,null,null,null,null,null,null,null,null,null,null,null,null,{"$f":"S45-S46","v":0},null,null,null,null,{"$f":"X45-X46","v":0},null,null,null,null,{"$f":"AC45-AC46","v":0},null,null,null,null,{"$f":"AH45-AH46","v":0},null,null,null,null,{"$f":"AM45-AM46","v":0}]

{"sheet":"Aktywa_fin_długot_J_Poz_zk","index":26,"n_rows":47,"n_cols":45,"rows_kept":47,"cut":false,"hidden":true,"merged":[[26,0,26,42],[44,1,44,17],[44,18,44,22],[44,23,44,27],[44,28,44,32],[44,33,44,37],[44,38,44,42],[46,1,46,17],[46,18,46,22],[46,23,46,27],[46,28,46,32],[46,33,46,37],[46,38,46,42],[45,1,45,17],[45,18,45,22],[45,23,45,27],[45,28,45,32],[45,33,45,37],[45,38,45,42],[27,0,36,42],[25,1,25,17],[25,18,25,22],[25,23,25,27],[25,28,25,32],[25,33,25,37],[25,38,25,42],[39,1,39,17],[40,1,40,17],[41,1,41,17],[39,18,39,22],[39,23,39,27],[39,28,39,32],[39,33,39,37],[39,38,39,42],[40,18,40,22],[40,23,40,27],[40,28,40,32],[40,33,40,37],[40,38,40,42],[41,18,41,22],[41,23,41,27],[41,28,41,32],[41,33,41,37],[41,38,41,42],[24,1,24,17],[24,18,24,22],[24,23,24,27],[24,28,24,32],[24,33,24,37],[24,38,24,42],[23,1,23,17],[23,18,23,22],[23,23,23,27],[23,28,23,32],[23,33,23,37],[23,38,23,42],[22,1,22,17],[22,18,22,22],[22,23,22,27],[22,28,22,32],[22,33,22,37],[22,38,22,42],[20,28,20,32],[20,33,20,37],[20,38,20,42],[21,1,21,17],[21,18,21,22],[21,23,21,27],[21,28,21,32],[21,33,21,37],[21,38,21,42],[18,44,21,50],[20,1,20,17],[20,18,20,22],[20,23,20,27],[18,1,18,17],[18,18,18,22],[18,23,18,27],[18,28,18,32],[18,33,18,37],[18,38,18,42],[19,1,19,42],[17,1,17,17],[17,18,17,22],[17,23,17,27],[17,28,17,32],[17,33,17,37],[17,38,17,42],[15,28,15,32],[15,33,15,37],[15,38,15,42],[16,1,16,17],[16,18,16,22],[16,23,16,27],[16,28,16,32],[16,33,16,37],[16,38,16,42],[12,44,16,50],[14,1,14,17],[14,18,14,22],[14,23,14,27],[14,28,14,32],[14,33,14,37],[14,38,14,42],[15,1,15,17],[15,18,15,22],[15,23,15,27],[12,1,12,17],[12,18,12,22],[12,23,12,27],[12,28,12,32],[12,33,12,37],[12,38,12,42],[13,1,13,17],[13,18,13,22],[13,23,13,27],[13,28,13,32],[13,33,13,37],[13,38,13,42],[9,1,9,17],[9,18,9,22],[9,23,9,27],[9,28,9,32],[9,33,9,37],[9,38,9,42],[11,1,11,17],[11,18,11,22],[11,23,11,27],[11,28,11,32],[11,33,11,37],[11,38,11,42],[10,1,10,17],[10,18,10,22],[10,23,10,27],[10,28,10,32],[10,33,10,37],[10,38,10,42],[2,44,2,49],[4,0,4,16],[5,0,5,42],[6,0,8,0],[6,1,8,17],[6,18,8,22],[6,23,8,27],[6,28,8,32],[6,33,8,37],[6,38,8,42]]}
[{"$f":"nazwa","v":"DEMO"}]
[{"$f":"temat","v":"Sprawozdanie finansowe za rok 2023"}]
[null,null,null,null,null,null,null,null,null,null,null,null,null,null,null,null,null,null,null,null,null,null,null,null,null,null,null,null,null,null,null,null,null,null,null,null,null,null,null,null,null,null,null,null,"Powrót do parametrów"]
[]
[{"$f":"NumerNoty(Parametry!$B$43)","v":"Nota nie podlegająca prezentacji"}]
["Zmiana stanu długoterminowych aktywów finansowych - w pozostałych jednostkach, w których jednostka posiada zaangażowanie w kapitale"]
["Lp.","Wyszczególnienie",null,null,null,null,null,null,null,null,null,null,null,null,null,null,null,null,"Udziały lub akcje",null,null,null,null,"inne papiery wartościowe",null,null,null,null,"udzielone pożyczki",null,null,null,null,"inne długoterminowe aktywa finansowe ",null,null,null,null,"Razem"]
[]
[]
[" 1.",{"$f":"stanp&\" (brutto) \"","v":"Stan na dzień dd.mm.rrrr (brutto) "},null,null,null,null,null,null,null,null,null,null,null,null,null,null,null,null,null,null,null,null,null,null,null,null,null,null,null,null,null,null,null,null,null,null,null,null,{"$f":"SUM(S10:AL10)","v":0}]
[" 2.","Zwiększenia",null,null,null,null,null,null,null,null,null,null,null,null,null,null,null,null,{"$f":"SUM(S12:W14)","v":0},null,null,null,null,{"$f":"SUM(X12:AB14)","v":0},null,null,null,null,{"$f":"SUM(AC12:AG14)","v":0},null,null,null,null,{"$f":"SUM(AH12:AL14)","v":0},null,null,null,null,0]
[null,"nabycie",null,null,null,null,null,null,null,null,null,null,null,null,null,null,null,null,null,null,null,null,null,null,null,null,null,null,null,null,null,null,null,null,null,null,null,null,0]
[null,"aktualizacja wartości",null,null,null,null,null,null,null,null,null,null,null,null,null,null,null,null,null,null,null,null,null,null,null,null,null,null,null,null,null,null,null,null,null,null,null,null,0]
[null,null,null,null,null,null,null,null,null,null,null,null,null,null,null,null,null,null,null,null,null,null,null,null,null,null,null,null,null,null,null,null,null,null,null,null,null,null,{"$f":"SUM(S14:AL14)","v":0}]
[" 3.","Zmniejszenia",null,null,null,null,null,null,null,null,null,null,null,null,null,null,null,null,{"$f":"SUM(S16:W18)","v":0},null,null,null,null,{"$f":"SUM(X16:AB18)","v":0},null,null,null,null,{"$f":"SUM(AC16:AG18)","v":0},null,null,null,null,{"$f":"SUM(AH16:AL18)","v":0},null,null,null,null,0]
[null,"sprzedaż",null,null,null,null,null,null,null,null,null,null,null,null,null,null,null,null,null,null,null,null,null,null,null,null,null,null,null,null,null,null,null,null,null,null,null,null,0]
[null,"aktualizacja wartości",null,null,null,null,null,null,null,null,null,null,null,null,null,null,null,null,null,null,null,null,null,null,null,null,null,null,null,null,null,null,null,null,null,null,null,null,0]
[null,null,null,null,null,null,null,null,null,null,null,null,null,null,null,null,null,null,null,null,null,null,null,null,null,null,null,null,null,null,null,null,null,null,null,null,null,null,0]
[" 4.",{"$f":"stanb &\" (brutto)\"","v":"Stan na dzień dd.mm.rrrr (brutto)"},null,null,null,null,null,null,null,null,null,null,null,null,null,null,null,null,{"$f":"S10+S11-S15","v":0},null,null,null,null,{"$f":"+X10+X11-X15","v":0},null,null,null,null,{"$f":"+AC10+AC11-AC15","v":0},null,null,null,null,{"$f":"+AH10+AH11-AH15","v":0},null,null,null,null,0]
[" 5.","Odpisy z tytułu trwałej utraty wartości"]
[null,{"$f":"stanp","v":"Stan na dzień dd.mm.rrrr"},null,null,null,null,null,null,null,null,null,null,null,null,null,null,null,null,null,null,null,null,null,null,null,null,null,null,null,null,null,null,null,null,null,null,null,null,{"$f":"SUM(S21:AL21)","v":0}]
[null,"Zwiększenia odpisów",null,null,null,null,null,null,null,null,null,null,null,null,null,null,null,null,null,null,null,null,null,null,null,null,null,null,null,null,null,null,null,null,null,null,null,null,0]
[null,"Zmniejszenia odpisów",null,null,null,null,null,null,null,null,null,null,null,null,null,null,null,null,null,null,null,null,null,null,null,null,null,null,null,null,null,null,null,null,null,null,null,null,0]
[null,{"$f":"stanb","v":"Stan na dzień dd.mm.rrrr"},null,null,null,null,null,null,null,null,null,null,null,null,null,null,null,null,{"$f":"S21+S22-S23","v":0},null,null,null,null,{"$f":"X21+X22-X23","v":0},null,null,null,null,{"$f":"AC21+AC22-AC23","v":0},null,null,null,null,{"$f":"AH21+AH22-AH23","v":0},null,null,null,null,0]
[" 6.",{"$f":"stanp &\" (netto)\"","v":"Stan na dzień dd.mm.rrrr (netto)"},null,null,null,null,null,null,null,null,null,null,null,null,null,null,null,null,{"$f":"S10-S21","v":0},null,null,null,null,{"$f":"X10-X21","v":0},null,null,null,null,{"$f":"AC10-AC21","v":0},null,null,null,null,{"$f":"AH10-AH21","v":0},null,null,null,null,0]
[" 7.",{"$f":"stanb &\" (netto)\"","v":"Stan na dzień dd.mm.rrrr (netto)"},null,null,null,null,null,null,null,null,null,null,null,null,null,null,null,null,{"$f":"S19-S24","v":0},null,null,null,null,{"$f":"X19-X24","v":0},null,null,null,null,{"$f":"AC19-AC24","v":0},null,null,null,null,{"$f":"AH19-AH24","v":0},null,null,null,null,0]
[]
[null,null,null,null,null,null,null,null,null,null,null,null,null,null,null,null,null,null,null,null,null,null,null,null,null,null,null,null,null,null,null,null,null,null,null,null,null,null,null,null,null,null,null,null,"Miejsce na dodatkowy opis"]
[]
[]
[]
[]
[]
[]
[]
[]
[]
[]
[null,"Sprawdzenie BO"]
[null,"Nota",null,null,null,null,null,null,null,null,null,null,null,null,null,null,null,null,{"$f":"S25","v":0},null,null,null,null,{"$f":"X25","v":0},null,null,null,null,{"$f":"AC25","v":0},null,null,null,null,{"$f":"AH25","v":0},null,null,null,null,{"$f":"AM25","v":0}]
[null,"Bilans",null,null,null,null,null,null,null,null,null,null,null,null,null,null,null,null,{"$f":"Bilans_AKTYWA!X40","v":0},null,null,null,null,{"$f":"Bilans_AKTYWA!X41","v":0},null,null,null,null,{"$f":"Bilans_AKTYWA!X42","v":0},null,null,null,null,{"$f":"Bilans_AKTYWA!X43","v":0},null,null,null,null,{"$f":"Bilans_AKTYWA!X38","v":0}]
[null,"różnica",null,null,null,null,null,null,null,null,null,null,null,null,null,null,null,null,{"$f":"S40-S41","v":0},null,null,null,null,{"$f":"X40-X41","v":0},null,null,null,null,{"$f":"AC40-AC41","v":0},null,null,null,null,{"$f":"AH40-AH41","v":0},null,null,null,null,{"$f":"AM40-AM41","v":0}]
[]
[null,"Sprawdzenie BZ"]
[null,"Nota",null,null,null,null,null,null,null,null,null,null,null,null,null,null,null,null,{"$f":"S26","v":0},null,null,null,null,{"$f":"X26","v":0},null,null,null,null,{"$f":"AC26","v":0},null,null,null,null,{"$f":"AH26","v":0},null,null,null,null,{"$f":"AM26","v":0}]
[null,"Bilans",null,null,null,null,null,null,null,null,null,null,null,null,null,null,null,null,{"$f":"Bilans_AKTYWA!S40","v":0},null,null,null,null,{"$f":"Bilans_AKTYWA!S41","v":0},null,null,null,null,{"$f":"Bilans_AKTYWA!S42","v":0},null,null,null,null,{"$f":"Bilans_AKTYWA!S43","v":0},null,null,null,null,{"$f":"Bilans_AKTYWA!S38","v":0}]
[null,"różnica",null,null,null,null,null,null,null,null,null,null,null,null,null,null,null,null,{"$f":"S45-S46","v":0},null,null,null,null,{"$f":"X45-X46","v":0},null,null,null,null,{"$f":"AC45-AC46","v":0},null,null,null,null,{"$f":"AH45-AH46","v":0},null,null,null,null,{"$f":"AM45-AM46","v":0}]

{"sheet":"Aktywa_fin_długot_J_Poz","index":27,"n_rows":47,"n_cols":45,"rows_kept":47,"cut":false,"hidden":true,"merged":[[2,44,2,49],[24,18,24,22],[44,23,44,27],[45,23,45,27],[44,38,44,42],[45,38,45,42],[39,1,39,17],[40,18,40,22],[40,23,40,27],[40,28,40,32],[40,33,40,37],[40,38,40,42],[41,18,41,22],[41,23,41,27],[41,28,41,32],[41,33,41,37],[41,38,41,42],[41,1,41,17],[39,18,39,22],[39,23,39,27],[39,28,39,32],[39,33,39,37],[39,38,39,42],[4,0,4,16],[45,1,45,17],[46,1,46,17],[44,1,44,17],[44,18,44,22],[45,18,45,22],[46,18,46,22],[46,28,46,32],[44,33,44,37],[24,38,24,42],[45,33,45,37],[45,28,45,32],[26,0,26,42],[46,33,46,37],[46,23,46,27],[25,23,25,27],[24,33,24,37],[24,28,24,32],[25,33,25,37],[46,38,46,42],[44,28,44,32],[23,1,23,17],[25,1,25,17],[40,1,40,17],[27,0,36,42],[22,18,22,22],[22,1,22,17],[25,18,25,22],[23,18,23,22],[24,1,24,17],[22,33,22,37],[23,33,23,37],[23,23,23,27],[25,38,25,42],[23,28,23,32],[22,38,22,42],[23,38,23,42],[25,28,25,32],[22,23,22,27],[24,23,24,27],[22,28,22,32],[6,38,8,42],[9,38,9,42],[10,38,10,42],[13,44,16,50],[14,18,14,22],[11,23,11,27],[16,23,16,27],[15,23,15,27],[6,28,8,32],[14,28,14,32],[15,28,15,32],[6,33,8,37],[9,33,9,37],[10,33,10,37],[11,33,11,37],[10,18,10,22],[11,18,11,22],[13,18,13,22],[16,18,16,22],[15,38,15,42],[6,23,8,27],[13,23,13,27],[12,33,12,37],[12,38,12,42],[18,44,21,50],[5,0,5,42],[13,1,13,17],[6,18,8,22],[14,1,14,17],[18,1,18,17],[13,38,13,42],[14,38,14,42],[16,28,16,32],[16,33,16,37],[17,33,17,37],[18,33,18,37],[16,1,16,17],[21,1,21,17],[6,0,8,0],[9,28,9,32],[10,23,10,27],[9,18,9,22],[17,1,17,17],[20,1,20,17],[18,18,18,22],[19,1,19,42],[9,23,9,27],[6,1,8,17],[9,1,9,17],[10,1,10,17],[11,28,11,32],[18,23,18,27],[17,23,17,27],[17,18,17,22],[17,28,17,32],[10,28,10,32],[13,28,13,32],[12,1,12,17],[12,18,12,22],[12,23,12,27],[12,28,12,32],[15,18,15,22],[11,1,11,17],[15,1,15,17],[21,28,21,32],[18,28,18,32],[21,18,21,22],[20,28,20,32],[20,18,20,22],[15,33,15,37],[14,33,14,37],[11,38,11,42],[13,33,13,37],[18,38,18,42],[14,23,14,27],[16,38,16,42],[20,33,20,37],[20,38,20,42],[20,23,20,27],[17,38,17,42],[21,23,21,27],[21,38,21,42],[21,33,21,37]]}
[{"$f":"nazwa","v":"DEMO"}]
[{"$f":"temat","v":"Sprawozdanie finansowe za rok 2023"}]
[null,null,null,null,null,null,null,null,null,null,null,null,null,null,null,null,null,null,null,null,null,null,null,null,null,null,null,null,null,null,null,null,null,null,null,null,null,null,null,null,null,null,null,null,"Powrót do parametrów"]
[]
[{"$f":"NumerNoty(Parametry!$B$44)","v":"Nota nie podlegająca prezentacji"}]
["Zmiana stanu długoterminowych aktywów finansowych - w pozostałych jednostkach"]
["Lp.","Wyszczególnienie",null,null,null,null,null,null,null,null,null,null,null,null,null,null,null,null,"Udziały lub akcje",null,null,null,null,"inne papiery wartościowe",null,null,null,null,"udzielone pożyczki",null,null,null,null,"inne długoterminowe aktywa finansowe ",null,null,null,null,"Razem"]
[]
[]
[" 1.",{"$f":"stanp&\" (brutto) \"","v":"Stan na dzień dd.mm.rrrr (brutto) "},null,null,null,null,null,null,null,null,null,null,null,null,null,null,null,null,null,null,null,null,null,null,null,null,null,null,null,null,null,null,null,null,null,null,null,null,{"$f":"SUM(S10:AL10)","v":0}]
[" 2.","Zwiększenia",null,null,null,null,null,null,null,null,null,null,null,null,null,null,null,null,{"$f":"SUM(S12:W14)","v":0},null,null,null,null,{"$f":"SUM(X12:AB14)","v":0},null,null,null,null,{"$f":"SUM(AC12:AG14)","v":0},null,null,null,null,{"$f":"SUM(AH12:AL14)","v":0},null,null,null,null,0]
[null,"nabycie",null,null,null,null,null,null,null,null,null,null,null,null,null,null,null,null,null,null,null,null,null,null,null,null,null,null,null,null,null,null,null,null,null,null,null,null,0]
[null,"aktualizacja wartości",null,null,null,null,null,null,null,null,null,null,null,null,null,null,null,null,null,null,null,null,null,null,null,null,null,null,null,null,null,null,null,null,null,null,null,null,{"$f":"SUM(S13:AL13)","v":0}]
[null,null,null,null,null,null,null,null,null,null,null,null,null,null,null,null,null,null,null,null,null,null,null,null,null,null,null,null,null,null,null,null,null,null,null,null,null,null,0]
[" 3.","Zmniejszenia",null,null,null,null,null,null,null,null,null,null,null,null,null,null,null,null,{"$f":"SUM(S16:W18)","v":0},null,null,null,null,{"$f":"SUM(X16:AB18)","v":0},null,null,null,null,{"$f":"SUM(AC16:AG18)","v":0},null,null,null,null,{"$f":"SUM(AH16:AL18)","v":0},null,null,null,null,0]
[null,"sprzedaż",null,null,null,null,null,null,null,null,null,null,null,null,null,null,null,null,null,null,null,null,null,null,null,null,null,null,null,null,null,null,null,null,null,null,null,null,0]
[null,"aktualizacja wartości",null,null,null,null,null,null,null,null,null,null,null,null,null,null,null,null,null,null,null,null,null,null,null,null,null,null,null,null,null,null,null,null,null,null,null,null,0]
[null,null,null,null,null,null,null,null,null,null,null,null,null,null,null,null,null,null,null,null,null,null,null,null,null,null,null,null,null,null,null,null,null,null,null,null,null,null,0]
[" 4.",{"$f":"stanb &\" (brutto)\"","v":"Stan na dzień dd.mm.rrrr (brutto)"},null,null,null,null,null,null,null,null,null,null,null,null,null,null,null,null,{"$f":"S10+S11-S15","v":0},null,null,null,null,{"$f":"+X10+X11-X15","v":0},null,null,null,null,{"$f":"+AC10+AC11-AC15","v":0},null,null,null,null,{"$f":"+AH10+AH11-AH15","v":0},null,null,null,null,0]
[" 5.","Odpisy z tytułu trwałej utraty wartości"]
[null,{"$f":"stanp","v":"Stan na dzień dd.mm.rrrr"},null,null,null,null,null,null,null,null,null,null,null,null,null,null,null,null,null,null,null,null,null,null,null,null,null,null,null,null,null,null,null,null,null,null,null,null,{"$f":"SUM(S21:AL21)","v":0}]
[null,"Zwiększenia odpisów",null,null,null,null,null,null,null,null,null,null,null,null,null,null,null,null,null,null,null,null,null,null,null,null,null,null,null,null,null,null,null,null,null,null,null,null,0]
[null,"Zmniejszenia odpisów",null,null,null,null,null,null,null,null,null,null,null,null,null,null,null,null,null,null,null,null,null,null,null,null,null,null,null,null,null,null,null,null,null,null,null,null,0]
[null,{"$f":"stanb","v":"Stan na dzień dd.mm.rrrr"},null,null,null,null,null,null,null,null,null,null,null,null,null,null,null,null,{"$f":"S21+S22-S23","v":0},null,null,null,null,{"$f":"X21+X22-X23","v":0},null,null,null,null,{"$f":"AC21+AC22-AC23","v":0},null,null,null,null,{"$f":"AH21+AH22-AH23","v":0},null,null,null,null,0]
[" 6.",{"$f":"stanp &\" (netto)\"","v":"Stan na dzień dd.mm.rrrr (netto)"},null,null,null,null,null,null,null,null,null,null,null,null,null,null,null,null,{"$f":"S10-S21","v":0},null,null,null,null,{"$f":"X10-X21","v":0},null,null,null,null,{"$f":"AC10-AC21","v":0},null,null,null,null,{"$f":"AH10-AH21","v":0},null,null,null,null,0]
[" 7.",{"$f":"stanb &\" (netto)\"","v":"Stan na dzień dd.mm.rrrr (netto)"},null,null,null,null,null,null,null,null,null,null,null,null,null,null,null,null,{"$f":"S19-S24","v":0},null,null,null,null,{"$f":"X19-X24","v":0},null,null,null,null,{"$f":"AC19-AC24","v":0},null,null,null,null,{"$f":"AH19-AH24","v":0},null,null,null,null,0]
[]
[null,null,null,null,null,null,null,null,null,null,null,null,null,null,null,null,null,null,null,null,null,null,null,null,null,null,null,null,null,null,null,null,null,null,null,null,null,null,null,null,null,null,null,null,"Miejsce na dodatkowy opis"]
[]
[]
[]
[]
[]
[]
[]
[]
[]
[]
[null,"Sprawdzenie BO"]
[null,"Nota",null,null,null,null,null,null,null,null,null,null,null,null,null,null,null,null,{"$f":"S25","v":0},null,null,null,null,{"$f":"X25","v":0},null,null,null,null,{"$f":"AC25","v":0},null,null,null,null,{"$f":"AH25","v":0},null,null,null,null,{"$f":"AM25","v":0}]
[null,"Bilans",null,null,null,null,null,null,null,null,null,null,null,null,null,null,null,null,{"$f":"Bilans_AKTYWA!X45","v":0},null,null,null,null,{"$f":"Bilans_AKTYWA!X46","v":0},null,null,null,null,{"$f":"Bilans_AKTYWA!X47","v":0},null,null,null,null,{"$f":"Bilans_AKTYWA!X48","v":0},null,null,null,null,{"$f":"Bilans_AKTYWA!X44","v":0}]
[null,"różnica",null,null,null,null,null,null,null,null,null,null,null,null,null,null,null,null,{"$f":"S40-S41","v":0},null,null,null,null,{"$f":"X40-X41","v":0},null,null,null,null,{"$f":"AC40-AC41","v":0},null,null,null,null,{"$f":"AH40-AH41","v":0},null,null,null,null,{"$f":"AM40-AM41","v":0}]
[]
[null,"Sprawdzenie BZ"]
[null,"Nota",null,null,null,null,null,null,null,null,null,null,null,null,null,null,null,null,{"$f":"S26","v":0},null,null,null,null,{"$f":"X26","v":0},null,null,null,null,{"$f":"AC26","v":0},null,null,null,null,{"$f":"AH26","v":0},null,null,null,null,{"$f":"AM26","v":0}]
[null,"Bilans",null,null,null,null,null,null,null,null,null,null,null,null,null,null,null,null,{"$f":"Bilans_AKTYWA!S45","v":0},null,null,null,null,{"$f":"Bilans_AKTYWA!S46","v":0},null,null,null,null,{"$f":"Bilans_AKTYWA!S47","v":0},null,null,null,null,{"$f":"Bilans_AKTYWA!S48","v":0},null,null,null,null,{"$f":"Bilans_AKTYWA!S44","v":0}]
[null,"różnica",null,null,null,null,null,null,null,null,null,null,null,null,null,null,null,null,{"$f":"S45-S46","v":0},null,null,null,null,{"$f":"X45-X46","v":0},null,null,null,null,{"$f":"AC45-AC46","v":0},null,null,null,null,{"$f":"AH45-AH46","v":0},null,null,null,null,{"$f":"AM45-AM46","v":0}]

{"sheet":"Jednostki_zaangaż_w_kapitale","index":28,"n_rows":28,"n_cols":45,"rows_kept":28,"cut":false,"hidden":true,"merged":[[2,44,2,49],[24,0,24,42],[25,0,36,42],[23,33,23,37],[10,38,10,42],[11,38,11,42],[12,38,12,42],[22,38,22,42],[13,33,13,37],[13,38,13,42],[18,38,18,42],[23,38,23,42],[22,33,22,37],[21,33,21,37],[21,38,21,42],[20,33,20,37],[20,38,20,42],[14,1,14,27],[14,28,14,32],[17,1,17,27],[14,33,14,37],[14,38,14,42],[16,33,16,37],[20,1,20,27],[20,28,20,32],[18,33,18,37],[19,33,19,37],[16,38,16,42],[15,38,15,42],[15,1,15,27],[15,28,15,32],[19,1,19,27],[23,1,23,27],[22,28,22,32],[23,28,23,32],[22,1,22,27],[21,1,21,27],[21,28,21,32],[18,1,18,27],[18,28,18,32],[19,28,19,32],[4,0,4,22],[5,0,6,42],[7,0,9,0],[7,1,9,27],[7,28,9,32],[7,33,9,37],[10,1,10,27],[11,1,11,27],[12,1,12,27],[10,28,10,32],[16,28,16,32],[19,38,19,42],[7,38,9,42],[10,33,10,37],[11,33,11,37],[12,33,12,37],[17,38,17,42],[11,28,11,32],[12,28,12,32],[15,33,15,37],[16,1,16,27],[17,33,17,37],[13,1,13,27],[13,28,13,32],[17,28,17,32]]}
[{"$f":"nazwa","v":"DEMO"}]
[{"$f":"temat","v":"Sprawozdanie finansowe za rok 2023"}]
[null,null,null,null,null,null,null,null,null,null,null,null,null,null,null,null,null,null,null,null,null,null,null,null,null,null,null,null,null,null,null,null,null,null,null,null,null,null,null,null,null,null,null,null,"Powrót do parametrów"]
[]
[{"$f":"NumerNoty(Parametry!$B$45)","v":"Nota nie podlegająca prezentacji"}]
["Wykaz spółek (nazwa, siedziba), w których jednostka posiada co najmniej 20% udziałów w kapitale lub ogólnej liczbie głosów w organie stanowiącym spółki"]
[]
["Lp.","Nazwa, adres siedziby",null,null,null,null,null,null,null,null,null,null,null,null,null,null,null,null,null,null,null,null,null,null,null,null,null,null,"% udziałów",null,null,null,null,"% udziału w zarządzaniu",null,null,null,null,"wynik netto za bieżący rok obrotowy w zł"]
[]
[]
[" 1."]
[" 2."]
[" 3."]
[" 4."]
[" 5."]
[" 6."]
[" 7."]
[" 8."]
[" 9."]
[" 10."]
[" 11."]
[" 12."]
[" 13."]
[" 14."]
[]
[null,null,null,null,null,null,null,null,null,null,null,null,null,null,null,null,null,null,null,null,null,null,null,null,null,null,null,null,null,null,null,null,null,null,null,null,null,null,null,null,null,null,null,null,"Miejsce na dodatkowy opis"]
[]
[null,null,null,null,null,null,null,null,null,null,null,null,null,null,null,null,null,null,null,null,null,null,null,null,null,null,null,null,null,null,null,null,null,null,null,null,null,null,null,null,null,null,null,null,"w tej nocie należy "]

{"sheet":"Zapasy","index":29,"n_rows":46,"n_cols":46,"rows_kept":46,"cut":false,"hidden":true,"merged":[[2,44,2,49],[45,31,45,34],[45,35,45,38],[45,39,45,42],[42,31,42,34],[42,35,42,38],[42,39,42,42],[43,31,43,34],[43,35,43,38],[43,39,43,42],[44,31,44,34],[44,35,44,38],[44,39,44,42],[12,44,17,50],[12,39,12,42],[13,39,13,42],[21,44,24,50],[7,39,10,42],[7,35,10,38],[20,39,20,42],[11,35,11,38],[14,35,14,38],[17,31,17,34],[17,35,17,38],[39,39,39,42],[40,31,40,34],[40,35,40,38],[40,39,40,42],[41,31,41,34],[41,35,41,38],[41,39,41,42],[33,0,33,42],[34,0,36,42],[41,10,41,13],[39,18,39,21],[39,35,39,38],[39,1,39,9],[39,10,39,13],[39,14,39,17],[22,19,22,22],[29,19,29,22],[30,1,30,18],[22,0,22,10],[38,31,38,40],[30,39,30,42],[29,39,29,42],[29,23,29,26],[29,27,29,30],[30,19,30,22],[29,1,29,18],[31,39,31,42],[38,1,38,10],[31,19,31,22],[31,35,31,38],[32,1,32,18],[32,23,32,26],[32,27,32,30],[32,31,32,34],[32,39,32,42],[32,35,32,38],[31,31,31,34],[31,1,31,18],[28,19,28,22],[32,19,32,22],[31,27,31,30],[31,23,31,26],[39,31,39,34],[28,23,28,26],[28,27,28,30],[43,10,43,13],[40,14,40,17],[40,10,40,13],[45,10,45,13],[42,1,42,9],[45,18,45,21],[43,1,43,9],[43,14,43,17],[44,18,44,21],[42,18,42,21],[41,14,41,17],[40,18,40,21],[41,18,41,21],[45,1,45,9],[44,10,44,13],[43,18,43,21],[42,10,42,13],[45,14,45,17],[44,14,44,17],[44,1,44,9],[42,14,42,17],[40,1,40,9],[41,1,41,9],[22,35,22,38],[20,35,20,38],[30,23,30,26],[30,27,30,30],[30,31,30,34],[30,35,30,38],[29,31,29,34],[29,35,29,38],[28,31,28,34],[22,23,22,26],[22,27,22,30],[21,23,21,26],[21,27,21,30],[20,27,20,30],[20,31,20,34],[22,31,22,34],[25,0,25,42],[26,39,28,42],[26,35,28,38],[21,1,21,10],[26,19,27,34],[21,11,21,14],[22,15,22,18],[22,11,22,14],[13,15,13,18],[17,15,17,18],[5,0,5,42],[12,35,12,38],[17,39,17,42],[11,39,11,42],[6,1,10,10],[7,11,10,14],[7,15,10,18],[7,23,10,26],[11,15,11,18],[15,11,15,14],[15,15,15,18],[16,11,16,14],[16,15,16,18],[16,31,16,34],[16,35,16,38],[15,1,15,10],[16,1,16,10],[6,31,6,42],[13,35,13,38],[13,31,13,34],[7,31,10,34],[12,31,12,34],[4,0,4,11],[11,11,11,14],[6,0,10,0],[7,19,10,22],[11,27,11,30],[13,27,13,30],[20,1,20,10],[14,19,14,22],[20,19,20,22],[17,19,17,22],[7,27,10,30],[6,11,6,30],[11,19,11,22],[12,19,12,22],[11,1,11,10],[20,23,20,26],[20,11,20,14],[14,27,14,30],[12,1,12,10],[14,1,14,10],[17,11,17,14],[14,15,14,18],[12,15,12,18],[12,11,12,14],[13,19,13,22],[17,23,17,26],[14,31,14,34],[17,27,17,30],[14,23,14,26],[11,31,11,34],[11,23,11,26],[15,19,15,22],[15,23,15,26],[15,27,15,30],[15,31,15,34],[12,23,12,26],[12,27,12,30],[13,23,13,26],[15,35,15,38],[15,39,15,42],[16,19,16,22],[16,23,16,26],[16,27,16,30],[19,35,19,38],[19,39,19,42],[19,19,19,22],[21,39,21,42],[21,31,21,34],[16,39,16,42],[21,19,21,22],[21,35,21,38],[19,31,19,34],[14,39,14,42],[22,39,22,42],[26,0,28,0],[26,1,28,18],[21,15,21,18],[13,1,13,10],[13,11,13,14],[14,11,14,14],[17,1,17,10],[20,15,20,18],[18,1,18,10],[19,1,19,10],[18,11,18,14],[18,15,18,18],[18,19,18,22],[18,23,18,26],[18,27,18,30],[18,31,18,34],[18,35,18,38],[18,39,18,42],[19,11,19,14],[19,15,19,18],[19,23,19,26],[19,27,19,30]]}
[{"$f":"nazwa","v":"DEMO"}]
[{"$f":"temat","v":"Sprawozdanie finansowe za rok 2023"}]
[null,null,null,null,null,null,null,null,null,null,null,null,null,null,null,null,null,null,null,null,null,null,null,null,null,null,null,null,null,null,null,null,null,null,null,null,null,null,null,null,null,null,null,null,"Powrót do parametrów"]
[]
[{"$f":"NumerNoty(Parametry!$B$46)","v":"Nota nie podlegająca prezentacji"}]
["Zapasy składników majątku obrotowego"]
["Lp.","Zapasy według rodzaju",null,null,null,null,null,null,null,null,null,{"$f":"stanb","v":"Stan na dzień dd.mm.rrrr"},null,null,null,null,null,null,null,null,null,null,null,null,null,null,null,null,null,null,null,{"$f":"stanp","v":"Stan na dzień dd.mm.rrrr"}]
[null,null,null,null,null,null,null,null,null,null,null,"Wartość według ceny\nnabycia",null,null,null,"Wartość według ceny\nzakupu",null,null,null,"Wartość według kosztów wytworzenia",null,null,null,"Wysokość odpisów aktualizujących",null,null,null,"Wartość bilansowa po skorygowaniu o odpis aktualiz.",null,null,null,"Wartość brutto",null,null,null,"Wysokość odpisów aktualizujących",null,null,null,"Wartość bilansowa po skorygowaniu o odpis aktualiz."]
[]
[]
[]
[" 1.","Materiały",null,null,null,null,null,null,null,null,null,{"$f":"L13+L14","v":0},null,null,null,{"$f":"P13+P14","v":0},null,null,null,{"$f":"T13+T14","v":0},null,null,null,{"$f":"X13+X14","v":0},null,null,null,{"$f":"L12+P12+T12-X12","v":0},null,null,null,{"$f":"AF13+AF14","v":0},null,null,null,{"$f":"AJ13+AJ14","v":0},null,null,null,{"$f":"AF12-AJ12","v":0}]
[null,"surowce",null,null,null,null,null,null,null,null,null,null,null,null,null,null,null,null,null,null,null,null,null,null,null,null,null,0,null,null,null,null,null,null,null,null,null,null,null,0]
[null,"pozostałe materiały",null,null,null,null,null,null,null,null,null,null,null,null,null,null,null,null,null,null,null,null,null,null,null,null,null,0,null,null,null,null,null,null,null,null,null,null,null,0]
[" 2.","Półprodukty i produkty w toku",null,null,null,null,null,null,null,null,null,{"$f":"L16+L17","v":0},null,null,null,{"$f":"P16+P17","v":0},null,null,null,{"$f":"T16+T17","v":0},null,null,null,{"$f":"X16+X17","v":0},null,null,null,{"$f":"L15+P15+T15-X15","v":0},null,null,null,{"$f":"AF16+AF17","v":0},null,null,null,{"$f":"AJ16+AJ17","v":0},null,null,null,{"$f":"AF15-AJ15","v":0}]
[null,null,null,null,null,null,null,null,null,null,null,null,null,null,null,null,null,null,null,null,null,null,null,null,null,null,null,0,null,null,null,null,null,null,null,null,null,null,null,0]
[null,null,null,null,null,null,null,null,null,null,null,null,null,null,null,null,null,null,null,null,null,null,null,null,null,null,null,0,null,null,null,null,null,null,null,null,null,null,null,0]
[" 3.","Produkty gotowe",null,null,null,null,null,null,null,null,null,{"$f":"L19+L20","v":0},null,null,null,{"$f":"P19+P20","v":0},null,null,null,{"$f":"T19+T20","v":0},null,null,null,{"$f":"X19+X20","v":0},null,null,null,0,null,null,null,{"$f":"AF19+AF20","v":0},null,null,null,{"$f":"AJ19+AJ20","v":0},null,null,null,0]
[null,null,null,null,null,null,null,null,null,null,null,null,null,null,null,null,null,null,null,null,null,null,null,null,null,null,null,0,null,null,null,null,null,null,null,null,null,null,null,0]
[null,null,null,null,null,null,null,null,null,null,null,null,null,null,null,null,null,null,null,null,null,null,null,null,null,null,null,0,null,null,null,null,null,null,null,null,null,null,null,0]
[" 4.","Towary",null,null,null,null,null,null,null,null,null,null,null,null,null,null,null,null,null,null,null,null,null,null,null,null,null,0,null,null,null,null,null,null,null,null,null,null,null,0]
[" 5.","Zaliczki na dostawy i usługi",null,null,null,null,null,null,null,null,null,null,null,null,null,null,null,null,null,null,null,null,null,null,null,null,null,0,null,null,null,null,null,null,null,null,null,null,null,0]
["RAZEM",null,null,null,null,null,null,null,null,null,null,{"$f":"L12+L15+L18+L21+L22","v":0},null,null,null,{"$f":"P12+P15+P18+P21+P22","v":0},null,null,null,{"$f":"T12+T15+T18+T21+T22","v":0},null,null,null,{"$f":"X12+X15+X18+X21+X22","v":0},null,null,null,{"$f":"AB12+AB15+AB18+AB21+AB22","v":0},null,null,null,{"$f":"AF12+AF15+AF18+AF21+AF22","v":0},null,null,null,{"$f":"AJ12+AJ15+AJ18+AJ21+AJ22","v":0},null,null,null,{"$f":"AN12+AN15+AN18+AN21+AN22","v":0}]
[]
[]
["Zapasy BRUTTO według okresów zalegania "]
["Lp.","Zapasy według rodzaju",null,null,null,null,null,null,null,null,null,null,null,null,null,null,null,null,null,"Okres zalegania w dniach",null,null,null,null,null,null,null,null,null,null,null,null,null,null,null,"Razem",null,null,null,"Wysokość odpisów aktualiz."]
[]
[null,null,null,null,null,null,null,null,null,null,null,null,null,null,null,null,null,null,null,"do 6 m-cy",null,null,null,"6 m-cy do 1 rok",null,null,null,"1 - 2 lat",null,null,null,"ponad 2 lata"]
[" 1.","Materiały",null,null,null,null,null,null,null,null,null,null,null,null,null,null,null,null,null,null,null,null,null,null,null,null,null,null,null,null,null,null,null,null,null,{"$f":"SUM(T30:AI30)","v":0}]
[" 2.","Półprodukty i produkty w toku",null,null,null,null,null,null,null,null,null,null,null,null,null,null,null,null,null,null,null,null,null,null,null,null,null,null,null,null,null,null,null,null,null,{"$f":"SUM(T31:AI31)","v":0}]
[" 3.","Produkty gotowe",null,null,null,null,null,null,null,null,null,null,null,null,null,null,null,null,null,null,null,null,null,null,null,null,null,null,null,null,null,null,null,null,null,{"$f":"SUM(T32:AI32)","v":0}]
[" 4.","Towary",null,null,null,null,null,null,null,null,null,null,null,null,null,null,null,null,null,null,null,null,null,null,null,null,null,null,null,null,null,null,null,null,null,{"$f":"SUM(T33:AI33)","v":0}]
[null,null,null,null,null,null,null,null,null,null,null,null,null,null,null,null,null,null,null,null,null,null,null,null,null,null,null,null,null,null,null,null,null,null,null,null,null,null,null,null,null,null,null,null,null,"Miejsce na dodatkowy opis"]
[]
[]
[]
[]
[null,"Sprawdzenie BZ",null,null,null,null,null,null,null,null,null,null,null,null,null,null,null,null,null,null,null,null,null,null,null,null,null,null,null,null,null,"Sprawdzenie BO"]
[null,null,null,null,null,null,null,null,null,null,"Nota",null,null,null,"Bilans",null,null,null,"Różnica",null,null,null,null,null,null,null,null,null,null,null,null,"Nota",null,null,null,"Bilans",null,null,null,"Różnica"]
[null,"Materiały",null,null,null,null,null,null,null,null,{"$f":"AB12","v":0},null,null,null,{"$f":"Bilans_AKTYWA!S69","v":0},null,null,null,{"$f":"K41-O41","v":0},null,null,null,null,null,null,null,null,null,null,null,null,{"$f":"AN12","v":0},null,null,null,{"$f":"Bilans_AKTYWA!X69","v":0},null,null,null,{"$f":"AF41-AJ41","v":0}]
[null,"Półprodukty i produkty w toku",null,null,null,null,null,null,null,null,{"$f":"AB15","v":0},null,null,null,{"$f":"Bilans_AKTYWA!S70","v":0},null,null,null,0,null,null,null,null,null,null,null,null,null,null,null,null,{"$f":"AN15","v":0},null,null,null,{"$f":"Bilans_AKTYWA!X70","v":0},null,null,null,0]
[null,"Produkty gotowe",null,null,null,null,null,null,null,null,{"$f":"AB18","v":0},null,null,null,{"$f":"Bilans_AKTYWA!S71","v":0},null,null,null,0,null,null,null,null,null,null,null,null,null,null,null,null,{"$f":"AN18","v":0},null,null,null,{"$f":"Bilans_AKTYWA!X71","v":0},null,null,null,0]
[null,"Towary",null,null,null,null,null,null,null,null,{"$f":"AB21","v":0},null,null,null,{"$f":"Bilans_AKTYWA!S72","v":0},null,null,null,0,null,null,null,null,null,null,null,null,null,null,null,null,{"$f":"AN21","v":0},null,null,null,{"$f":"Bilans_AKTYWA!X72","v":0},null,null,null,0]
[null,"Zaliczki na dostawy",null,null,null,null,null,null,null,null,{"$f":"AB22","v":0},null,null,null,{"$f":"Bilans_AKTYWA!S73","v":0},null,null,null,0,null,null,null,null,null,null,null,null,null,null,null,null,{"$f":"AN22","v":0},null,null,null,{"$f":"Bilans_AKTYWA!X73","v":0},null,null,null,0]
[null,"razem",null,null,null,null,null,null,null,null,{"$f":"SUM(K41:N45)","v":0},null,null,null,{"$f":"SUM(O41:R45)","v":0},null,null,null,0,null,null,null,null,null,null,null,null,null,null,null,null,{"$f":"SUM(AF41:AI45)","v":0},null,null,null,{"$f":"SUM(AJ41:AM45)","v":0},null,null,null,0]

{"sheet":"Należności","index":30,"n_rows":73,"n_cols":46,"rows_kept":73,"cut":false,"hidden":true,"merged":[[44,1,44,12],[45,1,45,12],[42,1,42,12],[40,1,40,12],[15,28,15,32],[14,38,14,42],[38,28,38,37],[39,28,39,37],[40,28,40,37],[43,28,43,37],[44,28,44,37],[45,28,45,37],[38,13,38,22],[37,1,37,12],[43,23,43,27],[43,38,43,42],[33,28,33,32],[45,23,45,27],[16,23,16,27],[39,38,39,42],[40,38,40,42],[38,23,38,27],[15,38,15,42],[27,38,27,42],[0,55,0,59],[0,63,0,67],[2,52,8,58],[2,60,8,66],[19,52,28,58],[19,60,28,66],[14,52,17,58],[14,60,17,66],[14,44,17,50],[19,44,28,50],[9,45,11,62],[2,44,2,49],[15,33,15,37],[16,33,16,37],[17,33,17,37],[32,33,32,37],[30,28,31,32],[18,28,18,32],[26,38,26,42],[16,38,16,42],[26,28,26,32],[28,33,28,37],[16,28,16,32],[28,38,28,42],[17,38,17,42],[29,38,29,42],[29,33,29,37],[32,38,32,42],[32,28,32,32],[29,28,29,32],[17,28,17,32],[18,33,18,37],[30,38,31,42],[28,28,28,32],[27,33,27,37],[19,33,19,37],[34,38,35,42],[33,38,33,42],[34,28,35,32],[34,33,35,37],[34,23,35,27],[45,38,45,42],[33,33,33,37],[40,23,40,27],[38,38,38,42],[39,23,39,27],[44,23,44,27],[44,38,44,42],[34,0,35,0],[30,13,31,17],[30,1,31,12],[32,13,32,17],[33,13,33,17],[38,1,38,12],[32,23,32,27],[30,0,31,0],[34,1,35,12],[34,13,35,17],[30,18,31,22],[32,1,32,12],[30,23,31,27],[33,23,33,27],[32,18,32,22],[33,1,33,12],[34,18,35,22],[33,18,33,22],[43,1,43,12],[28,18,28,22],[29,18,29,22],[27,18,27,22],[18,23,18,27],[27,13,27,17],[17,13,17,17],[26,13,26,17],[18,13,18,17],[23,1,23,12],[28,23,28,27],[27,23,27,27],[29,23,29,27],[39,1,39,12],[43,13,43,22],[15,1,15,12],[16,1,16,12],[18,1,18,12],[19,1,19,12],[26,1,26,12],[19,13,19,17],[29,1,29,12],[29,13,29,17],[28,1,28,12],[27,1,27,12],[17,1,17,12],[28,13,28,17],[15,13,15,17],[25,1,25,12],[24,1,24,12],[11,38,12,42],[10,38,10,42],[10,28,10,32],[13,38,13,42],[13,28,13,32],[7,18,8,22],[7,38,8,42],[5,0,5,42],[6,0,8,0],[6,13,6,27],[6,1,8,12],[7,33,8,37],[7,28,8,32],[13,1,13,12],[9,13,9,17],[7,13,8,17],[10,23,10,27],[13,13,13,17],[10,1,10,12],[6,28,6,42],[7,23,8,27],[9,38,9,42],[9,1,9,12],[11,0,12,0],[10,18,10,22],[4,0,4,11],[9,28,9,32],[9,33,9,37],[9,23,9,27],[9,18,9,22],[14,1,14,12],[14,33,14,37],[14,13,14,17],[11,23,12,27],[11,28,12,32],[11,33,12,37],[13,33,13,37],[10,33,10,37],[10,13,10,17],[11,1,12,12],[11,13,12,17],[11,18,12,22],[14,28,14,32],[15,18,15,22],[13,23,13,27],[13,18,13,22],[14,23,14,27],[15,23,15,27],[16,13,16,17],[26,23,26,27],[16,18,16,22],[19,18,19,22],[17,23,17,27],[19,23,19,27],[17,18,17,22],[18,18,18,22],[26,18,26,22],[23,13,23,17],[23,18,23,22],[23,23,23,27],[25,13,25,17],[25,18,25,22],[25,23,25,27],[24,13,24,17],[24,18,24,22],[24,23,24,27],[14,18,14,22],[30,33,31,37],[18,38,18,42],[19,38,19,42],[26,33,26,37],[27,28,27,32],[19,28,19,32],[23,28,23,32],[23,33,23,37],[23,38,23,42],[25,28,25,32],[25,33,25,37],[25,38,25,42],[24,28,24,32],[24,33,24,37],[24,38,24,42],[20,0,21,0],[20,1,21,12],[20,13,21,17],[20,18,21,22],[20,23,21,27],[20,28,21,32],[20,33,21,37],[20,38,21,42],[22,1,22,12],[22,13,22,17],[22,18,22,22],[22,23,22,27],[22,28,22,32],[22,33,22,37],[22,38,22,42]]}
[{"$f":"nazwa","v":"DEMO"}]
[{"$f":"temat","v":"Sprawozdanie finansowe za rok 2023"}]
[null,null,null,null,null,null,null,null,null,null,null,null,null,null,null,null,null,null,null,null,null,null,null,null,null,null,null,null,null,null,null,null,null,null,null,null,null,null,null,null,null,null,null,null,"Powrót do parametrów"]
[]
[{"$f":"NumerNoty(Parametry!$B$47)","v":"Nota nie podlegająca prezentacji"}]
["Należności"]
["Lp.","Wyszczególnienie",null,null,null,null,null,null,null,null,null,null,null,{"$f":"stanb","v":"Stan na dzień dd.mm.rrrr"},null,null,null,null,null,null,null,null,null,null,null,null,null,null,{"$f":"stanp","v":"Stan na dzień dd.mm.rrrr"}]
[null,null,null,null,null,null,null,null,null,null,null,null,null,"wartość brutto",null,null,null,null,"odpisy aktualizujące",null,null,null,null,"wartość netto",null,null,null,null,"wartość brutto",null,null,null,null,"odpisy aktualizujące",null,null,null,null,"wartość netto"]
[]
["I.","Należności długoterminowe ogółem:",null,null,null,null,null,null,null,null,null,null,null,{"$f":"SUM(N11:R14)","v":0},null,null,null,null,{"$f":"SUM(S11:W14)","v":0},null,null,null,null,{"$f":"SUM(X11:AB14)","v":0},null,null,null,null,{"$f":"SUM(AC11:AG14)","v":0},null,null,null,null,{"$f":"SUM(AH11:AL14)","v":0},null,null,null,null,{"$f":"SUM(AM11:AQ14)","v":0},null,null,null,null,null,null,"Aby wypełnić tabelę, dane dotyczące wartości odpisów aktualizujących należy uzupełnić w kolejnych notach \"Odpisy_akt...\""]
[" 1.","Od jednostek powiązanych",null,null,null,null,null,null,null,null,null,null,null,null,null,null,null,null,{"$f":"Odpisy_aktual_należ_długot!X25","v":0},null,null,null,null,{"$f":"N11-S11","v":0},null,null,null,null,null,null,null,null,null,{"$f":"Odpisy_aktual_należ_długot!X15","v":0},null,null,null,null,{"$f":"AC11-AH11","v":0}]
[" 2.","Od pozostałych jednostek, w których jednostka posiada zaangażowanie w kapitale",null,null,null,null,null,null,null,null,null,null,null,null,null,null,null,null,{"$f":"Odpisy_aktual_należ_długot!AC25","v":0},null,null,null,null,{"$f":"N12-S12","v":0},null,null,null,null,null,null,null,null,null,{"$f":"Odpisy_aktual_należ_długot!AC15","v":0},null,null,null,null,{"$f":"AC12-AH12","v":0}]
[]
[" 3.","Od pozostałych jednostek",null,null,null,null,null,null,null,null,null,null,null,null,null,null,null,null,{"$f":"Odpisy_aktual_należ_długot!AH25","v":0},null,null,null,null,{"$f":"N14-S14","v":0},null,null,null,null,null,null,null,null,null,{"$f":"Odpisy_aktual_należ_długot!AH15","v":0},null,null,null,null,{"$f":"AC14-AH14","v":0}]
["II.","Należności krótkoterminowe ogółem:",null,null,null,null,null,null,null,null,null,null,null,{"$f":"N16+N21+N27","v":0},null,null,null,null,{"$f":"S16+S21+S27","v":0},null,null,null,null,{"$f":"X16+X21+X27","v":0},null,null,null,null,{"$f":"AC16+AC21+AC27","v":0},null,null,null,null,{"$f":"AH16+AH21+AH27","v":0},null,null,null,null,{"$f":"AM16+AM21+AM27","v":0}]
[" 1.","Należności od jednostek powiązanych:",null,null,null,null,null,null,null,null,null,null,null,{"$f":"N17+N20","v":0},null,null,null,null,{"$f":"S17+S20","v":0},null,null,null,null,{"$f":"N16-S16","v":0},null,null,null,null,{"$f":"AC17+AC20","v":0},null,null,null,null,{"$f":"AH17+AH20","v":0},null,null,null,null,{"$f":"AC16-AH16","v":0}]
[null,"z tytułu dostaw i usług, o okresie spłaty:",null,null,null,null,null,null,null,null,null,null,null,{"$f":"SUM(N18:R19)","v":0},null,null,null,null,{"$f":"SUM(S18:W19)","v":0},null,null,null,null,0,null,null,null,null,{"$f":"SUM(AC18:AG19)","v":0},null,null,null,null,{"$f":"SUM(AH18:AL19)","v":0},null,null,null,null,0]
[null," - do 12 miesięcy",null,null,null,null,null,null,null,null,null,null,null,null,null,null,null,null,{"$f":"Odpisy_akt_należ_krót_j_pow!X23","v":0},null,null,null,null,0,null,null,null,null,null,null,null,null,null,{"$f":"Odpisy_akt_należ_krót_j_pow!X13","v":0},null,null,null,null,0]
[null," - powyżej 12 miesięcy",null,null,null,null,null,null,null,null,null,null,null,null,null,null,null,null,{"$f":"Odpisy_akt_należ_krót_j_pow!AC23","v":0},null,null,null,null,0,null,null,null,null,null,null,null,null,null,{"$f":"Odpisy_akt_należ_krót_j_pow!AC13","v":0},null,null,null,null,0]
[null,"inne",null,null,null,null,null,null,null,null,null,null,null,null,null,null,null,null,{"$f":"Odpisy_akt_należ_krót_j_pow!AH23","v":0},null,null,null,null,0,null,null,null,null,null,null,null,null,null,{"$f":"Odpisy_akt_należ_krót_j_pow!AH13","v":0},null,null,null,null,0]
[" 2.","Należności od pozostałych jednostek, w których jednostka posiada zaangażowanie w kapitale",null,null,null,null,null,null,null,null,null,null,null,{"$f":"N23+N26","v":0},null,null,null,null,{"$f":"S23+S26","v":0},null,null,null,null,0,null,null,null,null,{"$f":"AC23+AC26","v":0},null,null,null,null,{"$f":"AH23+AH26","v":0},null,null,null,null,0]
[]
[null,"z tytułu dostaw i usług, o okresie spłaty:",null,null,null,null,null,null,null,null,null,null,null,{"$f":"SUM(N24:R25)","v":0},null,null,null,null,{"$f":"SUM(S24:W25)","v":0},null,null,null,null,{"$f":"N23-S23","v":0},null,null,null,null,{"$f":"SUM(AC24:AG25)","v":0},null,null,null,null,{"$f":"SUM(AH24:AL25)","v":0},null,null,null,null,{"$f":"AC23-AH23","v":0}]
[null," - do 12 miesięcy",null,null,null,null,null,null,null,null,null,null,null,null,null,null,null,null,{"$f":"Odpisy_akt_należ_krót_j_poz_zk!X24","v":0},null,null,null,null,{"$f":"N24-S24","v":0},null,null,null,null,null,null,null,null,null,{"$f":"Odpisy_akt_należ_krót_j_poz_zk!X14","v":0},null,null,null,null,{"$f":"AC24-AH24","v":0}]
[null," - powyżej 12 miesięcy",null,null,null,null,null,null,null,null,null,null,null,null,null,null,null,null,{"$f":"Odpisy_akt_należ_krót_j_poz_zk!AC24","v":0},null,null,null,null,{"$f":"N25-S25","v":0},null,null,null,null,null,null,null,null,null,{"$f":"Odpisy_akt_należ_krót_j_poz_zk!AC14","v":0},null,null,null,null,{"$f":"AC25-AH25","v":0}]
[null,"inne",null,null,null,null,null,null,null,null,null,null,null,null,null,null,null,null,{"$f":"Odpisy_akt_należ_krót_j_poz_zk!AH24","v":0},null,null,null,null,{"$f":"N26-S26","v":0},null,null,null,null,null,null,null,null,null,{"$f":"Odpisy_akt_należ_krót_j_poz_zk!AH14","v":0},null,null,null,null,{"$f":"AC26-AH26","v":0}]
[" 3.","Należności od pozostałych jednostek:",null,null,null,null,null,null,null,null,null,null,null,{"$f":"N28+N31+N33+N34","v":0},null,null,null,null,{"$f":"S28+S31+S33+S34","v":0},null,null,null,null,0,null,null,null,null,{"$f":"AC28+AC31+AC33+AC34","v":0},null,null,null,null,{"$f":"AH28+AH31+AH33+AH34","v":0},null,null,null,null,0]
[null,"z tytułu dostaw i usług, o okresie spłaty:",null,null,null,null,null,null,null,null,null,null,null,{"$f":"SUM(N29:R30)","v":0},null,null,null,null,{"$f":"SUM(S29:W30)","v":0},null,null,null,null,0,null,null,null,null,{"$f":"SUM(AC29:AG30)","v":0},null,null,null,null,{"$f":"SUM(AH29:AL30)","v":0},null,null,null,null,0]
[null," - do 12 miesięcy",null,null,null,null,null,null,null,null,null,null,null,null,null,null,null,null,{"$f":"Odpisy_akt_należ_krót_j_poz!N28","v":0},null,null,null,null,0,null,null,null,null,null,null,null,null,null,{"$f":"Odpisy_akt_należ_krót_j_poz!N16","v":0},null,null,null,null,0]
[null," - powyżej 12 miesięcy",null,null,null,null,null,null,null,null,null,null,null,null,null,null,null,null,{"$f":"Odpisy_akt_należ_krót_j_poz!S28","v":0},null,null,null,null,0,null,null,null,null,null,null,null,null,null,{"$f":"Odpisy_akt_należ_krót_j_poz!S16","v":0},null,null,null,null,0]
[null,"z tytułu podatków, dotacji, ceł, ubezpieczeń społecznych i zdrowotnych oraz innych tytułów",null,null,null,null,null,null,null,null,null,null,null,null,null,null,null,null,{"$f":"Odpisy_akt_należ_krót_j_poz!X28","v":0},null,null,null,null,0,null,null,null,null,null,null,null,null,null,{"$f":"Odpisy_akt_należ_krót_j_poz!X16","v":0},null,null,null,null,0]
[]
[null,"inne",null,null,null,null,null,null,null,null,null,null,null,null,null,null,null,null,{"$f":"Odpisy_akt_należ_krót_j_poz!AC28","v":0},null,null,null,null,{"$f":"N33-S33","v":0},null,null,null,null,null,null,null,null,null,{"$f":"Odpisy_akt_należ_krót_j_poz!AC16","v":0},null,null,null,null,{"$f":"AC33-AH33","v":0}]
[null,"dochodzone na drodze sądowej",null,null,null,null,null,null,null,null,null,null,null,null,null,null,null,null,{"$f":"Odpisy_akt_należ_krót_j_poz!AH28","v":0},null,null,null,null,{"$f":"N34-S34","v":0},null,null,null,null,null,null,null,null,null,{"$f":"Odpisy_akt_należ_krót_j_poz!AH16","v":0},null,null,null,null,{"$f":"AC34-AH34","v":0}]
[null,"- w tym z tyt. dost. i usług o okresie spłaty do 12 m-cy",null,null,null,null,null,null,null,null,null,null,null,null,null,null,null,null,null,null,null,null,null,{"$f":"N35-S35","v":0},null,null,null,null,null,null,null,null,null,null,null,null,null,null,{"$f":"AC35-AH35","v":0}]
[]
[]
[null,"Sprawdzenie - Należności długoterminowe"]
[null,"Nota",null,null,null,null,null,null,null,null,null,null,null,"BZ",null,null,null,null,null,null,null,null,null,{"$f":"X10","v":0},null,null,null,null,"BO",null,null,null,null,null,null,null,null,null,{"$f":"AM10","v":0}]
[null,"Bilans",null,null,null,null,null,null,null,null,null,null,null,null,null,null,null,null,null,null,null,null,null,{"$f":"Bilans_AKTYWA!S24","v":0},null,null,null,null,null,null,null,null,null,null,null,null,null,null,{"$f":"Bilans_AKTYWA!X24","v":0}]
[null,"różnica",null,null,null,null,null,null,null,null,null,null,null,null,null,null,null,null,null,null,null,null,null,{"$f":"X39-X40","v":0},null,null,null,null,null,null,null,null,null,null,null,null,null,null,{"$f":"AM39-AM40","v":0}]
[]
[null,"Sprawdzenie - Należności krótkoterminowe"]
[null,"Nota",null,null,null,null,null,null,null,null,null,null,null,"BZ",null,null,null,null,null,null,null,null,null,{"$f":"X15","v":0},null,null,null,null,"BO",null,null,null,null,null,null,null,null,null,{"$f":"AM15","v":0}]
[null,"Bilans",null,null,null,null,null,null,null,null,null,null,null,null,null,null,null,null,null,null,null,null,null,{"$f":"Bilans_AKTYWA!S74","v":0},null,null,null,null,null,null,null,null,null,null,null,null,null,null,{"$f":"Bilans_AKTYWA!X74","v":0}]
[null,"różnica",null,null,null,null,null,null,null,null,null,null,null,null,null,null,null,null,null,null,null,null,null,{"$f":"X44-X45","v":0},null,null,null,null,null,null,null,null,null,null,null,null,null,null,{"$f":"AM44-AM45","v":0}]
[]
[]
[]
[]
[]
[]
[]
[]
[]
[]
[]
[]
[]
[]
[]
[]
[]
[]
[]
[]
[]
[]
[]
[]
[]
[]
["Audytor: FINANSISTA Sp. z o.o. w Poznaniu"]

{"sheet":"Odpisy_aktual_należ_długot","index":31,"n_rows":27,"n_cols":46,"rows_kept":27,"cut":false,"hidden":true,"merged":[[9,33,13,37],[9,23,13,27],[9,28,13,32],[2,44,2,49],[15,1,15,22],[15,23,15,27],[15,28,15,32],[15,33,15,37],[15,38,15,42],[11,44,14,50],[14,1,14,22],[14,23,14,27],[14,28,14,32],[14,33,14,37],[14,38,14,42],[4,0,4,26],[5,0,5,42],[6,0,13,0],[6,1,13,22],[16,44,18,50],[17,1,17,22],[17,23,17,27],[17,28,17,32],[17,33,17,37],[17,38,17,42],[18,1,18,22],[18,23,18,27],[18,28,18,32],[18,33,18,37],[16,1,16,22],[16,23,16,27],[16,28,16,32],[16,33,16,37],[16,38,16,42],[18,38,18,42],[19,1,19,22],[19,23,19,27],[19,28,19,32],[19,33,19,37],[19,38,19,42],[23,28,23,32],[23,33,23,37],[23,38,23,42],[20,1,20,22],[20,23,20,27],[20,28,20,32],[20,33,20,37],[20,38,20,42],[21,1,21,22],[21,23,21,27],[21,28,21,32],[21,33,21,37],[21,38,21,42],[26,0,35,42],[6,23,8,42],[9,38,13,42],[24,1,24,22],[24,23,24,27],[24,28,24,32],[24,33,24,37],[24,38,24,42],[25,0,25,42],[22,1,22,22],[22,23,22,27],[22,28,22,32],[22,33,22,37],[22,38,22,42],[23,1,23,22],[23,23,23,27]]}
[{"$f":"nazwa","v":"DEMO"}]
[{"$f":"temat","v":"Sprawozdanie finansowe za rok 2023"}]
[null,null,null,null,null,null,null,null,null,null,null,null,null,null,null,null,null,null,null,null,null,null,null,null,null,null,null,null,null,null,null,null,null,null,null,null,null,null,null,null,null,null,null,null,"Powrót do parametrów"]
[]
[{"$f":"NumerNoty(Parametry!$B$48)","v":"Nota nie podlegająca prezentacji"}]
["Dane o odpisach aktualizujących wartość należności długoterminowych"]
["Lp.","Wyszczególnienie",null,null,null,null,null,null,null,null,null,null,null,null,null,null,null,null,null,null,null,null,null,"Odpis aktualizujący wartość należności długoterminowych"]
[]
[]
[null,null,null,null,null,null,null,null,null,null,null,null,null,null,null,null,null,null,null,null,null,null,null,"od jednostek powiązanych",null,null,null,null,"od pozostałych jednostek, w których posiada zaangażowanie w kapitale",null,null,null,null,"od pozostałych jednostek",null,null,null,null,"Razem"]
[]
[]
[]
[]
[" 1.",{"$f":"stanp","v":"Stan na dzień dd.mm.rrrr"},null,null,null,null,null,null,null,null,null,null,null,null,null,null,null,null,null,null,null,null,null,null,null,null,null,null,null,null,null,null,null,null,null,null,null,null,{"$f":"SUM(X15:AL15)","v":0}]
[" 2.","Zwiększenia",null,null,null,null,null,null,null,null,null,null,null,null,null,null,null,null,null,null,null,null,null,{"$f":"SUM(X17:AB18)","v":0},null,null,null,null,{"$f":"SUM(AC17:AG18)","v":0},null,null,null,null,{"$f":"SUM(AH17:AL18)","v":0},null,null,null,null,0]
[null,"dokonanie odpisu",null,null,null,null,null,null,null,null,null,null,null,null,null,null,null,null,null,null,null,null,null,null,null,null,null,null,null,null,null,null,null,null,null,null,null,null,0]
[null,"przesunięcia (zmiana klasyfikacji odpisów)",null,null,null,null,null,null,null,null,null,null,null,null,null,null,null,null,null,null,null,null,null,null,null,null,null,null,null,null,null,null,null,null,null,null,null,null,0]
[" 3.","Zmniejszenia",null,null,null,null,null,null,null,null,null,null,null,null,null,null,null,null,null,null,null,null,null,{"$f":"SUM(X20:AB24)","v":0},null,null,null,null,{"$f":"SUM(AC20:AG24)","v":0},null,null,null,null,{"$f":"SUM(AH20:AL24)","v":0},null,null,null,null,0]
[null,"zmniejszenie odpisów rozliczonych z pozostałymi przychodami operacyjnymi",null,null,null,null,null,null,null,null,null,null,null,null,null,null,null,null,null,null,null,null,null,null,null,null,null,null,null,null,null,null,null,null,null,null,null,null,0]
[null,"zmniejszenie odpisów rozliczonych z przychodami finansowymi",null,null,null,null,null,null,null,null,null,null,null,null,null,null,null,null,null,null,null,null,null,null,null,null,null,null,null,null,null,null,null,null,null,null,null,null,0]
[null,"wykorzystanie odpisów (z kontami zesp. 2)",null,null,null,null,null,null,null,null,null,null,null,null,null,null,null,null,null,null,null,null,null,null,null,null,null,null,null,null,null,null,null,null,null,null,null,null,0]
[null,"przesunięcia (zmiana klasyfikacji odpisów)",null,null,null,null,null,null,null,null,null,null,null,null,null,null,null,null,null,null,null,null,null,null,null,null,null,null,null,null,null,null,null,null,null,null,null,null,0]
[null,"inne",null,null,null,null,null,null,null,null,null,null,null,null,null,null,null,null,null,null,null,null,null,null,null,null,null,null,null,null,null,null,null,null,null,null,null,null,0]
[" 4.",{"$f":"stanb","v":"Stan na dzień dd.mm.rrrr"},null,null,null,null,null,null,null,null,null,null,null,null,null,null,null,null,null,null,null,null,null,{"$f":"X15+X16-X19","v":0},null,null,null,null,{"$f":"AC15+AC16-AC19","v":0},null,null,null,null,{"$f":"AH15+AH16-AH19","v":0},null,null,null,null,{"$f":"AM15+AM16-AM19","v":0}]
[]
[null,null,null,null,null,null,null,null,null,null,null,null,null,null,null,null,null,null,null,null,null,null,null,null,null,null,null,null,null,null,null,null,null,null,null,null,null,null,null,null,null,null,null,null,null,"Miejsce na dodatkowy opis"]

{"sheet":"Odpisy_akt_należ_krót_j_pow","index":32,"n_rows":25,"n_cols":46,"rows_kept":25,"cut":false,"hidden":true,"merged":[[2,44,2,49],[23,0,23,42],[24,0,36,42],[14,44,16,50],[5,0,5,42],[6,0,11,0],[16,1,16,22],[15,28,15,32],[15,33,15,37],[10,44,12,50],[9,23,11,27],[4,0,4,26],[12,38,12,42],[6,38,11,42],[9,28,11,32],[6,23,7,37],[6,1,11,22],[8,33,11,37],[8,23,8,32],[12,33,12,37],[12,1,12,22],[12,23,12,27],[12,28,12,32],[13,23,13,27],[13,28,13,32],[13,1,13,22],[13,33,13,37],[20,23,20,27],[20,28,20,32],[20,1,20,22],[16,33,16,37],[17,23,17,27],[17,28,17,32],[14,28,14,32],[14,1,14,22],[15,1,15,22],[14,23,14,27],[15,23,15,27],[15,38,15,42],[22,1,22,22],[22,23,22,27],[22,28,22,32],[21,23,21,27],[21,28,21,32],[21,1,21,22],[17,1,17,22],[16,28,16,32],[19,23,19,27],[20,33,20,37],[18,1,18,22],[19,1,19,22],[19,28,19,32],[18,23,18,27],[18,28,18,32],[13,38,13,42],[16,23,16,27],[20,38,20,42],[19,33,19,37],[22,33,22,37],[14,33,14,37],[22,38,22,42],[21,33,21,37],[21,38,21,42],[16,38,16,42],[14,38,14,42],[18,33,18,37],[18,38,18,42],[19,38,19,42],[17,38,17,42],[17,33,17,37]]}
[{"$f":"nazwa","v":"DEMO"}]
[{"$f":"temat","v":"Sprawozdanie finansowe za rok 2023"}]
[null,null,null,null,null,null,null,null,null,null,null,null,null,null,null,null,null,null,null,null,null,null,null,null,null,null,null,null,null,null,null,null,null,null,null,null,null,null,null,null,null,null,null,null,"Powrót do parametrów"]
[]
[{"$f":"NumerNoty(Parametry!$B$49)","v":"Nota nie podlegająca prezentacji"}]
["Dane o odpisach aktualizujących wartość należności krótkoterminowych od jednostek powiązanych (wg tytułów należności)"]
["Lp.","Wyszczególnienie",null,null,null,null,null,null,null,null,null,null,null,null,null,null,null,null,null,null,null,null,null,"Odpis aktualizujący wartość należności krótkoterminowych od jednostek POWIĄZANYCH",null,null,null,null,null,null,null,null,null,null,null,null,null,null,"Razem odpisy aktualizujące wartość należności\nod jednostek powiązanych"]
[]
[null,null,null,null,null,null,null,null,null,null,null,null,null,null,null,null,null,null,null,null,null,null,null,"z tytułu dostaw i usług",null,null,null,null,null,null,null,null,null,"inne"]
[null,null,null,null,null,null,null,null,null,null,null,null,null,null,null,null,null,null,null,null,null,null,null,"o okresie spłaty do 12 miesięcy",null,null,null,null,"o okresie spłaty powyżej 12 miesięcy"]
[]
[]
[" 1.",{"$f":"stanp","v":"Stan na dzień dd.mm.rrrr"},null,null,null,null,null,null,null,null,null,null,null,null,null,null,null,null,null,null,null,null,null,null,null,null,null,null,null,null,null,null,null,null,null,null,null,null,{"$f":"SUM(X13:AL13)","v":0}]
[" 2.","Zwiększenia",null,null,null,null,null,null,null,null,null,null,null,null,null,null,null,null,null,null,null,null,null,{"$f":"SUM(X15:AB16)","v":0},null,null,null,null,{"$f":"SUM(AC15:AG16)","v":0},null,null,null,null,{"$f":"SUM(AH15:AL16)","v":0},null,null,null,null,0]
[null,"dokonanie odpisu",null,null,null,null,null,null,null,null,null,null,null,null,null,null,null,null,null,null,null,null,null,null,null,null,null,null,null,null,null,null,null,null,null,null,null,null,0]
[null,"przesunięcia (zmiana klasyfikacji odpisów)",null,null,null,null,null,null,null,null,null,null,null,null,null,null,null,null,null,null,null,null,null,null,null,null,null,null,null,null,null,null,null,null,null,null,null,null,0]
[" 3.","Zmniejszenia",null,null,null,null,null,null,null,null,null,null,null,null,null,null,null,null,null,null,null,null,null,{"$f":"SUM(X18:AB22)","v":0},null,null,null,null,{"$f":"SUM(AC18:AG22)","v":0},null,null,null,null,{"$f":"SUM(AH18:AL22)","v":0},null,null,null,null,0]
[null,"zmniejszenie odpisów rozliczonych z pozostałymi przychodami operacyjnymi",null,null,null,null,null,null,null,null,null,null,null,null,null,null,null,null,null,null,null,null,null,null,null,null,null,null,null,null,null,null,null,null,null,null,null,null,0]
[null,"zmniejszenie odpisów rozliczonych z przychodami finansowymi",null,null,null,null,null,null,null,null,null,null,null,null,null,null,null,null,null,null,null,null,null,null,null,null,null,null,null,null,null,null,null,null,null,null,null,null,0]
[null,"wykorzystanie odpisów (z kontami zesp. 2)",null,null,null,null,null,null,null,null,null,null,null,null,null,null,null,null,null,null,null,null,null,null,null,null,null,null,null,null,null,null,null,null,null,null,null,null,0]
[null,"przesunięcia (zmiana klasyfikacji odpisów)",null,null,null,null,null,null,null,null,null,null,null,null,null,null,null,null,null,null,null,null,null,null,null,null,null,null,null,null,null,null,null,null,null,null,null,null,0]
[null,"inne",null,null,null,null,null,null,null,null,null,null,null,null,null,null,null,null,null,null,null,null,null,null,null,null,null,null,null,null,null,null,null,null,null,null,null,null,0]
[" 4.",{"$f":"stanb","v":"Stan na dzień dd.mm.rrrr"},null,null,null,null,null,null,null,null,null,null,null,null,null,null,null,null,null,null,null,null,null,{"$f":"X13+X14-X17","v":0},null,null,null,null,{"$f":"AC13+AC14-AC17","v":0},null,null,null,null,{"$f":"AH13+AH14-AH17","v":0},null,null,null,null,{"$f":"AM13+AM14-AM17","v":0}]
[]
[null,null,null,null,null,null,null,null,null,null,null,null,null,null,null,null,null,null,null,null,null,null,null,null,null,null,null,null,null,null,null,null,null,null,null,null,null,null,null,null,null,null,null,null,null,"Miejsce na dodatkowy opis"]

{"sheet":"Odpisy_akt_należ_krót_j_poz_zk","index":33,"n_rows":32,"n_cols":45,"rows_kept":32,"cut":false,"hidden":true,"merged":[[16,1,16,22],[16,23,16,27],[16,28,16,32],[22,1,22,22],[22,23,22,27],[22,28,22,32],[22,33,22,37],[22,38,22,42],[24,0,24,42],[25,0,37,42],[23,1,23,22],[23,23,23,27],[23,28,23,32],[23,33,23,37],[23,38,23,42],[14,23,14,27],[14,28,14,32],[14,33,14,37],[14,38,14,42],[2,44,2,49],[15,28,15,32],[15,33,15,37],[15,38,15,42],[16,33,16,37],[16,38,16,42],[4,0,4,12],[13,44,16,50],[17,23,17,27],[17,28,17,32],[17,33,17,37],[17,1,17,22],[17,38,17,42],[7,0,12,0],[7,1,12,22],[7,23,8,37],[7,38,12,42],[9,23,9,32],[9,33,12,37],[10,23,12,27],[15,1,15,22],[15,23,15,27],[18,44,20,50],[20,23,20,27],[20,28,20,32],[20,33,20,37],[20,38,20,42],[18,38,18,42],[19,23,19,27],[19,28,19,32],[19,33,19,37],[19,38,19,42],[18,23,18,27],[18,28,18,32],[18,33,18,37],[21,33,21,37],[21,38,21,42],[21,1,21,22],[5,0,6,42],[18,1,18,22],[19,1,19,22],[20,1,20,22],[21,23,21,27],[21,28,21,32],[10,28,12,32],[13,1,13,22],[13,23,13,27],[13,28,13,32],[13,33,13,37],[13,38,13,42],[14,1,14,22]]}
[{"$f":"nazwa","v":"DEMO"}]
[{"$f":"temat","v":"Sprawozdanie finansowe za rok 2023"}]
[null,null,null,null,null,null,null,null,null,null,null,null,null,null,null,null,null,null,null,null,null,null,null,null,null,null,null,null,null,null,null,null,null,null,null,null,null,null,null,null,null,null,null,null,"Powrót do parametrów"]
[]
[{"$f":"NumerNoty(Parametry!$B$50)","v":"Nota nie podlegająca prezentacji"}]
["Dane o odpisach aktualizujących wartość należności od jednostek pozostałych, w których jednostka posiada zaangażowanie w kapitale (wg tytułów należności)"]
[]
["Lp.","Wyszczególnienie",null,null,null,null,null,null,null,null,null,null,null,null,null,null,null,null,null,null,null,null,null,"Odpis aktualizujący wartość należności krótkoterminowych od jednostek POWIĄZANYCH",null,null,null,null,null,null,null,null,null,null,null,null,null,null,"Razem odpisy aktualizujące wartość należności\nod jednostek powiązanych"]
[]
[null,null,null,null,null,null,null,null,null,null,null,null,null,null,null,null,null,null,null,null,null,null,null,"z tytułu dostaw i usług",null,null,null,null,null,null,null,null,null,"inne"]
[null,null,null,null,null,null,null,null,null,null,null,null,null,null,null,null,null,null,null,null,null,null,null,"o okresie spłaty do 12 miesięcy",null,null,null,null,"o okresie spłaty powyżej 12 miesięcy"]
[]
[]
[" 1.",{"$f":"stanp","v":"Stan na dzień dd.mm.rrrr"},null,null,null,null,null,null,null,null,null,null,null,null,null,null,null,null,null,null,null,null,null,null,null,null,null,null,null,null,null,null,null,null,null,null,null,null,{"$f":"SUM(X14:AL14)","v":0}]
[" 2.","Zwiększenia",null,null,null,null,null,null,null,null,null,null,null,null,null,null,null,null,null,null,null,null,null,{"$f":"SUM(X16:AB17)","v":0},null,null,null,null,{"$f":"SUM(AC16:AG17)","v":0},null,null,null,null,{"$f":"SUM(AH16:AL17)","v":0},null,null,null,null,0]
[null,"dokonanie odpisu",null,null,null,null,null,null,null,null,null,null,null,null,null,null,null,null,null,null,null,null,null,null,null,null,null,null,null,null,null,null,null,null,null,null,null,null,0]
[null,"przesunięcia (zmiana klasyfikacji odpisów)",null,null,null,null,null,null,null,null,null,null,null,null,null,null,null,null,null,null,null,null,null,null,null,null,null,null,null,null,null,null,null,null,null,null,null,null,0]
[" 3.","Zmniejszenia",null,null,null,null,null,null,null,null,null,null,null,null,null,null,null,null,null,null,null,null,null,{"$f":"SUM(X19:AB23)","v":0},null,null,null,null,{"$f":"SUM(AC19:AG23)","v":0},null,null,null,null,{"$f":"SUM(AH19:AL23)","v":0},null,null,null,null,0]
[null,"zmniejszenie odpisów rozliczonych z pozostałymi przychodami operacyjnymi",null,null,null,null,null,null,null,null,null,null,null,null,null,null,null,null,null,null,null,null,null,null,null,null,null,null,null,null,null,null,null,null,null,null,null,null,0]
[null,"zmniejszenie odpisów rozliczonych z przychodami finansowymi",null,null,null,null,null,null,null,null,null,null,null,null,null,null,null,null,null,null,null,null,null,null,null,null,null,null,null,null,null,null,null,null,null,null,null,null,0]
[null,"wykorzystanie odpisów (z kontami zesp. 2)",null,null,null,null,null,null,null,null,null,null,null,null,null,null,null,null,null,null,null,null,null,null,null,null,null,null,null,null,null,null,null,null,null,null,null,null,0]
[null,"przesunięcia (zmiana klasyfikacji odpisów)",null,null,null,null,null,null,null,null,null,null,null,null,null,null,null,null,null,null,null,null,null,null,null,null,null,null,null,null,null,null,null,null,null,null,null,null,0]
[null,"inne",null,null,null,null,null,null,null,null,null,null,null,null,null,null,null,null,null,null,null,null,null,null,null,null,null,null,null,null,null,null,null,null,null,null,null,null,0]
[" 4.",{"$f":"stanb","v":"Stan na dzień dd.mm.rrrr"},null,null,null,null,null,null,null,null,null,null,null,null,null,null,null,null,null,null,null,null,null,{"$f":"X14+X15-X18","v":0},null,null,null,null,{"$f":"AC14+AC15-AC18","v":0},null,null,null,null,{"$f":"AH14+AH15-AH18","v":0},null,null,null,null,{"$f":"AM14+AM15-AM18","v":0}]
[]
[]
[]
[]
[]
[]
[]
[null,null,null,null,null,null,null,null,null,null,null,null,null,null,null,null,null,null,null,null,null,null,null,null,null,null,null,null,null,null,null,null,null,null,null,null,null,null,null,null,null,null,null,null,"Miejsce na dodatkowy opis"]

{"sheet":"Odpisy_akt_należ_krót_j_poz","index":34,"n_rows":30,"n_cols":45,"rows_kept":30,"cut":false,"hidden":true,"merged":[[2,44,2,49],[28,0,28,42],[29,0,36,42],[12,44,15,50],[6,38,14,42],[17,44,19,50],[17,1,17,12],[27,1,27,12],[25,33,25,37],[27,38,27,42],[27,18,27,22],[27,23,27,27],[27,28,27,32],[27,33,27,37],[26,33,26,37],[25,1,25,12],[5,0,5,42],[4,0,4,12],[15,38,15,42],[15,33,15,37],[6,0,14,0],[6,1,14,12],[15,1,15,12],[7,23,14,27],[6,13,6,37],[11,18,14,22],[15,18,15,22],[15,23,15,27],[26,1,26,12],[27,13,27,17],[26,28,26,32],[25,13,25,17],[26,38,26,42],[26,13,26,17],[20,38,21,42],[26,18,26,22],[25,18,25,22],[25,28,25,32],[25,23,25,27],[25,38,25,42],[24,38,24,42],[22,38,23,42],[24,28,24,32],[24,18,24,22],[22,18,23,22],[22,28,23,32],[20,23,21,27],[22,23,23,27],[26,23,26,27],[24,23,24,27],[18,38,18,42],[19,33,19,37],[18,33,18,37],[17,23,17,27],[16,33,16,37],[17,33,17,37],[19,38,19,42],[18,28,18,32],[18,23,18,27],[19,23,19,27],[16,38,16,42],[17,38,17,42],[17,28,17,32],[16,28,16,32],[16,23,16,27],[22,13,23,17],[20,0,21,0],[24,1,24,12],[24,13,24,17],[22,1,23,12],[22,0,23,0],[20,1,21,12],[20,28,21,32],[7,28,14,32],[15,28,15,32],[18,1,18,12],[20,13,21,17],[16,1,16,12],[16,13,16,17],[19,1,19,12],[20,33,21,37],[19,28,19,32],[7,33,14,37],[20,18,21,22],[24,33,24,37],[7,13,10,22],[17,13,17,17],[16,18,16,22],[18,13,18,17],[19,18,19,22],[22,33,23,37],[15,13,15,17],[19,13,19,17],[17,18,17,22],[18,18,18,22],[11,13,14,17]]}
[{"$f":"nazwa","v":"DEMO"}]
[{"$f":"temat","v":"Sprawozdanie finansowe za rok 2023"}]
[null,null,null,null,null,null,null,null,null,null,null,null,null,null,null,null,null,null,null,null,null,null,null,null,null,null,null,null,null,null,null,null,null,null,null,null,null,null,null,null,null,null,null,null,"Powrót do parametrów"]
[]
[{"$f":"NumerNoty(Parametry!$B$51)","v":"Nota nie podlegająca prezentacji"}]
["Dane o odpisach aktualizujących wartość należności krótkoterminowych od jednostek pozostałych (wg tytułów należności)"]
["Lp.","Wyszczególnienie",null,null,null,null,null,null,null,null,null,null,null,"Odpis na należności od jednostek  POZOSTAŁYCH ",null,null,null,null,null,null,null,null,null,null,null,null,null,null,null,null,null,null,null,null,null,null,null,null,"Razem odpisy aktualizujące wartość należności od pozostałych jednostek\n"]
[null,null,null,null,null,null,null,null,null,null,null,null,null,"z tytułu dostaw i usług",null,null,null,null,null,null,null,null,null,"z tytułu podatków, dotacji, ceł, ubezpieczeń społecznych i zdrowotnych, oraz innych świadczeń",null,null,null,null,"inne",null,null,null,null,"dochodzone na drodze sądowej"]
[]
[]
[]
[null,null,null,null,null,null,null,null,null,null,null,null,null,"o okresie spłaty do 12 miesięcy",null,null,null,null,"o okresie spłaty powyżej 12 miesięcy"]
[]
[]
[]
[" 1.",{"$f":"stanp","v":"Stan na dzień dd.mm.rrrr"},null,null,null,null,null,null,null,null,null,null,null,null,null,null,null,null,null,null,null,null,null,null,null,null,null,null,null,null,null,null,null,null,null,null,null,null,{"$f":"SUM(N16:AL16)","v":0}]
[" 2.","Zwiększenia",null,null,null,null,null,null,null,null,null,null,null,{"$f":"SUM(N18:R19)","v":0},null,null,null,null,{"$f":"SUM(S18:W19)","v":0},null,null,null,null,{"$f":"SUM(X18:AB19)","v":0},null,null,null,null,{"$f":"SUM(AC18:AG19)","v":0},null,null,null,null,{"$f":"SUM(AH18:AL19)","v":0},null,null,null,null,0]
[null,"dokonanie odpisu",null,null,null,null,null,null,null,null,null,null,null,null,null,null,null,null,null,null,null,null,null,null,null,null,null,null,null,null,null,null,null,null,null,null,null,null,0]
[null,"przesunięcia (zmiana klasyfikacji odpisów)",null,null,null,null,null,null,null,null,null,null,null,null,null,null,null,null,null,null,null,null,null,null,null,null,null,null,null,null,null,null,null,null,null,null,null,null,0]
[" 3.","Zmniejszenia",null,null,null,null,null,null,null,null,null,null,null,{"$f":"SUM(N21:R27)","v":0},null,null,null,null,{"$f":"SUM(S21:W27)","v":0},null,null,null,null,{"$f":"SUM(X21:AB27)","v":0},null,null,null,null,{"$f":"SUM(AC21:AG27)","v":0},null,null,null,null,{"$f":"SUM(AH21:AL27)","v":0},null,null,null,null,0]
[null,"zmniejszenie odpisów rozliczonych z pozostałymi przychodami operacyjnymi",null,null,null,null,null,null,null,null,null,null,null,null,null,null,null,null,null,null,null,null,null,null,null,null,null,null,null,null,null,null,null,null,null,null,null,null,0]
[]
[null,"zmniejszenie odpisów rozliczonych z przychodami finansowymi",null,null,null,null,null,null,null,null,null,null,null,null,null,null,null,null,null,null,null,null,null,null,null,null,null,null,null,null,null,null,null,null,null,null,null,null,0]
[]
[null,"wykorzystanie odpisów  (z kontami zesp. 2)",null,null,null,null,null,null,null,null,null,null,null,null,null,null,null,null,null,null,null,null,null,null,null,null,null,null,null,null,null,null,null,null,null,null,null,null,0]
[null,"przesunięcia (zmiana klasyfikacji odpisów)",null,null,null,null,null,null,null,null,null,null,null,null,null,null,null,null,null,null,null,null,null,null,null,null,null,null,null,null,null,null,null,null,null,null,null,null,0]
[null,"inne",null,null,null,null,null,null,null,null,null,null,null,null,null,null,null,null,null,null,null,null,null,null,null,null,null,null,null,null,null,null,null,null,null,null,null,null,0]
[" 4.",{"$f":"stanb","v":"Stan na dzień dd.mm.rrrr"},null,null,null,null,null,null,null,null,null,null,null,{"$f":"N16+N17-N20","v":0},null,null,null,null,{"$f":"S16+S17-S20","v":0},null,null,null,null,{"$f":"X16+X17-X20","v":0},null,null,null,null,{"$f":"AC16+AC17-AC20","v":0},null,null,null,null,{"$f":"AH16+AH17-AH20","v":0},null,null,null,null,{"$f":"AM16+AM17-AM20","v":0}]
[]
[null,null,null,null,null,null,null,null,null,null,null,null,null,null,null,null,null,null,null,null,null,null,null,null,null,null,null,null,null,null,null,null,null,null,null,null,null,null,null,null,null,null,null,null,"Miejsce na dodatkowy opis"]

{"sheet":"Inwest_krótk","index":35,"n_rows":43,"n_cols":45,"rows_kept":43,"cut":false,"hidden":true,"merged":[[29,0,29,42],[30,0,36,42],[39,1,39,12],[40,28,40,32],[40,33,40,37],[40,38,40,42],[41,28,41,32],[41,33,41,37],[41,38,41,42],[42,28,42,32],[42,33,42,37],[42,38,42,42],[40,1,40,12],[42,1,42,12],[41,1,41,12],[40,13,40,17],[40,18,40,22],[40,23,40,27],[41,13,41,17],[41,18,41,22],[41,23,41,27],[42,13,42,17],[42,18,42,22],[42,23,42,27],[21,33,21,37],[22,33,22,37],[23,33,23,37],[21,38,21,42],[22,38,22,42],[7,33,9,37],[19,33,19,37],[20,33,20,37],[19,38,19,42],[20,38,20,42],[14,38,14,42],[10,33,10,37],[14,33,14,37],[17,33,17,37],[16,38,16,42],[15,38,15,42],[27,38,27,42],[22,23,22,27],[23,23,23,27],[24,23,24,27],[28,1,28,12],[28,13,28,17],[27,13,27,17],[24,13,24,17],[23,13,23,17],[22,1,22,12],[24,28,24,32],[27,1,27,12],[27,33,27,37],[22,28,22,32],[23,28,23,32],[27,18,27,22],[27,28,27,32],[24,33,24,37],[28,38,28,42],[28,33,28,37],[23,38,23,42],[24,38,24,42],[24,18,24,22],[22,13,22,17],[22,18,22,22],[23,18,23,22],[21,18,21,22],[24,1,24,12],[23,1,23,12],[28,28,28,32],[28,18,28,22],[21,28,21,32],[28,23,28,27],[27,23,27,27],[21,1,21,12],[21,23,21,27],[21,13,21,17],[6,28,6,42],[10,28,10,32],[11,28,11,32],[7,28,9,32],[12,44,15,50],[7,23,9,27],[14,23,14,27],[11,38,11,42],[11,33,11,37],[14,28,14,32],[15,28,15,32],[13,33,13,37],[12,33,12,37],[7,38,9,42],[10,38,10,42],[15,33,15,37],[6,13,6,27],[7,18,9,22],[5,0,5,42],[7,13,9,17],[12,1,12,12],[6,1,9,12],[2,44,2,49],[20,1,20,12],[18,1,18,12],[10,1,10,12],[13,13,13,17],[13,28,13,32],[19,28,19,32],[12,28,12,32],[13,18,13,22],[16,28,16,32],[20,13,20,17],[19,13,19,17],[18,18,18,22],[16,18,16,22],[12,18,12,22],[15,23,15,27],[19,18,19,22],[20,18,20,22],[17,18,17,22],[17,23,17,27],[17,28,17,32],[19,23,19,27],[20,23,20,27],[20,28,20,32],[14,1,14,12],[17,44,20,50],[12,38,12,42],[13,38,13,42],[10,23,10,27],[11,23,11,27],[12,23,12,27],[13,23,13,27],[17,38,17,42],[18,38,18,42],[16,33,16,37],[18,33,18,37],[17,13,17,17],[17,1,17,12],[13,1,13,12],[11,13,11,17],[14,13,14,17],[19,1,19,12],[12,13,12,17],[25,0,26,0],[25,1,26,12],[25,13,26,17],[25,18,26,22],[25,23,26,27],[25,28,26,32],[25,33,26,37],[25,38,26,42],[4,0,4,9],[10,18,10,22],[11,18,11,22],[16,13,16,17],[16,23,16,27],[18,28,18,32],[18,23,18,27],[6,0,9,0],[15,1,15,12],[15,13,15,17],[18,13,18,17],[16,1,16,12],[14,18,14,22],[15,18,15,22],[11,1,11,12],[10,13,10,17]]}
[{"$f":"nazwa","v":"DEMO"}]
[{"$f":"temat","v":"Sprawozdanie finansowe za rok 2023"}]
[null,null,null,null,null,null,null,null,null,null,null,null,null,null,null,null,null,null,null,null,null,null,null,null,null,null,null,null,null,null,null,null,null,null,null,null,null,null,null,null,null,null,null,null,"Powrót do parametrów"]
[]
[{"$f":"NumerNoty(Parametry!$B$52)","v":"Nota nie podlegająca prezentacji"}]
["Inwestycje krótkoterminowe "]
["Lp.","Wyszczególnienie",null,null,null,null,null,null,null,null,null,null,null,{"$f":"stanb","v":"Stan na dzień dd.mm.rrrr"},null,null,null,null,null,null,null,null,null,null,null,null,null,null,{"$f":"stanp","v":"Stan na dzień dd.mm.rrrr"}]
[null,null,null,null,null,null,null,null,null,null,null,null,null,"Wartość brutto",null,null,null,null,"Wysokość odpisów aktualizujących",null,null,null,null,"Wartość bilansowa po skorygowaniu o odpis aktualizujący",null,null,null,null,"Wartość brutto",null,null,null,null,"Wysokość odpisów aktualizujących",null,null,null,null,"Wartość bilansowa po skorygowaniu o odpis aktualizujący"]
[]
[]
[null,"Inwestycje krótkoterminowe",null,null,null,null,null,null,null,null,null,null,null,{"$f":"N12+N29","v":0},null,null,null,null,{"$f":"S12+S29","v":0},null,null,null,null,{"$f":"X12+X29","v":0},null,null,null,null,{"$f":"AC12+AC29","v":0},null,null,null,null,{"$f":"AH12+AH29","v":0},null,null,null,null,{"$f":"AM12+AM29","v":0}]
[" 1.","Krótkoterminowe aktywa finansowe",null,null,null,null,null,null,null,null,null,null,null,{"$f":"N13+N18+N23","v":0},null,null,null,null,{"$f":"S13+S18+S23","v":0},null,null,null,null,{"$f":"X13+X18+X23","v":0},null,null,null,null,{"$f":"AC13+AC18+AC23","v":0},null,null,null,null,{"$f":"AH13+AH18+AH23","v":0},null,null,null,null,{"$f":"AM13+AM18+AM23","v":0}]
[null,"w jednostkach powiązanych",null,null,null,null,null,null,null,null,null,null,null,{"$f":"N14+N15+N16+N17","v":0},null,null,null,null,{"$f":"S14+S15+S16+S17","v":0},null,null,null,null,{"$f":"X14+X15+X16+X17","v":0},null,null,null,null,{"$f":"AC14+AC15+AC16+AC17","v":0},null,null,null,null,{"$f":"AH14+AH15+AH16+AH17","v":0},null,null,null,null,{"$f":"AM14+AM15+AM16+AM17","v":0}]
[null," - udziały lub akcje",null,null,null,null,null,null,null,null,null,null,null,null,null,null,null,null,null,null,null,null,null,{"$f":"N14-S14","v":0},null,null,null,null,null,null,null,null,null,null,null,null,null,null,{"$f":"AC14-AH14","v":0}]
[null," - inne papiery wartościowe",null,null,null,null,null,null,null,null,null,null,null,null,null,null,null,null,null,null,null,null,null,{"$f":"N15-S15","v":0},null,null,null,null,null,null,null,null,null,null,null,null,null,null,{"$f":"AC15-AH15","v":0}]
[null," - udzielone pożyczki",null,null,null,null,null,null,null,null,null,null,null,null,null,null,null,null,null,null,null,null,null,{"$f":"N16-S16","v":0},null,null,null,null,null,null,null,null,null,null,null,null,null,null,{"$f":"AC16-AH16","v":0}]
[null," - inne krótkoterminowe aktywa finansowe",null,null,null,null,null,null,null,null,null,null,null,null,null,null,null,null,null,null,null,null,null,{"$f":"N17-S17","v":0},null,null,null,null,null,null,null,null,null,null,null,null,null,null,{"$f":"AC17-AH17","v":0}]
[null,"w pozostałych jednostkach",null,null,null,null,null,null,null,null,null,null,null,{"$f":"N22+N21+N20+N19","v":0},null,null,null,null,{"$f":"S19+S20+S21+S22","v":0},null,null,null,null,{"$f":"X19+X20+X21+X22","v":0},null,null,null,null,{"$f":"AC19+AC20+AC21+AC22","v":0},null,null,null,null,{"$f":"AH19+AH20+AH21+AH22","v":0},null,null,null,null,{"$f":"AM19+AM20+AM21+AM22","v":0}]
[null," - udziały lub akcje",null,null,null,null,null,null,null,null,null,null,null,null,null,null,null,null,null,null,null,null,null,{"$f":"N19-S19","v":0},null,null,null,null,null,null,null,null,null,null,null,null,null,null,{"$f":"AC19-AH19","v":0}]
[null," - inne papiery wartościowe",null,null,null,null,null,null,null,null,null,null,null,null,null,null,null,null,null,null,null,null,null,{"$f":"N20-S20","v":0},null,null,null,null,null,null,null,null,null,null,null,null,null,null,{"$f":"AC20-AH20","v":0}]
[null," - udzielone pożyczki",null,null,null,null,null,null,null,null,null,null,null,null,null,null,null,null,null,null,null,null,null,{"$f":"N21-S21","v":0},null,null,null,null,null,null,null,null,null,null,null,null,null,null,{"$f":"AC21-AH21","v":0}]
[null," - inne krótkoterminowe aktywa finansowe",null,null,null,null,null,null,null,null,null,null,null,null,null,null,null,null,null,null,null,null,null,{"$f":"N22-S22","v":0},null,null,null,null,null,null,null,null,null,null,null,null,null,null,{"$f":"AC22-AH22","v":0}]
[null,"środki pieniężne i inne aktywa pieniężne",null,null,null,null,null,null,null,null,null,null,null,{"$f":"N24+N25+N28","v":0},null,null,null,null,{"$f":"S24+S25+S28","v":0},null,null,null,null,{"$f":"X24+X25+X28","v":0},null,null,null,null,{"$f":"AC24+AC25+AC28","v":0},null,null,null,null,{"$f":"AH24+AH25+AH28","v":0},null,null,null,null,{"$f":"AM24+AM25+AM28","v":0}]
[null," - środki pieniężne w kasie i na rachunkach",null,null,null,null,null,null,null,null,null,null,null,null,null,null,null,null,null,null,null,null,null,{"$f":"N24-S24","v":0},null,null,null,null,null,null,null,null,null,null,null,null,null,null,{"$f":"AC24-AH24","v":0}]
[null," - inne środki pieniężne",null,null,null,null,null,null,null,null,null,null,null,null,null,null,null,null,null,null,null,null,null,{"$f":"N25-S25","v":0},null,null,null,null,null,null,null,null,null,null,null,null,null,null,{"$f":"AC25-AH25","v":0}]
[null,"w tym środki pieniężne zgromadzone na rachunku VAT",null,null,null,null,null,null,null,null,null,null,null,null,null,null,null,null,null,null,null,null,null,{"$f":"N26-S26","v":0},null,null,null,null,null,null,null,null,null,null,null,null,null,null,{"$f":"AC26-AH26","v":0}]
[]
[null," - inne aktywa pieniężne",null,null,null,null,null,null,null,null,null,null,null,null,null,null,null,null,null,null,null,null,null,{"$f":"N28-S28","v":0},null,null,null,null,null,null,null,null,null,null,null,null,null,null,{"$f":"AC28-AH28","v":0}]
[" 2.","Inne inwestycje krótkoterminowe",null,null,null,null,null,null,null,null,null,null,null,null,null,null,null,null,null,null,null,null,null,{"$f":"N29-S29","v":0},null,null,null,null,null,null,null,null,null,null,null,null,null,null,{"$f":"AC29-AH29","v":0}]
[null,null,null,null,null,null,null,null,null,null,null,null,null,null,null,null,null,null,null,null,null,null,null,null,null,null,null,null,null,null,null,null,null,null,null,null,null,null,null,null,null,null,null,null,"Miejsce na dodatkowy opis"]
[]
[]
[]
[]
[]
[]
[]
[]
[]
[null,"Sprawdzenie:"]
[null,"Nota",null,null,null,null,null,null,null,null,null,null,null,null,null,null,null,null,"BZ",null,null,null,null,{"$f":"X11","v":0},null,null,null,null,null,null,null,null,null,"BO",null,null,null,null,{"$f":"AM11","v":0}]
[null,"Bilans",null,null,null,null,null,null,null,null,null,null,null,null,null,null,null,null,null,null,null,null,null,{"$f":"Bilans_AKTYWA!$S$94","v":0},null,null,null,null,null,null,null,null,null,null,null,null,null,null,{"$f":"Bilans_AKTYWA!$X$94","v":0}]
[null,"różnica",null,null,null,null,null,null,null,null,null,null,null,null,null,null,null,null,null,null,null,null,null,{"$f":"X41-X42","v":0},null,null,null,null,null,null,null,null,null,null,null,null,null,null,{"$f":"AM41-AM42","v":0}]

{"sheet":"Papiery_wart","index":36,"n_rows":49,"n_cols":45,"rows_kept":49,"cut":false,"hidden":true,"merged":[[26,0,26,42],[27,0,36,42],[47,26,47,37],[48,26,48,37],[46,38,46,42],[47,38,47,42],[48,38,48,42],[40,26,40,37],[41,26,41,37],[42,26,42,37],[43,26,43,37],[41,38,41,42],[42,38,42,42],[43,38,43,42],[46,26,46,37],[45,26,45,37],[15,33,15,37],[15,38,15,42],[14,13,14,17],[14,18,14,22],[14,23,14,27],[14,28,14,32],[14,33,14,37],[16,38,16,42],[17,13,17,17],[17,18,17,22],[17,23,17,27],[17,28,17,32],[17,33,17,37],[17,38,17,42],[16,13,16,17],[16,18,16,22],[16,23,16,27],[16,28,16,32],[16,33,16,37],[4,0,4,9],[5,0,5,42],[6,0,9,0],[6,18,9,22],[6,23,9,27],[6,28,9,32],[6,33,9,37],[6,38,9,42],[2,44,2,49],[10,38,10,42],[11,13,11,17],[11,18,11,22],[11,23,11,27],[11,28,11,32],[11,33,11,37],[11,38,11,42],[10,13,10,17],[10,18,10,22],[10,23,10,27],[10,28,10,32],[10,33,10,37],[12,38,12,42],[12,44,19,50],[13,13,13,17],[13,18,13,22],[13,23,13,27],[13,28,13,32],[13,33,13,37],[13,38,13,42],[12,13,12,17],[12,18,12,22],[12,23,12,27],[12,28,12,32],[12,33,12,37],[18,18,18,22],[18,23,18,27],[18,28,18,32],[18,33,18,37],[18,38,18,42],[19,38,19,42],[14,38,14,42],[15,13,15,17],[15,18,15,22],[15,23,15,27],[15,28,15,32],[20,13,20,17],[20,18,20,22],[20,23,20,27],[20,28,20,32],[20,33,20,37],[20,38,20,42],[19,13,19,17],[19,18,19,22],[19,23,19,27],[19,28,19,32],[19,33,19,37],[21,38,21,42],[21,44,24,50],[21,13,21,17],[21,18,21,22],[21,23,21,27],[21,28,21,32],[21,33,21,37],[24,38,24,42],[24,13,24,17],[24,18,24,22],[24,23,24,27],[24,28,24,32],[24,33,24,37],[22,33,22,37],[22,38,22,42],[23,18,23,22],[22,28,22,32],[25,18,25,22],[25,23,25,27],[25,28,25,32],[25,33,25,37],[25,38,25,42],[22,0,25,0],[22,1,25,12],[6,1,9,17],[10,1,13,12],[10,0,13,0],[25,13,25,17],[18,13,18,17],[23,13,23,17],[18,0,21,0],[18,1,21,12],[14,0,17,0],[14,1,17,12],[23,23,23,27],[23,28,23,32],[23,33,23,37],[23,38,23,42],[22,13,22,17],[22,18,22,22],[22,23,22,27]]}
[{"$f":"nazwa","v":"DEMO"}]
[{"$f":"temat","v":"Sprawozdanie finansowe za rok 2023"}]
[null,null,null,null,null,null,null,null,null,null,null,null,null,null,null,null,null,null,null,null,null,null,null,null,null,null,null,null,null,null,null,null,null,null,null,null,null,null,null,null,null,null,null,null,"Powrót do parametrów"]
[]
[{"$f":"NumerNoty( Parametry!$B$53)","v":"Nota nie podlegająca prezentacji"}]
["Papiery wartościowe lub prawa"]
["Lp.","Wyszczególnienie",null,null,null,null,null,null,null,null,null,null,null,null,null,null,null,null,"Świadectwa udziałowe",null,null,null,null,"Zamienne\ndłużne papiery\nwartościowe",null,null,null,null,"Warranty",null,null,null,null,"Opcje",null,null,null,null,"Razem"]
[]
[]
[]
[" 1.",{"$f":"stanp","v":"Stan na dzień dd.mm.rrrr"},null,null,null,null,null,null,null,null,null,null,null,"ilość ",null,null,null,null,null,null,null,null,null,null,null,null,null,null,null,null,null,null,null,null,null,null,null,null,{"$f":"SUM(S11:AL11)","v":0}]
[null,null,null,null,null,null,null,null,null,null,null,null,null,"wartość",null,null,null,null,{"$f":"SUM(S13:W14)","v":0},null,null,null,null,{"$f":"SUM(X13:AB14)","v":0},null,null,null,null,{"$f":"SUM(AC13:AG14)","v":0},null,null,null,null,{"$f":"SUM(AH13:AL14)","v":0},null,null,null,null,0]
[null,null,null,null,null,null,null,null,null,null,null,null,null,"- długoterminowe",null,null,null,null,null,null,null,null,null,null,null,null,null,null,null,null,null,null,null,null,null,null,null,null,0]
[null,null,null,null,null,null,null,null,null,null,null,null,null,"- krótkoterminowe",null,null,null,null,null,null,null,null,null,null,null,null,null,null,null,null,null,null,null,null,null,null,null,null,0]
[" 2.","Zwiększenia",null,null,null,null,null,null,null,null,null,null,null,"ilość ",null,null,null,null,null,null,null,null,null,null,null,null,null,null,null,null,null,null,null,null,null,null,null,null,0]
[null,null,null,null,null,null,null,null,null,null,null,null,null,"wartość",null,null,null,null,{"$f":"SUM(S17:W18)","v":0},null,null,null,null,{"$f":"SUM(X17:AB18)","v":0},null,null,null,null,{"$f":"SUM(AC17:AG18)","v":0},null,null,null,null,{"$f":"SUM(AH17:AL18)","v":0},null,null,null,null,0]
[null,null,null,null,null,null,null,null,null,null,null,null,null,"- długoterminowe",null,null,null,null,null,null,null,null,null,null,null,null,null,null,null,null,null,null,null,null,null,null,null,null,0]
[null,null,null,null,null,null,null,null,null,null,null,null,null,"- krótkoterminowe",null,null,null,null,null,null,null,null,null,null,null,null,null,null,null,null,null,null,null,null,null,null,null,null,0]
[" 3.","Zmniejszenia",null,null,null,null,null,null,null,null,null,null,null,"ilość ",null,null,null,null,null,null,null,null,null,null,null,null,null,null,null,null,null,null,null,null,null,null,null,null,0]
[null,null,null,null,null,null,null,null,null,null,null,null,null,"wartość",null,null,null,null,{"$f":"SUM(S21:W22)","v":0},null,null,null,null,{"$f":"SUM(X21:AB22)","v":0},null,null,null,null,{"$f":"SUM(AC21:AG22)","v":0},null,null,null,null,{"$f":"SUM(AH21:AL22)","v":0},null,null,null,null,0]
[null,null,null,null,null,null,null,null,null,null,null,null,null,"- długoterminowe",null,null,null,null,null,null,null,null,null,null,null,null,null,null,null,null,null,null,null,null,null,null,null,null,0]
[null,null,null,null,null,null,null,null,null,null,null,null,null,"- krótkoterminowe",null,null,null,null,null,null,null,null,null,null,null,null,null,null,null,null,null,null,null,null,null,null,null,null,0]
[" 4.",{"$f":"stanb","v":"Stan na dzień dd.mm.rrrr"},null,null,null,null,null,null,null,null,null,null,null,"ilość ",null,null,null,null,{"$f":"S11+S15-S19","v":0},null,null,null,null,{"$f":"X11+X15-X19","v":0},null,null,null,null,{"$f":"AC11+AC15-AC19","v":0},null,null,null,null,{"$f":"AH11+AH15-AH19","v":0},null,null,null,null,0]
[null,null,null,null,null,null,null,null,null,null,null,null,null,"wartość",null,null,null,null,{"$f":"SUM(S25:W26)","v":0},null,null,null,null,{"$f":"SUM(X25:AB26)","v":0},null,null,null,null,{"$f":"SUM(AC25:AG26)","v":0},null,null,null,null,{"$f":"SUM(AH25:AL26)","v":0},null,null,null,null,0]
[null,null,null,null,null,null,null,null,null,null,null,null,null,"- długoterminowe",null,null,null,null,{"$f":"S13+S17-S21","v":0},null,null,null,null,{"$f":"X13+X17-X21","v":0},null,null,null,null,{"$f":"AC13+AC17-AC21","v":0},null,null,null,null,{"$f":"AH13+AH17-AH21","v":0},null,null,null,null,0]
[null,null,null,null,null,null,null,null,null,null,null,null,null,"- krótkoterminowe",null,null,null,null,{"$f":"S14+S18-S22","v":0},null,null,null,null,{"$f":"X14+X18-X22","v":0},null,null,null,null,{"$f":"AC14+AC18-AC22","v":0},null,null,null,null,{"$f":"AH14+AH18-AH22","v":0},null,null,null,null,0]
[]
[null,null,null,null,null,null,null,null,null,null,null,null,null,null,null,null,null,null,null,null,null,null,null,null,null,null,null,null,null,null,null,null,null,null,null,null,null,null,null,null,null,null,null,null,"Miejsce na dodatkowy opis"]
[]
[]
[]
[]
[]
[]
[]
[]
[]
[]
[]
[]
[null,null,null,null,null,null,null,null,null,null,null,null,null,null,null,null,null,null,null,null,null,null,null,null,null,null,"Sprawdzenie BO"]
[null,null,null,null,null,null,null,null,null,null,null,null,null,null,null,null,null,null,null,null,null,null,null,null,null,null,"Nota",null,null,null,null,null,null,null,null,null,null,null,{"$f":"AM12","v":0}]
[null,null,null,null,null,null,null,null,null,null,null,null,null,null,null,null,null,null,null,null,null,null,null,null,null,null,"Bilans",null,null,null,null,null,null,null,null,null,null,null,{"$f":"Bilans_AKTYWA!X35+Bilans_AKTYWA!X41+Bilans_AKTYWA!X46+Bilans_AKTYWA!X98+Bilans_AKTYWA!X103","v":0}]
[null,null,null,null,null,null,null,null,null,null,null,null,null,null,null,null,null,null,null,null,null,null,null,null,null,null,"różnica",null,null,null,null,null,null,null,null,null,null,null,{"$f":"AM42-AM43","v":0}]
[]
[null,null,null,null,null,null,null,null,null,null,null,null,null,null,null,null,null,null,null,null,null,null,null,null,null,null,"Sprawdzenie BZ"]
[null,null,null,null,null,null,null,null,null,null,null,null,null,null,null,null,null,null,null,null,null,null,null,null,null,null,"Nota",null,null,null,null,null,null,null,null,null,null,null,{"$f":"AM24","v":0}]
[null,null,null,null,null,null,null,null,null,null,null,null,null,null,null,null,null,null,null,null,null,null,null,null,null,null,"Bilans",null,null,null,null,null,null,null,null,null,null,null,{"$f":"Bilans_AKTYWA!S35+Bilans_AKTYWA!S41+Bilans_AKTYWA!S46+Bilans_AKTYWA!S98+Bilans_AKTYWA!S103","v":0}]
[null,null,null,null,null,null,null,null,null,null,null,null,null,null,null,null,null,null,null,null,null,null,null,null,null,null,"różnica",null,null,null,null,null,null,null,null,null,null,null,{"$f":"AM47-AM48","v":0}]

{"sheet":"Kapitały","index":37,"n_rows":136,"n_cols":45,"rows_kept":136,"cut":false,"hidden":true,"merged":[[63,0,64,0],[63,14,63,37],[64,14,64,37],[63,1,63,13],[64,1,64,13],[63,38,63,42],[64,38,64,42],[66,32,66,37],[66,38,66,42],[2,44,2,49],[49,0,58,0],[59,0,60,0],[61,0,62,0],[131,32,131,37],[131,38,131,42],[133,32,133,37],[133,38,133,42],[116,32,116,37],[116,38,116,42],[117,32,117,37],[117,38,117,42],[120,32,120,37],[120,38,120,42],[121,32,121,37],[121,38,121,42],[122,32,122,37],[122,38,122,42],[81,32,81,37],[81,38,81,42],[111,32,111,37],[111,38,111,42],[112,32,112,37],[56,38,56,42],[112,38,112,42],[134,32,134,37],[134,38,134,42],[135,32,135,37],[135,38,135,42],[124,32,124,37],[124,38,124,42],[125,32,125,37],[125,38,125,42],[126,32,126,37],[126,38,126,42],[129,32,129,37],[129,38,129,42],[130,32,130,37],[130,38,130,42],[113,32,113,37],[113,38,113,42],[115,32,115,37],[115,38,115,42],[108,38,108,42],[106,38,106,42],[107,38,107,42],[99,38,99,42],[98,38,98,42],[106,32,106,37],[107,32,107,37],[108,32,108,37],[102,32,102,37],[103,38,103,42],[104,38,104,42],[103,32,103,37],[104,32,104,37],[98,32,98,37],[99,32,99,37],[102,38,102,42],[59,1,60,13],[61,1,62,13],[75,32,75,37],[76,32,76,37],[77,32,77,37],[77,38,77,42],[79,32,79,37],[80,32,80,37],[80,38,80,42],[59,14,59,37],[59,38,59,42],[60,38,60,42],[62,38,62,42],[75,38,75,42],[76,38,76,42],[79,38,79,42],[61,14,61,37],[61,38,61,42],[60,14,60,37],[62,14,62,37],[67,32,67,37],[67,38,67,42],[68,32,68,37],[68,38,68,42],[49,1,58,13],[49,14,49,37],[49,38,49,42],[50,15,50,37],[50,38,50,42],[51,15,51,37],[51,38,51,42],[52,15,52,37],[52,38,52,42],[53,15,53,37],[53,38,53,42],[54,15,54,37],[54,38,54,42],[55,15,55,37],[55,38,55,42],[57,15,57,37],[57,38,57,42],[58,14,58,37],[58,38,58,42],[56,15,56,37],[90,38,90,42],[97,38,97,42],[89,38,89,42],[84,38,84,42],[85,38,85,42],[86,38,86,42],[84,32,84,37],[85,32,85,37],[86,32,86,37],[89,32,89,37],[95,38,95,42],[93,32,93,37],[94,32,94,37],[95,32,95,37],[90,32,90,37],[93,38,93,42],[94,38,94,42],[97,32,97,37],[30,38,30,42],[29,14,29,37],[31,15,31,37],[29,38,29,42],[88,38,88,42],[88,32,88,37],[47,38,47,42],[45,15,45,37],[48,14,48,37],[46,15,46,37],[70,32,70,37],[70,38,70,42],[71,32,71,37],[71,38,71,42],[72,32,72,37],[72,38,72,42],[19,38,19,42],[17,1,28,13],[21,15,21,37],[4,0,4,9],[5,0,5,42],[6,1,6,37],[29,0,39,0],[6,38,6,42],[15,15,15,37],[15,38,15,42],[16,14,16,37],[16,38,16,42],[17,0,28,0],[14,38,14,42],[38,38,38,42],[29,1,39,13],[34,15,34,37],[39,14,39,37],[32,38,32,42],[33,38,33,42],[35,38,35,42],[32,15,32,37],[38,15,38,37],[31,38,31,42],[17,44,24,50],[26,38,26,42],[23,38,23,42],[24,38,24,42],[21,38,21,42],[22,38,22,42],[26,44,48,50],[43,38,43,42],[42,38,42,42],[44,38,44,42],[41,38,41,42],[45,38,45,42],[48,38,48,42],[46,38,46,42],[36,38,36,42],[34,38,34,42],[39,38,39,42],[37,38,37,42],[40,38,40,42],[20,38,20,42],[18,38,18,42],[28,38,28,42],[17,38,17,42],[27,38,27,42],[40,1,48,13],[17,14,17,37],[37,15,37,37],[42,15,42,37],[44,15,44,37],[41,15,41,37],[35,15,35,37],[36,15,36,37],[40,14,40,37],[43,15,43,37],[24,15,24,37],[18,15,18,37],[19,15,19,37],[25,15,25,37],[27,15,27,37],[33,15,33,37],[30,15,30,37],[47,15,47,37],[40,0,48,0],[25,38,25,42],[22,15,22,37],[23,15,23,37],[20,15,20,37],[28,14,28,37],[26,15,26,37],[7,0,16,0],[7,1,16,13],[7,14,7,37],[7,38,7,42],[8,15,8,37],[8,38,8,42],[9,15,9,37],[9,38,9,42],[10,15,10,37],[10,38,10,42],[11,15,11,37],[11,38,11,42],[12,15,12,37],[12,38,12,42],[13,15,13,37],[13,38,13,42],[14,15,14,37]]}
[{"$f":"nazwa","v":"DEMO"}]
[{"$f":"temat","v":"Sprawozdanie finansowe za rok 2023"}]
[null,null,null,null,null,null,null,null,null,null,null,null,null,null,null,null,null,null,null,null,null,null,null,null,null,null,null,null,null,null,null,null,null,null,null,null,null,null,null,null,null,null,null,null,"Powrót do parametrów"]
[]
[{"$f":"NumerNoty(Parametry!$B$54)","v":"Nota nie podlegająca prezentacji"}]
["Zmiany w stanie kapitałów /funduszy zapasowych i rezerwowych"]
["Lp.","Wyszczególnienie",null,null,null,null,null,null,null,null,null,null,null,null,null,null,null,null,null,null,null,null,null,null,null,null,null,null,null,null,null,null,null,null,null,null,null,null,"Wartość"]
[" 1.","Zmiany w stanie kapitału/funduszu podstawowego",null,null,null,null,null,null,null,null,null,null,null,null,{"$f":"stanp","v":"Stan na dzień dd.mm.rrrr"}]
[null,null,null,null,null,null,null,null,null,null,null,null,null,null,"a","zwiększenie (z tytułu)",null,null,null,null,null,null,null,null,null,null,null,null,null,null,null,null,null,null,null,null,null,null,{"$f":"SUM(AM10:AQ12)","v":0}]
[null,null,null,null,null,null,null,null,null,null,null,null,null,null,null,"- wydania udziałów /emisji akcji"]
[null,null,null,null,null,null,null,null,null,null,null,null,null,null,null,"- "]
[null,null,null,null,null,null,null,null,null,null,null,null,null,null,null,"- "]
[null,null,null,null,null,null,null,null,null,null,null,null,null,null,"b","zmniejszenie (z tytułu) ",null,null,null,null,null,null,null,null,null,null,null,null,null,null,null,null,null,null,null,null,null,null,{"$f":"SUM(AM14:AQ16)","v":0}]
[null,null,null,null,null,null,null,null,null,null,null,null,null,null,null,"- umorzenia udziałów / akcji"]
[null,null,null,null,null,null,null,null,null,null,null,null,null,null,null,"- "]
[null,null,null,null,null,null,null,null,null,null,null,null,null,null,null,"- "]
[null,null,null,null,null,null,null,null,null,null,null,null,null,null,{"$f":"stanb","v":"Stan na dzień dd.mm.rrrr"},null,null,null,null,null,null,null,null,null,null,null,null,null,null,null,null,null,null,null,null,null,null,null,{"$f":"AM8+AM9-AM13","v":0}]
[" 2.","Zmiany w stanie kapitału/funduszu zapasowego",null,null,null,null,null,null,null,null,null,null,null,null,{"$f":"stanp","v":"Stan na dzień dd.mm.rrrr"}]
[null,null,null,null,null,null,null,null,null,null,null,null,null,null,"a","zwiększenie (z tytułu)",null,null,null,null,null,null,null,null,null,null,null,null,null,null,null,null,null,null,null,null,null,null,{"$f":"SUM(AM20:AQ24)","v":0}]
[null,null,null,null,null,null,null,null,null,null,null,null,null,null,null,"- wydania udziałów / emisji akcji powyżej wartości nominalnej"]
[null,null,null,null,null,null,null,null,null,null,null,null,null,null,null,"- z podziału zysku (ustawowo)"]
[null,null,null,null,null,null,null,null,null,null,null,null,null,null,null,"- z podziału zysku (ponad wymaganą ustawowo minimalną wartość)"]
[null,null,null,null,null,null,null,null,null,null,null,null,null,null,null,"- z kapitału z aktualizacji wyceny"]
[null,null,null,null,null,null,null,null,null,null,null,null,null,null,null,"- "]
[null,null,null,null,null,null,null,null,null,null,null,null,null,null,"b","zmniejszenie (z tytułu) ",null,null,null,null,null,null,null,null,null,null,null,null,null,null,null,null,null,null,null,null,null,null,{"$f":"SUM(AM26:AQ28)","v":0}]
[null,null,null,null,null,null,null,null,null,null,null,null,null,null,null,"- pokrycia straty"]
[null,null,null,null,null,null,null,null,null,null,null,null,null,null,null,"- "]
[null,null,null,null,null,null,null,null,null,null,null,null,null,null,null,"- "]
[null,null,null,null,null,null,null,null,null,null,null,null,null,null,{"$f":"stanb","v":"Stan na dzień dd.mm.rrrr"},null,null,null,null,null,null,null,null,null,null,null,null,null,null,null,null,null,null,null,null,null,null,null,{"$f":"AM18+AM19-AM25","v":0}]
[" 3.","Zmiany w stanie kapitału (funduszu) z aktualizacji wyceny",null,null,null,null,null,null,null,null,null,null,null,null,{"$f":"stanp","v":"Stan na dzień dd.mm.rrrr"}]
[null,null,null,null,null,null,null,null,null,null,null,null,null,null,"a","zwiększenie (z tytułu)",null,null,null,null,null,null,null,null,null,null,null,null,null,null,null,null,null,null,null,null,null,null,{"$f":"SUM(AM32:AQ34)","v":0}]
[null,null,null,null,null,null,null,null,null,null,null,null,null,null,null,"- przeszacowanie inwestycji zaliczonych do aktywów trwałych"]
[null,null,null,null,null,null,null,null,null,null,null,null,null,null,null,"- "]
[null,null,null,null,null,null,null,null,null,null,null,null,null,null,null,"- "]
[null,null,null,null,null,null,null,null,null,null,null,null,null,null,"b","zmniejszenie (z tytułu) ",null,null,null,null,null,null,null,null,null,null,null,null,null,null,null,null,null,null,null,null,null,null,{"$f":"SUM(AM36:AQ39)","v":0}]
[null,null,null,null,null,null,null,null,null,null,null,null,null,null,null,"- przeszacowanie inwestycji zaliczonych do aktywów trwałych"]
[null,null,null,null,null,null,null,null,null,null,null,null,null,null,null,"- zbycie środków trwałych podlegających aktualizacji"]
[null,null,null,null,null,null,null,null,null,null,null,null,null,null,null,"- "]
[null,null,null,null,null,null,null,null,null,null,null,null,null,null,null,"- "]
[null,null,null,null,null,null,null,null,null,null,null,null,null,null,{"$f":"stanb","v":"Stan na dzień dd.mm.rrrr"},null,null,null,null,null,null,null,null,null,null,null,null,null,null,null,null,null,null,null,null,null,null,null,{"$f":"AM30+AM31-AM35","v":0}]
[" 4.","Zmiany w stanie pozostałych  kapitałów (funduszy) rezerwowych",null,null,null,null,null,null,null,null,null,null,null,null,{"$f":"stanp","v":"Stan na dzień dd.mm.rrrr"}]
[null,null,null,null,null,null,null,null,null,null,null,null,null,null,"a","zwiększenie (z tytułu)",null,null,null,null,null,null,null,null,null,null,null,null,null,null,null,null,null,null,null,null,null,null,{"$f":"SUM(AM43:AQ45)","v":0}]
[null,null,null,null,null,null,null,null,null,null,null,null,null,null,null,"- wniesienie dopłat wspólników"]
[null,null,null,null,null,null,null,null,null,null,null,null,null,null,null,"- kapitał rezerwowy na pokrycie udziałów (akcji) własnych"]
[null,null,null,null,null,null,null,null,null,null,null,null,null,null,null,"- "]
[null,null,null,null,null,null,null,null,null,null,null,null,null,null,"b","zmniejszenie (z tytułu) ",null,null,null,null,null,null,null,null,null,null,null,null,null,null,null,null,null,null,null,null,null,null,{"$f":"SUM(AM47:AQ48)","v":0}]
[null,null,null,null,null,null,null,null,null,null,null,null,null,null,null,"- "]
[null,null,null,null,null,null,null,null,null,null,null,null,null,null,null,"- "]
[null,null,null,null,null,null,null,null,null,null,null,null,null,null,{"$f":"stanb","v":"Stan na dzień dd.mm.rrrr"},null,null,null,null,null,null,null,null,null,null,null,null,null,null,null,null,null,null,null,null,null,null,null,{"$f":"AM41+AM42-AM46","v":0}]
[" 5.","Zysk / Strata z lat ubiegłych",null,null,null,null,null,null,null,null,null,null,null,null,{"$f":"stanp","v":"Stan na dzień dd.mm.rrrr"}]
[null,null,null,null,null,null,null,null,null,null,null,null,null,null,"a","zwiększenie (z tytułu)",null,null,null,null,null,null,null,null,null,null,null,null,null,null,null,null,null,null,null,null,null,null,{"$f":"SUM(AM52:AQ54)","v":0}]
[null,null,null,null,null,null,null,null,null,null,null,null,null,null,null,"- przeniesienie niepodzielonego wyniku z roku ubiegłego"]
[null,null,null,null,null,null,null,null,null,null,null,null,null,null,null,"- "]
[null,null,null,null,null,null,null,null,null,null,null,null,null,null,null,"- "]
[null,null,null,null,null,null,null,null,null,null,null,null,null,null,"b","zmniejszenie (z tytułu) ",null,null,null,null,null,null,null,null,null,null,null,null,null,null,null,null,null,null,null,null,null,null,{"$f":"SUM(AM56:AQ58)","v":0}]
[null,null,null,null,null,null,null,null,null,null,null,null,null,null,null,"- przeznaczenie na kapitał zapasowy"]
[null,null,null,null,null,null,null,null,null,null,null,null,null,null,null,"- przeznaczenie na wypłatę dywidendy"]
[null,null,null,null,null,null,null,null,null,null,null,null,null,null,null,"- "]
[null,null,null,null,null,null,null,null,null,null,null,null,null,null,{"$f":"stanb","v":"Stan na dzień dd.mm.rrrr"},null,null,null,null,null,null,null,null,null,null,null,null,null,null,null,null,null,null,null,null,null,null,null,{"$f":"AM50+AM51-AM55","v":0}]
[" 6.","Zysk / Strata netto ",null,null,null,null,null,null,null,null,null,null,null,null,{"$f":"stanp","v":"Stan na dzień dd.mm.rrrr"},null,null,null,null,null,null,null,null,null,null,null,null,null,null,null,null,null,null,null,null,null,null,null,{"$f":"IF(Parametry!$P$13=1,Rachunek_ZiS_porównawczy!$X$61,Rachunek_ZiS_kalkulacyjny!$X$56)","v":0}]
[null,null,null,null,null,null,null,null,null,null,null,null,null,null,{"$f":"stanb","v":"Stan na dzień dd.mm.rrrr"},null,null,null,null,null,null,null,null,null,null,null,null,null,null,null,null,null,null,null,null,null,null,null,{"$f":"IF(Parametry!$P$13=1,Rachunek_ZiS_porównawczy!$S$61,Rachunek_ZiS_kalkulacyjny!$S$56)","v":0}]
[" 7.","Odpisy z zysku netto w ciągu roku obrotowego (wielkość ujemna)",null,null,null,null,null,null,null,null,null,null,null,null,{"$f":"stanp","v":"Stan na dzień dd.mm.rrrr"}]
[null,null,null,null,null,null,null,null,null,null,null,null,null,null,{"$f":"stanb","v":"Stan na dzień dd.mm.rrrr"}]
["8.","Kapitał własny na BO",null,null,null,null,null,null,null,null,null,null,null,null,{"$f":"stanp","v":"Stan na dzień dd.mm.rrrr"},null,null,null,null,null,null,null,null,null,null,null,null,null,null,null,null,null,null,null,null,null,null,null,{"$f":"AM8+AM18+AM30+AM41+AM50+AM60+AM62","v":0}]
[null,"Kapitał własny na BZ",null,null,null,null,null,null,null,null,null,null,null,null,{"$f":"stanb","v":"Stan na dzień dd.mm.rrrr"},null,null,null,null,null,null,null,null,null,null,null,null,null,null,null,null,null,null,null,null,null,null,null,{"$f":"AM17+AM29+AM40+AM49+AM59+AM61+AM63","v":0}]
[]
[null,"Sprawdzenie - Kapitał własny",null,null,null,null,null,null,null,null,null,null,null,null,null,null,null,null,null,null,null,null,null,null,null,null,null,null,null,null,"BO",null,"Nota",null,null,null,null,null,{"$f":"AM64","v":0}]
[null,null,null,null,null,null,null,null,null,null,null,null,null,null,null,null,null,null,null,null,null,null,null,null,null,null,null,null,null,null,null,null,"Bilans",null,null,null,null,null,{"$f":"Bilans_PASYWA!$X$9","v":0}]
[null,null,null,null,null,null,null,null,null,null,null,null,null,null,null,null,null,null,null,null,null,null,null,null,null,null,null,null,null,null,null,null,"różnica",null,null,null,null,null,{"$f":"AM67-AM68","v":0}]
[]
[null,null,null,null,null,null,null,null,null,null,null,null,null,null,null,null,null,null,null,null,null,null,null,null,null,null,null,null,null,null,"BZ",null,"Nota",null,null,null,null,null,{"$f":"AM65","v":0}]
[null,null,null,null,null,null,null,null,null,null,null,null,null,null,null,null,null,null,null,null,null,null,null,null,null,null,null,null,null,null,null,null,"Bilans",null,null,null,null,null,{"$f":"Bilans_PASYWA!$S$9","v":0}]
[null,null,null,null,null,null,null,null,null,null,null,null,null,null,null,null,null,null,null,null,null,null,null,null,null,null,null,null,null,null,null,null,"różnica",null,null,null,null,null,{"$f":"AM71-AM72","v":0}]
[]
[null,"Sprawdzenie - Zmiany w stanie kapitału/funduszu podstawowego"]
[null,null,null,null,null,null,null,null,null,null,null,null,null,null,null,null,null,null,null,null,null,null,null,null,null,null,null,null,null,null,"BO",null,"Nota",null,null,null,null,null,{"$f":"AM8","v":0}]
[null,null,null,null,null,null,null,null,null,null,null,null,null,null,null,null,null,null,null,null,null,null,null,null,null,null,null,null,null,null,null,null,"Bilans",null,null,null,null,null,{"$f":"Bilans_PASYWA!$X$10","v":0}]
[null,null,null,null,null,null,null,null,null,null,null,null,null,null,null,null,null,null,null,null,null,null,null,null,null,null,null,null,null,null,null,null,"różnica",null,null,null,null,null,{"$f":"AM76-AM77","v":0}]
[]
[null,null,null,null,null,null,null,null,null,null,null,null,null,null,null,null,null,null,null,null,null,null,null,null,null,null,null,null,null,null,"BZ",null,"Nota",null,null,null,null,null,{"$f":"AM17","v":0}]
[null,null,null,null,null,null,null,null,null,null,null,null,null,null,null,null,null,null,null,null,null,null,null,null,null,null,null,null,null,null,null,null,"Bilans",null,null,null,null,null,{"$f":"Bilans_PASYWA!$S$10","v":0}]
[null,null,null,null,null,null,null,null,null,null,null,null,null,null,null,null,null,null,null,null,null,null,null,null,null,null,null,null,null,null,null,null,"różnica",null,null,null,null,null,{"$f":"AM80-AM81","v":0}]
[]
[null,"Sprawdzenie - Zmiany w stanie kapitału/funduszu zapasowego"]
[null,null,null,null,null,null,null,null,null,null,null,null,null,null,null,null,null,null,null,null,null,null,null,null,null,null,null,null,null,null,"BO",null,"Nota",null,null,null,null,null,{"$f":"AM18","v":0}]
[null,null,null,null,null,null,null,null,null,null,null,null,null,null,null,null,null,null,null,null,null,null,null,null,null,null,null,null,null,null,null,null,"Bilans",null,null,null,null,null,{"$f":"Bilans_PASYWA!$X$11","v":0}]
[null,null,null,null,null,null,null,null,null,null,null,null,null,null,null,null,null,null,null,null,null,null,null,null,null,null,null,null,null,null,null,null,"różnica",null,null,null,null,null,{"$f":"AM85-AM86","v":0}]
[]
[null,null,null,null,null,null,null,null,null,null,null,null,null,null,null,null,null,null,null,null,null,null,null,null,null,null,null,null,null,null,"BZ",null,"Nota",null,null,null,null,null,{"$f":"AM29","v":0}]
[null,null,null,null,null,null,null,null,null,null,null,null,null,null,null,null,null,null,null,null,null,null,null,null,null,null,null,null,null,null,null,null,"Bilans",null,null,null,null,null,{"$f":"Bilans_PASYWA!$S$11","v":0}]
[null,null,null,null,null,null,null,null,null,null,null,null,null,null,null,null,null,null,null,null,null,null,null,null,null,null,null,null,null,null,null,null,"różnica",null,null,null,null,null,{"$f":"AM89-AM90","v":0}]
[]
[null,"Sprawdzenie - Zmiany w stanie kapitału (funduszu) z aktualizacji wyceny "]
[null,null,null,null,null,null,null,null,null,null,null,null,null,null,null,null,null,null,null,null,null,null,null,null,null,null,null,null,null,null,"BO",null,"Nota",null,null,null,null,null,{"$f":"AM30","v":0}]
[null,null,null,null,null,null,null,null,null,null,null,null,null,null,null,null,null,null,null,null,null,null,null,null,null,null,null,null,null,null,null,null,"Bilans",null,null,null,null,null,{"$f":"Bilans_PASYWA!$X$15","v":0}]
[null,null,null,null,null,null,null,null,null,null,null,null,null,null,null,null,null,null,null,null,null,null,null,null,null,null,null,null,null,null,null,null,"różnica",null,null,null,null,null,{"$f":"AM94-AM95","v":0}]
[]
[null,null,null,null,null,null,null,null,null,null,null,null,null,null,null,null,null,null,null,null,null,null,null,null,null,null,null,null,null,null,"BZ",null,"Nota",null,null,null,null,null,{"$f":"AM40","v":0}]
[null,null,null,null,null,null,null,null,null,null,null,null,null,null,null,null,null,null,null,null,null,null,null,null,null,null,null,null,null,null,null,null,"Bilans",null,null,null,null,null,{"$f":"Bilans_PASYWA!$S$15","v":0}]
[null,null,null,null,null,null,null,null,null,null,null,null,null,null,null,null,null,null,null,null,null,null,null,null,null,null,null,null,null,null,null,null,"różnica",null,null,null,null,null,{"$f":"AM98-AM99","v":0}]
[]
[null,"Sprawdzenie - Zmiany w stanie pozostałych  kapitałów (funduszy) rezerwowych"]
[null,null,null,null,null,null,null,null,null,null,null,null,null,null,null,null,null,null,null,null,null,null,null,null,null,null,null,null,null,null,"BO",null,"Nota",null,null,null,null,null,{"$f":"AM41","v":0}]
[null,null,null,null,null,null,null,null,null,null,null,null,null,null,null,null,null,null,null,null,null,null,null,null,null,null,null,null,null,null,null,null,"Bilans",null,null,null,null,null,{"$f":"Bilans_PASYWA!$X$17","v":0}]
[null,null,null,null,null,null,null,null,null,null,null,null,null,null,null,null,null,null,null,null,null,null,null,null,null,null,null,null,null,null,null,null,"różnica",null,null,null,null,null,{"$f":"AM103-AM104","v":0}]
[]
[null,null,null,null,null,null,null,null,null,null,null,null,null,null,null,null,null,null,null,null,null,null,null,null,null,null,null,null,null,null,"BZ",null,"Nota",null,null,null,null,null,{"$f":"AM49","v":0}]
[null,null,null,null,null,null,null,null,null,null,null,null,null,null,null,null,null,null,null,null,null,null,null,null,null,null,null,null,null,null,null,null,"Bilans",null,null,null,null,null,{"$f":"Bilans_PASYWA!$S$17","v":0}]
[null,null,null,null,null,null,null,null,null,null,null,null,null,null,null,null,null,null,null,null,null,null,null,null,null,null,null,null,null,null,null,null,"różnica",null,null,null,null,null,{"$f":"AM107-AM108","v":0}]
[]
[null,"Sprawdzenie - Zmiany w stanie pozycji Zysk / Strata z lat ubiegłych"]
[null,null,null,null,null,null,null,null,null,null,null,null,null,null,null,null,null,null,null,null,null,null,null,null,null,null,null,null,null,null,"BO",null,"Nota",null,null,null,null,null,{"$f":"AM50","v":0}]
[null,null,null,null,null,null,null,null,null,null,null,null,null,null,null,null,null,null,null,null,null,null,null,null,null,null,null,null,null,null,null,null,"Bilans",null,null,null,null,null,{"$f":"Bilans_PASYWA!$X$21","v":0}]
[null,null,null,null,null,null,null,null,null,null,null,null,null,null,null,null,null,null,null,null,null,null,null,null,null,null,null,null,null,null,null,null,"różnica",null,null,null,null,null,{"$f":"AM112-AM113","v":0}]
[]
[null,null,null,null,null,null,null,null,null,null,null,null,null,null,null,null,null,null,null,null,null,null,null,null,null,null,null,null,null,null,"BZ",null,"Nota",null,null,null,null,null,{"$f":"AM59","v":0}]
[null,null,null,null,null,null,null,null,null,null,null,null,null,null,null,null,null,null,null,null,null,null,null,null,null,null,null,null,null,null,null,null,"Bilans",null,null,null,null,null,{"$f":"Bilans_PASYWA!$S$21","v":0}]
[null,null,null,null,null,null,null,null,null,null,null,null,null,null,null,null,null,null,null,null,null,null,null,null,null,null,null,null,null,null,null,null,"różnica",null,null,null,null,null,{"$f":"AM116-AM117","v":0}]
[]
[null,"Sprawdzenie - Zmiany w stanie pozycji Zysk / Strata netto"]
[null,null,null,null,null,null,null,null,null,null,null,null,null,null,null,null,null,null,null,null,null,null,null,null,null,null,null,null,null,null,"BO",null,"Nota",null,null,null,null,null,{"$f":"AM60","v":0}]
[null,null,null,null,null,null,null,null,null,null,null,null,null,null,null,null,null,null,null,null,null,null,null,null,null,null,null,null,null,null,null,null,"Bilans",null,null,null,null,null,{"$f":"Bilans_PASYWA!$X$24","v":0}]
[null,null,null,null,null,null,null,null,null,null,null,null,null,null,null,null,null,null,null,null,null,null,null,null,null,null,null,null,null,null,null,null,"różnica",null,null,null,null,null,{"$f":"AM121-AM122","v":0}]
[]
[null,null,null,null,null,null,null,null,null,null,null,null,null,null,null,null,null,null,null,null,null,null,null,null,null,null,null,null,null,null,"BZ",null,"Nota",null,null,null,null,null,{"$f":"AM61","v":0}]
[null,null,null,null,null,null,null,null,null,null,null,null,null,null,null,null,null,null,null,null,null,null,null,null,null,null,null,null,null,null,null,null,"Bilans",null,null,null,null,null,{"$f":"Bilans_PASYWA!$S$24","v":0}]
[null,null,null,null,null,null,null,null,null,null,null,null,null,null,null,null,null,null,null,null,null,null,null,null,null,null,null,null,null,null,null,null,"różnica",null,null,null,null,null,{"$f":"AM125-AM126","v":0}]
[]
[null,"Sprawdzenie - Zmiany w stanie pozycji Odpisy z zysku w ciągu roku obrotowego"]
[null,null,null,null,null,null,null,null,null,null,null,null,null,null,null,null,null,null,null,null,null,null,null,null,null,null,null,null,null,null,"BO",null,"Nota",null,null,null,null,null,{"$f":"AM62","v":0}]
[null,null,null,null,null,null,null,null,null,null,null,null,null,null,null,null,null,null,null,null,null,null,null,null,null,null,null,null,null,null,null,null,"Bilans",null,null,null,null,null,{"$f":"Bilans_PASYWA!$X$25","v":0}]
[null,null,null,null,null,null,null,null,null,null,null,null,null,null,null,null,null,null,null,null,null,null,null,null,null,null,null,null,null,null,null,null,"różnica",null,null,null,null,null,{"$f":"AM130-AM131","v":0}]
[]
[null,null,null,null,null,null,null,null,null,null,null,null,null,null,null,null,null,null,null,null,null,null,null,null,null,null,null,null,null,null,"BZ",null,"Nota",null,null,null,null,null,{"$f":"AM63","v":0}]
[null,null,null,null,null,null,null,null,null,null,null,null,null,null,null,null,null,null,null,null,null,null,null,null,null,null,null,null,null,null,null,null,"Bilans",null,null,null,null,null,{"$f":"Bilans_PASYWA!$S$25","v":0}]
[null,null,null,null,null,null,null,null,null,null,null,null,null,null,null,null,null,null,null,null,null,null,null,null,null,null,null,null,null,null,null,null,"różnica",null,null,null,null,null,{"$f":"AM134-AM135","v":0}]

{"sheet":"Struktura_kapitału_S.A.","index":38,"n_rows":33,"n_cols":45,"rows_kept":33,"cut":false,"hidden":true,"merged":[[2,44,2,49],[32,0,32,42],[33,0,36,42],[4,0,4,9],[5,0,5,42],[6,0,9,0],[6,1,9,17],[10,38,10,42],[10,1,10,17],[11,18,11,22],[11,23,11,27],[11,28,11,32],[11,33,11,37],[11,38,11,42],[6,38,9,42],[10,18,10,22],[10,23,10,27],[10,28,10,32],[10,33,10,37],[12,44,30,50],[30,18,30,22],[30,23,30,27],[30,28,30,32],[30,33,30,37],[30,38,30,42],[14,33,14,37],[14,38,14,42],[12,18,12,22],[12,23,12,27],[12,28,12,32],[12,33,12,37],[12,38,12,42],[13,38,13,42],[15,38,15,42],[18,38,18,42],[19,38,19,42],[21,38,21,42],[20,38,20,42],[16,38,16,42],[14,23,14,27],[14,28,14,32],[13,18,13,22],[13,23,13,27],[13,28,13,32],[13,33,13,37],[15,18,15,22],[15,23,15,27],[15,28,15,32],[31,18,31,22],[31,23,31,27],[31,28,31,32],[31,33,31,37],[31,38,31,42],[22,1,22,17],[23,1,23,17],[24,1,24,17],[25,1,25,17],[31,1,31,17],[28,1,28,17],[29,1,29,17],[22,38,22,42],[29,38,29,42],[25,38,25,42],[26,38,26,42],[27,38,27,42],[28,38,28,42],[26,28,26,32],[26,33,26,37],[24,28,24,32],[24,33,24,37],[29,18,29,22],[29,23,29,27],[11,1,11,17],[12,1,12,17],[30,1,30,17],[6,18,7,37],[8,18,9,22],[8,23,9,27],[8,28,9,32],[8,33,9,37],[20,18,20,22],[20,23,20,27],[20,28,20,32],[20,33,20,37],[18,18,18,22],[18,23,18,27],[18,28,18,32],[19,18,19,22],[19,23,19,27],[19,28,19,32],[16,18,16,22],[16,23,16,27],[16,28,16,32],[16,33,16,37],[14,18,14,22],[13,1,13,17],[14,1,14,17],[15,1,15,17],[16,1,16,17],[18,1,18,17],[19,1,19,17],[20,1,20,17],[21,1,21,17],[26,1,26,17],[27,1,27,17],[15,33,15,37],[18,33,18,37],[23,38,23,42],[24,38,24,42],[19,33,19,37],[21,18,21,22],[21,23,21,27],[21,28,21,32],[21,33,21,37],[22,18,22,22],[22,23,22,27],[22,28,22,32],[22,33,22,37],[23,18,23,22],[23,23,23,27],[23,28,23,32],[23,33,23,37],[24,18,24,22],[24,23,24,27],[17,38,17,42],[29,28,29,32],[29,33,29,37],[17,1,17,17],[17,18,17,22],[17,23,17,27],[17,28,17,32],[17,33,17,37],[27,18,27,22],[27,23,27,27],[27,28,27,32],[27,33,27,37],[28,18,28,22],[28,23,28,27],[28,28,28,32],[28,33,28,37],[25,18,25,22],[25,23,25,27],[25,28,25,32],[25,33,25,37],[26,18,26,22],[26,23,26,27]]}
[{"$f":"nazwa","v":"DEMO"}]
[{"$f":"temat","v":"Sprawozdanie finansowe za rok 2023"}]
[null,null,null,null,null,null,null,null,null,null,null,null,null,null,null,null,null,null,null,null,null,null,null,null,null,null,null,null,null,null,null,null,null,null,null,null,null,null,null,null,null,null,null,null,"Powrót do parametrów"]
[]
[{"$f":"NumerNoty( Parametry!$B$55)","v":"Nota nie podlegająca prezentacji"}]
["Dane o strukturze własności kapitału podstawowego oraz liczbie i wartości nominalnej subskrybowanych akcji, w tym uprzywilejowanych"]
["Lp.","Wyszczególnienie",null,null,null,null,null,null,null,null,null,null,null,null,null,null,null,null,"Akcje",null,null,null,null,null,null,null,null,null,null,null,null,null,null,null,null,null,null,null,"Razem"]
[]
[null,null,null,null,null,null,null,null,null,null,null,null,null,null,null,null,null,null,"seria …",null,null,null,null,"seria …",null,null,null,null,"seria …",null,null,null,null,"seria …"]
[]
["1.","Wartość nominalna jednej akcji",null,null,null,null,null,null,null,null,null,null,null,null,null,null,null,null,null,null,null,null,null,null,null,null,null,null,null,null,null,null,null,null,null,null,null,null,"x"]
["2.","Wartość emisyjna jednej akcji",null,null,null,null,null,null,null,null,null,null,null,null,null,null,null,null,null,null,null,null,null,null,null,null,null,null,null,null,null,null,null,null,null,null,null,null,"x"]
["3.","Ilość akcji w emisji (serii)",null,null,null,null,null,null,null,null,null,null,null,null,null,null,null,null,null,null,null,null,null,null,null,null,null,null,null,null,null,null,null,null,null,null,null,null,{"$f":"SUM(S13:AL13)","v":0}]
["4.","Podział akcji z danej serii",null,null,null,null,null,null,null,null,null,null,null,null,null,null,null,null,null,null,null,null,null,null,null,null,null,null,null,null,null,null,null,null,null,null,null,null,{"$f":"SUM(S14:AL14)","v":0}]
[null,"– uprzywilejowane (szt.)",null,null,null,null,null,null,null,null,null,null,null,null,null,null,null,null,null,null,null,null,null,null,null,null,null,null,null,null,null,null,null,null,null,null,null,null,0]
[null,"– zwykłe (szt.)",null,null,null,null,null,null,null,null,null,null,null,null,null,null,null,null,null,null,null,null,null,null,null,null,null,null,null,null,null,null,null,null,null,null,null,null,0]
["5.","Podział akcji z danej serii",null,null,null,null,null,null,null,null,null,null,null,null,null,null,null,null,null,null,null,null,null,null,null,null,null,null,null,null,null,null,null,null,null,null,null,null,0]
[null,"– imienne, w tym:",null,null,null,null,null,null,null,null,null,null,null,null,null,null,null,null,null,null,null,null,null,null,null,null,null,null,null,null,null,null,null,null,null,null,null,null,{"$f":"SUM(S18:AL18)","v":0}]
[null,"Imię Nazwisko",null,null,null,null,null,null,null,null,null,null,null,null,null,null,null,null,null,null,null,null,null,null,null,null,null,null,null,null,null,null,null,null,null,null,null,null,0]
[null,"Firma",null,null,null,null,null,null,null,null,null,null,null,null,null,null,null,null,null,null,null,null,null,null,null,null,null,null,null,null,null,null,null,null,null,null,null,null,0]
[null,null,null,null,null,null,null,null,null,null,null,null,null,null,null,null,null,null,null,null,null,null,null,null,null,null,null,null,null,null,null,null,null,null,null,null,null,null,0]
[null,null,null,null,null,null,null,null,null,null,null,null,null,null,null,null,null,null,null,null,null,null,null,null,null,null,null,null,null,null,null,null,null,null,null,null,null,null,0]
[null,"– na okaziciela",null,null,null,null,null,null,null,null,null,null,null,null,null,null,null,null,null,null,null,null,null,null,null,null,null,null,null,null,null,null,null,null,null,null,null,null,0]
["6.","Rodzaj uprzywilejowanych akcji",null,null,null,null,null,null,null,null,null,null,null,null,null,null,null,null,null,null,null,null,null,null,null,null,null,null,null,null,null,null,null,null,null,null,null,null,0]
[null,"– w zakresie praw głosu (szt.)",null,null,null,null,null,null,null,null,null,null,null,null,null,null,null,null,null,null,null,null,null,null,null,null,null,null,null,null,null,null,null,null,null,null,null,null,0]
[null,"– w zakresie dywidendy (szt.)",null,null,null,null,null,null,null,null,null,null,null,null,null,null,null,null,null,null,null,null,null,null,null,null,null,null,null,null,null,null,null,null,null,null,null,null,0]
[null,"– pozostałe (szt.)",null,null,null,null,null,null,null,null,null,null,null,null,null,null,null,null,null,null,null,null,null,null,null,null,null,null,null,null,null,null,null,null,null,null,null,null,0]
["7.","Wartość nominalna serii",null,null,null,null,null,null,null,null,null,null,null,null,null,null,null,null,null,null,null,null,null,null,null,null,null,null,null,null,null,null,null,null,null,null,null,null,0]
["8.","Sposób pokrycia akcji",null,null,null,null,null,null,null,null,null,null,null,null,null,null,null,null,null,null,null,null,null,null,null,null,null,null,null,null,null,null,null,null,null,null,null,null,0]
[null,"– gotówka",null,null,null,null,null,null,null,null,null,null,null,null,null,null,null,null,null,null,null,null,null,null,null,null,null,null,null,null,null,null,null,null,null,null,null,null,0]
[null,"– aport",null,null,null,null,null,null,null,null,null,null,null,null,null,null,null,null,null,null,null,null,null,null,null,null,null,null,null,null,null,null,null,null,null,null,null,null,0]
["9.","Data rejestracji",null,null,null,null,null,null,null,null,null,null,null,null,null,null,null,null,null,null,null,null,null,null,null,null,null,null,null,null,null,null,null,null,null,null,null,null,"x"]
[null,null,null,null,null,null,null,null,null,null,null,null,null,null,null,null,null,null,null,null,null,null,null,null,null,null,null,null,null,null,null,null,null,null,null,null,null,null,null,null,null,null,null,null,"Miejsce na dodatkowy opis"]

{"sheet":"Struktura_kapitału_inne_jedn","index":39,"n_rows":22,"n_cols":45,"rows_kept":22,"cut":false,"hidden":true,"merged":[[21,0,36,42],[13,1,13,17],[14,1,14,17],[15,1,15,17],[16,1,16,17],[17,1,17,17],[17,18,17,22],[18,18,18,22],[19,18,19,22],[18,1,18,17],[19,1,19,17],[13,28,13,32],[14,33,14,37],[15,28,15,32],[14,23,14,27],[15,23,15,27],[11,1,11,17],[12,1,12,17],[6,23,9,27],[10,23,10,27],[11,23,11,27],[12,23,12,27],[10,18,10,22],[11,18,11,22],[12,18,12,22],[6,18,9,22],[4,0,4,9],[5,0,5,42],[6,0,9,0],[10,38,10,42],[6,33,9,37],[10,33,10,37],[6,1,9,17],[10,1,10,17],[6,38,9,42],[13,18,13,22],[14,18,14,22],[13,23,13,27],[15,18,15,22],[16,18,16,22],[19,23,19,27],[17,44,20,50],[18,38,18,42],[19,38,19,42],[17,38,17,42],[17,33,17,37],[18,33,18,37],[19,33,19,37],[19,28,19,32],[18,28,18,32],[17,28,17,32],[20,0,20,42],[11,28,11,32],[13,38,13,42],[12,38,12,42],[17,23,17,27],[18,23,18,27],[16,23,16,27],[2,44,2,49],[12,44,15,50],[16,33,16,37],[15,33,15,37],[16,28,16,32],[14,28,14,32],[12,28,12,32],[16,38,16,42],[15,38,15,42],[14,38,14,42],[6,28,9,32],[13,33,13,37],[11,33,11,37],[12,33,12,37],[11,38,11,42],[10,28,10,32]]}
[{"$f":"nazwa","v":"DEMO"}]
[{"$f":"temat","v":"Sprawozdanie finansowe za rok 2023"}]
[null,null,null,null,null,null,null,null,null,null,null,null,null,null,null,null,null,null,null,null,null,null,null,null,null,null,null,null,null,null,null,null,null,null,null,null,null,null,null,null,null,null,null,null,"Powrót do parametrów"]
[]
[{"$f":"NumerNoty(Parametry!$B$56)","v":"Nota nie podlegająca prezentacji"}]
["Dane o strukturze własności kapitału podstawowego"]
["Lp.","Wyszczególnienie udziałowców / wspólników",null,null,null,null,null,null,null,null,null,null,null,null,null,null,null,null,"Liczba udziałów",null,null,null,null,"Liczba głosów",null,null,null,null,"Wartość nominalna udziałów / wkładów",null,null,null,null,"Udział w kapitale podstawowym (%)",null,null,null,null,"Udział w dywidendzie / zysku (%)"]
[]
[]
[]
[" 1."]
[" 2."]
[" 3."]
[" 4."]
[" 5."]
[" 6."]
[" 7."]
[" 8."]
[" 9."]
[" 10."]
[]
[null,null,null,null,null,null,null,null,null,null,null,null,null,null,null,null,null,null,null,null,null,null,null,null,null,null,null,null,null,null,null,null,null,null,null,null,null,null,null,null,null,null,null,null,"Miejsce na dodatkowy opis"]

{"sheet":"Akcje_P.S.A.","index":40,"n_rows":32,"n_cols":45,"rows_kept":32,"cut":false,"hidden":true,"merged":[[25,0,26,0],[25,1,26,8],[25,9,26,13],[25,14,26,31],[25,32,26,42],[27,0,28,0],[27,1,28,8],[27,9,28,13],[27,14,28,31],[27,32,28,42],[21,0,22,0],[21,1,22,8],[21,9,22,13],[21,14,22,31],[21,32,22,42],[23,0,24,0],[23,1,24,8],[23,9,24,13],[23,14,24,31],[23,32,24,42],[17,0,18,0],[17,1,18,8],[17,9,18,13],[17,14,18,31],[17,32,18,42],[19,0,20,0],[19,1,20,8],[19,9,20,13],[19,14,20,31],[19,32,20,42],[29,0,29,42],[30,0,36,42],[9,0,10,0],[9,1,10,8],[11,0,12,0],[11,1,12,8],[11,9,12,13],[11,14,12,31],[11,32,12,42],[13,1,14,8],[13,9,14,13],[13,14,14,31],[13,32,14,42],[15,0,16,0],[15,1,16,8],[15,9,16,13],[25,44,28,50],[12,44,23,50],[2,44,2,49],[4,0,4,9],[7,0,8,0],[5,0,6,42],[7,1,8,8],[7,9,8,13],[7,14,8,31],[7,32,8,42],[9,9,10,13],[9,14,10,31],[9,32,10,42],[15,14,16,31],[15,32,16,42],[13,0,14,0]]}
[{"$f":"nazwa","v":"DEMO"}]
[{"$f":"temat","v":"Sprawozdanie finansowe za rok 2023"}]
[null,null,null,null,null,null,null,null,null,null,null,null,null,null,null,null,null,null,null,null,null,null,null,null,null,null,null,null,null,null,null,null,null,null,null,null,null,null,null,null,null,null,null,null,"Powrót do parametrów"]
[]
[{"$f":"NumerNoty(Parametry!$B$57)","v":"Nota nie podlegająca prezentacji"}]
["Akcje objęte przez akcjonariuszy w prostej spółce akcyjnej w zamian za wkłady niepieniężne, których przedmiotem jest prawo niezbywalne lub świadczenie pracy lub usług\n"]
[]
["Lp.","Wyszczególnienie akcjonariuszy",null,null,null,null,null,null,null,"Liczba akcji ",null,null,null,null,"Opis niezbywalnego prawa majątkowego",null,null,null,null,null,null,null,null,null,null,null,null,null,null,null,null,null,"Świadczenie pracy lub usług (opis)"]
[]
["1."]
[]
["2."]
[]
["3."]
[]
["4."]
[]
["5."]
[]
["6."]
[]
["7."]
[]
["8."]
[]
["9."]
[]
["10."]
[]
[]
[]
[null,null,null,null,null,null,null,null,null,null,null,null,null,null,null,null,null,null,null,null,null,null,null,null,null,null,null,null,null,null,null,null,null,null,null,null,null,null,null,null,null,null,null,null,"Miejsce na dodatkowy opis"]

{"sheet":"Akcje_własne","index":41,"n_rows":26,"n_cols":45,"rows_kept":26,"cut":false,"hidden":true,"merged":[[2,44,2,49],[4,0,4,9],[5,0,5,42],[6,0,8,0],[6,1,8,20],[6,21,8,25],[6,32,8,37],[6,38,8,42],[9,1,9,20],[9,21,9,25],[9,32,9,37],[9,38,9,42],[6,26,8,31],[9,26,9,31],[10,1,10,20],[10,21,10,25],[10,32,10,37],[10,38,10,42],[10,26,10,31],[11,1,11,20],[11,21,11,25],[11,32,11,37],[11,38,11,42],[11,26,11,31],[12,44,15,50],[13,1,13,20],[13,21,13,25],[13,32,13,37],[13,38,13,42],[14,1,14,20],[14,21,14,25],[12,1,12,20],[12,21,12,25],[12,32,12,37],[12,38,12,42],[12,26,12,31],[13,26,13,31],[16,1,16,20],[16,21,16,25],[16,32,16,37],[16,38,16,42],[14,32,14,37],[14,38,14,42],[15,1,15,20],[15,21,15,25],[15,32,15,37],[15,38,15,42],[14,26,14,31],[15,26,15,31],[16,26,16,31],[17,44,20,50],[18,1,18,20],[18,21,18,25],[18,32,18,37],[18,38,18,42],[20,1,20,20],[20,21,20,25],[17,1,17,20],[17,21,17,25],[17,32,17,37],[17,38,17,42],[19,32,19,37],[19,38,19,42],[20,26,20,31],[17,26,17,31],[18,26,18,31],[23,0,23,42],[24,0,36,42],[22,1,22,20],[22,21,22,25],[22,32,22,37],[22,38,22,42],[22,26,22,31],[20,32,20,37],[20,38,20,42],[21,26,21,31],[21,32,21,37],[21,38,21,42],[19,1,19,20],[19,21,19,25],[19,26,19,31],[21,1,21,20],[21,21,21,25]]}
[{"$f":"nazwa","v":"DEMO"}]
[{"$f":"temat","v":"Sprawozdanie finansowe za rok 2023"}]
[null,null,null,null,null,null,null,null,null,null,null,null,null,null,null,null,null,null,null,null,null,null,null,null,null,null,null,null,null,null,null,null,null,null,null,null,null,null,null,null,null,null,null,null,"Powrót do parametrów"]
[]
[{"$f":"NumerNoty(Parametry!$B$58)","v":"Nota nie podlegająca prezentacji"}]
["Udziały / akcje własne"]
["Lp.","Wyszczególnienie",null,null,null,null,null,null,null,null,null,null,null,null,null,null,null,null,null,null,null,"liczba udziałów / akcji",null,null,null,null,"wartość nominalna (księgowa) akcji / udziałów własnych",null,null,null,null,null,"w tym: nabyte lub sprzedane odpłatnie",null,null,null,null,null,"% kapitału podstawowego"]
[]
[]
[" 1.",{"$f":"stanp","v":"Stan na dzień dd.mm.rrrr"}]
[" 2.","Zwiększenia",null,null,null,null,null,null,null,null,null,null,null,null,null,null,null,null,null,null,null,{"$f":"SUM(V12:Z16)","v":0},null,null,null,null,{"$f":"SUM(AA12:AF16)","v":0},null,null,null,null,null,{"$f":"SUM(AG12:AL16)","v":0},null,null,null,null,null,{"$f":"SUM(AM12:AQ16)","v":0}]
[]
[]
[]
[]
[]
[" 3.","Zmniejszenia",null,null,null,null,null,null,null,null,null,null,null,null,null,null,null,null,null,null,null,{"$f":"SUM(V18:Z22)","v":0},null,null,null,null,{"$f":"SUM(AA18:AF22)","v":0},null,null,null,null,null,{"$f":"SUM(AG18:AL22)","v":0},null,null,null,null,null,{"$f":"SUM(AM18:AQ22)","v":0}]
[]
[]
[]
[]
[]
[" 4.",{"$f":"stanb","v":"Stan na dzień dd.mm.rrrr"},null,null,null,null,null,null,null,null,null,null,null,null,null,null,null,null,null,null,null,{"$f":"V10+V11-V17","v":0},null,null,null,null,{"$f":"AA10+AA11-AA17","v":0},null,null,null,null,null,{"$f":"AG10+AG11-AG17","v":0},null,null,null,null,null,{"$f":"AM10+AM11-AM17","v":0}]
["Przyczyna nabycia udziałów własnych:\n"]
[]
[null,null,null,null,null,null,null,null,null,null,null,null,null,null,null,null,null,null,null,null,null,null,null,null,null,null,null,null,null,null,null,null,null,null,null,null,null,null,null,null,null,null,null,null,"Miejsce na dodatkowy opis"]

{"sheet":"Podział_wyniku","index":42,"n_rows":42,"n_cols":45,"rows_kept":42,"cut":false,"hidden":true,"merged":[[10,38,10,42],[10,1,10,37],[5,0,5,42],[8,38,8,42],[7,38,7,42],[9,38,9,42],[7,1,7,37],[4,0,4,9],[6,1,6,37],[8,1,8,37],[9,1,9,37],[2,44,2,49],[6,38,6,42],[11,1,11,37],[11,38,11,42],[12,1,12,37],[17,44,20,50],[12,44,15,50],[15,0,36,42],[41,1,41,37],[12,38,12,42],[40,1,40,37],[41,38,41,42],[40,38,40,42],[39,1,39,37],[39,38,39,42],[38,1,38,37],[13,38,13,42],[13,1,13,37],[14,0,14,42]]}
[{"$f":"nazwa","v":"DEMO"}]
[{"$f":"temat","v":"Sprawozdanie finansowe za rok 2023"}]
[null,null,null,null,null,null,null,null,null,null,null,null,null,null,null,null,null,null,null,null,null,null,null,null,null,null,null,null,null,null,null,null,null,null,null,null,null,null,null,null,null,null,null,null,"Powrót do parametrów"]
[]
[{"$f":"NumerNoty(Parametry!$B$59)","v":"Nota nie podlegająca prezentacji"}]
["Propozycje podziału zysku netto lub pokrycia straty netto za rok obrotowy"]
["Lp.","Wyszczególnienie",null,null,null,null,null,null,null,null,null,null,null,null,null,null,null,null,null,null,null,null,null,null,null,null,null,null,null,null,null,null,null,null,null,null,null,null,"Wartość"]
[" 1.","Podwyższenie kapitału podstawowego / Pokrycie straty poprzez obniżenie kapitału podstawowego*"]
[" 2.","Wypłata dywidendy"]
[" 3.","Odpis na kapitał rezerwowy / zapasowy / Pokrycie straty nierozliczonej zyskiem z lat ubiegłych *",null,null,null,null,null,null,null,null,null,null,null,null,null,null,null,null,null,null,null,null,null,null,null,null,null,null,null,null,null,null,null,null,null,null,null,null,null,null,null,null,null,null,"* - wybrać właściwe i usunąć *"]
[" 4.","Pokrycie straty z lat ubiegłych / z kapitału zapasowego *"]
[" 5.","Pozostałe odpisy - darowizny"]
[" 6.","Strata netto zostanie pokryta z zysków wypracowanych w kolejnych okresach obrotowych"]
[null,"Zysk netto",null,null,null,null,null,null,null,null,null,null,null,null,null,null,null,null,null,null,null,null,null,null,null,null,null,null,null,null,null,null,null,null,null,null,null,null,{"$f":"SUM(AM8:AQ13)","v":0}]
[]
[]
[]
[]
[]
[]
[]
[null,null,null,null,null,null,null,null,null,null,null,null,null,null,null,null,null,null,null,null,null,null,null,null,null,null,null,null,null,null,null,null,null,null,null,null,null,null,null,null,null,null,null,null,"Miejsce na dodatkowy opis"]
[]
[]
[]
[]
[]
[]
[]
[]
[]
[]
[]
[]
[]
[]
[]
[]
[null,"Sprawdzenie"]
[null,"Nota",null,null,null,null,null,null,null,null,null,null,null,null,null,null,null,null,null,null,null,null,null,null,null,null,null,null,null,null,null,null,null,null,null,null,null,null,{"$f":"AM14","v":0}]
[null,"RZiS",null,null,null,null,null,null,null,null,null,null,null,null,null,null,null,null,null,null,null,null,null,null,null,null,null,null,null,null,null,null,null,null,null,null,null,null,{"$f":"IF(Parametry!$N$24=\"p\",Rachunek_ZiS_porównawczy!S61,Rachunek_ZiS_kalkulacyjny!S56)","v":0}]
[null,"różnica",null,null,null,null,null,null,null,null,null,null,null,null,null,null,null,null,null,null,null,null,null,null,null,null,null,null,null,null,null,null,null,null,null,null,null,null,{"$f":"AM40-AM41","v":0}]

{"sheet":"Zobow_długot_1","index":43,"n_rows":47,"n_cols":45,"rows_kept":47,"cut":false,"hidden":true,"merged":[[2,44,2,49],[46,28,46,32],[46,33,46,37],[46,38,46,42],[39,1,39,27],[40,1,40,27],[41,1,41,27],[44,1,44,27],[45,1,45,27],[46,1,46,27],[40,38,40,42],[44,28,44,32],[44,33,44,37],[44,38,44,42],[45,28,45,32],[45,33,45,37],[45,38,45,42],[41,28,41,32],[41,33,41,37],[41,38,41,42],[39,28,39,32],[39,33,39,37],[39,38,39,42],[40,28,40,32],[40,33,40,37],[18,44,21,50],[16,28,16,32],[16,38,16,42],[7,0,11,0],[7,1,11,27],[7,33,11,37],[7,28,11,32],[15,1,15,27],[16,1,16,27],[18,1,18,27],[15,28,15,32],[18,28,18,32],[12,28,12,32],[19,0,19,42],[20,0,36,42],[18,38,18,42],[18,33,18,37],[17,33,17,37],[17,28,17,32],[5,0,6,42],[4,0,4,13],[17,1,17,27],[7,38,11,42],[17,38,17,42],[13,44,16,50],[16,33,16,37],[12,33,12,37],[13,33,13,37],[15,33,15,37],[13,38,13,42],[15,38,15,42],[12,38,12,42],[14,1,14,42],[13,28,13,32],[12,1,12,27],[13,1,13,27]]}
[{"$f":"nazwa","v":"DEMO"}]
[{"$f":"temat","v":"Sprawozdanie finansowe za rok 2023"}]
[null,null,null,null,null,null,null,null,null,null,null,null,null,null,null,null,null,null,null,null,null,null,null,null,null,null,null,null,null,null,null,null,null,null,null,null,null,null,null,null,null,null,null,null,"Powrót do parametrów"]
[]
[{"$f":"NumerNoty(Parametry!$B$60)","v":"Nota nie podlegająca prezentacji"}]
["Zobowiązania długoterminowe wobec jednostek powiązanych oraz pozostałych, w których jednostka posiada zaangażowanie kapitałowe, według umownego okresu spłaty"]
[]
["Lp.","Wyszczególnienie",null,null,null,null,null,null,null,null,null,null,null,null,null,null,null,null,null,null,null,null,null,null,null,null,null,null,"Wobec jednostek powiązanych",null,null,null,null,"Wobec pozostałych jednostek, w których jednostka posiada zaangażowanie w kapitale",null,null,null,null,"Razem"]
[]
[]
[]
[]
[" 1.",{"$f":"stanp","v":"Stan na dzień dd.mm.rrrr"},null,null,null,null,null,null,null,null,null,null,null,null,null,null,null,null,null,null,null,null,null,null,null,null,null,null,null,null,null,null,null,null,null,null,null,null,{"$f":"SUM(AC13:AL13)","v":0}]
[" 2.",{"$f":"stanb","v":"Stan na dzień dd.mm.rrrr"},null,null,null,null,null,null,null,null,null,null,null,null,null,null,null,null,null,null,null,null,null,null,null,null,null,null,{"$f":"AC16+AC17+AC18+AC19","v":0},null,null,null,null,{"$f":"AH16+AH17+AH18+AH19","v":0},null,null,null,null,{"$f":"AM16+AM17+AM18+AM19","v":0}]
[null,"w tym:"]
[null,"- do 1 roku",null,null,null,null,null,null,null,null,null,null,null,null,null,null,null,null,null,null,null,null,null,null,null,null,null,null,null,null,null,null,null,null,null,null,null,null,{"$f":"SUM(AC16:AL16)","v":0}]
[null,"- powyżej 1 roku do 3 lat",null,null,null,null,null,null,null,null,null,null,null,null,null,null,null,null,null,null,null,null,null,null,null,null,null,null,null,null,null,null,null,null,null,null,null,null,{"$f":"SUM(AC17:AL17)","v":0}]
[null,"- powyżej 3 lat do 5 lat",null,null,null,null,null,null,null,null,null,null,null,null,null,null,null,null,null,null,null,null,null,null,null,null,null,null,null,null,null,null,null,null,null,null,null,null,{"$f":"SUM(AC18:AL18)","v":0}]
[null,"- powyżej 5 lat",null,null,null,null,null,null,null,null,null,null,null,null,null,null,null,null,null,null,null,null,null,null,null,null,null,null,null,null,null,null,null,null,null,null,null,null,{"$f":"SUM(AC19:AL19)","v":0}]
[]
[]
[]
[null,null,null,null,null,null,null,null,null,null,null,null,null,null,null,null,null,null,null,null,null,null,null,null,null,null,null,null,null,null,null,null,null,null,null,null,null,null,null,null,null,null,null,null,"Miejsce na dodatkowy opis"]
[]
[]
[]
[]
[]
[]
[]
[]
[]
[]
[]
[]
[]
[]
[]
[null,"Sprawdzenie BO"]
[null,"Nota",null,null,null,null,null,null,null,null,null,null,null,null,null,null,null,null,null,null,null,null,null,null,null,null,null,null,{"$f":"AC13","v":0},null,null,null,null,{"$f":"AH13","v":0},null,null,null,null,{"$f":"AM13","v":0}]
[null,"Bilans",null,null,null,null,null,null,null,null,null,null,null,null,null,null,null,null,null,null,null,null,null,null,null,null,null,null,{"$f":"Bilans_PASYWA!$X$37","v":0},null,null,null,null,{"$f":"Bilans_PASYWA!$X$38","v":0},null,null,null,null,{"$f":"AC41+AH41","v":0}]
[null,"różnica",null,null,null,null,null,null,null,null,null,null,null,null,null,null,null,null,null,null,null,null,null,null,null,null,null,null,{"$f":"AC40-AC41","v":0},null,null,null,null,{"$f":"AH40-AH41","v":0},null,null,null,null,{"$f":"AM40-AM41","v":0}]
[]
[null,"Sprawdzenie BZ"]
[null,"Nota",null,null,null,null,null,null,null,null,null,null,null,null,null,null,null,null,null,null,null,null,null,null,null,null,null,null,{"$f":"AC14","v":0},null,null,null,null,{"$f":"AH14","v":0},null,null,null,null,{"$f":"AM14","v":0}]
[null,"Bilans",null,null,null,null,null,null,null,null,null,null,null,null,null,null,null,null,null,null,null,null,null,null,null,null,null,null,{"$f":"Bilans_PASYWA!$S$37","v":0},null,null,null,null,{"$f":"Bilans_PASYWA!$S$38","v":0},null,null,null,null,{"$f":"AC46+AH46","v":0}]
[null,"różnica",null,null,null,null,null,null,null,null,null,null,null,null,null,null,null,null,null,null,null,null,null,null,null,null,null,null,{"$f":"AC45-AC46","v":0},null,null,null,null,{"$f":"AH45-AH46","v":0},null,null,null,null,{"$f":"AM45-AM46","v":0}]

{"sheet":"Zobow_długot_2","index":44,"n_rows":47,"n_cols":45,"rows_kept":47,"cut":false,"hidden":true,"merged":[[45,38,45,42],[46,18,46,22],[46,23,46,27],[46,28,46,32],[46,33,46,37],[46,38,46,42],[45,23,45,27],[45,28,45,32],[45,33,45,37],[45,1,45,12],[45,13,45,17],[46,1,46,12],[46,13,46,17],[45,18,45,22],[41,38,41,42],[44,18,44,22],[44,23,44,27],[44,28,44,32],[44,33,44,37],[44,38,44,42],[41,23,41,27],[41,28,41,32],[41,33,41,37],[41,13,41,17],[41,1,41,12],[44,1,44,12],[44,13,44,17],[41,18,41,22],[39,13,39,17],[40,13,40,17],[12,13,12,17],[12,18,12,22],[14,33,14,37],[15,33,15,37],[13,1,13,42],[17,38,17,42],[39,1,39,12],[40,1,40,12],[39,18,39,22],[39,23,39,27],[39,28,39,32],[39,33,39,37],[39,38,39,42],[40,18,40,22],[40,23,40,27],[40,28,40,32],[40,33,40,37],[40,38,40,42],[4,0,4,13],[5,0,5,42],[6,0,10,0],[6,1,10,12],[6,13,10,17],[6,18,10,22],[6,23,10,27],[6,28,10,32],[6,33,10,37],[6,38,10,42],[11,1,11,12],[11,13,11,17],[2,44,2,49],[11,33,11,37],[11,38,11,42],[12,33,12,37],[12,38,12,42],[11,18,11,22],[11,23,11,27],[11,28,11,32],[12,28,12,32],[17,44,20,50],[17,33,17,37],[16,33,16,37],[14,38,14,42],[15,38,15,42],[16,38,16,42],[18,0,18,42],[19,0,36,42],[12,44,15,50],[14,1,14,12],[14,13,14,17],[14,18,14,22],[17,1,17,12],[17,13,17,17],[17,18,17,22],[17,23,17,27],[17,28,17,32],[16,1,16,12],[16,13,16,17],[16,18,16,22],[16,23,16,27],[16,28,16,32],[12,1,12,12],[12,23,12,27],[14,23,14,27],[14,28,14,32],[15,1,15,12],[15,13,15,17],[15,18,15,22],[15,23,15,27],[15,28,15,32]]}
[{"$f":"nazwa","v":"DEMO"}]
[{"$f":"temat","v":"Sprawozdanie finansowe za rok 2023"}]
[null,null,null,null,null,null,null,null,null,null,null,null,null,null,null,null,null,null,null,null,null,null,null,null,null,null,null,null,null,null,null,null,null,null,null,null,null,null,null,null,null,null,null,null,"Powrót do parametrów"]
[]
[{"$f":"NumerNoty(Parametry!$B$61)","v":"Nota nie podlegająca prezentacji"}]
["Zobowiązania długoterminowe wobec pozostałych jednostek według umownego okresu spłaty"]
["Lp.","Wyszczególnienie",null,null,null,null,null,null,null,null,null,null,null,"Kredyty i pożyczki",null,null,null,null,"Z tytułu emisji dłużnych papierów wartościowych",null,null,null,null,"Inne zobowiązania finansowe",null,null,null,null,"Zobowiązania wekslowe",null,null,null,null,"Inne",null,null,null,null,"Razem"]
[]
[]
[]
[]
[" 1.",{"$f":"stanp","v":"Stan na dzień dd.mm.rrrr"},null,null,null,null,null,null,null,null,null,null,null,null,null,null,null,null,null,null,null,null,null,null,null,null,null,null,null,null,null,null,null,null,null,null,null,null,{"$f":"SUM(N12:AL12)","v":0}]
[" 2.",{"$f":"stanb","v":"Stan na dzień dd.mm.rrrr"},null,null,null,null,null,null,null,null,null,null,null,{"$f":"N15+N16+N17+N18","v":0},null,null,null,null,{"$f":"S15+S16+S17+S18","v":0},null,null,null,null,{"$f":"X15+X16+X17+X18","v":0},null,null,null,null,{"$f":"AC15+AC16+AC17+AC18","v":0},null,null,null,null,{"$f":"AH15+AH16+AH17+AH18","v":0},null,null,null,null,{"$f":"AM15+AM16+AM17+AM18","v":0}]
[null,"w tym:"]
[null,"- do 1 roku",null,null,null,null,null,null,null,null,null,null,null,null,null,null,null,null,null,null,null,null,null,null,null,null,null,null,null,null,null,null,null,null,null,null,null,null,{"$f":"SUM(N15:AL15)","v":0}]
[null,"- powyżej 1 roku do 3 lat",null,null,null,null,null,null,null,null,null,null,null,null,null,null,null,null,null,null,null,null,null,null,null,null,null,null,null,null,null,null,null,null,null,null,null,null,{"$f":"SUM(N16:AL16)","v":0}]
[null,"- powyżej 3 lat do 5 lat",null,null,null,null,null,null,null,null,null,null,null,null,null,null,null,null,null,null,null,null,null,null,null,null,null,null,null,null,null,null,null,null,null,null,null,null,{"$f":"SUM(N17:AL17)","v":0}]
[null,"- powyżej 5 lat",null,null,null,null,null,null,null,null,null,null,null,null,null,null,null,null,null,null,null,null,null,null,null,null,null,null,null,null,null,null,null,null,null,null,null,null,{"$f":"SUM(N18:AL18)","v":0}]
[]
[]
[]
[null,null,null,null,null,null,null,null,null,null,null,null,null,null,null,null,null,null,null,null,null,null,null,null,null,null,null,null,null,null,null,null,null,null,null,null,null,null,null,null,null,null,null,null,"Miejsce na dodatkowy opis"]
[]
[]
[]
[]
[]
[]
[]
[]
[]
[]
[]
[]
[]
[]
[]
[]
[null,"Sprawdzenie BO"]
[null,"Nota",null,null,null,null,null,null,null,null,null,null,null,{"$f":"N12","v":0},null,null,null,null,{"$f":"S12","v":0},null,null,null,null,{"$f":"X12","v":0},null,null,null,null,{"$f":"AC12","v":0},null,null,null,null,{"$f":"AH12","v":0},null,null,null,null,{"$f":"AM12","v":0}]
[null,"Bilans",null,null,null,null,null,null,null,null,null,null,null,{"$f":"Bilans_PASYWA!$X$41","v":0},null,null,null,null,{"$f":"Bilans_PASYWA!$X$42","v":0},null,null,null,null,{"$f":"Bilans_PASYWA!$X$43","v":0},null,null,null,null,{"$f":"Bilans_PASYWA!$X$44","v":0},null,null,null,null,{"$f":"Bilans_PASYWA!$X$45","v":0},null,null,null,null,{"$f":"Bilans_PASYWA!$X$40","v":0}]
[null,"różnica",null,null,null,null,null,null,null,null,null,null,null,{"$f":"N40-N41","v":0},null,null,null,null,{"$f":"S40-S41","v":0},null,null,null,null,{"$f":"X40-X41","v":0},null,null,null,null,{"$f":"AC40-AC41","v":0},null,null,null,null,{"$f":"AH40-AH41","v":0},null,null,null,null,{"$f":"AM40-AM41","v":0}]
[]
[null,"Sprawdzenie BZ"]
[null,"Nota",null,null,null,null,null,null,null,null,null,null,null,{"$f":"N13","v":0},null,null,null,null,{"$f":"S13","v":0},null,null,null,null,{"$f":"X13","v":0},null,null,null,null,{"$f":"AC13","v":0},null,null,null,null,{"$f":"AH13","v":0},null,null,null,null,{"$f":"AM13","v":0}]
[null,"Bilans",null,null,null,null,null,null,null,null,null,null,null,{"$f":"Bilans_PASYWA!$S$41","v":0},null,null,null,null,{"$f":"Bilans_PASYWA!$S$42","v":0},null,null,null,null,{"$f":"Bilans_PASYWA!$S$43","v":0},null,null,null,null,{"$f":"Bilans_PASYWA!$S$44","v":0},null,null,null,null,{"$f":"Bilans_PASYWA!$S$45","v":0},null,null,null,null,{"$f":"Bilans_PASYWA!$S$40","v":0}]
[null,"różnica",null,null,null,null,null,null,null,null,null,null,null,{"$f":"N45-N46","v":0},null,null,null,null,{"$f":"S45-S46","v":0},null,null,null,null,{"$f":"X45-X46","v":0},null,null,null,null,{"$f":"AC45-AC46","v":0},null,null,null,null,{"$f":"AH45-AH46","v":0},null,null,null,null,{"$f":"AM45-AM46","v":0}]

{"sheet":"Rezerwy","index":45,"n_rows":57,"n_cols":45,"rows_kept":57,"cut":false,"hidden":false,"merged":[[23,0,23,42],[41,1,41,12],[39,13,39,17],[41,18,41,22],[41,23,41,27],[41,13,41,17],[22,23,22,27],[17,28,18,32],[40,38,40,42],[21,28,21,32],[22,38,22,42],[21,38,21,42],[39,38,39,42],[21,33,21,37],[17,33,18,37],[19,28,19,32],[17,38,18,42],[41,38,41,42],[41,28,41,32],[40,33,40,37],[41,33,41,37],[20,28,20,32],[38,1,38,12],[40,1,40,12],[39,18,39,22],[17,44,20,50],[15,13,16,17],[17,13,18,17],[12,18,12,22],[40,13,40,17],[39,1,39,12],[22,1,22,12],[40,18,40,22],[22,13,22,17],[22,33,22,37],[39,33,39,37],[40,28,40,32],[39,28,39,32],[39,23,39,27],[40,23,40,27],[20,13,20,17],[22,18,22,22],[21,18,21,22],[21,23,21,27],[19,13,19,17],[21,1,21,12],[20,1,20,12],[19,38,19,42],[20,38,20,42],[14,33,14,37],[13,38,13,42],[19,18,19,22],[21,13,21,17],[22,28,22,32],[10,28,10,32],[12,28,12,32],[13,28,13,32],[17,23,18,27],[14,23,14,27],[12,23,12,27],[19,1,19,12],[12,1,12,12],[20,18,20,22],[15,33,16,37],[14,28,14,32],[15,28,16,32],[20,23,20,27],[17,18,18,22],[13,23,13,27],[15,23,16,27],[14,18,14,22],[19,33,19,37],[19,23,19,27],[13,33,13,37],[20,33,20,37],[9,33,9,37],[6,38,9,42],[6,1,9,12],[4,0,4,11],[6,0,9,0],[15,0,16,0],[11,13,11,17],[12,13,12,17],[14,1,14,12],[15,1,16,12],[13,1,13,12],[13,13,13,17],[10,1,10,12],[11,1,11,12],[10,13,10,17],[6,18,8,27],[6,28,8,37],[11,18,11,22],[2,44,2,49],[17,0,18,0],[14,13,14,17],[17,1,18,12],[14,38,14,42],[11,33,11,37],[12,33,12,37],[5,0,5,42],[10,33,10,37],[10,38,10,42],[13,18,13,22],[15,18,16,22],[6,13,9,17],[9,18,9,22],[10,18,10,22],[9,23,9,27],[15,38,16,42],[11,38,11,42],[12,38,12,42],[10,23,10,27],[11,23,11,27],[12,44,15,50],[11,28,11,32],[9,28,9,32],[43,1,43,12],[44,1,44,12],[44,13,44,17],[44,18,44,22],[44,23,44,27],[44,28,44,32],[44,33,44,37],[44,38,44,42],[45,1,45,12],[45,13,45,17],[45,18,45,22],[45,23,45,27],[45,28,45,32],[45,33,45,37],[45,38,45,42],[24,1,24,12],[24,13,24,17],[24,18,24,22],[24,23,24,27],[24,28,24,32],[24,33,24,37],[24,38,24,42],[25,1,25,12],[25,13,25,17],[25,18,25,22],[25,23,25,27],[25,28,25,32],[25,33,25,37],[25,38,25,42],[26,1,26,12],[26,13,26,17],[26,18,26,22],[26,23,26,27],[26,28,26,32],[26,33,26,37],[26,38,26,42],[27,1,27,12],[27,13,27,17],[27,18,27,22],[27,23,27,27],[27,28,27,32],[27,33,27,37],[27,38,27,42],[31,0,36,42],[48,1,48,12],[30,0,30,42],[28,1,28,12],[28,13,28,17],[28,18,28,22],[28,23,28,27],[28,28,28,32],[28,33,28,37],[28,38,28,42],[29,1,29,12],[29,13,29,17],[29,18,29,22],[29,23,29,27],[29,28,29,32],[29,33,29,37],[29,38,29,42],[46,1,46,12],[46,13,46,17],[46,18,46,22],[46,23,46,27],[46,28,46,32],[46,33,46,37],[46,38,46,42],[49,1,49,12],[49,13,49,17],[49,18,49,22],[49,23,49,27],[49,28,49,32],[49,33,49,37],[49,38,49,42],[50,1,50,12],[50,13,50,17],[50,18,50,22],[50,23,50,27],[50,28,50,32],[50,33,50,37],[50,38,50,42],[51,1,51,12],[51,13,51,17],[51,18,51,22],[51,23,51,27],[51,28,51,32],[51,33,51,37],[51,38,51,42],[53,1,53,12],[54,1,54,12],[54,13,54,17],[54,18,54,22],[54,23,54,27],[54,28,54,32],[54,33,54,37],[54,38,54,42],[55,1,55,12],[55,13,55,17],[55,18,55,22],[55,23,55,27],[55,28,55,32],[55,33,55,37],[55,38,55,42],[56,1,56,12],[56,13,56,17],[56,18,56,22],[56,23,56,27],[56,28,56,32],[56,33,56,37],[56,38,56,42]]}
[{"$f":"nazwa","v":"DEMO"}]
[{"$f":"temat","v":"Sprawozdanie finansowe za rok 2023"}]
[null,null,null,null,null,null,null,null,null,null,null,null,null,null,null,null,null,null,null,null,null,null,null,null,null,null,null,null,null,null,null,null,null,null,null,null,null,null,null,null,null,null,null,null,"Powrót do parametrów"]
[]
[{"$f":"NumerNoty(Parametry!$B$62)","v":"Nota nr 2"}]
["Zmiany w stanie rezerw "]
["Lp.","Wyszczególnienie",null,null,null,null,null,null,null,null,null,null,null,"Rezerwa z tytułu odroczonego podatku dochodowego",null,null,null,null,"Rezerwy na świadczenia emerytalne i podobne",null,null,null,null,null,null,null,null,null,"Pozostałe rezerwy",null,null,null,null,null,null,null,null,null,"Razem"]
[]
[]
[null,null,null,null,null,null,null,null,null,null,null,null,null,null,null,null,null,null,"długoterminowe",null,null,null,null,"krótkoterminowe",null,null,null,null,"długoterminowe",null,null,null,null,"krótkoterminowe"]
[" 1.",{"$f":"stanp","v":"Stan na dzień dd.mm.rrrr"},null,null,null,null,null,null,null,null,null,null,null,null,null,null,null,null,null,null,null,null,null,null,null,null,null,null,null,null,null,null,null,null,null,null,null,null,{"$f":"SUM(N11:AL11)","v":0}]
[" 2.","Zwiększenia",null,null,null,null,null,null,null,null,null,null,null,{"$f":"SUM(N13:R14)","v":0},null,null,null,null,{"$f":"SUM(S13:W14)","v":0},null,null,null,null,{"$f":"SUM(X13:AB14)","v":0},null,null,null,null,{"$f":"SUM(AC13:AG14)","v":0},null,null,null,null,{"$f":"SUM(AH13:AL14)","v":0},null,null,null,null,{"$f":"SUM(N12:AL12)","v":0}]
[null,"zwiększenia z tytułu utworzenia rezerw",null,null,null,null,null,null,null,null,null,null,null,null,null,null,null,null,null,null,null,null,null,null,null,null,null,null,null,null,null,null,null,null,null,null,null,null,0]
[null,"przesunięcia (zmiana klasyfikacji rezerw)",null,null,null,null,null,null,null,null,null,null,null,null,null,null,null,null,null,null,null,null,null,null,null,null,null,null,null,null,null,null,null,null,null,null,null,null,0]
[" 3.","Zmniejszenia",null,null,null,null,null,null,null,null,null,null,null,{"$f":"SUM(N16:R22)","v":0},null,null,null,null,{"$f":"SUM(S16:W22)","v":0},null,null,null,null,{"$f":"SUM(X16:AB22)","v":0},null,null,null,null,{"$f":"SUM(AC16:AG22)","v":0},null,null,null,null,{"$f":"SUM(AH16:AL22)","v":0},null,null,null,null,0]
[null,"zmniejszenie rezerw rozliczonych z pozostałymi przychodami operacyjnymi",null,null,null,null,null,null,null,null,null,null,null,null,null,null,null,null,null,null,null,null,null,null,null,null,null,null,null,null,null,null,null,null,null,null,null,null,0]
[null,null,null,null,null,null,null,null,null,null,null,null,null,null,null,null,null,null,null,null,null,null,null,null,null,null,null,null,null,null,null,null,null,null,null,null,null,null,0]
[null,"zmniejszenie rezerw rozliczonych z przychodami finansowymi",null,null,null,null,null,null,null,null,null,null,null,null,null,null,null,null,null,null,null,null,null,null,null,null,null,null,null,null,null,null,null,null,null,null,null,null,0]
[null,null,null,null,null,null,null,null,null,null,null,null,null,null,null,null,null,null,null,null,null,null,null,null,null,null,null,null,null,null,null,null,null,null,null,null,null,null,0]
[null,"wykorzystanie rezerw",null,null,null,null,null,null,null,null,null,null,null,null,null,null,null,null,null,null,null,null,null,null,null,null,null,null,null,null,null,null,null,null,null,null,null,null,0]
[null,"przesunięcia (zmiana klasyfikacji rezerw)",null,null,null,null,null,null,null,null,null,null,null,null,null,null,null,null,null,null,null,null,null,null,null,null,null,null,null,null,null,null,null,null,null,null,null,null,0]
[null,null,null,null,null,null,null,null,null,null,null,null,null,null,null,null,null,null,null,null,null,null,null,null,null,null,null,null,null,null,null,null,null,null,null,null,null,null,0]
[" 4.",{"$f":"stanb","v":"Stan na dzień dd.mm.rrrr"},null,null,null,null,null,null,null,null,null,null,null,{"$f":"N11+N12-N15","v":0},null,null,null,null,{"$f":"S11+S12-S15","v":0},null,null,null,null,{"$f":"X11+X12-X15","v":0},null,null,null,null,{"$f":"AC11+AC12-AC15","v":0},null,null,null,null,{"$f":"AH11+AH12-AH15","v":0},null,null,null,null,0]
["w tym wg KSR 6 (I.1.4.):"]
[" 1.",{"$f":"stanp","v":"Stan na dzień dd.mm.rrrr"},null,null,null,null,null,null,null,null,null,null,null,"x",null,null,null,null,{"$f":"S26+S27","v":0},null,null,null,null,{"$f":"X26+X27","v":0},null,null,null,null,{"$f":"AC26+AC27","v":0},null,null,null,null,{"$f":"AH26+AH27","v":0},null,null,null,null,{"$f":"AM26+AM27","v":0}]
[null,"Rozliczenia międzyokresowe bierne (art. 39.2.2)",null,null,null,null,null,null,null,null,null,null,null,"x",null,null,null,null,{"$f":"S11","v":0},null,null,null,null,{"$f":"X11","v":0},null,null,null,null,null,null,null,null,null,null,null,null,null,null,{"$f":"SUM(N26:AL26)","v":0}]
[null,"Rezerwy (art. 35d)",null,null,null,null,null,null,null,null,null,null,null,"x",null,null,null,null,0,null,null,null,null,0,null,null,null,null,null,null,null,null,null,null,null,null,null,null,{"$f":"SUM(N27:AL27)","v":0}]
[" 2.",{"$f":"stanb","v":"Stan na dzień dd.mm.rrrr"},null,null,null,null,null,null,null,null,null,null,null,"x",null,null,null,null,{"$f":"S29+S30","v":0},null,null,null,null,{"$f":"X29+X30","v":0},null,null,null,null,{"$f":"AC29+AC30","v":0},null,null,null,null,{"$f":"AH29+AH30","v":0},null,null,null,null,{"$f":"AM29+AM30","v":0}]
[null,"Rozliczenia międzyokresowe bierne (art. 39.2.2)",null,null,null,null,null,null,null,null,null,null,null,"x",null,null,null,null,{"$f":"S23","v":0},null,null,null,null,{"$f":"X23","v":0},null,null,null,null,null,null,null,null,null,null,null,null,null,null,{"$f":"SUM(N29:AL29)","v":0}]
[null,"Rezerwy (art. 35d)",null,null,null,null,null,null,null,null,null,null,null,"x",null,null,null,null,0,null,null,null,null,0,null,null,null,null,null,null,null,null,null,null,null,null,null,null,{"$f":"SUM(N30:AL30)","v":0}]
[]
[null,null,null,null,null,null,null,null,null,null,null,null,null,null,null,null,null,null,null,null,null,null,null,null,null,null,null,null,null,null,null,null,null,null,null,null,null,null,null,null,null,null,null,null,"Miejsce na dodatkowy opis"]
[]
[]
[]
[]
[]
[]
[null,"Sprawdzenie BO"]
[null,"Nota",null,null,null,null,null,null,null,null,null,null,null,{"$f":"N11","v":0},null,null,null,null,{"$f":"S11","v":0},null,null,null,null,{"$f":"X11","v":0},null,null,null,null,{"$f":"AC11","v":0},null,null,null,null,{"$f":"AH11","v":0},null,null,null,null,{"$f":"SUM(N40:AL40)","v":0}]
[null,"Bilans",null,null,null,null,null,null,null,null,null,null,null,{"$f":"Bilans_PASYWA!X$29","v":0},null,null,null,null,{"$f":"Bilans_PASYWA!X$31","v":0},null,null,null,null,{"$f":"Bilans_PASYWA!X$32","v":0},null,null,null,null,{"$f":"Bilans_PASYWA!X$34","v":0},null,null,null,null,{"$f":"Bilans_PASYWA!X$35","v":0},null,null,null,null,{"$f":"Bilans_PASYWA!X$28","v":0}]
[null,"różnica",null,null,null,null,null,null,null,null,null,null,null,{"$f":"N40-N41","v":0},null,null,null,null,{"$f":"S40-S41","v":0},null,null,null,null,{"$f":"X40-X41","v":0},null,null,null,null,{"$f":"AC40-AC41","v":0},null,null,null,null,{"$f":"AH40-AH41","v":0},null,null,null,null,{"$f":"AM40-AM41","v":0}]
[]
[null,"Sprawdzenie BZ"]
[null,"Nota",null,null,null,null,null,null,null,null,null,null,null,{"$f":"N23","v":0},null,null,null,null,{"$f":"S23","v":0},null,null,null,null,{"$f":"X23","v":0},null,null,null,null,{"$f":"AC23","v":0},null,null,null,null,{"$f":"AH23","v":0},null,null,null,null,{"$f":"SUM(N45:AL45)","v":0}]
[null,"Bilans",null,null,null,null,null,null,null,null,null,null,null,{"$f":"Bilans_PASYWA!S$29","v":0},null,null,null,null,{"$f":"Bilans_PASYWA!S$31","v":0},null,null,null,null,{"$f":"Bilans_PASYWA!S$32","v":0},null,null,null,null,{"$f":"Bilans_PASYWA!S$34","v":0},null,null,null,null,{"$f":"Bilans_PASYWA!S$35","v":0},null,null,null,null,{"$f":"Bilans_PASYWA!S$28","v":0}]
[null,"różnica",null,null,null,null,null,null,null,null,null,null,null,{"$f":"N45-N46","v":0},null,null,null,null,{"$f":"S45-S46","v":0},null,null,null,null,{"$f":"X45-X46","v":0},null,null,null,null,{"$f":"AC45-AC46","v":0},null,null,null,null,{"$f":"AH45-AH46","v":0},null,null,null,null,{"$f":"AM45-AM46","v":0}]
[]
[null,"Sprawdzenie BO wg KSR nr 6"]
[null,"Nota",null,null,null,null,null,null,null,null,null,null,null,"x",null,null,null,null,{"$f":"S11","v":0},null,null,null,null,{"$f":"X11","v":0},null,null,null,null,{"$f":"AC11","v":0},null,null,null,null,{"$f":"AH11","v":0},null,null,null,null,{"$f":"SUM(N50:AL50)","v":0}]
[null,"Nota",null,null,null,null,null,null,null,null,null,null,null,"x",null,null,null,null,{"$f":"S25","v":0},null,null,null,null,{"$f":"X25","v":0},null,null,null,null,{"$f":"AC25","v":0},null,null,null,null,{"$f":"AH25","v":0},null,null,null,null,{"$f":"SUM(N51:AL51)","v":0}]
[null,"różnica",null,null,null,null,null,null,null,null,null,null,null,"x",null,null,null,null,{"$f":"S50-S51","v":0},null,null,null,null,{"$f":"X50-X51","v":0},null,null,null,null,{"$f":"AC50-AC51","v":0},null,null,null,null,{"$f":"AH50-AH51","v":0},null,null,null,null,{"$f":"AM50-AM51","v":0}]
[]
[null,"Sprawdzenie BZ wg KSR nr 6"]
[null,"Nota",null,null,null,null,null,null,null,null,null,null,null,"x",null,null,null,null,{"$f":"S23","v":0},null,null,null,null,{"$f":"X23","v":0},null,null,null,null,{"$f":"AC23","v":0},null,null,null,null,{"$f":"AH23","v":0},null,null,null,null,{"$f":"SUM(N55:AL55)","v":0}]
[null,"Nota",null,null,null,null,null,null,null,null,null,null,null,"x",null,null,null,null,{"$f":"S28","v":0},null,null,null,null,{"$f":"X28","v":0},null,null,null,null,{"$f":"AC28","v":0},null,null,null,null,{"$f":"AH28","v":0},null,null,null,null,{"$f":"SUM(N56:AL56)","v":0}]
[null,"różnica",null,null,null,null,null,null,null,null,null,null,null,"x",null,null,null,null,{"$f":"S55-S56","v":0},null,null,null,null,{"$f":"X55-X56","v":0},null,null,null,null,{"$f":"AC55-AC56","v":0},null,null,null,null,{"$f":"AH55-AH56","v":0},null,null,null,null,{"$f":"AM55-AM56","v":0}]

{"sheet":"Zobow_krótk","index":46,"n_rows":45,"n_cols":45,"rows_kept":45,"cut":false,"hidden":true,"merged":[[2,44,2,49],[39,0,39,10],[34,0,35,0],[34,1,35,10],[30,1,30,10],[9,11,9,14],[10,11,11,14],[23,1,23,10],[13,1,13,10],[24,1,24,10],[10,0,11,0],[12,1,12,10],[9,1,9,10],[10,1,11,10],[12,11,12,14],[13,11,13,14],[14,11,14,14],[28,0,29,0],[25,1,26,10],[25,0,26,0],[27,1,27,10],[14,1,14,10],[31,1,31,10],[32,1,32,10],[33,1,33,10],[27,11,27,14],[36,1,36,10],[36,11,36,14],[28,1,29,10],[12,19,12,22],[31,19,31,22],[37,1,37,10],[33,11,33,14],[28,11,29,14],[30,11,30,14],[31,11,31,14],[32,11,32,14],[34,11,35,14],[23,11,23,14],[24,15,24,18],[25,15,26,18],[27,15,27,18],[34,15,35,18],[14,15,14,18],[12,15,12,18],[13,15,13,18],[31,15,31,18],[24,11,24,14],[25,11,26,14],[13,39,13,42],[14,39,14,42],[23,39,23,42],[12,44,23,50],[23,15,23,18],[14,19,14,22],[23,19,23,22],[5,0,5,42],[10,31,11,34],[12,31,12,34],[23,31,23,34],[9,39,9,42],[10,39,11,42],[12,39,12,42],[9,35,9,38],[14,35,14,38],[23,35,23,38],[13,31,13,34],[9,31,9,34],[15,39,17,42],[18,39,19,42],[20,39,20,42],[15,31,17,34],[4,0,4,10],[9,19,9,22],[10,19,11,22],[9,15,9,18],[23,23,23,26],[10,15,11,18],[10,23,11,26],[12,23,12,26],[13,23,13,26],[9,23,9,26],[13,19,13,22],[18,0,19,0],[18,1,19,10],[18,11,19,14],[15,1,17,10],[15,0,17,0],[15,11,17,14],[15,15,17,18],[20,1,20,10],[20,11,20,14],[20,15,20,18],[18,15,19,18],[21,1,21,10],[21,11,21,14],[15,35,17,38],[14,31,14,34],[18,31,19,34],[18,35,19,38],[20,31,20,34],[20,35,20,38],[7,23,7,42],[6,19,6,42],[8,23,8,26],[7,19,8,22],[8,39,8,42],[8,27,8,30],[8,31,8,34],[8,35,8,38],[15,19,17,22],[15,23,17,26],[15,27,17,30],[20,19,20,22],[20,23,20,26],[20,27,20,30],[18,19,19,22],[18,23,19,26],[18,27,19,30],[39,39,39,42],[6,0,8,0],[6,1,8,10],[6,11,8,14],[6,15,8,18],[28,35,29,38],[9,27,9,30],[10,27,11,30],[12,27,12,30],[13,27,13,30],[14,27,14,30],[23,27,23,30],[24,27,24,30],[28,31,29,34],[30,19,30,22],[28,15,29,18],[30,15,30,18],[10,35,11,38],[12,35,12,38],[13,35,13,38],[14,23,14,26],[24,39,24,42],[30,31,30,34],[31,31,31,34],[25,44,28,50],[25,39,26,42],[27,39,27,42],[28,39,29,42],[30,39,30,42],[30,35,30,38],[38,39,38,42],[37,35,37,38],[38,35,38,38],[36,39,36,42],[34,35,35,38],[36,35,36,38],[34,39,35,42],[32,39,32,42],[33,39,33,42],[37,39,37,42],[32,35,32,38],[33,35,33,38],[27,35,27,38],[25,35,26,38],[31,35,31,38],[32,31,32,34],[25,31,26,34],[31,39,31,42],[24,35,24,38],[27,19,27,22],[28,19,29,22],[24,19,24,22],[25,27,26,30],[27,27,27,30],[28,27,29,30],[27,31,27,34],[31,23,31,26],[30,23,30,26],[28,23,29,26],[27,23,27,26],[30,27,30,30],[31,27,31,30],[25,23,26,26],[24,23,24,26],[24,31,24,34],[25,19,26,22],[39,35,39,38],[39,23,39,26],[38,31,38,34],[39,31,39,34],[39,27,39,30],[39,19,39,22],[32,23,32,26],[36,31,36,34],[33,31,33,34],[33,27,33,30],[34,27,35,30],[32,27,32,30],[37,31,37,34],[38,27,38,30],[38,23,38,26],[34,31,35,34],[37,23,37,26],[36,23,36,26],[34,23,35,26],[33,23,33,26],[32,19,32,22],[38,19,38,22],[36,27,36,30],[37,27,37,30],[32,15,32,18],[33,19,33,22],[33,15,33,18],[44,1,44,10],[44,11,44,14],[44,15,44,18],[43,1,43,10],[42,1,42,10],[38,15,38,18],[38,1,38,10],[39,11,39,14],[41,1,41,10],[39,15,39,18],[42,11,42,14],[43,11,43,14],[42,15,42,18],[43,15,43,18],[38,11,38,14],[37,11,37,14],[37,19,37,22],[34,19,35,22],[36,19,36,22],[36,15,36,18],[37,15,37,18],[21,15,21,18],[21,19,21,22],[21,23,21,26],[21,27,21,30],[21,31,21,34],[21,35,21,38],[21,39,21,42],[22,1,22,10],[22,11,22,14],[22,15,22,18],[22,19,22,22],[22,23,22,26],[22,27,22,30],[22,31,22,34],[22,35,22,38],[22,39,22,42]]}
[{"$f":"nazwa","v":"DEMO"}]
[{"$f":"temat","v":"Sprawozdanie finansowe za rok 2023"}]
[null,null,null,null,null,null,null,null,null,null,null,null,null,null,null,null,null,null,null,null,null,null,null,null,null,null,null,null,null,null,null,null,null,null,null,null,null,null,null,null,null,null,null,null,"Powrót do parametrów"]
[]
[{"$f":"NumerNoty(Parametry!$B$63)","v":"Nota nie podlegająca prezentacji"}]
["Zobowiązania krótkoterminowe (stan na BZ)  według struktury wiekowej"]
["Lp.","Wyszczególnienie",null,null,null,null,null,null,null,null,null,{"$f":"stanp","v":"Stan na dzień dd.mm.rrrr"},null,null,null,{"$f":"stanb","v":"Stan na dzień dd.mm.rrrr"},null,null,null,"Struktura wiekowa"]
[null,null,null,null,null,null,null,null,null,null,null,null,null,null,null,null,null,null,null,"Nieprzeterminowane",null,null,null,"Zobowiązania przeterminowane"]
[null,null,null,null,null,null,null,null,null,null,null,null,null,null,null,null,null,null,null,null,null,null,null,"do 90 dni",null,null,null,"90 - 180 dni",null,null,null,"180 - 360 dni",null,null,null,"1 - 3 lat",null,null,null,"powyżej 3 lat"]
["I.","Wobec jednostek powiązanych",null,null,null,null,null,null,null,null,null,{"$f":"L11+L15","v":0},null,null,null,{"$f":"P11+P15","v":0},null,null,null,{"$f":"T11+T15","v":0},null,null,null,{"$f":"X11+X15","v":0},null,null,null,{"$f":"AB11+AB15","v":0},null,null,null,{"$f":"AF11+AF15","v":0},null,null,null,{"$f":"AJ11+AJ15","v":0},null,null,null,{"$f":"AN11+AN15","v":0}]
[" 1.","z tytułu dostaw i usług o okresie wymagalności:",null,null,null,null,null,null,null,null,null,{"$f":"L13+L14","v":0},null,null,null,{"$f":"P13+P14","v":0},null,null,null,{"$f":"T13+T14","v":0},null,null,null,{"$f":"X13+X14","v":0},null,null,null,{"$f":"AB13+AB14","v":0},null,null,null,{"$f":"AF13+AF14","v":0},null,null,null,{"$f":"AJ13+AJ14","v":0},null,null,null,{"$f":"AN13+AN14","v":0}]
[]
[null,"do 12 miesięcy",null,null,null,null,null,null,null,null,null,null,null,null,null,{"$f":"T13+X13+AB13+AF13+AJ13+AN13","v":0}]
[null,"powyżej 12 miesięcy",null,null,null,null,null,null,null,null,null,null,null,null,null,{"$f":"T14+X14+AB14+AF14+AJ14+AN14","v":0}]
[" 2.","inne",null,null,null,null,null,null,null,null,null,null,null,null,null,{"$f":"T15+X15+AB15+AF15+AJ15+AN15","v":0}]
["II.","Wobec pozostałych jednostek, w których jednostka posiada zaangażowanie w kapitale",null,null,null,null,null,null,null,null,null,{"$f":"L19+L23","v":0},null,null,null,{"$f":"P19+P23","v":0},null,null,null,{"$f":"T19+T23","v":0},null,null,null,{"$f":"X19+X23","v":0},null,null,null,{"$f":"AB19+AB23","v":0},null,null,null,{"$f":"AF19+AF23","v":0},null,null,null,{"$f":"AJ19+AJ23","v":0},null,null,null,{"$f":"AN19+AN23","v":0}]
[]
[]
[" 1.","z tytułu dostaw i usług o okresie wymagalności:",null,null,null,null,null,null,null,null,null,{"$f":"L21+L22","v":0},null,null,null,{"$f":"P21+P22","v":0},null,null,null,{"$f":"T21+T22","v":0},null,null,null,{"$f":"X21+X22","v":0},null,null,null,{"$f":"AB21+AB22","v":0},null,null,null,{"$f":"AF21+AF22","v":0},null,null,null,{"$f":"AJ21+AJ22","v":0},null,null,null,{"$f":"AN21+AN22","v":0}]
[]
[null,"do 12 miesięcy",null,null,null,null,null,null,null,null,null,null,null,null,null,{"$f":"T21+X21+AB21+AF21+AJ21+AN21","v":0}]
[null,"powyżej 12 miesięcy",null,null,null,null,null,null,null,null,null,null,null,null,null,{"$f":"T22+X22+AB22+AF22+AJ22+AN22","v":0}]
[" 2.","inne",null,null,null,null,null,null,null,null,null,null,null,null,null,{"$f":"T23+X23+AB23+AF23+AJ23+AN23","v":0}]
["III.","Wobec pozostałych jednostek",null,null,null,null,null,null,null,null,null,{"$f":"L25+L26+L28+L29+L33+L34+L35+L37+L38","v":0},null,null,null,{"$f":"P25+P26+P28+P29+P33+P34+P35+P37+P38","v":0},null,null,null,{"$f":"T25+T26+T28+T29+T33+T34+T35+T37+T38","v":0},null,null,null,{"$f":"X25+X26+X28+X29+X33+X34+X35+X37+X38","v":0},null,null,null,{"$f":"AB25+AB26+AB28+AB29+AB33+AB34+AB35+AB37+AB38","v":0},null,null,null,{"$f":"AF25+AF26+AF28+AF29+AF33+AF34+AF35+AF37+AF38","v":0},null,null,null,{"$f":"AJ25+AJ26+AJ28+AJ29+AJ33+AJ34+AJ35+AJ37+AJ38","v":0},null,null,null,{"$f":"AN25+AN26+AN28+AN29+AN33+AN34+AN35+AN37+AN38","v":0}]
[" 1.","kredyty i pożyczki",null,null,null,null,null,null,null,null,null,null,null,null,null,{"$f":"T25+X25+AB25+AF25+AJ25+AN25","v":0}]
[" 2.","z tytułu emisji dłużnych papierów wartościowych",null,null,null,null,null,null,null,null,null,null,null,null,null,{"$f":"SUM(T26:AQ27)","v":0}]
[]
[" 3.","inne zobowiązania finansowe",null,null,null,null,null,null,null,null,null,null,null,null,null,{"$f":"T28+X28+AB28+AF28+AJ28+AN28","v":0}]
[" 4.","z tytułu dostaw i usług o okresie wymagalności:",null,null,null,null,null,null,null,null,null,{"$f":"L31+L32","v":0},null,null,null,{"$f":"P31+P32","v":0},null,null,null,{"$f":"T31+T32","v":0},null,null,null,{"$f":"X31+X32","v":0},null,null,null,{"$f":"AB31+AB32","v":0},null,null,null,{"$f":"AF31+AF32","v":0},null,null,null,{"$f":"AJ31+AJ32","v":0},null,null,null,{"$f":"AN31+AN32","v":0}]
[]
[null,"do 12 miesięcy",null,null,null,null,null,null,null,null,null,null,null,null,null,{"$f":"T31+X31+AB31+AF31+AJ31+AN31","v":0}]
[null,"powyżej 12 miesięcy",null,null,null,null,null,null,null,null,null,null,null,null,null,{"$f":"T32+X32+AB32+AF32+AJ32+AN32","v":0}]
[" 5.","zaliczki otrzymane na dostawy i usługi",null,null,null,null,null,null,null,null,null,null,null,null,null,{"$f":"T33+X33+AB33+AF33+AJ33+AN33","v":0}]
[" 6.","zobowiązania wekslowe",null,null,null,null,null,null,null,null,null,null,null,null,null,{"$f":"T34+X34+AB34+AF34+AJ34+AN34","v":0}]
[" 7.","z tytułu podatków, ceł, ubezpieczeń społecznych i innych świadczeń",null,null,null,null,null,null,null,null,null,null,null,null,null,{"$f":"T35+X35+AB35+AF35+AJ35+AN35","v":0}]
[]
[" 8.","z tytułu wynagrodzeń",null,null,null,null,null,null,null,null,null,null,null,null,null,{"$f":"T37+X37+AB37+AF37+AJ37+AN37","v":0}]
[" 9.","inne",null,null,null,null,null,null,null,null,null,null,null,null,null,{"$f":"T38+X38+AB38+AF38+AJ38+AN38","v":0}]
["IV.","Fundusze specjalne",null,null,null,null,null,null,null,null,null,null,null,null,null,{"$f":"T39+X39+AB39+AF39+AJ39+AN39","v":0}]
["RAZEM",null,null,null,null,null,null,null,null,null,null,{"$f":"L10+L16+L24+L39","v":0},null,null,null,{"$f":"P10+P16+P24+P39","v":0},null,null,null,{"$f":"T10+T16+T24+T39","v":0},null,null,null,{"$f":"X10+X16+X24+X39","v":0},null,null,null,{"$f":"AB10+AB16+AB24+AB39","v":0},null,null,null,{"$f":"AF10+AF16+AF24+AF39","v":0},null,null,null,{"$f":"AJ10+AJ16+AJ24+AJ39","v":0},null,null,null,{"$f":"AN10+AN16+AN24+AN39","v":0}]
[]
[null,"Sprawdzenie:"]
[null,"Nota",null,null,null,null,null,null,null,null,null,{"$f":"L40","v":0},null,null,null,{"$f":"P40","v":0}]
[null,"Bilans",null,null,null,null,null,null,null,null,null,{"$f":"Bilans_PASYWA!X46","v":0},null,null,null,{"$f":"Bilans_PASYWA!S46","v":0}]
[null,"różnica",null,null,null,null,null,null,null,null,null,{"$f":"L43-L44","v":0},null,null,null,{"$f":"P43-P44","v":0}]

{"sheet":"RMC_Długot","index":47,"n_rows":42,"n_cols":45,"rows_kept":42,"cut":false,"hidden":true,"merged":[[40,1,40,32],[14,1,14,32],[15,1,15,32],[10,1,10,32],[11,1,11,32],[16,1,16,32],[17,1,17,32],[19,1,19,32],[18,1,18,32],[39,1,39,32],[12,1,12,32],[13,1,13,32],[41,33,41,37],[17,33,17,37],[18,33,18,37],[14,33,14,37],[40,38,40,42],[39,38,39,42],[16,38,16,42],[17,38,17,42],[17,44,20,50],[11,38,11,42],[12,38,12,42],[10,38,10,42],[41,38,41,42],[14,38,14,42],[15,38,15,42],[18,38,18,42],[19,38,19,42],[20,0,20,42],[21,0,36,42],[41,1,41,32],[39,33,39,37],[40,33,40,37],[19,33,19,37],[16,33,16,37],[2,44,2,49],[12,33,12,37],[13,33,13,37],[10,33,10,37],[11,33,11,37],[12,44,15,50],[13,38,13,42],[15,33,15,37],[4,0,4,9],[9,1,9,32],[6,1,7,32],[6,33,7,37],[5,0,5,42],[6,38,7,42],[8,33,8,37],[9,33,9,37],[8,38,8,42],[9,38,9,42],[8,1,8,32],[6,0,7,0]]}
[{"$f":"nazwa","v":"DEMO"}]
[{"$f":"temat","v":"Sprawozdanie finansowe za rok 2023"}]
[null,null,null,null,null,null,null,null,null,null,null,null,null,null,null,null,null,null,null,null,null,null,null,null,null,null,null,null,null,null,null,null,null,null,null,null,null,null,null,null,null,null,null,null,"Powrót do parametrów"]
[]
[{"$f":"NumerNoty(Parametry!$B$64)","v":"Nota nie podlegająca prezentacji"}]
["Rozliczenia międzyokresowe czynne - długoterminowe"]
["Lp.","Wyszczególnienie",null,null,null,null,null,null,null,null,null,null,null,null,null,null,null,null,null,null,null,null,null,null,null,null,null,null,null,null,null,null,null,{"$f":"stanb","v":"Stan na dzień dd.mm.rrrr"},null,null,null,null,{"$f":"stanp","v":"Stan na dzień dd.mm.rrrr"}]
[]
[" 1.","Aktywa z tytułu odroczonego podatku dochodowego"]
[" 2.","Inne długoterminowe rozliczenia międzyokresowe",null,null,null,null,null,null,null,null,null,null,null,null,null,null,null,null,null,null,null,null,null,null,null,null,null,null,null,null,null,null,null,{"$f":"SUM(AH11:AL19)","v":0},null,null,null,null,{"$f":"SUM(AM11:AQ19)","v":0}]
[null,"Czynsze, dzierżawy płatne z góry"]
[null,"Remonty środków trwałych"]
[null,"Koszty finansowe rozliczane w czasie"]
[null,"Koszty przygotowania nowej produkcji"]
[null,"Koszty prac rozwojowych"]
[]
[]
[]
[]
[null,"RAZEM",null,null,null,null,null,null,null,null,null,null,null,null,null,null,null,null,null,null,null,null,null,null,null,null,null,null,null,null,null,null,null,{"$f":"AH9+AH10","v":0},null,null,null,null,{"$f":"AM9+AM10","v":0}]
[]
[null,null,null,null,null,null,null,null,null,null,null,null,null,null,null,null,null,null,null,null,null,null,null,null,null,null,null,null,null,null,null,null,null,null,null,null,null,null,null,null,null,null,null,null,"Miejsce na dodatkowy opis"]
[]
[]
[]
[]
[]
[]
[]
[]
[]
[]
[]
[]
[]
[]
[]
[]
[null,"Sprawdzenie"]
[null,"Nota",null,null,null,null,null,null,null,null,null,null,null,null,null,null,null,null,null,null,null,null,null,null,null,null,null,null,null,null,null,null,null,{"$f":"AH20","v":0},null,null,null,null,{"$f":"AM20","v":0}]
[null,"Bilans",null,null,null,null,null,null,null,null,null,null,null,null,null,null,null,null,null,null,null,null,null,null,null,null,null,null,null,null,null,null,null,{"$f":"Bilans_AKTYWA!S50","v":0},null,null,null,null,{"$f":"Bilans_AKTYWA!X50","v":0}]
[null,"różnica",null,null,null,null,null,null,null,null,null,null,null,null,null,null,null,null,null,null,null,null,null,null,null,null,null,null,null,null,null,null,null,{"$f":"AH40-AH41","v":0},null,null,null,null,{"$f":"AM40-AM41","v":0}]

{"sheet":"RMC_Krótk","index":48,"n_rows":42,"n_cols":45,"rows_kept":42,"cut":false,"hidden":true,"merged":[[2,44,2,49],[17,1,17,32],[18,1,18,32],[23,0,23,32],[9,1,9,32],[10,1,10,32],[11,1,11,32],[22,1,22,32],[22,33,22,37],[21,1,21,32],[18,33,18,37],[19,33,19,37],[21,33,21,37],[19,1,19,32],[20,1,20,32],[4,0,4,9],[6,0,7,0],[5,0,5,42],[6,38,7,42],[6,33,7,37],[6,1,7,32],[39,1,39,32],[40,1,40,32],[41,1,41,32],[39,33,39,37],[40,33,40,37],[41,33,41,37],[41,38,41,42],[40,38,40,42],[39,38,39,42],[17,38,17,42],[21,38,21,42],[18,38,18,42],[8,38,8,42],[8,33,8,37],[15,33,15,37],[13,38,13,42],[14,38,14,42],[12,38,12,42],[9,33,9,37],[10,33,10,37],[8,1,8,32],[14,1,14,32],[16,1,16,32],[15,1,15,32],[13,1,13,32],[12,1,12,32],[13,44,16,50],[16,33,16,37],[10,38,10,42],[11,38,11,42],[9,38,9,42],[11,33,11,37],[12,33,12,37],[16,38,16,42],[15,38,15,42],[13,33,13,37],[14,33,14,37],[17,33,17,37],[23,44,26,50],[23,33,23,37],[23,38,23,42],[22,38,22,42],[20,38,20,42],[19,38,19,42],[24,0,24,42],[25,0,36,42],[20,33,20,37]]}
[{"$f":"nazwa","v":"DEMO"}]
[{"$f":"temat","v":"Sprawozdanie finansowe za rok 2023"}]
[null,null,null,null,null,null,null,null,null,null,null,null,null,null,null,null,null,null,null,null,null,null,null,null,null,null,null,null,null,null,null,null,null,null,null,null,null,null,null,null,null,null,null,null,"Powrót do parametrów"]
[]
[{"$f":"NumerNoty(Parametry!$B$65)","v":"Nota nie podlegająca prezentacji"}]
["Rozliczenia międzyokresowe czynne - krótkoterminowe"]
["Lp.","Wyszczególnienie",null,null,null,null,null,null,null,null,null,null,null,null,null,null,null,null,null,null,null,null,null,null,null,null,null,null,null,null,null,null,null,{"$f":"stanb","v":"Stan na dzień dd.mm.rrrr"},null,null,null,null,{"$f":"stanp","v":"Stan na dzień dd.mm.rrrr"}]
[]
[" 1.","Aktywa z tytułu niezakończonych umów budowlanych",null,null,null,null,null,null,null,null,null,null,null,null,null,null,null,null,null,null,null,null,null,null,null,null,null,null,null,null,null,null,null,{"$f":"Usługi_długot!$AH$9","v":0},null,null,null,null,{"$f":"Usługi_długot!$AM$9","v":0}]
[" 2.","Czynsze, dzierżawy płatne z góry"]
[" 3.","Ubezpieczenia majątkowe"]
[" 4.","Remonty środków trwałych"]
[" 5.","Prenumeraty"]
[" 6.","Koszty finansowe rozliczane w czasie"]
[" 7.","Koszty przygotowania nowej produkcji"]
[" 8.","Koszty prac rozwojowych"]
[" 9."]
[" 10."]
[" 11."]
[" 12."]
[" 13."]
[" 14."]
[" 15."]
["RAZEM",null,null,null,null,null,null,null,null,null,null,null,null,null,null,null,null,null,null,null,null,null,null,null,null,null,null,null,null,null,null,null,null,{"$f":"SUM(AH9:AL23)","v":0},null,null,null,null,{"$f":"SUM(AM9:AQ23)","v":0}]
[]
[]
[]
[null,null,null,null,null,null,null,null,null,null,null,null,null,null,null,null,null,null,null,null,null,null,null,null,null,null,null,null,null,null,null,null,null,null,null,null,null,null,null,null,null,null,null,null,"Miejsce na dodatkowy opis"]
[]
[]
[]
[]
[]
[]
[]
[]
[]
[]
[null,"Sprawdzenie"]
[null,"Nota",null,null,null,null,null,null,null,null,null,null,null,null,null,null,null,null,null,null,null,null,null,null,null,null,null,null,null,null,null,null,null,{"$f":"AH24","v":0},null,null,null,null,{"$f":"AM24","v":0}]
[null,"Bilans",null,null,null,null,null,null,null,null,null,null,null,null,null,null,null,null,null,null,null,null,null,null,null,null,null,null,null,null,null,null,null,{"$f":"Bilans_AKTYWA!S111","v":0},null,null,null,null,{"$f":"Bilans_AKTYWA!X111","v":0}]
[null,"różnica",null,null,null,null,null,null,null,null,null,null,null,null,null,null,null,null,null,null,null,null,null,null,null,null,null,null,null,null,null,null,null,{"$f":"AH40-AH41","v":0},null,null,null,null,{"$f":"AM40-AM41","v":0}]

{"sheet":"Bierne_RMK","index":49,"n_rows":52,"n_cols":45,"rows_kept":52,"cut":false,"hidden":true,"merged":[[2,44,2,49],[23,1,23,27],[23,28,23,32],[23,33,23,37],[21,1,21,27],[14,1,14,27],[17,33,17,37],[44,33,44,37],[39,33,39,37],[25,0,25,27],[39,28,39,32],[40,28,40,32],[41,28,41,32],[39,1,39,27],[40,1,40,27],[41,1,41,27],[44,28,44,32],[19,38,19,42],[18,33,18,37],[18,28,18,32],[20,28,20,32],[20,1,20,27],[18,1,18,27],[19,33,19,37],[19,28,19,32],[19,1,19,27],[20,44,24,50],[22,38,22,42],[20,33,20,37],[21,33,21,37],[22,33,22,37],[24,33,24,37],[24,38,24,42],[11,1,11,27],[18,38,18,42],[15,1,15,27],[16,1,16,27],[16,28,16,32],[15,28,15,32],[14,33,14,37],[11,38,11,42],[12,38,12,42],[12,28,12,32],[14,28,14,32],[12,1,12,27],[11,28,11,32],[16,38,16,42],[17,1,17,27],[13,38,13,42],[17,38,17,42],[12,44,16,50],[8,33,8,37],[9,33,9,37],[10,33,10,37],[11,33,11,37],[15,33,15,37],[16,33,16,37],[14,38,14,42],[15,38,15,42],[8,38,8,42],[12,33,12,37],[9,38,9,42],[6,33,7,37],[6,38,7,42],[5,0,5,42],[6,0,7,0],[10,38,10,42],[9,28,9,32],[8,1,8,27],[8,28,8,32],[4,0,4,9],[6,1,7,27],[44,38,44,42],[45,33,45,37],[45,38,45,42],[41,33,41,37],[41,38,41,42],[50,33,50,37],[50,38,50,42],[49,1,49,27],[50,1,50,27],[46,28,46,32],[44,1,44,27],[45,1,45,27],[46,1,46,27],[45,28,45,32],[39,38,39,42],[40,33,40,37],[40,38,40,42],[6,28,7,32],[9,1,9,27],[10,1,10,27],[10,28,10,32],[13,1,13,27],[13,28,13,32],[13,33,13,37],[17,28,17,32],[26,0,26,42],[27,0,36,42],[22,1,22,27],[21,28,21,32],[22,28,22,32],[25,38,25,42],[25,33,25,37],[25,28,25,32],[24,1,24,27],[24,28,24,32],[23,38,23,42],[20,38,20,42],[21,38,21,42],[51,1,51,27],[51,33,51,37],[51,38,51,42],[46,33,46,37],[46,38,46,42],[49,33,49,37],[49,38,49,42],[49,28,49,32],[50,28,50,32],[51,28,51,32]]}
[{"$f":"nazwa","v":"DEMO"}]
[{"$f":"temat","v":"Sprawozdanie finansowe za rok 2023"}]
[null,null,null,null,null,null,null,null,null,null,null,null,null,null,null,null,null,null,null,null,null,null,null,null,null,null,null,null,null,null,null,null,null,null,null,null,null,null,null,null,null,null,null,null,"Powrót do parametrów"]
[]
[{"$f":"NumerNoty(Parametry!$B$66)","v":"Nota nie podlegająca prezentacji"}]
["Bierne rozliczenia międzyokresowe kosztów - wykazane w bilansie w pozycji rezerw"]
["Lp.","Wyszczególnienie",null,null,null,null,null,null,null,null,null,null,null,null,null,null,null,null,null,null,null,null,null,null,null,null,null,null,{"$f":"stanb","v":"Stan na dzień dd.mm.rrrr"},null,null,null,null,"pozycja w bilansie",null,null,null,null,{"$f":"stanp","v":"Stan na dzień dd.mm.rrrr"}]
[]
[" 1.","Bierne rozliczenia międzyokresowe kosztów - długoterminowe",null,null,null,null,null,null,null,null,null,null,null,null,null,null,null,null,null,null,null,null,null,null,null,null,null,null,{"$f":"SUM(AC10:AG15)","v":0},null,null,null,null,null,null,null,null,null,{"$f":"SUM(AM10:AQ15)","v":0}]
[null,"Rezerwy na świadczenia emerytalne"]
[null,"Rezerwy na nagrody jubileuszowe"]
[null,"Koszty nie wykorzystanych urlopów wraz z narzutami"]
[null,"Inne rezerwy na przewidywane koszty"]
[]
[]
[" 2.","Bierne rozliczenia międzyokresowe kosztów - krótkoterminowe",null,null,null,null,null,null,null,null,null,null,null,null,null,null,null,null,null,null,null,null,null,null,null,null,null,null,{"$f":"SUM(AC17:AG25)","v":0},null,null,null,null,null,null,null,null,null,{"$f":"SUM(AM17:AQ25)","v":0}]
[null,"Rozliczenia międzyokresowe umów budowlanych - bierne RMK",null,null,null,null,null,null,null,null,null,null,null,null,null,null,null,null,null,null,null,null,null,null,null,null,null,null,{"$f":"Usługi_długot!$AH$13","v":0},null,null,null,null,null,null,null,null,null,{"$f":"Usługi_długot!$AM$13","v":0}]
[null,"Rozliczenia międzyokresowe kosztów z tytułu realizacji przedsięwzięć deweloperskich",null,null,null,null,null,null,null,null,null,null,null,null,null,null,null,null,null,null,null,null,null,null,null,null,null,null,{"$f":"Przeds_deweloperskie!$AH$14","v":0},null,null,null,null,null,null,null,null,null,{"$f":"Przeds_deweloperskie!$AM$14","v":0}]
[null,"Rezerwy na świadczenia emerytalne"]
[null,"Rezerwy na nagrody jubileuszowe"]
[null,"Koszty nie wykorzystanych urlopów wraz z narzutami"]
[null,"Inne rezerwy na przewidywane koszty"]
[null,"Koszty świadczeń, nie będących jeszcze zobowiązaniem"]
[]
[]
["RAZEM",null,null,null,null,null,null,null,null,null,null,null,null,null,null,null,null,null,null,null,null,null,null,null,null,null,null,null,{"$f":"AC9+AC16","v":0},null,null,null,null,null,null,null,null,null,{"$f":"AM9+AM16","v":0}]
[]
[null,null,null,null,null,null,null,null,null,null,null,null,null,null,null,null,null,null,null,null,null,null,null,null,null,null,null,null,null,null,null,null,null,null,null,null,null,null,null,null,null,null,null,null,"Miejsce na dodatkowy opis"]
[]
[]
[]
[]
[]
[]
[]
[]
[]
[]
[null,"Sprawdzenie - Rozliczenia międzyokresowe bierne długoterminowe"]
[null,"Nota",null,null,null,null,null,null,null,null,null,null,null,null,null,null,null,null,null,null,null,null,null,null,null,null,null,null,{"$f":"AC9","v":0},null,null,null,null,null,null,null,null,null,{"$f":"AM9","v":0}]
[null,"Nota - Rezerwy",null,null,null,null,null,null,null,null,null,null,null,null,null,null,null,null,null,null,null,null,null,null,null,null,null,null,{"$f":"Rezerwy!$S$29+Rezerwy!$AC$29","v":0},null,null,null,null,null,null,null,null,null,{"$f":"Rezerwy!$S$26+Rezerwy!$AC$26","v":0}]
[null,"różnica",null,null,null,null,null,null,null,null,null,null,null,null,null,null,null,null,null,null,null,null,null,null,null,null,null,null,{"$f":"AC40-AC41","v":0},null,null,null,null,null,null,null,null,null,{"$f":"AM40-AM41","v":0}]
[]
[null,"Sprawdzenie - Rozliczenia międzyokresowe bierne krótkoterminowe "]
[null,"Nota",null,null,null,null,null,null,null,null,null,null,null,null,null,null,null,null,null,null,null,null,null,null,null,null,null,null,{"$f":"AC16","v":0},null,null,null,null,null,null,null,null,null,{"$f":"AM16","v":0}]
[null,"Nota - Rezerwy",null,null,null,null,null,null,null,null,null,null,null,null,null,null,null,null,null,null,null,null,null,null,null,null,null,null,{"$f":"Rezerwy!$X$29+Rezerwy!$AH$29","v":0},null,null,null,null,null,null,null,null,null,{"$f":"Rezerwy!$X$26+Rezerwy!$AH$26","v":0}]
[null,"różnica",null,null,null,null,null,null,null,null,null,null,null,null,null,null,null,null,null,null,null,null,null,null,null,null,null,null,{"$f":"AC45-AC46","v":0},null,null,null,null,null,null,null,null,null,{"$f":"AM45-AM46","v":0}]
[]
[null,"Sprawdzenie - Rozliczenia międzyokresowe bierne"]
[null,"Nota",null,null,null,null,null,null,null,null,null,null,null,null,null,null,null,null,null,null,null,null,null,null,null,null,null,null,{"$f":"AC26","v":0},null,null,null,null,null,null,null,null,null,{"$f":"AM26","v":0}]
[null,"Nota - Rezerwy",null,null,null,null,null,null,null,null,null,null,null,null,null,null,null,null,null,null,null,null,null,null,null,null,null,null,{"$f":"Rezerwy!$AM$29","v":0},null,null,null,null,null,null,null,null,null,{"$f":"Rezerwy!$AM$26","v":0}]
[null,"różnica",null,null,null,null,null,null,null,null,null,null,null,null,null,null,null,null,null,null,null,null,null,null,null,null,null,null,{"$f":"AC50-AC51","v":0},null,null,null,null,null,null,null,null,null,{"$f":"AM50-AM51","v":0}]

{"sheet":"RMP","index":50,"n_rows":42,"n_cols":45,"rows_kept":42,"cut":false,"hidden":true,"merged":[[23,0,23,32],[41,38,41,42],[40,38,40,42],[42,1,42,32],[40,33,40,37],[41,33,41,37],[42,33,42,37],[40,1,40,32],[41,1,41,32],[6,1,8,32],[5,0,5,42],[6,0,8,0],[6,38,8,42],[17,1,17,32],[14,1,14,32],[15,1,15,32],[10,1,10,32],[6,33,8,37],[11,38,11,42],[9,38,9,42],[10,38,10,42],[11,1,11,32],[11,33,11,37],[10,33,10,37],[16,1,16,32],[4,0,4,9],[16,33,16,37],[12,33,12,37],[39,33,39,37],[14,33,14,37],[17,33,17,37],[21,33,21,37],[39,1,39,32],[23,33,23,37],[38,1,38,32],[19,33,19,37],[9,1,9,32],[18,1,18,32],[12,1,12,32],[13,1,13,32],[22,33,22,37],[19,1,19,32],[39,38,39,42],[19,38,19,42],[18,38,18,42],[17,38,17,42],[23,38,23,42],[21,38,21,42],[20,38,20,42],[22,38,22,42],[24,0,24,42],[22,1,22,32],[18,33,18,37],[20,1,20,32],[21,1,21,32],[20,33,20,37],[25,0,36,42],[17,44,21,50],[16,38,16,42],[12,38,12,42],[14,38,14,42],[13,38,13,42],[15,38,15,42],[9,33,9,37],[13,33,13,37],[15,33,15,37],[2,44,2,49],[12,44,15,50]]}
[{"$f":"nazwa","v":"DEMO"}]
[{"$f":"temat","v":"Sprawozdanie finansowe za rok 2023"}]
[null,null,null,null,null,null,null,null,null,null,null,null,null,null,null,null,null,null,null,null,null,null,null,null,null,null,null,null,null,null,null,null,null,null,null,null,null,null,null,null,null,null,null,null,"Powrót do parametrów"]
[]
[{"$f":"NumerNoty(Parametry!$B$67)","v":"Nota nie podlegająca prezentacji"}]
["Rozliczenia międzyokresowe przychodów"]
["Lp.","Wyszczególnienie",null,null,null,null,null,null,null,null,null,null,null,null,null,null,null,null,null,null,null,null,null,null,null,null,null,null,null,null,null,null,null,{"$f":"stanb","v":"Stan na dzień dd.mm.rrrr"},null,null,null,null,{"$f":"stanp","v":"Stan na dzień dd.mm.rrrr"}]
[]
[]
["I.","Ujemna wartość firmy"]
["II.","Inne rozliczenia międzyokresowe:",null,null,null,null,null,null,null,null,null,null,null,null,null,null,null,null,null,null,null,null,null,null,null,null,null,null,null,null,null,null,null,{"$f":"AH12+AH18","v":0},null,null,null,null,{"$f":"AM12+AM18","v":0}]
["1.","Rozliczenia międzyokresowe przychodów - długoterminowe",null,null,null,null,null,null,null,null,null,null,null,null,null,null,null,null,null,null,null,null,null,null,null,null,null,null,null,null,null,null,null,{"$f":"SUM(AH13:AL17)","v":0},null,null,null,null,{"$f":"SUM(AM13:AQ17)","v":0}]
[null,"Otrzymane dotacje, subwencje i dopłaty na nabycie środków trwałych"]
[null,"Równowartość środków trwałych finansowanych ze środków PFRON"]
[null,"Wpłaty na poczet przyszłych świadczeń, opłacone z góry"]
[]
[]
["2.","Rozliczenia międzyokresowe przychodów - krótkoterminowe",null,null,null,null,null,null,null,null,null,null,null,null,null,null,null,null,null,null,null,null,null,null,null,null,null,null,null,null,null,null,null,{"$f":"SUM(AH19:AL23)","v":0},null,null,null,null,{"$f":"SUM(AM19:AQ23)","v":0}]
[null,"Rozliczenia międzyokresowe umów budowlanych - RMP",null,null,null,null,null,null,null,null,null,null,null,null,null,null,null,null,null,null,null,null,null,null,null,null,null,null,null,null,null,null,null,{"$f":"Usługi_długot!$AH$14","v":0},null,null,null,null,{"$f":"Usługi_długot!$AM$14","v":0}]
[null,"Otrzymane dotacje, subwencje i dopłaty na nabycie środków trwałych"]
[null,"Równowartość środków trwałych finansowanych ze środków PFRON"]
[null,"Wpłaty na poczet przyszłych świadczeń, opłacone z góry"]
[]
["RAZEM",null,null,null,null,null,null,null,null,null,null,null,null,null,null,null,null,null,null,null,null,null,null,null,null,null,null,null,null,null,null,null,null,{"$f":"AH10+AH11","v":0},null,null,null,null,{"$f":"AM10+AM11","v":0}]
[]
[]
[null,null,null,null,null,null,null,null,null,null,null,null,null,null,null,null,null,null,null,null,null,null,null,null,null,null,null,null,null,null,null,null,null,null,null,null,null,null,null,null,null,null,null,null,"Miejsce na dodatkowy opis"]
[]
[]
[]
[]
[]
[]
[]
[]
[]
[]
[]
[null,"Sprawdzenie"]
[null,"Nota",null,null,null,null,null,null,null,null,null,null,null,null,null,null,null,null,null,null,null,null,null,null,null,null,null,null,null,null,null,null,null,{"$f":"AH24","v":0},null,null,null,null,{"$f":"AM24","v":0}]
[null,"Bilans",null,null,null,null,null,null,null,null,null,null,null,null,null,null,null,null,null,null,null,null,null,null,null,null,null,null,null,null,null,null,null,{"$f":"Bilans_PASYWA!S80","v":0},null,null,null,null,{"$f":"Bilans_PASYWA!X80","v":0}]
[null,"różnica",null,null,null,null,null,null,null,null,null,null,null,null,null,null,null,null,null,null,null,null,null,null,null,null,null,null,null,null,null,null,null,{"$f":"AH40-AH41","v":0},null,null,null,null,{"$f":"AM40-AM41","v":0}]

{"sheet":"Usługi_długot","index":51,"n_rows":25,"n_cols":45,"rows_kept":25,"cut":false,"hidden":true,"merged":[[23,0,23,42],[24,0,36,42],[8,38,8,42],[4,0,4,42],[9,1,9,32],[12,33,12,37],[16,28,19,32],[12,38,12,42],[10,38,10,42],[10,33,10,37],[13,38,13,42],[22,1,22,17],[20,18,20,22],[20,23,20,27],[20,28,20,32],[20,33,20,37],[5,0,5,42],[16,0,19,0],[16,1,19,12],[16,18,19,22],[16,23,19,27],[16,38,19,42],[11,1,11,32],[11,38,11,42],[12,1,12,32],[10,1,10,32],[6,0,7,0],[15,0,15,42],[2,44,2,49],[21,1,21,17],[21,23,21,27],[21,28,21,32],[21,33,21,37],[21,18,21,22],[21,38,21,42],[16,33,19,37],[11,33,11,37],[6,1,7,32],[6,33,7,37],[6,38,7,42],[8,1,8,32],[8,33,8,37],[9,33,9,37],[9,38,9,42],[20,38,20,42],[13,1,13,32],[13,33,13,37],[20,1,20,17],[22,38,22,42],[22,18,22,22],[22,23,22,27],[22,28,22,32],[22,33,22,37]]}
[{"$f":"nazwa","v":"DEMO"}]
[{"$f":"temat","v":"Sprawozdanie finansowe za rok 2023"}]
[null,null,null,null,null,null,null,null,null,null,null,null,null,null,null,null,null,null,null,null,null,null,null,null,null,null,null,null,null,null,null,null,null,null,null,null,null,null,null,null,null,null,null,null,"Powrót do parametrów"]
[]
[{"$f":"NumerNoty(Parametry!$B$68)","v":"Nota nie podlegająca prezentacji"}]
["Usługi długoterminowe objaśnienia do pozycji bilansu"]
["Lp.","Wyszczególnienie",null,null,null,null,null,null,null,null,null,null,null,null,null,null,null,null,null,null,null,null,null,null,null,null,null,null,null,null,null,null,null,{"$f":"stanb","v":"Stan na dzień dd.mm.rrrr"},null,null,null,null,{"$f":"stanp","v":"Stan na dzień dd.mm.rrrr"}]
[]
[" 1.","Aktywa z tytułu niezakończonych umów długoterminowych",null,null,null,null,null,null,null,null,null,null,null,null,null,null,null,null,null,null,null,null,null,null,null,null,null,null,null,null,null,null,null,{"$f":"SUM(AH10:AL11)","v":0},null,null,null,null,{"$f":"SUM(AM10:AQ11)","v":0}]
[null,"Czynne rozliczenia międzyokresowe kosztów "]
[null,"Należności niezafakturowane"]
[" 2.","Rozliczenia międzyokresowe umów długoterminowych",null,null,null,null,null,null,null,null,null,null,null,null,null,null,null,null,null,null,null,null,null,null,null,null,null,null,null,null,null,null,null,{"$f":"SUM(AH13:AL14)","v":0},null,null,null,null,{"$f":"SUM(AM13:AQ14)","v":0}]
[null,"Bierne rozliczenia międzyokresowe kosztów "]
[null,"Rozliczenia międzyokresowe przychodów"]
[]
["Usługi długoterminowe - przychody, koszty."]
["Lp.","Wyszczególnienie",null,null,null,null,null,null,null,null,null,null,null,null,null,null,null,null,"Przychody z wykonania niezakończonej usługi",null,null,null,null,"Koszty wytworzenia niezakończonej usługi",null,null,null,null,"Przychody zafakturowane",null,null,null,null,"Koszty poniesione",null,null,null,null,"Rezerwa na straty"]
[]
[]
[]
[" 1.","Umowy o usługi długoterminowe ogółem",null,null,null,null,null,null,null,null,null,null,null,null,null,null,null,null,{"$f":"SUM(S22:W23)","v":0},null,null,null,null,{"$f":"SUM(X22:AB23)","v":0},null,null,null,null,{"$f":"SUM(AC22:AG23)","v":0},null,null,null,null,{"$f":"SUM(AH22:AL23)","v":0},null,null,null,null,{"$f":"SUM(AM22:AQ23)","v":0}]
[null,"Umowy niezakończone łącznie"]
[null,"Umowy niezakończone ustalone metodą zysku zerowego"]
[]
[null,null,null,null,null,null,null,null,null,null,null,null,null,null,null,null,null,null,null,null,null,null,null,null,null,null,null,null,null,null,null,null,null,null,null,null,null,null,null,null,null,null,null,null,"Miejsce na dodatkowy opis"]

{"sheet":"Przeds_deweloperskie","index":52,"n_rows":19,"n_cols":45,"rows_kept":19,"cut":false,"hidden":true,"merged":[[2,44,2,49],[12,38,12,42],[12,33,12,37],[4,0,4,42],[5,0,5,42],[6,0,7,0],[6,1,7,32],[6,33,7,37],[6,38,7,42],[11,1,11,32],[11,33,11,37],[11,38,11,42],[12,1,12,32],[8,1,8,32],[8,33,8,37],[8,38,8,42],[9,1,9,32],[10,1,10,32],[10,33,10,37],[10,38,10,42],[9,38,9,42],[9,33,9,37],[13,1,14,32],[13,0,14,0],[13,33,14,37],[13,38,14,42],[15,1,15,32],[15,33,15,37],[15,38,15,42],[16,1,16,32],[16,33,16,37],[16,38,16,42],[17,0,17,42],[18,0,36,42]]}
[{"$f":"nazwa","v":"DEMO"}]
[{"$f":"temat","v":"Sprawozdanie finansowe za rok 2023"}]
[null,null,null,null,null,null,null,null,null,null,null,null,null,null,null,null,null,null,null,null,null,null,null,null,null,null,null,null,null,null,null,null,null,null,null,null,null,null,null,null,null,null,null,null,"Powrót do parametrów"]
[]
[{"$f":"NumerNoty(Parametry!$B$69)","v":"Nota nie podlegająca prezentacji"}]
["Realizacja przedsięwzięć deweloperskich"]
["Lp.","Wyszczególnienie",null,null,null,null,null,null,null,null,null,null,null,null,null,null,null,null,null,null,null,null,null,null,null,null,null,null,null,null,null,null,null,{"$f":"stanb","v":"Stan na dzień dd.mm.rrrr"},null,null,null,null,{"$f":"stanp","v":"Stan na dzień dd.mm.rrrr"}]
[]
[" 1.","Ogółem koszt wytworzenia przedsięwzięć deweloperskich w toku produkcji, w tym:",null,null,null,null,null,null,null,null,null,null,null,null,null,null,null,null,null,null,null,null,null,null,null,null,null,null,null,null,null,null,null,{"$f":"SUM(AH10:AL13)","v":0},null,null,null,null,{"$f":"SUM(AM10:AQ13)","v":0}]
[null,"Wartość gruntu będącego częścią niezakończonego przedsięwzięcia deweloperskiego - \"Obiekty w zabudowie\""]
[null,"Pozostałe koszty wytworzenia"]
[]
[]
[" 2.","Bierne rozliczenia międzyokresowe kosztów na przyszłe zobowiązania z tytułu dodatkowych kosztów w części przypadającej na sprzedaną nieruchomość",null,null,null,null,null,null,null,null,null,null,null,null,null,null,null,null,null,null,null,null,null,null,null,null,null,null,null,null,null,null,null,{"$f":"SUM(AH16:AL17)","v":0},null,null,null,null,{"$f":"SUM(AM16:AQ17)","v":0}]
[]
[]
[null,null,null,null,null,null,null,null,null,null,null,null,null,null,null,null,null,null,null,null,null,null,null,null,null,null,null,null,null,null,null,null,null," "]
[]
[null,null,null,null,null,null,null,null,null,null,null,null,null,null,null,null,null,null,null,null,null,null,null,null,null,null,null,null,null,null,null,null,null,null,null,null,null,null,null,null,null,null,null,null,"Miejsce na dodatkowy opis"]

{"sheet":"Zobow_zabezp_na_majątku","index":53,"n_rows":35,"n_cols":45,"rows_kept":35,"cut":false,"hidden":true,"merged":[[31,0,31,42],[32,0,36,42],[4,0,4,21],[5,0,5,42],[7,27,8,34],[6,27,6,42],[6,0,8,0],[9,27,9,34],[9,35,9,42],[9,19,9,26],[9,1,9,18],[6,19,8,26],[6,1,8,18],[12,1,12,18],[12,19,12,26],[10,1,10,18],[10,19,10,26],[11,1,11,18],[11,19,11,26],[10,27,10,34],[11,27,11,34],[7,35,8,42],[11,35,11,42],[10,35,10,42],[2,44,2,49],[13,27,13,34],[14,27,14,34],[13,35,13,42],[14,35,14,42],[12,27,12,34],[12,35,12,42],[13,1,13,18],[13,19,13,26],[14,1,14,18],[14,19,14,26],[31,44,33,50],[24,35,24,42],[19,1,19,18],[19,19,19,26],[19,27,19,34],[19,35,19,42],[15,1,15,18],[15,19,15,26],[15,27,15,34],[15,35,15,42],[23,1,23,18],[23,19,23,26],[23,27,23,34],[23,35,23,42],[16,1,16,18],[16,19,16,26],[16,27,16,34],[16,35,16,42],[17,1,17,18],[17,19,17,26],[17,27,17,34],[17,35,17,42],[18,1,18,18],[18,19,18,26],[18,27,18,34],[18,35,18,42],[20,0,21,0],[20,19,21,26],[20,27,21,34],[20,35,21,42],[22,1,22,18],[22,19,22,26],[22,27,22,34],[22,35,22,42],[20,1,21,18],[30,1,30,18],[30,19,30,26],[30,27,30,34],[30,35,30,42],[27,1,27,18],[27,19,27,26],[27,27,27,34],[27,35,27,42],[28,1,28,18],[28,19,28,26],[28,27,28,34],[28,35,28,42],[29,1,29,18],[29,19,29,26],[29,27,29,34],[29,35,29,42],[26,19,26,26],[26,27,26,34],[26,35,26,42],[26,1,26,18],[24,1,24,18],[24,19,24,26],[24,27,24,34],[25,1,25,18],[25,19,25,26],[25,27,25,34],[25,35,25,42]]}
[{"$f":"nazwa","v":"DEMO"}]
[{"$f":"temat","v":"Sprawozdanie finansowe za rok 2023"}]
[null,null,null,null,null,null,null,null,null,null,null,null,null,null,null,null,null,null,null,null,null,null,null,null,null,null,null,null,null,null,null,null,null,null,null,null,null,null,null,null,null,null,null,null,"Powrót do parametrów"]
[]
[{"$f":"NumerNoty(Parametry!$B$70)","v":"Nota nie podlegająca prezentacji"}]
["Zobowiązania i zobowiązania warunkowe zabezpieczone na majątku Jednostki"]
["Lp.","Rodzaj zobowiązania / zabezpieczenie",null,null,null,null,null,null,null,null,null,null,null,null,null,null,null,null,null,"Kwota\nzobowiązania",null,null,null,null,null,null,null,"Kwota zabezpieczenia"]
[null,null,null,null,null,null,null,null,null,null,null,null,null,null,null,null,null,null,null,null,null,null,null,null,null,null,null,"na majątku trwałym",null,null,null,null,null,null,null,"na majątku obrotowym"]
[]
["I.","Zobowiązania własne ",null,null,null,null,null,null,null,null,null,null,null,null,null,null,null,null,null,{"$f":"SUM(T11:AA14)","v":0},null,null,null,null,null,null,null,{"$f":"SUM(AB11:AI14)","v":0},null,null,null,null,null,null,null,{"$f":"SUM(AJ11:AQ14)","v":0}]
[null,"Weksel"]
[null,"Hipoteka"]
[null,"Zastaw"]
[null,"Inne"]
["II.","Zobowiązania warunkowe",null,null,null,null,null,null,null,null,null,null,null,null,null,null,null,null,null,{"$f":"T16+T21+T27","v":0},null,null,null,null,null,null,null,{"$f":"AB16+AB21+AB27","v":0},null,null,null,null,null,null,null,{"$f":"AJ16+AJ21+AJ27","v":0}]
[" 1.","Zabezpieczone zobowiązania jednostek powiązanych",null,null,null,null,null,null,null,null,null,null,null,null,null,null,null,null,null,{"$f":"SUM(T17:AA20)","v":0},null,null,null,null,null,null,null,{"$f":"SUM(AB17:AI20)","v":0},null,null,null,null,null,null,null,{"$f":"SUM(AJ17:AQ20)","v":0}]
[null,"Weksel"]
[null,"Hipoteka"]
[null,"Zastaw"]
[null,"Inne"]
[" 2.","Zabezpieczone zobowiązania pozostałych jednostek, w których jednostka posiada zaangażowanie w kapitale",null,null,null,null,null,null,null,null,null,null,null,null,null,null,null,null,null,{"$f":"SUM(T23:AA26)","v":0},null,null,null,null,null,null,null,{"$f":"SUM(AB23:AI26)","v":0},null,null,null,null,null,null,null,{"$f":"SUM(AJ23:AQ26)","v":0}]
[]
[null,"Weksel"]
[null,"Hipoteka"]
[null,"Zastaw"]
[null,"Inne"]
[" 3.","Zabezpieczone zobowiązania pozostałych jednostek",null,null,null,null,null,null,null,null,null,null,null,null,null,null,null,null,null,{"$f":"SUM(T28:AA31)","v":0},null,null,null,null,null,null,null,{"$f":"SUM(AB28:AI31)","v":0},null,null,null,null,null,null,null,{"$f":"SUM(AJ28:AQ31)","v":0}]
[null,"Weksel"]
[null,"Hipoteka"]
[null,"Zastaw"]
[null,"Inne"]
[]
[]
[]
[null,null,null,null,null,null,null,null,null,null,null,null,null,null,null,null,null,null,null,null,null,null,null,null,null,null,null,null,null,null,null,null,null,null,null,null,null,null,null,null,null,null,null,null,"Miejsce na dodatkowy opis"]

{"sheet":"Aktywa_Pasywa_wiele_pozycji","index":54,"n_rows":29,"n_cols":45,"rows_kept":29,"cut":false,"hidden":true,"merged":[[2,44,2,49],[7,38,8,42],[25,0,25,42],[26,0,36,42],[4,0,4,21],[6,0,6,42],[25,44,27,50],[5,0,5,42],[10,38,10,42],[11,38,11,42],[23,10,24,14],[23,15,23,34],[17,0,18,0],[16,0,16,42],[12,10,13,14],[7,0,8,0],[7,35,8,37],[7,1,8,9],[7,10,8,14],[7,15,8,34],[14,0,15,0],[14,35,14,37],[9,0,9,42],[10,0,11,0],[10,35,10,37],[11,35,11,37],[10,1,11,9],[10,10,11,14],[10,15,10,34],[11,15,11,34],[12,15,12,34],[12,0,13,0],[12,35,12,37],[12,38,12,42],[13,35,13,37],[13,38,13,42],[12,1,13,9],[13,15,13,34],[14,38,14,42],[15,35,15,37],[15,38,15,42],[17,1,18,9],[17,10,18,14],[17,15,17,34],[18,15,18,34],[14,1,15,9],[14,10,15,14],[14,15,14,34],[15,15,15,34],[17,35,17,37],[17,38,17,42],[18,35,18,37],[18,38,18,42],[21,0,22,0],[21,35,21,37],[21,38,21,42],[22,35,22,37],[22,38,22,42],[21,1,22,9],[21,10,22,14],[21,15,21,34],[22,15,22,34],[19,0,20,0],[19,35,19,37],[19,38,19,42],[20,35,20,37],[20,38,20,42],[19,1,20,9],[19,10,20,14],[19,15,19,34],[20,15,20,34],[23,0,24,0],[23,35,23,37],[23,38,23,42],[24,35,24,37],[24,38,24,42],[23,1,24,9],[24,15,24,34]]}
[{"$f":"nazwa","v":"DEMO"}]
[{"$f":"temat","v":"Sprawozdanie finansowe za rok 2023"}]
[null,null,null,null,null,null,null,null,null,null,null,null,null,null,null,null,null,null,null,null,null,null,null,null,null,null,null,null,null,null,null,null,null,null,null,null,null,null,null,null,null,null,null,null,"Powrót do parametrów"]
[]
[{"$f":"NumerNoty(Parametry!$B$71)","v":"Nota nie podlegająca prezentacji"}]
["Składniki aktywów i pasywów wykazywane w więcej niż jednej pozycji bilansu – powiązania"]
["(w szczególności podział należności i zobowiązań na część długoterminową i krótkoterminową)"]
["Lp.","Wyszczególnienie",null,null,null,null,null,null,null,null,"Kwota",null,null,null,null,"Nazwa pozycji w bilansie",null,null,null,null,null,null,null,null,null,null,null,null,null,null,null,null,null,null,null,"Pozycja w bilansie",null,null,"Kwota"]
[]
["AKTYWA"]
[" 1.","Należności z tytułu pożyczki udzielonej jednostce powiązanej",null,null,null,null,null,null,null,null,null,null,null,null,null,"Należności długoterminowe od jednostek powiązanych",null,null,null,null,null,null,null,null,null,null,null,null,null,null,null,null,null,null,null,"A.III.1."]
[null,null,null,null,null,null,null,null,null,null,null,null,null,null,null,"Należności krótkoterminowe od jednostek powiązanych - inne",null,null,null,null,null,null,null,null,null,null,null,null,null,null,null,null,null,null,null,"B.II.1.b)"]
[" 2.","Rozliczenia międzyokresowe kosztów z tytułu ….",null,null,null,null,null,null,null,null,null,null,null,null,null,"Długoterminowe rozliczenia międzyokresowe kosztów",null,null,null,null,null,null,null,null,null,null,null,null,null,null,null,null,null,null,null,"A.V.2."]
[null,null,null,null,null,null,null,null,null,null,null,null,null,null,null,"Krótkoterminowe rozliczenia międzyokresowe kosztów",null,null,null,null,null,null,null,null,null,null,null,null,null,null,null,null,null,null,null,"B.IV."]
[" 3."]
[]
["PASYWA"]
[" 1.","Zobowiązania z tytułu pożyczki otrzymanej od jednostki powiązanej",null,null,null,null,null,null,null,null,null,null,null,null,null,"Zobowiązania długoterminowe wobec jednostek powiązanych",null,null,null,null,null,null,null,null,null,null,null,null,null,null,null,null,null,null,null,"B.II.1."]
[null,null,null,null,null,null,null,null,null,null,null,null,null,null,null,"Zobowiązania krótkoterminowe wobec jednostek powiązanych - inne",null,null,null,null,null,null,null,null,null,null,null,null,null,null,null,null,null,null,null,"B.III.1.a)"]
[" 2.","Zobowiązania z tytułu pożyczki otrzymanej od jednostki pozostałej",null,null,null,null,null,null,null,null,null,null,null,null,null,"Zobowiązania długoterminowe wobec pozostałych jednostek - kredyty i pożyczki",null,null,null,null,null,null,null,null,null,null,null,null,null,null,null,null,null,null,null,"B.II.3.a)"]
[null,null,null,null,null,null,null,null,null,null,null,null,null,null,null,"Zobowiązania krótkoterminowe wobec pozostałych jednostek - kredyty i pożyczki",null,null,null,null,null,null,null,null,null,null,null,null,null,null,null,null,null,null,null,"B.III.3.a)"]
[" 3.","Zobowiązania z tytułu kredytu",null,null,null,null,null,null,null,null,null,null,null,null,null,"Zobowiązania długoterminowe wobec pozostałych jednostek - kredyty i pożyczki",null,null,null,null,null,null,null,null,null,null,null,null,null,null,null,null,null,null,null,"B.II.3.a)"]
[null,null,null,null,null,null,null,null,null,null,null,null,null,null,null,"Zobowiązania krótkoterminowe wobec pozostałych jednostek - kredyty i pożyczki",null,null,null,null,null,null,null,null,null,null,null,null,null,null,null,null,null,null,null,"B.III.3.a)"]
[" 4."]
[]
[]
[]
[]
[null,null,null,null,null,null,null,null,null,null,null,null,null,null,null,null,null,null,null,null,null,null,null,null,null,null,null,null,null,null,null,null,null,null,null,null,null,null,null,null,null,null,null,null,"Miejsce na dodatkowy opis"]

{"sheet":"Rozrachunki_warunkowe","index":55,"n_rows":37,"n_cols":45,"rows_kept":37,"cut":false,"hidden":true,"merged":[[2,44,2,49],[30,44,33,52],[35,1,35,32],[35,33,35,37],[35,38,35,42],[30,33,30,37],[30,1,30,32],[30,38,30,42],[27,1,27,32],[15,33,15,37],[8,38,8,42],[6,33,7,37],[6,38,7,42],[11,38,11,42],[4,0,4,9],[18,38,18,42],[36,1,36,32],[36,33,36,37],[36,38,36,42],[31,0,31,9],[32,0,32,42],[33,0,34,0],[33,1,34,32],[33,33,34,37],[33,38,34,42],[20,1,20,32],[19,1,19,32],[10,1,10,32],[8,1,8,32],[18,1,18,32],[17,1,17,32],[14,1,14,32],[11,1,11,32],[12,1,12,32],[16,1,16,32],[15,1,15,32],[13,1,13,32],[19,33,19,37],[20,33,20,37],[20,38,20,42],[9,38,9,42],[10,38,10,42],[9,33,9,37],[10,33,10,37],[11,33,11,37],[18,33,18,37],[12,33,12,37],[14,38,14,42],[16,38,16,42],[17,33,17,37],[17,38,17,42],[12,44,17,50],[12,38,12,42],[13,33,13,37],[13,38,13,42],[5,0,5,42],[15,38,15,42],[16,33,16,37],[14,33,14,37],[8,33,8,37],[6,1,7,32],[6,0,7,0],[9,1,9,32],[21,1,21,32],[23,1,23,32],[23,33,23,37],[22,33,22,37],[22,1,22,32],[21,33,21,37],[24,38,24,42],[19,38,19,42],[27,38,27,42],[28,38,28,42],[29,38,29,42],[23,38,23,42],[26,38,26,42],[22,38,22,42],[25,38,25,42],[21,38,21,42],[24,1,24,32],[26,33,26,37],[29,1,29,32],[26,1,26,32],[28,1,28,32],[29,33,29,37],[28,33,28,37],[25,33,25,37],[27,33,27,37],[25,1,25,32],[24,33,24,37]]}
[{"$f":"nazwa","v":"DEMO"}]
[{"$f":"temat","v":"Sprawozdanie finansowe za rok 2023"}]
[null,null,null,null,null,null,null,null,null,null,null,null,null,null,null,null,null,null,null,null,null,null,null,null,null,null,null,null,null,null,null,null,null,null,null,null,null,null,null,null,null,null,null,null,"Powrót do parametrów"]
[]
[{"$f":"NumerNoty(Parametry!$B$72)","v":"Nota nie podlegająca prezentacji"}]
["Zobowiązania warunkowe (pozabilansowe)"]
["Lp.","Wyszczególnienie",null,null,null,null,null,null,null,null,null,null,null,null,null,null,null,null,null,null,null,null,null,null,null,null,null,null,null,null,null,null,null,{"$f":"stanb","v":"Stan na dzień dd.mm.rrrr"},null,null,null,null,{"$f":"stanp","v":"Stan na dzień dd.mm.rrrr"}]
[]
[null,"Zobowiązania  warunkowe ogółem",null,null,null,null,null,null,null,null,null,null,null,null,null,null,null,null,null,null,null,null,null,null,null,null,null,null,null,null,null,null,null,{"$f":"AH10+AH17+AH24+AH31","v":0},null,null,null,null,{"$f":"AM10+AM17+AM24+AM31","v":0}]
[" 1.","Zobowiązania warunkowe wobec jednostek powiązanych",null,null,null,null,null,null,null,null,null,null,null,null,null,null,null,null,null,null,null,null,null,null,null,null,null,null,null,null,null,null,null,{"$f":"SUM(AH11:AL16)","v":0},null,null,null,null,{"$f":"SUM(AM11:AQ16)","v":0}]
[null,"udzielone gwarancje i poręczenia"]
[null,"gwarancje w okresie rękojmi (zatrzymane przez kontrahentów kaucje i wadia)"]
[null,"indos weksli"]
[null,"zawarte, lecz jeszcze niewykonane umowy"]
[null,"nieuznane roszczenia wierzycieli"]
[null,"inne"]
[" 2.","Zobowiązania warunkowe wobec pozostałych jednostek, w których jednostka posiada zaangażowanie w kapitale",null,null,null,null,null,null,null,null,null,null,null,null,null,null,null,null,null,null,null,null,null,null,null,null,null,null,null,null,null,null,null,{"$f":"SUM(AH18:AL23)","v":0},null,null,null,null,{"$f":"SUM(AM18:AQ23)","v":0}]
[null,"udzielone gwarancje i poręczenia"]
[null,"gwarancje w okresie rękojmi (zatrzymane przez kontrahentów kaucje i wadia)"]
[null,"indos weksli"]
[null,"zawarte, lecz jeszcze niewykonane umowy"]
[null,"nieuznane roszczenia wierzycieli"]
[null,"inne"]
[" 3.","Zobowiązania warunkowe wobec pozostałych jednostek",null,null,null,null,null,null,null,null,null,null,null,null,null,null,null,null,null,null,null,null,null,null,null,null,null,null,null,null,null,null,null,{"$f":"SUM(AH25:AL30)","v":0},null,null,null,null,{"$f":"SUM(AM25:AQ30)","v":0}]
[null,"udzielone gwarancje i poręczenia"]
[null,"gwarancje w okresie rękojmi (zatrzymane przez kontrahentów kaucje i wadia)"]
[null,"indos weksli"]
[null,"zawarte, lecz jeszcze niewykonane umowy"]
[null,"nieuznane roszczenia wierzycieli"]
[null,"inne"]
[" 4.",null,null,null,null,null,null,null,null,null,null,null,null,null,null,null,null,null,null,null,null,null,null,null,null,null,null,null,null,null,null,null,null,null,null,null,null,null,null,null,null,null,null,null," informacje o aktywach warunkowych ujawnia się wyłącznie jeśli wpływ korzyści ekonomicznych jest prawdopodobny\n"]
[]
["Należności warunkowe (pozabilansowe)."]
["Lp.","Wyszczególnienie",null,null,null,null,null,null,null,null,null,null,null,null,null,null,null,null,null,null,null,null,null,null,null,null,null,null,null,null,null,null,null,{"$f":"stanb","v":"Stan na dzień dd.mm.rrrr"},null,null,null,null,{"$f":"stanp","v":"Stan na dzień dd.mm.rrrr"}]
[]
[" 1."]
[" 2."]

{"sheet":"Aktywa_wart_godziwa","index":56,"n_rows":22,"n_cols":45,"rows_kept":22,"cut":false,"hidden":true,"merged":[[20,0,20,42],[21,0,36,42],[7,28,7,37],[18,33,18,37],[18,38,18,42],[19,1,19,12],[19,13,19,17],[19,18,19,22],[19,23,19,27],[19,28,19,32],[19,33,19,37],[19,38,19,42],[18,1,18,12],[18,13,18,17],[18,18,18,22],[18,23,18,27],[18,28,18,32],[17,18,17,22],[17,38,17,42],[15,44,17,50],[16,33,16,37],[16,38,16,42],[15,23,15,27],[15,28,15,32],[15,33,15,37],[15,38,15,42],[16,23,16,27],[16,28,16,32],[17,23,17,27],[17,28,17,32],[17,33,17,37],[17,1,17,12],[17,13,17,17],[15,1,15,12],[15,13,15,17],[15,18,15,22],[16,1,16,12],[16,13,16,17],[16,18,16,22],[14,13,14,17],[14,18,14,22],[14,23,14,27],[14,28,14,32],[14,33,14,37],[14,38,14,42],[12,38,12,42],[12,44,14,50],[13,1,13,12],[13,13,13,17],[13,18,13,22],[13,23,13,27],[13,28,13,32],[13,33,13,37],[13,38,13,42],[14,1,14,12],[12,1,12,12],[12,13,12,17],[12,18,12,22],[12,23,12,27],[12,28,12,32],[12,33,12,37],[10,38,10,42],[11,1,11,12],[11,13,11,17],[11,18,11,22],[11,23,11,27],[11,28,11,32],[11,33,11,37],[11,38,11,42],[10,1,10,12],[10,13,10,17],[10,18,10,22],[10,23,10,27],[10,28,10,32],[10,33,10,37],[2,44,2,49],[4,0,4,11],[5,0,5,42],[6,0,9,0],[7,18,7,27],[6,38,9,42],[6,1,9,12],[8,28,9,32],[8,33,9,37],[6,13,9,17],[6,18,6,37],[8,18,9,22],[8,23,9,27]]}
[{"$f":"nazwa","v":"DEMO"}]
[{"$f":"temat","v":"Sprawozdanie finansowe za rok 2023"}]
[null,null,null,null,null,null,null,null,null,null,null,null,null,null,null,null,null,null,null,null,null,null,null,null,null,null,null,null,null,null,null,null,null,null,null,null,null,null,null,null,null,null,null,null,"Powrót do parametrów"]
[]
[{"$f":"NumerNoty(Parametry!$B$73)","v":"Nota nie podlegająca prezentacji"}]
["Składniki aktywów niebędących instrumentami finansowymi wyceniane według wartości godziwej "]
["Lp.","Tytuł (składnik aktywów niebędący instrumentem finansowym) ",null,null,null,null,null,null,null,null,null,null,null,"Wartość godziwa składnika wykazana w bilansie ",null,null,null,null,"Skutki przeszacowania wpływające w danym okresie sprawozdawczym na:",null,null,null,null,null,null,null,null,null,null,null,null,null,null,null,null,null,null,null,"Uwagi"]
[null,null,null,null,null,null,null,null,null,null,null,null,null,null,null,null,null,null,"wynik finansowy ",null,null,null,null,null,null,null,null,null,"kapitał z aktualizacji "]
[null,null,null,null,null,null,null,null,null,null,null,null,null,null,null,null,null,null,"przychody finansowe",null,null,null,null,"koszty finansowe",null,null,null,null,"zwiększenie",null,null,null,null," zmniejszenie"]
[]
[" 1."]
[" 2."]
[" 3."]
[" 4."]
[" 5."]
[" 6."]
[" 7."]
[" 8."]
[" 9."]
[" 10."]
[]
[null,null,null,null,null,null,null,null,null,null,null,null,null,null,null,null,null,null,null,null,null,null,null,null,null,null,null,null,null,null,null,null,null,null,null,null,null,null,null,null,null,null,null,null,"Miejsce na dodatkowy opis"]

{"sheet":"Aktywa_wart_godziwa_KAW","index":57,"n_rows":22,"n_cols":45,"rows_kept":22,"cut":false,"hidden":false,"merged":[[20,0,36,42],[15,1,15,22],[16,1,16,22],[17,1,17,22],[18,1,18,22],[17,23,17,27],[17,28,17,32],[17,33,17,37],[17,38,17,42],[16,23,16,27],[16,28,16,32],[15,23,15,27],[15,28,15,32],[9,1,9,22],[10,1,10,22],[14,1,14,22],[6,1,8,22],[6,23,6,42],[7,23,8,27],[9,38,9,42],[9,23,9,27],[9,28,9,32],[9,33,9,37],[14,23,14,27],[14,28,14,32],[10,23,10,27],[10,28,10,32],[11,1,11,22],[11,23,11,27],[18,44,19,50],[18,23,18,27],[18,28,18,32],[18,33,18,37],[18,38,18,42],[19,0,19,42],[10,33,10,37],[10,38,10,42],[16,33,16,37],[16,38,16,42],[14,33,14,37],[14,38,14,42],[15,33,15,37],[15,38,15,42],[2,44,2,49],[11,28,11,32],[11,33,11,37],[11,38,11,42],[12,1,12,22],[12,23,12,27],[12,28,12,32],[12,33,12,37],[12,38,12,42],[4,0,4,13],[5,0,5,42],[6,0,8,0],[7,33,8,37],[7,38,8,42],[7,28,8,32],[10,44,16,50],[13,1,13,22],[13,23,13,27],[13,28,13,32],[13,33,13,37],[13,38,13,42]]}
[{"$f":"nazwa","v":"DEMO"}]
[{"$f":"temat","v":"Sprawozdanie finansowe za rok 2023"}]
[null,null,null,null,null,null,null,null,null,null,null,null,null,null,null,null,null,null,null,null,null,null,null,null,null,null,null,null,null,null,null,null,null,null,null,null,null,null,null,null,null,null,null,null,"Powrót do parametrów"]
[]
[{"$f":"NumerNoty(Parametry!$B$74)","v":"Nota nr 3"}]
["Składniki aktywów niebędących instrumentami finansowymi wyceniane według wartości godziwej "]
["Lp.","Wyszczególnienie",null,null,null,null,null,null,null,null,null,null,null,null,null,null,null,null,null,null,null,null,null,"Wartość kapitału z aktualizacji wyceny"]
[null,null,null,null,null,null,null,null,null,null,null,null,null,null,null,null,null,null,null,null,null,null,null,{"$f":"stanp","v":"Stan na dzień dd.mm.rrrr"},null,null,null,null,"zwiększenia",null,null,null,null,"zmniejszenia",null,null,null,null,{"$f":"stanb","v":"Stan na dzień dd.mm.rrrr"}]
[]
[" 1."]
[" 2."]
[" 3."]
[" 4."]
[" 5."]
[" 6."]
[" 7."]
[" 8."]
[" 9."]
[" 10."]
[]
[]
[null,null,null,null,null,null,null,null,null,null,null,null,null,null,null,null,null,null,null,null,null,null,null,null,null,null,null,null,null,null,null,null,null,null,null,null,null,null,null,null,null,null,null,null,"Miejsce na dodatkowy opis"]

{"sheet":"Przychody","index":58,"n_rows":47,"n_cols":78,"rows_kept":47,"cut":false,"hidden":false,"merged":[[2,44,2,49],[6,44,11,59],[27,34,27,37],[27,38,27,42],[28,1,28,12],[28,13,28,16],[28,17,28,20],[28,21,28,25],[28,26,28,29],[28,30,28,33],[22,30,22,33],[26,1,26,12],[24,1,24,12],[25,1,25,12],[25,13,25,16],[27,1,27,12],[27,13,27,16],[27,17,27,20],[27,21,27,25],[27,26,27,29],[27,30,27,33],[18,38,19,42],[15,38,15,42],[17,38,17,42],[13,1,13,12],[13,13,13,16],[20,30,20,33],[14,21,14,25],[14,26,14,29],[15,26,15,29],[14,1,14,12],[14,13,14,16],[20,21,20,25],[10,17,10,20],[10,13,10,16],[12,30,12,33],[13,30,13,33],[13,17,13,20],[13,21,13,25],[17,30,17,33],[17,26,17,29],[18,26,19,29],[18,30,19,33],[15,21,15,25],[17,21,17,25],[16,21,16,25],[16,26,16,29],[18,21,19,25],[14,30,14,33],[10,26,10,29],[13,26,13,29],[4,0,4,12],[6,0,9,0],[6,1,9,12],[6,30,6,42],[7,13,9,16],[10,30,10,33],[7,26,9,29],[12,13,12,16],[12,17,12,20],[12,26,12,29],[7,30,9,33],[11,26,11,29],[11,13,11,16],[7,21,9,25],[12,21,12,25],[11,30,11,33],[10,21,10,25],[11,17,11,20],[12,1,12,12],[11,1,11,12],[11,38,11,42],[7,17,9,20],[10,38,10,42],[6,13,6,25],[18,0,19,0],[17,1,17,12],[18,1,19,12],[17,17,17,20],[18,17,19,20],[15,1,15,12],[21,1,21,12],[23,1,23,12],[20,13,20,16],[15,13,15,16],[20,1,20,12],[21,17,21,20],[18,13,19,16],[21,13,21,16],[17,13,17,16],[15,17,15,20],[16,1,16,12],[16,13,16,16],[22,1,22,12],[22,13,22,16],[22,17,22,20],[20,17,20,20],[23,13,23,16],[29,13,29,16],[26,13,26,16],[29,1,29,12],[10,34,10,37],[11,21,11,25],[29,30,29,33],[14,17,14,20],[24,30,24,33],[26,30,26,33],[25,30,25,33],[21,30,21,33],[23,30,23,33],[25,17,25,20],[29,17,29,20],[23,17,23,20],[24,17,24,20],[26,17,26,20],[16,17,16,20],[16,30,16,33],[10,1,10,12],[26,34,26,37],[29,34,29,37],[28,34,28,37],[24,13,24,16],[25,34,25,37],[39,34,39,37],[46,38,46,42],[20,34,20,37],[40,34,40,37],[29,38,29,42],[44,38,44,42],[45,38,45,42],[23,34,23,37],[23,38,23,42],[41,38,41,42],[25,38,25,42],[26,38,26,42],[21,38,21,42],[40,38,40,42],[20,38,20,42],[39,38,39,42],[24,38,24,42],[24,34,24,37],[21,34,21,37],[22,34,22,37],[22,38,22,42],[28,38,28,42],[41,30,41,33],[30,30,30,33],[39,30,39,33],[40,30,40,33],[39,26,39,29],[39,21,39,25],[41,34,41,37],[30,34,30,37],[38,26,38,29],[41,21,41,25],[40,21,40,25],[31,0,31,42],[32,0,36,42],[30,38,30,42],[30,1,30,12],[39,17,39,20],[44,1,44,12],[45,1,45,12],[46,1,46,12],[39,13,39,16],[39,1,39,12],[30,13,30,16],[40,26,40,29],[41,26,41,29],[46,21,46,25],[41,17,41,20],[40,17,40,20],[41,1,41,12],[40,13,40,16],[41,13,41,16],[40,1,40,12],[45,21,45,25],[44,21,44,25],[30,21,30,25],[30,17,30,20],[30,26,30,29],[44,13,44,16],[44,17,44,20],[45,13,45,16],[45,17,45,20],[24,26,24,29],[23,26,23,29],[21,26,21,29],[26,26,26,29],[25,21,25,25],[21,21,21,25],[26,21,26,25],[23,21,23,25],[24,21,24,25],[14,38,14,42],[11,34,11,37],[17,34,17,37],[13,34,13,37],[18,34,19,37],[16,34,16,37],[16,38,16,42],[12,34,12,37],[12,38,12,42],[7,34,9,37],[7,38,9,42],[29,26,29,29],[20,26,20,29],[22,21,22,25],[22,26,22,29],[6,26,6,29],[15,30,15,33],[46,13,46,16],[46,17,46,20],[44,26,44,29],[44,30,44,33],[44,34,44,37],[45,26,45,29],[45,30,45,33],[45,34,45,37],[46,26,46,29],[46,30,46,33],[46,34,46,37],[29,21,29,25],[25,26,25,29],[14,34,14,37],[15,34,15,37],[13,38,13,42]]}
[{"$f":"nazwa","v":"DEMO"}]
[{"$f":"temat","v":"Sprawozdanie finansowe za rok 2023"}]
[null,null,null,null,null,null,null,null,null,null,null,null,null,null,null,null,null,null,null,null,null,null,null,null,null,null,null,null,null,null,null,"UKRYJ \"wyłączone\"",null,null,null,null,null,null,null,null,null,null,null,null,"Powrót do parametrów",null,null,null,null,null,null,null,null,null,null,null,null,null,null,null,null,null,null,null,null,null,null,null,null,null,null,null,null,null,null,null,null,false]
[]
[{"$f":"NumerNoty(Parametry!$B$75)","v":"Nota nr 4"}]
["Przychody netto ze sprzedaży produktów (usług), towarów i materiałów (struktura rzeczowa i terytorialna)"]
["Lp.","Wyszczególnienie",null,null,null,null,null,null,null,null,null,null,null,{"$f":"rokb","v":"dd.mm-dd.mm.rrrr"},null,null,null,null,null,null,null,null,null,null,null,null,null,null,null,null,{"$f":"rokp","v":"dd.mm-dd.mm.rrrr"},null,null,null,null,null,null,null,null,null,null,null,null,null,"Zaleca się wyszczególnienie przychodów wyłączonych z opodatkowania, co służy uzgodnieniu noty dotyczącej podatku dochodowego CIT. \nPrezentowanie tych danych nie jest jednak wymagane, dlatego umożliwiono ukrycie wypełnionej kolumny poprzez zaznaczenie checkbox'u UKRYJ \"wyłączone\""]
[null,null,null,null,null,null,null,null,null,null,null,null,null,"Kraj",null,null,null,"Eksport",null,null,null,"Ogółem",null,null,null,null,"w tym : wyłączone z opodatkowania",null,null,null,"Kraj",null,null,null,"Eksport",null,null,null,"Ogółem"]
[]
[]
[null,"RAZEM przychody ze sprzedaży w tym:",null,null,null,null,null,null,null,null,null,null,null,{"$f":"N26+N19+N13","v":0},null,null,null,{"$f":"R26+R19+R13","v":0},null,null,null,{"$f":"SUM(N11:U11)","v":0},null,null,null,null,{"$f":"AA26+AA19+AA13","v":0},null,null,null,{"$f":"AE26+AE19+AE13","v":0},null,null,null,{"$f":"AI26+AI19+AI13","v":0},null,null,null,{"$f":"SUM(AE11:AL11)","v":0}]
[null,"-  od jednostek powiązanych",null,null,null,null,null,null,null,null,null,null,null,null,null,null,null,null,null,null,null,0,null,null,null,null,null,null,null,null,null,null,null,null,null,null,null,null,0]
[" 1.","Przychody ze sprzedaży produktów w tym :",null,null,null,null,null,null,null,null,null,null,null,{"$f":"SUM(N14:Q18)","v":0},null,null,null,{"$f":"SUM(R14:U18)","v":0},null,null,null,0,null,null,null,null,{"$f":"SUM(AA14:AD18)","v":0},null,null,null,{"$f":"SUM(AE14:AH18)","v":0},null,null,null,{"$f":"SUM(AI14:AL18)","v":0},null,null,null,0,null,null,null,null,"Pole z komentarzem!"]
[null,null,null,null,null,null,null,null,null,null,null,null,null,null,null,null,null,null,null,null,null,0,null,null,null,null,null,null,null,null,null,null,null,null,null,null,null,null,0]
[null,null,null,null,null,null,null,null,null,null,null,null,null,null,null,null,null,null,null,null,null,0,null,null,null,null,null,null,null,null,null,null,null,null,null,null,null,null,0]
[null,null,null,null,null,null,null,null,null,null,null,null,null,null,null,null,null,null,null,null,null,0,null,null,null,null,null,null,null,null,null,null,null,null,null,null,null,null,0]
[null,null,null,null,null,null,null,null,null,null,null,null,null,null,null,null,null,null,null,null,null,{"$f":"SUM(N17:U17)","v":0},null,null,null,null,null,null,null,null,null,null,null,null,null,null,null,null,{"$f":"SUM(AE17:AL17)","v":0}]
[null,null,null,null,null,null,null,null,null,null,null,null,null,null,null,null,null,null,null,null,null,0,null,null,null,null,null,null,null,null,null,null,null,null,null,null,null,null,0]
[" 2.","Przychody ze sprzedaży towarów i materiałów, w tym:",null,null,null,null,null,null,null,null,null,null,null,{"$f":"SUM(N21:Q25)","v":0},null,null,null,{"$f":"SUM(R21:U25)","v":0},null,null,null,{"$f":"SUM(N19:U20)","v":0},null,null,null,null,{"$f":"SUM(AA21:AD25)","v":0},null,null,null,{"$f":"SUM(AE21:AH25)","v":0},null,null,null,{"$f":"SUM(AI21:AL25)","v":0},null,null,null,{"$f":"SUM(AE19:AL20)","v":0}]
[null,null,null,null,null,null,null,null,null,null,null,null,null,null,null,null,null,null,null,null,null,null,null,null,null,null,null,null,null,null,null,null,null,null,null,null,null,null,null,null,null,null,null,"Pole z komentarzem!"]
[null,null,null,null,null,null,null,null,null,null,null,null,null,null,null,null,null,null,null,null,null,{"$f":"SUM(N21:U21)","v":0},null,null,null,null,null,null,null,null,null,null,null,null,null,null,null,null,{"$f":"SUM(AE21:AL21)","v":0}]
[null,null,null,null,null,null,null,null,null,null,null,null,null,null,null,null,null,null,null,null,null,0,null,null,null,null,null,null,null,null,null,null,null,null,null,null,null,null,0]
[null,null,null,null,null,null,null,null,null,null,null,null,null,null,null,null,null,null,null,null,null,{"$f":"SUM(N23:U23)","v":0},null,null,null,null,null,null,null,null,null,null,null,null,null,null,null,null,{"$f":"SUM(AE23:AL23)","v":0}]
[null,null,null,null,null,null,null,null,null,null,null,null,null,null,null,null,null,null,null,null,null,0,null,null,null,null,null,null,null,null,null,null,null,null,null,null,null,null,0]
[null,null,null,null,null,null,null,null,null,null,null,null,null,null,null,null,null,null,null,null,null,0,null,null,null,null,null,null,null,null,null,null,null,null,null,null,null,null,0]
[" 3.","Przychody ze sprzedaży usług, w tym:",null,null,null,null,null,null,null,null,null,null,null,{"$f":"SUM(N27:Q31)","v":0},null,null,null,{"$f":"SUM(R27:U31)","v":0},null,null,null,0,null,null,null,null,{"$f":"SUM(AA27:AD31)","v":0},null,null,null,{"$f":"SUM(AE27:AH31)","v":0},null,null,null,{"$f":"SUM(AI27:AL31)","v":0},null,null,null,{"$f":"SUM(AE26:AL26)","v":0},null,null,null,null,"Pole z komentarzem!"]
[null,null,null,null,null,null,null,null,null,null,null,null,null,null,null,null,null,null,null,null,null,0,null,null,null,null,null,null,null,null,null,null,null,null,null,null,null,null,0]
[null,null,null,null,null,null,null,null,null,null,null,null,null,null,null,null,null,null,null,null,null,{"$f":"SUM(N28:U28)","v":0},null,null,null,null,null,null,null,null,null,null,null,null,null,null,null,null,{"$f":"SUM(AE28:AL28)","v":0}]
[null,null,null,null,null,null,null,null,null,null,null,null,null,null,null,null,null,null,null,null,null,{"$f":"SUM(N29:U29)","v":0},null,null,null,null,null,null,null,null,null,null,null,null,null,null,null,null,{"$f":"SUM(AE29:AL29)","v":0}]
[null,null,null,null,null,null,null,null,null,null,null,null,null,null,null,null,null,null,null,null,null,0,null,null,null,null,null,null,null,null,null,null,null,null,null,null,null,null,0]
[null,null,null,null,null,null,null,null,null,null,null,null,null,null,null,null,null,null,null,null,null,0,null,null,null,null,null,null,null,null,null,null,null,null,null,null,null,null,0]
[]
[null,null,null,null,null,null,null,null,null,null,null,null,null,null,null,null,null,null,null,null,null,null,null,null,null,null,null,null,null,null,null,null,null,null,null,null,null,null,null,null,null,null,null,null,"Miejsce na dodatkowy opis"]
[]
[]
[]
[]
[]
[null,"Sprawdzenie"]
[null,"Nota",null,null,null,null,null,null,null,null,null,null,null,null,null,null,null,null,null,null,null,{"$f":"V11","v":0},null,null,null,null,null,null,null,null,null,null,null,null,null,null,null,null,{"$f":"AM11","v":0}]
[null,"RZiS",null,null,null,null,null,null,null,null,null,null,null,null,null,null,null,null,null,null,null,{"$f":"IF(Parametry!$N$24=\"p\",Rachunek_ZiS_porównawczy!S10,Rachunek_ZiS_kalkulacyjny!S10)-Koszty_rodzajowe!AC31-Koszty_rodzajowe!AC30","v":0},null,null,null,null,null,null,null,null,null,null,null,null,null,null,null,null,{"$f":"IF(Parametry!$N$24=\"p\",Rachunek_ZiS_porównawczy!X10,Rachunek_ZiS_kalkulacyjny!X10)-Koszty_rodzajowe!AM31-Koszty_rodzajowe!AM30","v":0}]
[null,"różnica",null,null,null,null,null,null,null,null,null,null,null,null,null,null,null,null,null,null,null,{"$f":"V40-V41","v":0},null,null,null,null,null,null,null,null,null,null,null,null,null,null,null,null,{"$f":"AM40-AM41","v":0}]
[]
[null,"Sprawdzenie przychodów od jednostek powiązanych"]
[null,"Nota",null,null,null,null,null,null,null,null,null,null,null,null,null,null,null,null,null,null,null,{"$f":"V12","v":0},null,null,null,null,null,null,null,null,null,null,null,null,null,null,null,null,{"$f":"AM12","v":0}]
[null,"RZiS",null,null,null,null,null,null,null,null,null,null,null,null,null,null,null,null,null,null,null,{"$f":"IF(Parametry!$N$24=\"p\",Rachunek_ZiS_porównawczy!S$11,Rachunek_ZiS_kalkulacyjny!S$12)","v":0},null,null,null,null,null,null,null,null,null,null,null,null,null,null,null,null,{"$f":"IF(Parametry!$N$24=\"p\",Rachunek_ZiS_porównawczy!X$11,Rachunek_ZiS_kalkulacyjny!X$12)","v":0}]
[null,"różnica",null,null,null,null,null,null,null,null,null,null,null,null,null,null,null,null,null,null,null,{"$f":"V45-V46","v":0},null,null,null,null,null,null,null,null,null,null,null,null,null,null,null,null,{"$f":"AM45-AM46","v":0}]

{"sheet":"Koszty_rodzajowe","index":59,"n_rows":45,"n_cols":78,"rows_kept":45,"cut":false,"hidden":false,"merged":[[2,44,2,49],[28,28,28,32],[28,33,28,37],[24,28,24,32],[28,1,28,27],[26,1,26,27],[33,28,33,32],[32,38,32,42],[31,28,31,32],[29,33,29,37],[30,33,30,37],[31,38,31,42],[31,33,31,37],[30,28,30,32],[24,1,24,27],[25,1,25,27],[33,38,33,42],[33,33,33,37],[29,38,29,42],[30,38,30,42],[32,1,32,27],[33,1,33,27],[18,33,18,37],[18,1,18,27],[39,1,39,22],[37,23,37,27],[38,23,38,27],[39,23,39,27],[37,33,37,37],[38,33,38,37],[39,33,39,37],[36,1,36,27],[39,38,39,42],[37,28,37,32],[38,28,38,32],[39,28,39,32],[38,38,38,42],[37,38,37,42],[37,1,37,22],[38,1,38,22],[34,38,34,42],[24,38,24,42],[26,33,26,37],[28,38,28,42],[20,1,20,27],[20,28,20,32],[20,33,20,37],[21,1,21,27],[21,33,21,37],[21,28,21,32],[25,28,25,32],[25,33,25,37],[25,38,25,42],[22,1,22,27],[22,33,22,37],[22,28,22,32],[32,28,32,32],[32,33,32,37],[34,1,34,27],[34,28,34,32],[34,33,34,37],[29,1,29,27],[30,1,30,27],[31,1,31,27],[29,28,29,32],[11,28,11,32],[10,1,10,27],[11,1,11,27],[18,38,18,42],[19,38,19,42],[26,28,26,32],[20,38,20,42],[17,1,17,27],[17,28,17,32],[17,33,17,37],[18,28,18,32],[19,28,19,32],[23,38,23,42],[26,38,26,42],[24,33,24,37],[22,38,22,42],[23,33,23,37],[23,28,23,32],[23,1,23,27],[21,38,21,42],[17,38,17,42],[19,33,19,37],[19,1,19,27],[13,38,13,42],[16,33,16,37],[16,28,16,32],[16,38,16,42],[14,28,14,32],[16,1,16,27],[12,33,12,37],[13,33,13,37],[13,1,13,27],[14,38,14,42],[15,28,15,32],[15,38,15,42],[14,33,14,37],[15,33,15,37],[15,1,15,27],[14,1,14,27],[13,28,13,32],[4,0,4,9],[6,38,7,42],[6,0,7,0],[8,44,12,59],[10,38,10,42],[9,33,9,37],[10,33,10,37],[11,33,11,37],[8,1,8,27],[12,28,12,32],[11,38,11,42],[8,33,8,37],[8,38,8,42],[9,38,9,42],[12,38,12,42],[8,28,8,32],[9,28,9,32],[12,1,12,27],[5,0,5,32],[9,1,9,27],[6,1,7,27],[6,28,7,32],[6,33,7,37],[10,28,10,32],[44,1,44,22],[44,23,44,27],[44,28,44,32],[44,33,44,37],[44,38,44,42],[41,1,41,27],[42,1,42,22],[42,23,42,27],[42,28,42,32],[42,33,42,37],[42,38,42,42],[43,1,43,22],[43,23,43,27],[43,28,43,32],[43,33,43,37],[43,38,43,42]]}
[{"$f":"nazwa","v":"DEMO"}]
[{"$f":"temat","v":"Sprawozdanie finansowe za rok 2023"}]
[null,null,null,null,null,null,null,null,null,null,null,null,null,null,null,null,null,null,null,null,null,null,null,null,null,null,null,null,null,null,null,null,null,null,null,null,null,null,null,"UKRYJ \"n.k.u.p.\"\"",null,null,null,null,"Powrót do parametrów",null,null,null,null,null,null,null,null,null,null,null,null,null,null,null,null,null,null,null,null,null,null,null,null,null,null,null,null,null,null,null,null,false]
[]
[{"$f":"NumerNoty(Parametry!$B$76)","v":"Nota nr 5"}]
["Koszty w układzie rodzajowym"]
["Lp.","Wyszczególnienie",null,null,null,null,null,null,null,null,null,null,null,null,null,null,null,null,null,null,null,null,null,null,null,null,null,null,{"$f":"rokb","v":"dd.mm-dd.mm.rrrr"},null,null,null,null,"w tym: n.k.u.p.",null,null,null,null,{"$f":"rokp","v":"dd.mm-dd.mm.rrrr"}]
[]
["I.","Koszty według rodzajów",null,null,null,null,null,null,null,null,null,null,null,null,null,null,null,null,null,null,null,null,null,null,null,null,null,null,"x",null,null,null,null,"x",null,null,null,null,"x",null,null,null,null,null,"Zaleca się wyszczególnienie n.k.u.p., które służy uzgodnieniu noty dotyczącej podatku dochodowego CIT. \nPrezentowanie tych danych nie jest jednak wymagane, dlatego umożliwiono ukrycie wypełnionej kolumny poprzez zaznaczenie checkbox'u UKRYJ n.k.u.p."]
[" 1.","Amortyzacja"]
[" 2.","Zużycie materiałów i energii"]
[" 3.","Usługi obce:",null,null,null,null,null,null,null,null,null,null,null,null,null,null,null,null,null,null,null,null,null,null,null,null,null,null,{"$f":"SUM(AC13:AG16)","v":0},null,null,null,null,{"$f":"SUM(AH13:AL16)","v":0},null,null,null,null,{"$f":"SUM(AM13:AQ16)","v":0}]
[null,"transportowe,"]
[null,"remontowe"]
[null,"czynsze i opłaty dzierżawne"]
[null,"pozostałe"]
[" 4.","Podatki i opłaty, w tym:"]
[null," - podatek akcyzowy"]
[" 5.","Wynagrodzenia"]
[" 6.","Ubezpieczenia społeczne i inne świadczenia, w tym:"]
[null," - emerytalne "]
[" 7.","Pozostałe koszty rodzajowe:",null,null,null,null,null,null,null,null,null,null,null,null,null,null,null,null,null,null,null,null,null,null,null,null,null,null,{"$f":"SUM(AC23:AG26)","v":0},null,null,null,null,{"$f":"SUM(AH23:AL26)","v":0},null,null,null,null,{"$f":"SUM(AM23:AQ26)","v":0}]
[null,"ubezpieczenia"]
[null,"koszty reprezentacji i reklamy publicznej"]
[null,"podróże służbowe"]
[null,"pozostałe"]
[null,"RAZEM koszty wg rodzajów",null,null,null,null,null,null,null,null,null,null,null,null,null,null,null,null,null,null,null,null,null,null,null,null,null,null,{"$f":"AC10+AC11+AC12+AC17+AC19+AC20+AC22","v":0},null,null,null,null,{"$f":"AH10+AH11+AH12+AH17+AH19+AH20+AH22","v":0},null,null,null,null,{"$f":"AM10+AM11+AM12+AM17+AM19+AM20+AM22","v":0}]
[]
["II.","Wartość sprzedanych towarów i materiałów"]
["III.","Koszt wytworzenia produktów na własne potrzeby jednostki"]
["IV.","Zmiana stanu produktów  +\\-",null,null,null,null,null,null,null,null,null,null,null,null,null,null,null,null,null,null,null,null,null,null,null,null,null,null,{"$f":"SUM(AC32:AG34)","v":0},null,null,null,null,{"$f":"SUM(AH32:AL34)","v":0},null,null,null,null,{"$f":"SUM(AM32:AQ34)","v":0}]
[" 1.","  produkty gotowe"]
[" 2.","  produkcja niezakończona"]
[" 3.","  rozliczenia międzyokresowe kosztów"]
[null,"RAZEM koszty okresu w układzie rodzajowym",null,null,null,null,null,null,null,null,null,null,null,null,null,null,null,null,null,null,null,null,null,null,null,null,null,null,{"$f":"AC27+AC29-AC30-AC31","v":0},null,null,null,null,{"$f":"AH27+AH29-AH30-AH31","v":0},null,null,null,null,{"$f":"AM27+AM29-AM30-AM31","v":0}]
[]
[null,"Sprawdzenie kosztów wg rodzajów"]
[null,"Nota",null,null,null,null,null,null,null,null,null,null,null,null,null,null,null,null,null,null,null,null,null,null,null,null,null,null,{"$f":"$AC$27+$AC$29","v":0},null,null,null,null,null,null,null,null,null,{"$f":"$AM$27+$AM$29","v":0}]
[null,"RZiS",null,null,null,null,null,null,null,null,null,null,null,null,null,null,null,null,null,null,null,null,null,null,null,null,null,null,{"$f":"Rachunek_ZiS_porównawczy!$S$17","v":0},null,null,null,null,null,null,null,null,null,{"$f":"Rachunek_ZiS_porównawczy!$X$17","v":0}]
[null,"różnica",null,null,null,null,null,null,null,null,null,null,null,null,null,null,null,null,null,null,null,null,null,null,null,null,null,null,{"$f":"AC39-AC38","v":0},null,null,null,null,null,null,null,null,null,{"$f":"AM39-AM38","v":0}]
[]
[null,"Sprawdzenie amiany stanu produktów i kosztu wytw. na własne potrzeby"]
[null,"Nota",null,null,null,null,null,null,null,null,null,null,null,null,null,null,null,null,null,null,null,null,null,null,null,null,null,null,{"$f":"$AC$30+$AC$31","v":0},null,null,null,null,null,null,null,null,null,{"$f":"$AM$30+$AM$31","v":0}]
[null,"RZiS",null,null,null,null,null,null,null,null,null,null,null,null,null,null,null,null,null,null,null,null,null,null,null,null,null,null,{"$f":"Rachunek_ZiS_porównawczy!$S$13+Rachunek_ZiS_porównawczy!$S$15","v":0},null,null,null,null,null,null,null,null,null,{"$f":"Rachunek_ZiS_porównawczy!$X$13+Rachunek_ZiS_porównawczy!$X$15","v":0}]
[null,"różnica",null,null,null,null,null,null,null,null,null,null,null,null,null,null,null,null,null,null,null,null,null,null,null,null,null,null,{"$f":"AC44-AC43","v":0},null,null,null,null,null,null,null,null,null,{"$f":"AM44-AM43","v":0}]

{"sheet":"Koszty_ukł_kalkulacyjny","index":60,"n_rows":49,"n_cols":78,"rows_kept":49,"cut":false,"hidden":true,"merged":[[2,44,2,49],[48,1,48,22],[48,38,48,42],[48,28,48,32],[40,1,40,27],[46,1,46,22],[47,1,47,22],[41,1,41,22],[41,28,41,32],[41,38,41,42],[42,28,42,32],[42,38,42,42],[45,1,45,27],[43,28,43,32],[43,38,43,42],[41,23,43,27],[41,33,43,37],[46,23,48,27],[46,33,48,37],[42,1,42,22],[8,44,12,59],[37,38,37,42],[47,38,47,42],[46,38,46,42],[35,33,35,37],[37,1,37,27],[35,38,35,42],[47,28,47,32],[36,1,36,27],[35,28,35,32],[36,28,36,32],[37,33,37,37],[37,28,37,32],[46,28,46,32],[36,33,36,37],[36,38,36,42],[35,1,35,27],[38,1,38,27],[38,28,38,32],[38,33,38,37],[38,38,38,42],[22,28,22,32],[22,33,22,37],[22,38,22,42],[30,38,30,42],[31,38,31,42],[29,33,29,37],[29,38,29,42],[15,38,15,42],[16,38,16,42],[24,38,24,42],[17,38,17,42],[23,38,23,42],[18,38,18,42],[19,38,19,42],[20,38,20,42],[19,28,19,32],[21,38,21,42],[17,28,17,32],[16,33,16,37],[17,33,17,37],[18,33,18,37],[24,1,24,27],[34,33,34,37],[23,33,23,37],[20,33,20,37],[21,33,21,37],[24,33,24,37],[32,33,32,37],[33,33,33,37],[24,28,24,32],[23,1,23,27],[33,1,33,27],[23,28,23,32],[33,28,33,32],[32,1,32,27],[34,1,34,27],[22,1,22,27],[30,33,30,37],[31,1,31,27],[31,28,31,32],[31,33,31,37],[20,28,20,32],[21,28,21,32],[20,1,20,27],[29,28,29,32],[16,1,16,27],[17,1,17,27],[18,1,18,27],[19,1,19,27],[19,33,19,37],[18,28,18,32],[14,38,14,42],[4,33,5,33],[16,28,16,32],[15,1,15,27],[12,1,12,27],[15,33,15,37],[13,28,13,32],[14,28,14,32],[15,28,15,32],[11,38,11,42],[9,28,9,32],[10,28,10,32],[8,28,8,32],[6,33,7,37],[8,38,8,42],[10,33,10,37],[10,38,10,42],[21,1,21,27],[13,33,13,37],[14,33,14,37],[13,38,13,42],[13,1,13,27],[4,0,4,9],[9,33,9,37],[9,38,9,42],[11,28,11,32],[9,1,9,27],[10,1,10,27],[11,1,11,27],[11,33,11,37],[12,33,12,37],[8,33,8,37],[12,28,12,32],[5,0,5,32],[14,1,14,27],[12,38,12,42],[6,1,7,27],[6,0,7,0],[6,38,7,42],[8,1,8,27],[6,28,7,32],[28,1,28,27],[28,28,28,32],[28,33,28,37],[28,38,28,42],[29,1,29,27],[30,1,30,27],[30,28,30,32],[34,28,34,32],[25,1,25,27],[25,28,25,32],[25,33,25,37],[25,38,25,42],[26,1,26,27],[26,28,26,32],[26,33,26,37],[26,38,26,42],[27,1,27,27],[27,28,27,32],[27,33,27,37],[27,38,27,42],[33,38,33,42],[34,38,34,42],[32,28,32,32],[32,38,32,42]]}
[{"$f":"nazwa","v":"DEMO"}]
[{"$f":"temat","v":"Sprawozdanie finansowe za rok 2023"}]
[null,null,null,null,null,null,null,null,null,null,null,null,null,null,null,null,null,null,null,null,null,null,null,null,null,null,null,null,null,null,null,null,null,null,null,null,null,null,null,"UKRYJ \"n.k.u.p.\"\"",null,null,null,null,"Powrót do parametrów",null,null,null,null,null,null,null,null,null,null,null,null,null,null,null,null,null,null,null,null,null,null,null,null,null,null,null,null,null,null,null,null,false]
[]
[{"$f":"NumerNoty(Parametry!$B$77)","v":"Nota nie podlegająca prezentacji"}]
["Koszty w układzie rodzajowym oraz kalkulacyjnym"]
["Lp.","Wyszczególnienie",null,null,null,null,null,null,null,null,null,null,null,null,null,null,null,null,null,null,null,null,null,null,null,null,null,null,{"$f":"rokb","v":"dd.mm-dd.mm.rrrr"},null,null,null,null,"w tym: n.k.u.p.",null,null,null,null,{"$f":"rokp","v":"dd.mm-dd.mm.rrrr"}]
[]
["I.","Koszty według rodzajów",null,null,null,null,null,null,null,null,null,null,null,null,null,null,null,null,null,null,null,null,null,null,null,null,null,null,"x",null,null,null,null,"x",null,null,null,null,"x",null,null,null,null,null,"Zaleca się wyszczególnienie n.k.u.p., które służy uzgodnieniu noty dotyczącej podatku dochodowego CIT. \nPrezentowanie tych danych nie jest jednak wymagane, dlatego umożliwiono ukrycie wypełnionej kolumny poprzez zaznaczenie checkbox'u UKRYJ n.k.u.p."]
[" 1.","Amortyzacja"]
[" 2.","Zużycie materiałów i energii"]
[" 3.","Usługi obce:",null,null,null,null,null,null,null,null,null,null,null,null,null,null,null,null,null,null,null,null,null,null,null,null,null,null,{"$f":"SUM(AC13:AG16)","v":0},null,null,null,null,{"$f":"SUM(AH13:AL16)","v":0},null,null,null,null,{"$f":"SUM(AM13:AQ16)","v":0}]
[null,"transportowe,"]
[null,"remontowe"]
[null,"czynsze i opłaty dzierżawne"]
[null,"pozostałe materialne"]
[" 4.","Podatki i opłaty"]
[" 5.","Wynagrodzenia"]
[" 6.","Ubezpieczenia społeczne i inne świadczenia"]
[" 7.","Pozostałe koszty rodzajowe:",null,null,null,null,null,null,null,null,null,null,null,null,null,null,null,null,null,null,null,null,null,null,null,null,null,null,{"$f":"SUM(AC21:AG24)","v":0},null,null,null,null,{"$f":"SUM(AH21:AL24)","v":0},null,null,null,null,{"$f":"SUM(AM21:AQ24)","v":0}]
[null,"ubezpieczenia"]
[null,"koszty reprezentacji i reklamy publicznej"]
[null,"podróże służbowe"]
[null,"pozostałe"]
[null,"RAZEM koszty wg rodzajów",null,null,null,null,null,null,null,null,null,null,null,null,null,null,null,null,null,null,null,null,null,null,null,null,null,null,{"$f":"AC10+AC11+AC12+AC17+AC18+AC19+AC20","v":0},null,null,null,null,{"$f":"SUM(AH10+AH11+AH12+AH17+AH18+AH19+AH20)","v":0},null,null,null,null,{"$f":"SUM(AM10+AM11+AM12+AM17+AM18+AM19+AM20)","v":0}]
["II.","Wartość sprzedanych towarów i materiałów"]
["III.","Koszt wytworzenia produktów na własne potrzeby jednostki"]
["IV.","Zmiana stanu produktów  +\\-",null,null,null,null,null,null,null,null,null,null,null,null,null,null,null,null,null,null,null,null,null,null,null,null,null,null,{"$f":"SUM(AC29:AG31)","v":0},null,null,null,null,{"$f":"SUM(AH29:AL31)","v":0},null,null,null,null,{"$f":"SUM(AM29:AQ31)","v":0}]
[" 1.","  produkty gotowe"]
[" 2.","  produkcja niezakończona"]
[" 3.","  rozliczenia międzyokresowe kosztów"]
[null,"RAZEM koszty okresu w układzie rodzajowym",null,null,null,null,null,null,null,null,null,null,null,null,null,null,null,null,null,null,null,null,null,null,null,null,null,null,{"$f":"AC25+AC26-AC27-AC28","v":0},null,null,null,null,{"$f":"AH25+AH26-AH27-AH28","v":0},null,null,null,null,{"$f":"AM25+AM26-AM27-AM28","v":0}]
["II.","Koszty sprzed. produktów, towarów i materiałów, w tym:",null,null,null,null,null,null,null,null,null,null,null,null,null,null,null,null,null,null,null,null,null,null,null,null,null,null,{"$f":"AC35+AC36","v":0},null,null,null,null,"x",null,null,null,null,{"$f":"AM35+AM36","v":0}]
[null,"-  jednostkom powiązanym",null,null,null,null,null,null,null,null,null,null,null,null,null,null,null,null,null,null,null,null,null,null,null,null,null,null,null,null,null,null,null,"x"]
[" 1.","Koszt wytworzenia sprzedanych produktów",null,null,null,null,null,null,null,null,null,null,null,null,null,null,null,null,null,null,null,null,null,null,null,null,null,null,null,null,null,null,null,"x"]
[" 2.","Wartość sprzedanych towarów i materiałów",null,null,null,null,null,null,null,null,null,null,null,null,null,null,null,null,null,null,null,null,null,null,null,null,null,null,null,null,null,null,null,"x"]
["III.","Koszty sprzedaży",null,null,null,null,null,null,null,null,null,null,null,null,null,null,null,null,null,null,null,null,null,null,null,null,null,null,null,null,null,null,null,"x"]
["IV.","Koszty ogólnego zarządu",null,null,null,null,null,null,null,null,null,null,null,null,null,null,null,null,null,null,null,null,null,null,null,null,null,null,null,null,null,null,null,"x"]
[null,"RAZEM koszty w układzie kalkulacyjnym",null,null,null,null,null,null,null,null,null,null,null,null,null,null,null,null,null,null,null,null,null,null,null,null,null,null,{"$f":"AC33+AC37+AC38","v":0},null,null,null,null,"x",null,null,null,null,{"$f":"AM33+AM37+AM38","v":0}]
[]
[null,"Sprawdzenie"]
[null,"Koszty w ukladzie rodzajowym",null,null,null,null,null,null,null,null,null,null,null,null,null,null,null,null,null,null,null,null,null,null,null,null,null,null,{"$f":"AC32","v":0},null,null,null,null,null,null,null,null,null,{"$f":"AM32","v":0}]
[null,"Koszty w ukladzie kalkulacyjnym",null,null,null,null,null,null,null,null,null,null,null,null,null,null,null,null,null,null,null,null,null,null,null,null,null,null,{"$f":"AC39","v":0},null,null,null,null,null,null,null,null,null,{"$f":"AM39","v":0}]
[null,null,null,null,null,null,null,null,null,null,null,null,null,null,null,null,null,null,null,null,null,null,null,null,null,null,null,null,{"$f":"AC42-AC43","v":0},null,null,null,null,null,null,null,null,null,{"$f":"AM42-AM43","v":0}]
[]
[null,"Sprawdzenie"]
[null,"Nota",null,null,null,null,null,null,null,null,null,null,null,null,null,null,null,null,null,null,null,null,null,null,null,null,null,null,{"$f":"AC39","v":0},null,null,null,null,null,null,null,null,null,{"$f":"AM39","v":0}]
[null,"RZiS",null,null,null,null,null,null,null,null,null,null,null,null,null,null,null,null,null,null,null,null,null,null,null,null,null,null,{"$f":"Rachunek_ZiS_kalkulacyjny!S15+Rachunek_ZiS_kalkulacyjny!S20+Rachunek_ZiS_kalkulacyjny!S21","v":0},null,null,null,null,null,null,null,null,null,{"$f":"Rachunek_ZiS_kalkulacyjny!X15+Rachunek_ZiS_kalkulacyjny!X20+Rachunek_ZiS_kalkulacyjny!X21","v":0}]
[null,"różnica",null,null,null,null,null,null,null,null,null,null,null,null,null,null,null,null,null,null,null,null,null,null,null,null,null,null,{"$f":"AC47-AC48","v":0},null,null,null,null,null,null,null,null,null,{"$f":"AM47-AM48","v":0}]

{"sheet":"Poz_przych_oper","index":61,"n_rows":65,"n_cols":78,"rows_kept":65,"cut":false,"hidden":true,"merged":[[2,44,2,49],[64,1,64,22],[64,23,64,27],[64,28,64,32],[64,33,64,37],[64,38,64,42],[62,1,62,22],[62,23,62,27],[62,28,62,32],[62,33,62,37],[62,38,62,42],[63,1,63,22],[63,23,63,27],[63,28,63,32],[63,33,63,37],[63,38,63,42],[58,1,58,22],[58,23,58,27],[58,28,58,32],[58,33,58,37],[58,38,58,42],[59,1,59,22],[59,23,59,27],[59,28,59,32],[59,33,59,37],[59,38,59,42],[54,1,54,22],[54,23,54,27],[54,28,54,32],[54,33,54,37],[54,38,54,42],[57,1,57,22],[57,23,57,27],[57,28,57,32],[57,33,57,37],[57,38,57,42],[44,1,44,22],[49,1,49,22],[52,1,52,22],[52,23,52,27],[52,28,52,32],[52,33,52,37],[52,38,52,42],[53,1,53,22],[53,23,53,27],[53,28,53,32],[53,33,53,37],[53,38,53,42],[49,23,49,27],[49,28,49,32],[49,33,49,37],[49,38,49,42],[47,1,47,22],[47,23,47,27],[47,28,47,32],[47,33,47,37],[47,38,47,42],[48,1,48,22],[48,23,48,27],[48,28,48,32],[48,33,48,37],[48,38,48,42],[43,1,43,22],[43,23,43,27],[44,23,44,27],[42,33,42,37],[43,33,43,37],[44,33,44,37],[13,44,16,59],[38,1,38,27],[35,1,35,27],[35,33,35,37],[33,33,33,37],[34,38,34,42],[33,38,33,42],[31,28,31,32],[42,28,42,32],[39,28,39,32],[27,1,27,27],[33,1,33,27],[34,1,34,27],[25,1,25,27],[26,1,26,27],[28,28,28,32],[6,44,11,59],[42,38,42,42],[44,38,44,42],[43,28,43,32],[44,28,44,32],[43,38,43,42],[30,38,30,42],[36,38,36,42],[38,38,38,42],[30,33,30,37],[37,33,37,37],[35,38,35,42],[34,33,34,37],[30,28,30,32],[36,28,36,32],[37,38,37,42],[32,38,32,42],[39,33,39,37],[31,33,31,37],[39,38,39,42],[38,33,38,37],[38,28,38,32],[32,33,32,37],[36,33,36,37],[5,0,5,32],[18,33,18,37],[19,33,19,37],[18,38,18,42],[19,38,19,42],[8,38,8,42],[10,38,10,42],[9,33,9,37],[15,38,15,42],[17,33,17,37],[16,33,16,37],[17,38,17,42],[13,38,13,42],[14,38,14,42],[13,33,13,37],[14,33,14,37],[15,1,15,27],[14,1,14,27],[12,1,12,27],[12,28,12,32],[13,28,13,32],[8,28,8,32],[12,33,12,37],[8,1,8,27],[4,0,4,9],[6,0,7,0],[6,38,7,42],[15,33,15,37],[6,1,7,27],[28,1,28,27],[29,1,29,27],[37,28,37,32],[36,1,36,27],[37,1,37,27],[26,33,26,37],[28,33,28,37],[26,28,26,32],[6,28,7,32],[6,33,7,37],[22,28,22,32],[21,28,21,32],[28,38,28,42],[27,33,27,37],[9,38,9,42],[11,38,11,42],[12,38,12,42],[18,28,18,32],[19,28,19,32],[39,0,39,27],[42,1,42,22],[42,23,42,27],[32,28,32,32],[33,28,33,32],[34,28,34,32],[35,28,35,32],[29,38,29,42],[29,28,29,32],[30,1,30,27],[32,1,32,27],[31,1,31,27],[29,33,29,37],[23,33,23,37],[21,33,21,37],[25,38,25,42],[24,38,24,42],[25,33,25,37],[26,38,26,42],[24,28,24,32],[31,38,31,42],[24,1,24,27],[20,1,20,27],[15,28,15,32],[16,28,16,32],[23,28,23,32],[27,28,27,32],[27,38,27,42],[20,28,20,32],[17,28,17,32],[25,28,25,32],[21,1,21,27],[20,38,20,42],[22,33,22,37],[16,38,16,42],[24,33,24,37],[21,38,21,42],[23,38,23,42],[22,38,22,42],[20,33,20,37],[22,1,22,27],[23,1,23,27],[16,1,16,27],[17,1,17,27],[18,1,18,27],[19,1,19,27],[11,28,11,32],[10,28,10,32],[8,33,8,37],[11,1,11,27],[14,28,14,32],[9,1,9,27],[10,33,10,37],[11,33,11,37],[10,1,10,27],[9,28,9,32],[13,1,13,27]]}
[{"$f":"nazwa","v":"DEMO"}]
[{"$f":"temat","v":"Sprawozdanie finansowe za rok 2023"}]
[null,null,null,null,null,null,null,null,null,null,null,null,null,null,null,null,null,null,null,null,null,null,null,null,null,null,null,null,null,null,null,null,null,null,null,null,null,null,null,"UKRYJ \"wyłączone\"",null,null,null,null,"Powrót do parametrów",null,null,null,null,null,null,null,null,null,null,null,null,null,null,null,null,null,null,null,null,null,null,null,null,null,null,null,null,null,null,null,null,false]
[]
[{"$f":"NumerNoty(Parametry!$B$78)","v":"Nota nie podlegająca prezentacji"}]
["Pozostałe przychody operacyjne"]
["Lp.","Wyszczególnienie",null,null,null,null,null,null,null,null,null,null,null,null,null,null,null,null,null,null,null,null,null,null,null,null,null,null,{"$f":"rokb","v":"dd.mm-dd.mm.rrrr"},null,null,null,null,"w tym : wyłączone z opodatkowania",null,null,null,null,{"$f":"rokp","v":"dd.mm-dd.mm.rrrr"},null,null,null,null,null,"Zaleca się wyszczególnienie przychodów wyłączonych z opodatkowania, co służy uzgodnieniu noty dotyczącej podatku dochodowego CIT. \nPrezentowanie tych danych nie jest jednak wymagane, dlatego umożliwiono ukrycie wypełnionej kolumny poprzez zaznaczenie checkbox'u UKRYJ \"wyłączone\""]
[]
["I.","ZYSK Z TYTUŁU ROZCHODU NIEFINANSOWYCH AKTYWÓW TRWAŁYCH",null,null,null,null,null,null,null,null,null,null,null,null,null,null,null,null,null,null,null,null,null,null,null,null,null,null,{"$f":"AC10+AC13+AC16+AC17","v":0},null,null,null,null,{"$f":"AH10+AH13+AH16+AH17","v":0},null,null,null,null,{"$f":"AM10+AM13+AM16+AM17","v":0}]
[" 1.","Zysk ze sprzedaży środków trwałych, środków trwałych w budowie, WNP oraz inwestycji w nieruchomości i WNP",null,null,null,null,null,null,null,null,null,null,null,null,null,null,null,null,null,null,null,null,null,null,null,null,null,null,{"$f":"AC11-AC12","v":0},null,null,null,null,{"$f":"AH11-AH12","v":0},null,null,null,null,{"$f":"AM11-AM12","v":0}]
[null,"przychody ze sprzedaży niefinansowych aktywów trwałych"]
[null,"wartość netto (koszt własny) sprzedanych niefinansowych aktywów trwałych"]
[" 2.","Zysk z likwidacji niefinansowych aktywów trwałych, w tym inwestycji bez efektu gospodarczego",null,null,null,null,null,null,null,null,null,null,null,null,null,null,null,null,null,null,null,null,null,null,null,null,null,null,{"$f":"AC14-AC15","v":0},null,null,null,null,{"$f":"AH14-AH15","v":0},null,null,null,null,{"$f":"AM14-AM15","v":0}]
[null,"przychody z likwidacji niefinansowych aktywów trwałych",null,null,null,null,null,null,null,null,null,null,null,null,null,null,null,null,null,null,null,null,null,null,null,null,null,null,null,null,null,null,null,null,null,null,null,null,null,null,null,null,null,null,"W przypadku wystąpienia straty z tytułu rozchodu lub likwidacji niefinansowych aktywów trwałych należy zaprezentować przychody i koszty z tym związane w nocie dotyczącej pozostałych kosztów operacyjnych"]
[null,"koszty likwidacji niefinansowych aktywów trwałych (wartość netto plus koszty likwidacji)"]
[]
[]
["II.","DOTACJE",null,null,null,null,null,null,null,null,null,null,null,null,null,null,null,null,null,null,null,null,null,null,null,null,null,null,{"$f":"SUM(AC19:AG20)","v":0},null,null,null,null,{"$f":"SUM(AH19:AL20)","v":0},null,null,null,null,{"$f":"SUM(AM19:AQ20)","v":0}]
[]
[]
["III.","AKTUALIZACJA WARTOŚCI AKTYWÓW NIEFINANSOWYCH",null,null,null,null,null,null,null,null,null,null,null,null,null,null,null,null,null,null,null,null,null,null,null,null,null,null,{"$f":"SUM(AC22:AG23)","v":0},null,null,null,null,{"$f":"SUM(AH22:AL23)","v":0},null,null,null,null,{"$f":"SUM(AM22:AQ23)","v":0}]
[]
[]
["IV.","INNE PRZYCHODY OPERACYJNE",null,null,null,null,null,null,null,null,null,null,null,null,null,null,null,null,null,null,null,null,null,null,null,null,null,null,{"$f":"SUM(AC25:AG39)","v":0},null,null,null,null,{"$f":"SUM(AH25:AL39)","v":0},null,null,null,null,{"$f":"SUM(AM25:AQ39)","v":0}]
[" 1.","Uzyskane kary, grzywny, odszkodowania"]
[" 2.","Przedawnione zobowiązania"]
[" 3.","Wyegzekwowane odpisane należności"]
[" 4.","Darowizny środków pieniężnych i pozostałych środków obrotowych"]
[" 5.","Rozwiązane odpisu aktualizującego wartość należności"]
[" 6.","Rozwiązane rezerwy na przewidywane straty"]
[" 7.","Nie wykorzystane zgodnie z przeznaczeniem utworzone uprzednio rezerwy"]
[" 8.","Różnice inwentaryzacyjne"]
[" 9.","Nadwyżki pieniężne"]
[" 10.","Nadwyżki w rzeczowych składnikach majątku"]
[" 11.","Różnice z zaokrągleń"]
[" 12.","Zwrot zapłaconych podatków"]
[" 13.","Zwrot opłat sądowych i innych wierzytelności"]
[" 14.","Wartość niefinansowych aktywów trwałych otrzymanych nieodpłatnie lub w formie darowizny"]
[" 15."]
["RAZEM",null,null,null,null,null,null,null,null,null,null,null,null,null,null,null,null,null,null,null,null,null,null,null,null,null,null,null,{"$f":"AC9+AC18+AC21+AC24","v":0},null,null,null,null,{"$f":"AH9+AH18+AH21+AH24","v":0},null,null,null,null,{"$f":"AM9+AM18+AM21+AM24","v":0}]
[]
[null,{"$f":"\"Sprawdzenie \"&B9","v":"Sprawdzenie ZYSK Z TYTUŁU ROZCHODU NIEFINANSOWYCH AKTYWÓW TRWAŁYCH"}]
[null,"Nota",null,null,null,null,null,null,null,null,null,null,null,null,null,null,null,null,null,null,null,null,null,null,null,null,null,null,{"$f":"$AC$9","v":0},null,null,null,null,null,null,null,null,null,{"$f":"$AM$9","v":0}]
[null,"RZiS",null,null,null,null,null,null,null,null,null,null,null,null,null,null,null,null,null,null,null,null,null,null,null,null,null,null,{"$f":"IF(Parametry!$N$24=\"p\",Rachunek_ZiS_porównawczy!$S$30,Rachunek_ZiS_kalkulacyjny!$S$24)","v":0},null,null,null,null,null,null,null,null,null,{"$f":"IF(Parametry!$N$24=\"p\",Rachunek_ZiS_porównawczy!$X$30,Rachunek_ZiS_kalkulacyjny!$X$24)","v":0}]
[null,"różnica",null,null,null,null,null,null,null,null,null,null,null,null,null,null,null,null,null,null,null,null,null,null,null,null,null,null,{"$f":"AC43-AC44","v":0},null,null,null,null,null,null,null,null,null,{"$f":"AM43-AM44","v":0}]
[]
[null,{"$f":"\"Sprawdzenie \"&B18","v":"Sprawdzenie DOTACJE"}]
[null,"Nota",null,null,null,null,null,null,null,null,null,null,null,null,null,null,null,null,null,null,null,null,null,null,null,null,null,null,{"$f":"$AC$18","v":0},null,null,null,null,null,null,null,null,null,{"$f":"$AM$18","v":0}]
[null,"RZiS",null,null,null,null,null,null,null,null,null,null,null,null,null,null,null,null,null,null,null,null,null,null,null,null,null,null,{"$f":"IF(Parametry!$N$24=\"p\",Rachunek_ZiS_porównawczy!$S$31,Rachunek_ZiS_kalkulacyjny!$S$25)","v":0},null,null,null,null,null,null,null,null,null,{"$f":"IF(Parametry!$N$24=\"p\",Rachunek_ZiS_porównawczy!$X$31,Rachunek_ZiS_kalkulacyjny!$X$25)","v":0}]
[null,"różnica",null,null,null,null,null,null,null,null,null,null,null,null,null,null,null,null,null,null,null,null,null,null,null,null,null,null,{"$f":"AC48-AC49","v":0},null,null,null,null,null,null,null,null,null,{"$f":"AM48-AM49","v":0}]
[]
[null,{"$f":"\"Sprawdzenie \"&B21","v":"Sprawdzenie AKTUALIZACJA WARTOŚCI AKTYWÓW NIEFINANSOWYCH"}]
[null,"Nota",null,null,null,null,null,null,null,null,null,null,null,null,null,null,null,null,null,null,null,null,null,null,null,null,null,null,{"$f":"$AC$21","v":0},null,null,null,null,null,null,null,null,null,{"$f":"$AM$21","v":0}]
[null,"RZiS",null,null,null,null,null,null,null,null,null,null,null,null,null,null,null,null,null,null,null,null,null,null,null,null,null,null,{"$f":"IF(Parametry!$N$24=\"p\",Rachunek_ZiS_porównawczy!$S$32,Rachunek_ZiS_kalkulacyjny!$S$26)","v":0},null,null,null,null,null,null,null,null,null,{"$f":"IF(Parametry!$N$24=\"p\",Rachunek_ZiS_porównawczy!$X$32,Rachunek_ZiS_kalkulacyjny!$X$26)","v":0}]
[null,"różnica",null,null,null,null,null,null,null,null,null,null,null,null,null,null,null,null,null,null,null,null,null,null,null,null,null,null,{"$f":"AC53-AC54","v":0},null,null,null,null,null,null,null,null,null,{"$f":"AM53-AM54","v":0}]
[]
[null,{"$f":"\"Sprawdzenie \"&B24","v":"Sprawdzenie INNE PRZYCHODY OPERACYJNE"}]
[null,"Nota",null,null,null,null,null,null,null,null,null,null,null,null,null,null,null,null,null,null,null,null,null,null,null,null,null,null,{"$f":"$AC$24","v":0},null,null,null,null,null,null,null,null,null,{"$f":"$AM$24","v":0}]
[null,"RZiS",null,null,null,null,null,null,null,null,null,null,null,null,null,null,null,null,null,null,null,null,null,null,null,null,null,null,{"$f":"IF(Parametry!$N$24=\"p\",Rachunek_ZiS_porównawczy!$S$33,Rachunek_ZiS_kalkulacyjny!$S$27)","v":0},null,null,null,null,null,null,null,null,null,{"$f":"IF(Parametry!$N$24=\"p\",Rachunek_ZiS_porównawczy!$X$33,Rachunek_ZiS_kalkulacyjny!$X$27)","v":0}]
[null,"różnica",null,null,null,null,null,null,null,null,null,null,null,null,null,null,null,null,null,null,null,null,null,null,null,null,null,null,{"$f":"AC58-AC59","v":0},null,null,null,null,null,null,null,null,null,{"$f":"AM58-AM59","v":0}]
[]
[null,"Sprawdzenie RAZEM"]
[null,"Nota",null,null,null,null,null,null,null,null,null,null,null,null,null,null,null,null,null,null,null,null,null,null,null,null,null,null,{"$f":"$AC$40","v":0},null,null,null,null,null,null,null,null,null,{"$f":"$AM$40","v":0}]
[null,"RZiS",null,null,null,null,null,null,null,null,null,null,null,null,null,null,null,null,null,null,null,null,null,null,null,null,null,null,{"$f":"IF(Parametry!$N$24=\"p\",Rachunek_ZiS_porównawczy!$S$29,Rachunek_ZiS_kalkulacyjny!$S$23)","v":0},null,null,null,null,null,null,null,null,null,{"$f":"IF(Parametry!$N$24=\"p\",Rachunek_ZiS_porównawczy!$X$29,Rachunek_ZiS_kalkulacyjny!$X$23)","v":0}]
[null,"różnica",null,null,null,null,null,null,null,null,null,null,null,null,null,null,null,null,null,null,null,null,null,null,null,null,null,null,{"$f":"AC63-AC64","v":0},null,null,null,null,null,null,null,null,null,{"$f":"AM63-AM64","v":0}]

{"sheet":"Poz_koszty_oper","index":62,"n_rows":58,"n_cols":78,"rows_kept":58,"cut":false,"hidden":true,"merged":[[34,1,34,27],[22,1,22,27],[24,28,24,32],[2,44,2,49],[40,1,40,22],[40,23,40,27],[41,1,41,22],[41,23,41,27],[42,1,42,22],[42,23,42,27],[40,33,40,37],[41,33,41,37],[42,33,42,37],[5,0,5,32],[37,33,37,37],[36,33,36,37],[33,33,33,37],[36,1,36,27],[36,28,36,32],[35,33,35,37],[34,33,34,37],[35,1,35,27],[37,28,37,32],[35,28,35,32],[37,0,37,27],[20,28,21,32],[22,28,22,32],[20,0,21,0],[28,1,28,27],[30,1,30,27],[29,1,29,27],[31,1,31,27],[33,28,33,32],[32,28,32,32],[33,1,33,27],[28,28,28,32],[25,28,25,32],[23,1,23,27],[23,28,23,32],[20,1,21,27],[24,1,24,27],[31,28,31,32],[26,28,26,32],[29,28,29,32],[27,28,27,32],[26,1,26,27],[27,1,27,27],[32,1,32,27],[25,1,25,27],[24,33,24,37],[15,38,15,42],[15,33,15,37],[25,33,25,37],[18,33,18,37],[29,33,29,37],[16,38,16,42],[23,33,23,37],[20,33,21,37],[19,33,19,37],[16,33,16,37],[19,38,19,42],[26,33,26,37],[18,38,18,42],[22,33,22,37],[20,38,21,42],[24,38,24,42],[22,38,22,42],[23,38,23,42],[25,38,25,42],[26,38,26,42],[4,0,4,9],[6,0,7,0],[19,28,19,32],[9,0,10,0],[8,28,8,32],[8,1,8,27],[12,28,12,32],[9,1,10,27],[15,28,15,32],[14,1,14,27],[15,1,15,27],[9,28,10,32],[11,28,11,32],[13,1,13,27],[17,28,17,32],[19,1,19,27],[17,1,17,27],[6,1,7,27],[13,28,13,32],[18,1,18,27],[16,28,16,32],[12,1,12,27],[16,1,16,27],[11,1,11,27],[6,33,7,37],[18,28,18,32],[14,38,14,42],[17,38,17,42],[7,44,11,59],[13,44,16,59],[14,28,14,32],[9,33,10,37],[12,33,12,37],[14,33,14,37],[13,33,13,37],[17,33,17,37],[11,33,11,37],[8,33,8,37],[12,38,12,42],[6,28,7,32],[9,38,10,42],[8,38,8,42],[11,38,11,42],[6,38,7,42],[13,38,13,42],[40,28,40,32],[41,28,41,32],[42,28,42,32],[27,33,27,37],[28,33,28,37],[32,33,32,37],[30,33,30,37],[42,38,42,42],[37,38,37,42],[40,38,40,42],[41,38,41,42],[36,38,36,42],[31,38,31,42],[30,28,30,32],[32,38,32,42],[27,38,27,42],[31,33,31,37],[34,28,34,32],[30,38,30,42],[29,38,29,42],[34,38,34,42],[35,38,35,42],[33,38,33,42],[28,38,28,42],[45,1,45,22],[45,23,45,27],[45,28,45,32],[45,33,45,37],[45,38,45,42],[46,1,46,22],[46,23,46,27],[46,28,46,32],[46,33,46,37],[46,38,46,42],[47,1,47,22],[47,23,47,27],[47,28,47,32],[47,33,47,37],[47,38,47,42],[50,1,50,22],[50,23,50,27],[50,28,50,32],[50,33,50,37],[50,38,50,42],[51,1,51,22],[51,23,51,27],[51,28,51,32],[51,33,51,37],[51,38,51,42],[52,1,52,22],[52,23,52,27],[52,28,52,32],[52,33,52,37],[52,38,52,42],[57,1,57,22],[57,23,57,27],[57,28,57,32],[57,33,57,37],[57,38,57,42],[55,1,55,22],[55,23,55,27],[55,28,55,32],[55,33,55,37],[55,38,55,42],[56,1,56,22],[56,23,56,27],[56,28,56,32],[56,33,56,37],[56,38,56,42]]}
[{"$f":"nazwa","v":"DEMO"}]
[{"$f":"temat","v":"Sprawozdanie finansowe za rok 2023"}]
[null,null,null,null,null,null,null,null,null,null,null,null,null,null,null,null,null,null,null,null,null,null,null,null,null,null,null,null,null,null,null,null,null,null,null,null,null,null,null,"UKRYJ \"n.k.u.p.\"\"",null,null,null,null,"Powrót do parametrów",null,null,null,null,null,null,null,null,null,null,null,null,null,null,null,null,null,null,null,null,null,null,null,null,null,null,null,null,null,null,null,null,false]
[]
[{"$f":"NumerNoty(Parametry!$B$79)","v":"Nota nie podlegająca prezentacji"}]
["Pozostałe koszty operacyjne"]
["Lp.","Wyszczególnienie",null,null,null,null,null,null,null,null,null,null,null,null,null,null,null,null,null,null,null,null,null,null,null,null,null,null,{"$f":"rokb","v":"dd.mm-dd.mm.rrrr"},null,null,null,null,"w tym: n.k.u.p.",null,null,null,null,{"$f":"rokp","v":"dd.mm-dd.mm.rrrr"}]
[null,null,null,null,null,null,null,null,null,null,null,null,null,null,null,null,null,null,null,null,null,null,null,null,null,null,null,null,null,null,null,null,null,null,null,null,null,null,null,null,null,null,null,null,"Zaleca się wyszczególnienie n.k.u.p., które służy uzgodnieniu noty dotyczącej podatku dochodowego CIT. \nPrezentowanie tych danych nie jest jednak wymagane, dlatego umożliwiono ukrycie wypełnionej kolumny poprzez zaznaczenie checkbox'u UKRYJ n.k.u.p."]
["I.","STRATA Z TYTUŁU ROZCHODU NIEFINANSOWYCH AKTYWÓW TRWAŁYCH",null,null,null,null,null,null,null,null,null,null,null,null,null,null,null,null,null,null,null,null,null,null,null,null,null,null,{"$f":"AC10+AC14+AC17+AC19+AC18","v":0},null,null,null,null,{"$f":"AH10+AH14+AH17+AH19+AH18","v":0},null,null,null,null,{"$f":"AM10+AM14+AM17+AM19+AM18","v":0}]
[" 1.","Strata ze sprzedaży środków trwałych, środków trwałych w budowie, wartości niematerialnych i prawnych oraz inwestycji w nieruchomości i WNP",null,null,null,null,null,null,null,null,null,null,null,null,null,null,null,null,null,null,null,null,null,null,null,null,null,null,{"$f":"AC13-AC12","v":0},null,null,null,null,{"$f":"AH13-AH12","v":0},null,null,null,null,{"$f":"AM13-AM12","v":0}]
[]
[null,"przychody ze sprzedaży niefinansowych aktywów trwałych"]
[null,"wartość netto (koszt własny) sprzedanych niefinansowych aktywów trwałych"]
[" 2.","Strata z likwidacji niefinansowych aktywów trwałych, w tym inwestycji bez efektu gospodarczego",null,null,null,null,null,null,null,null,null,null,null,null,null,null,null,null,null,null,null,null,null,null,null,null,null,null,{"$f":"AC16-AC15","v":0},null,null,null,null,{"$f":"AH16-AH15","v":0},null,null,null,null,{"$f":"AM16-AM15","v":0},null,null,null,null,null,"W przypadku wystąpienia zysku z tytułu rozchodu lub likwidacji niefinansowych aktywów trwałych należy zaprezentować przychody i koszty z tym związane w nocie dotyczącej pozostałych przychodów operacyjnych."]
[null,"przychody z likwidacji niefinansowych aktywów trwałych"]
[null,"koszty likwidacji niefinansowych aktywów trwałych (wartość netto plus koszty likwidacji)"]
[" 3.","Wartość niefinansowych aktywów trwałych przekazanych nieodpłatnie lub w formie darowizny"]
[]
[]
["II.","AKTUALIZACJA WARTOŚCI AKTYWÓW NIEFINANSOWYCH",null,null,null,null,null,null,null,null,null,null,null,null,null,null,null,null,null,null,null,null,null,null,null,null,null,null,{"$f":"SUM(AC21:AG26)","v":0},null,null,null,null,{"$f":"SUM(AH21:AL26)","v":0},null,null,null,null,{"$f":"SUM(AM21:AQ26)","v":0}]
[" 1.","trwała utrata wartości środków trwałych, środków trwałych w budowie, wartości niematerialnych i prawnych, inwestycji w nieruchomości i prawa"]
[]
[" 2.","utrata wartości zapasów "]
[" 3.","utrata wartości należności"]
[]
[]
["III.","INNE KOSZTY OPERACYJNE",null,null,null,null,null,null,null,null,null,null,null,null,null,null,null,null,null,null,null,null,null,null,null,null,null,null,{"$f":"SUM(AC28:AG37)","v":0},null,null,null,null,{"$f":"SUM(AH28:AL37)","v":0},null,null,null,null,{"$f":"SUM(AM28:AQ37)","v":0}]
[" 1.","Odpisane należności przedawnione, umorzone i nieściągalne"]
[" 2.","Niezawinione niedobory składników majątku obrotowego"]
[" 3.","Niezawinione niedobory środków trwałych"]
[" 4.","VAT od niedoborów i szkód podlegających korekcie jako VAT naliczony"]
[" 5.","Zapłacone kary, grzywny i odszkodowania"]
[" 6.","Koszty postępowania spornego i egzekucyjnego"]
[" 7.","Utworzone rezerwy na przewidywane straty i uzasadnione ryzyko z operacji gospodarczych"]
[]
[]
[]
["RAZEM",null,null,null,null,null,null,null,null,null,null,null,null,null,null,null,null,null,null,null,null,null,null,null,null,null,null,null,{"$f":"AC9+AC20+AC27","v":0},null,null,null,null,{"$f":"AH9+AH20+AH27","v":0},null,null,null,null,{"$f":"AM9+AM20+AM27","v":0}]
[]
[null,{"$f":"\"Sprawdzenie \"&$B$9","v":"Sprawdzenie STRATA Z TYTUŁU ROZCHODU NIEFINANSOWYCH AKTYWÓW TRWAŁYCH"}]
[null,"Nota",null,null,null,null,null,null,null,null,null,null,null,null,null,null,null,null,null,null,null,null,null,null,null,null,null,null,{"$f":"$AC$9","v":0},null,null,null,null,null,null,null,null,null,{"$f":"$AM$9","v":0}]
[null,"RZiS",null,null,null,null,null,null,null,null,null,null,null,null,null,null,null,null,null,null,null,null,null,null,null,null,null,null,{"$f":"IF(Parametry!$N$24=\"p\",Rachunek_ZiS_porównawczy!$S$35,Rachunek_ZiS_kalkulacyjny!$S$29)","v":0},null,null,null,null,null,null,null,null,null,{"$f":"IF(Parametry!$N$24=\"p\",Rachunek_ZiS_porównawczy!$X$35,Rachunek_ZiS_kalkulacyjny!$X$29)","v":0}]
[null,"różnica",null,null,null,null,null,null,null,null,null,null,null,null,null,null,null,null,null,null,null,null,null,null,null,null,null,null,{"$f":"AC41-AC42","v":0},null,null,null,null,null,null,null,null,null,{"$f":"AM41-AM42","v":0}]
[]
[null,{"$f":"\"Sprawdzenie \"&$B$20","v":"Sprawdzenie AKTUALIZACJA WARTOŚCI AKTYWÓW NIEFINANSOWYCH"}]
[null,"Nota",null,null,null,null,null,null,null,null,null,null,null,null,null,null,null,null,null,null,null,null,null,null,null,null,null,null,{"$f":"$AC$20","v":0},null,null,null,null,null,null,null,null,null,{"$f":"$AM$20","v":0}]
[null,"RZiS",null,null,null,null,null,null,null,null,null,null,null,null,null,null,null,null,null,null,null,null,null,null,null,null,null,null,{"$f":"IF(Parametry!$N$24=\"p\",Rachunek_ZiS_porównawczy!$S$36,Rachunek_ZiS_kalkulacyjny!$S$30)","v":0},null,null,null,null,null,null,null,null,null,{"$f":"IF(Parametry!$N$24=\"p\",Rachunek_ZiS_porównawczy!$X$36,Rachunek_ZiS_kalkulacyjny!$X$30)","v":0}]
[null,"różnica",null,null,null,null,null,null,null,null,null,null,null,null,null,null,null,null,null,null,null,null,null,null,null,null,null,null,{"$f":"AC46-AC47","v":0},null,null,null,null,null,null,null,null,null,{"$f":"AM46-AM47","v":0}]
[]
[null,{"$f":"\"Sprawdzenie \"&$B$27","v":"Sprawdzenie INNE KOSZTY OPERACYJNE"}]
[null,"Nota",null,null,null,null,null,null,null,null,null,null,null,null,null,null,null,null,null,null,null,null,null,null,null,null,null,null,{"$f":"$AC$27","v":0},null,null,null,null,null,null,null,null,null,{"$f":"$AM$27","v":0}]
[null,"RZiS",null,null,null,null,null,null,null,null,null,null,null,null,null,null,null,null,null,null,null,null,null,null,null,null,null,null,{"$f":"IF(Parametry!$N$24=\"p\",Rachunek_ZiS_porównawczy!$S$37,Rachunek_ZiS_kalkulacyjny!$S$31)","v":0},null,null,null,null,null,null,null,null,null,{"$f":"IF(Parametry!$N$24=\"p\",Rachunek_ZiS_porównawczy!$X$37,Rachunek_ZiS_kalkulacyjny!$X$31)","v":0}]
[null,"różnica",null,null,null,null,null,null,null,null,null,null,null,null,null,null,null,null,null,null,null,null,null,null,null,null,null,null,{"$f":"AC51-AC52","v":0},null,null,null,null,null,null,null,null,null,{"$f":"AM51-AM52","v":0}]
[]
[null,{"$f":"\"Sprawdzenie \"&$A$38","v":"Sprawdzenie RAZEM"}]
[null,"Nota",null,null,null,null,null,null,null,null,null,null,null,null,null,null,null,null,null,null,null,null,null,null,null,null,null,null,{"$f":"$AC$38","v":0},null,null,null,null,null,null,null,null,null,{"$f":"$AM$38","v":0}]
[null,"RZiS",null,null,null,null,null,null,null,null,null,null,null,null,null,null,null,null,null,null,null,null,null,null,null,null,null,null,{"$f":"IF(Parametry!$N$24=\"p\",Rachunek_ZiS_porównawczy!$S$34,Rachunek_ZiS_kalkulacyjny!$S$28)","v":0},null,null,null,null,null,null,null,null,null,{"$f":"IF(Parametry!$N$24=\"p\",Rachunek_ZiS_porównawczy!$X$34,Rachunek_ZiS_kalkulacyjny!$X$28)","v":0}]
[null,"różnica",null,null,null,null,null,null,null,null,null,null,null,null,null,null,null,null,null,null,null,null,null,null,null,null,null,null,{"$f":"AC56-AC57","v":0},null,null,null,null,null,null,null,null,null,{"$f":"AM56-AM57","v":0}]

{"sheet":"Przych_fin","index":63,"n_rows":70,"n_cols":78,"rows_kept":70,"cut":false,"hidden":true,"merged":[[2,44,2,49],[8,44,13,59],[5,0,5,32],[4,0,4,9],[13,1,13,27],[14,1,14,27],[9,1,9,27],[11,1,11,27],[8,1,8,27],[6,0,7,0],[6,1,7,27],[12,1,12,27],[10,1,10,27],[13,33,13,37],[14,33,14,37],[12,38,12,42],[12,33,12,37],[13,38,13,42],[8,38,8,42],[10,28,10,32],[10,33,10,37],[10,38,10,42],[6,28,7,32],[9,28,9,32],[11,28,11,32],[8,28,8,32],[15,1,15,27],[20,33,20,37],[21,33,21,37],[24,33,24,37],[22,28,22,32],[18,1,18,27],[19,28,19,32],[19,1,19,27],[12,28,12,32],[13,28,13,32],[14,28,14,32],[16,1,16,27],[15,28,15,32],[17,28,17,32],[23,33,23,37],[23,1,23,27],[24,1,24,27],[17,1,17,27],[21,28,21,32],[20,28,20,32],[20,1,20,27],[16,28,16,32],[18,28,18,32],[26,33,26,37],[25,33,25,37],[32,28,32,32],[33,28,33,32],[26,28,26,32],[25,28,25,32],[28,33,28,37],[29,33,29,37],[27,33,27,37],[19,33,19,37],[30,28,30,32],[31,28,31,32],[30,33,30,37],[32,33,32,37],[24,28,24,32],[33,33,33,37],[32,1,32,27],[29,1,29,27],[30,1,30,27],[31,1,31,27],[38,28,38,32],[35,28,35,32],[39,28,39,32],[34,28,34,32],[38,1,38,27],[37,1,37,27],[35,1,35,27],[33,1,33,27],[34,1,34,27],[36,1,36,27],[37,28,37,32],[36,28,36,32],[39,0,39,27],[39,38,39,42],[38,33,38,37],[35,33,35,37],[37,33,37,37],[39,33,39,37],[42,28,42,32],[43,28,43,32],[44,28,44,32],[44,38,44,42],[42,38,42,42],[38,38,38,42],[43,38,43,42],[42,1,42,22],[42,23,42,27],[43,1,43,22],[43,23,43,27],[44,1,44,22],[44,23,44,27],[42,33,42,37],[43,33,43,37],[44,33,44,37],[21,1,21,27],[22,1,22,27],[26,1,26,27],[27,1,27,27],[27,28,27,32],[28,28,28,32],[25,38,25,42],[30,38,30,42],[23,38,23,42],[24,38,24,42],[22,38,22,42],[22,33,22,37],[23,28,23,32],[25,1,25,27],[26,38,26,42],[29,28,29,32],[29,38,29,42],[28,1,28,27],[27,38,27,42],[28,38,28,42],[6,33,7,37],[9,38,9,42],[21,38,21,42],[16,33,16,37],[9,33,9,37],[11,33,11,37],[6,38,7,42],[16,38,16,42],[15,33,15,37],[18,33,18,37],[14,38,14,42],[11,38,11,42],[8,33,8,37],[25,44,27,59],[15,38,15,42],[19,38,19,42],[20,38,20,42],[17,33,17,37],[17,38,17,42],[18,38,18,42],[33,38,33,42],[37,38,37,42],[36,33,36,37],[33,44,35,59],[32,38,32,42],[31,33,31,37],[34,33,34,37],[34,38,34,42],[35,38,35,42],[36,38,36,42],[31,38,31,42],[47,1,47,22],[47,23,47,27],[47,28,47,32],[47,33,47,37],[47,38,47,42],[48,1,48,22],[48,23,48,27],[48,28,48,32],[48,33,48,37],[48,38,48,42],[49,1,49,22],[49,23,49,27],[49,28,49,32],[49,33,49,37],[49,38,49,42],[52,1,52,22],[52,23,52,27],[52,28,52,32],[52,33,52,37],[52,38,52,42],[53,1,53,22],[53,23,53,27],[53,28,53,32],[53,33,53,37],[53,38,53,42],[54,1,54,22],[54,23,54,27],[54,28,54,32],[54,33,54,37],[54,38,54,42],[57,1,57,22],[57,23,57,27],[57,28,57,32],[57,33,57,37],[57,38,57,42],[58,1,58,22],[58,23,58,27],[58,28,58,32],[58,33,58,37],[58,38,58,42],[59,1,59,22],[59,23,59,27],[59,28,59,32],[59,33,59,37],[59,38,59,42],[62,1,62,22],[62,23,62,27],[62,28,62,32],[62,33,62,37],[62,38,62,42],[63,1,63,22],[63,23,63,27],[63,28,63,32],[63,33,63,37],[63,38,63,42],[64,1,64,22],[64,23,64,27],[64,28,64,32],[64,33,64,37],[64,38,64,42],[69,1,69,22],[69,23,69,27],[69,28,69,32],[69,33,69,37],[69,38,69,42],[67,1,67,22],[67,23,67,27],[67,28,67,32],[67,33,67,37],[67,38,67,42],[68,1,68,22],[68,23,68,27],[68,28,68,32],[68,33,68,37],[68,38,68,42]]}
[{"$f":"nazwa","v":"DEMO"}]
[{"$f":"temat","v":"Sprawozdanie finansowe za rok 2023"}]
[null,null,null,null,null,null,null,null,null,null,null,null,null,null,null,null,null,null,null,null,null,null,null,null,null,null,null,null,null,null,null,null,null,null,null,null,null,null,null,"UKRYJ \"wyłączone\"",null,null,null,null,"Powrót do parametrów",null,null,null,null,null,null,null,null,null,null,null,null,null,null,null,null,null,null,null,null,null,null,null,null,null,null,null,null,null,null,null,null,false]
[]
[{"$f":"NumerNoty(Parametry!$B$80)","v":"Nota nie podlegająca prezentacji"}]
["Przychody finansowe"]
["Lp.","Wyszczególnienie",null,null,null,null,null,null,null,null,null,null,null,null,null,null,null,null,null,null,null,null,null,null,null,null,null,null,{"$f":"rokb","v":"dd.mm-dd.mm.rrrr"},null,null,null,null,"w tym : wyłączone z opodatkowania",null,null,null,null,{"$f":"rokp","v":"dd.mm-dd.mm.rrrr"}]
[]
["I.","DYWIDENDY I UDZIAŁY W ZYSKACH, w tym:",null,null,null,null,null,null,null,null,null,null,null,null,null,null,null,null,null,null,null,null,null,null,null,null,null,null,{"$f":"AC10+AC12","v":0},null,null,null,null,{"$f":"AH10+AH12","v":0},null,null,null,null,{"$f":"AM10+AM12","v":0},null,null,null,null,null,"Zaleca się wyszczególnienie przychodów wyłączonych z opodatkowania, co służy uzgodnieniu noty dotyczącej podatku dochodowego CIT. \nPrezentowanie tych danych nie jest jednak wymagane, dlatego umożliwiono ukrycie wypełnionej kolumny poprzez zaznaczenie checkbox'u UKRYJ \"wyłączone\""]
[null,"od jednostek powiązanych, w tym:"]
[null,"- w których jednostka posiada zaangażowanie w kapitale"]
[null,"od jednostek pozostałych w tym:"]
[null,"- w których jednostka posiada zaangażowanie w kapitale"]
["II.","ODSETKI, w tym:",null,null,null,null,null,null,null,null,null,null,null,null,null,null,null,null,null,null,null,null,null,null,null,null,null,null,{"$f":"AC16+AC19+AC22+AC25","v":0},null,null,null,null,{"$f":"AH16+AH19+AH22+AH25","v":0},null,null,null,null,{"$f":"AM16+AM19+AM22+AM25","v":0}]
[null,"- od jednostek powiązanych"]
[" 1.","Odsetki od udzielonych pożyczek (w tym także odsetki za zwłokę w spłacie rat)",null,null,null,null,null,null,null,null,null,null,null,null,null,null,null,null,null,null,null,null,null,null,null,null,null,null,{"$f":"SUM(AC17:AG18)","v":0},null,null,null,null,{"$f":"SUM(AH17:AL18)","v":0},null,null,null,null,{"$f":"SUM(AM17:AQ18)","v":0}]
[null,"zapłacone"]
[null,"niezapłacone"]
[" 2.","Odsetki od środków i lokat na rachunkach bankowych ",null,null,null,null,null,null,null,null,null,null,null,null,null,null,null,null,null,null,null,null,null,null,null,null,null,null,{"$f":"SUM(AC20:AG21)","v":0},null,null,null,null,{"$f":"SUM(AH20:AL21)","v":0},null,null,null,null,{"$f":"SUM(AM20:AQ21)","v":0}]
[null,"zapłacone"]
[null,"niezapłacone"]
[" 3.","Odsetki od należności od odbiorców",null,null,null,null,null,null,null,null,null,null,null,null,null,null,null,null,null,null,null,null,null,null,null,null,null,null,{"$f":"SUM(AC23:AG24)","v":0},null,null,null,null,{"$f":"SUM(AH23:AL24)","v":0},null,null,null,null,{"$f":"SUM(AM23:AQ24)","v":0}]
[null,"zapłacone"]
[null,"niezapłacone"]
[]
["III.","ZYSK Z TYTŁU ROZCHODU AKTYWÓW FINANSOWYCH, w tym:",null,null,null,null,null,null,null,null,null,null,null,null,null,null,null,null,null,null,null,null,null,null,null,null,null,null,{"$f":"SUM(AC28:AG30)","v":0},null,null,null,null,{"$f":"SUM(AH28:AL30)","v":0},null,null,null,null,{"$f":"SUM(AM28:AQ30)","v":0},null,null,null,null,null,"W przypadku wystąpienia straty ze zbycia inwestycji należy zaprezentować przychody i koszty z tym związane w nocie dotyczącej kosztów finansowych."]
[null,"- w jednostkach powiązanych"]
[" 1.","Zysk ze zbycia papierów wartościowych"]
[" 2.","Zysk ze zbycia udziałów"]
[" 3.","Zysk ze zbycia papierów wartościowych krótkoterminowych"]
["IV.","AKTUALIZACJA WARTOŚCI AKTYWÓW FINANSOWYCH",null,null,null,null,null,null,null,null,null,null,null,null,null,null,null,null,null,null,null,null,null,null,null,null,null,null,{"$f":"SUM(AC32:AC32)","v":0},null,null,null,null,{"$f":"SUM(AH32:AH32)","v":0},null,null,null,null,{"$f":"SUM(AM32:AM32)","v":0}]
[]
["V.","INNE ",null,null,null,null,null,null,null,null,null,null,null,null,null,null,null,null,null,null,null,null,null,null,null,null,null,null,{"$f":"AC34+SUM(AC37:AG39)","v":0},null,null,null,null,{"$f":"AH34+SUM(AH37:AL39)","v":0},null,null,null,null,{"$f":"AM34+SUM(AM37:AQ39)","v":0}]
[" 1.","Nadwyżka przychodów nad kosztami z tytułu różnic kursowych",null,null,null,null,null,null,null,null,null,null,null,null,null,null,null,null,null,null,null,null,null,null,null,null,null,null,{"$f":"AC35-AC36","v":0},null,null,null,null,{"$f":"AH35-AH36","v":0},null,null,null,null,{"$f":"AM35-AM36","v":0},null,null,null,null,null,"W przypadku wystąpienia straty z tytułu różnic kursowych należy zaprezentować przychody i koszty z tym związane w nocie dotyczącej kosztów finansowych."]
[null,"Przychody z tytułu różnic kursowych "]
[null,"Koszty z tytułu różnic kursowych"]
[" 2.","Rozwiązanie odpisu aktualizującego wartość należności z tytułu odsetek"]
[" 3.","Rozwiązanie innych rezerw i odpisów utworzonych w ciężar kosztów finansowych"]
[]
["RAZEM",null,null,null,null,null,null,null,null,null,null,null,null,null,null,null,null,null,null,null,null,null,null,null,null,null,null,null,{"$f":"AC9+AC14+AC26+AC31+AC33","v":0},null,null,null,null,{"$f":"AH9+AH14+AH26+AH31+AH33","v":0},null,null,null,null,{"$f":"AM9+AM14+AM26+AM31+AM33","v":0}]
[]
[null,{"$f":"\"Sprawdzenie \"&MID(B9,1,29)","v":"Sprawdzenie DYWIDENDY I UDZIAŁY W ZYSKACH"}]
[null,"Nota",null,null,null,null,null,null,null,null,null,null,null,null,null,null,null,null,null,null,null,null,null,null,null,null,null,null,{"$f":"$AC$9","v":0},null,null,null,null,null,null,null,null,null,{"$f":"$AM$9","v":0}]
[null,"RZiS",null,null,null,null,null,null,null,null,null,null,null,null,null,null,null,null,null,null,null,null,null,null,null,null,null,null,{"$f":"IF(Parametry!$N$24=\"p\",Rachunek_ZiS_porównawczy!$S$40,Rachunek_ZiS_kalkulacyjny!$S$34)","v":0},null,null,null,null,null,null,null,null,null,{"$f":"IF(Parametry!$N$24=\"p\",Rachunek_ZiS_porównawczy!$X$40,Rachunek_ZiS_kalkulacyjny!$X$34)","v":0}]
[null,"różnica",null,null,null,null,null,null,null,null,null,null,null,null,null,null,null,null,null,null,null,null,null,null,null,null,null,null,{"$f":"AC43-AC44","v":0},null,null,null,null,null,null,null,null,null,{"$f":"AM43-AM44","v":0}]
[]
[null,{"$f":"\"Sprawdzenie \"&$B$14","v":"Sprawdzenie ODSETKI, w tym:"}]
[null,"Nota",null,null,null,null,null,null,null,null,null,null,null,null,null,null,null,null,null,null,null,null,null,null,null,null,null,null,{"$f":"$AC$14","v":0},null,null,null,null,null,null,null,null,null,{"$f":"$AM$14","v":0}]
[null,"RZiS",null,null,null,null,null,null,null,null,null,null,null,null,null,null,null,null,null,null,null,null,null,null,null,null,null,null,{"$f":"IF(Parametry!$N$24=\"p\",Rachunek_ZiS_porównawczy!$S$45,Rachunek_ZiS_kalkulacyjny!$S$39)","v":0},null,null,null,null,null,null,null,null,null,{"$f":"IF(Parametry!$N$24=\"p\",Rachunek_ZiS_porównawczy!$X$45,Rachunek_ZiS_kalkulacyjny!$X$39)","v":0}]
[null,"różnica",null,null,null,null,null,null,null,null,null,null,null,null,null,null,null,null,null,null,null,null,null,null,null,null,null,null,{"$f":"AC48-AC49","v":0},null,null,null,null,null,null,null,null,null,{"$f":"AM48-AM49","v":0}]
[]
[null,{"$f":"\"Sprawdzenie \"&$B$26","v":"Sprawdzenie ZYSK Z TYTŁU ROZCHODU AKTYWÓW FINANSOWYCH, w tym:"}]
[null,"Nota",null,null,null,null,null,null,null,null,null,null,null,null,null,null,null,null,null,null,null,null,null,null,null,null,null,null,{"$f":"$AC$26","v":0},null,null,null,null,null,null,null,null,null,{"$f":"$AM$26","v":0}]
[null,"RZiS",null,null,null,null,null,null,null,null,null,null,null,null,null,null,null,null,null,null,null,null,null,null,null,null,null,null,{"$f":"IF(Parametry!$N$24=\"p\",Rachunek_ZiS_porównawczy!$S$47,Rachunek_ZiS_kalkulacyjny!$S$41)","v":0},null,null,null,null,null,null,null,null,null,{"$f":"IF(Parametry!$N$24=\"p\",Rachunek_ZiS_porównawczy!$X$47,Rachunek_ZiS_kalkulacyjny!$X$41)","v":0}]
[null,"różnica",null,null,null,null,null,null,null,null,null,null,null,null,null,null,null,null,null,null,null,null,null,null,null,null,null,null,{"$f":"AC53-AC54","v":0},null,null,null,null,null,null,null,null,null,{"$f":"AM53-AM54","v":0}]
[]
[null,{"$f":"\"Sprawdzenie \"&$B$31","v":"Sprawdzenie AKTUALIZACJA WARTOŚCI AKTYWÓW FINANSOWYCH"}]
[null,"Nota",null,null,null,null,null,null,null,null,null,null,null,null,null,null,null,null,null,null,null,null,null,null,null,null,null,null,{"$f":"$AC$31","v":0},null,null,null,null,null,null,null,null,null,{"$f":"$AM$31","v":0}]
[null,"RZiS",null,null,null,null,null,null,null,null,null,null,null,null,null,null,null,null,null,null,null,null,null,null,null,null,null,null,{"$f":"IF(Parametry!$N$24=\"p\",Rachunek_ZiS_porównawczy!$S$49,Rachunek_ZiS_kalkulacyjny!$S$43)","v":0},null,null,null,null,null,null,null,null,null,{"$f":"IF(Parametry!$N$24=\"p\",Rachunek_ZiS_porównawczy!$X$49,Rachunek_ZiS_kalkulacyjny!$X$43)","v":0}]
[null,"różnica",null,null,null,null,null,null,null,null,null,null,null,null,null,null,null,null,null,null,null,null,null,null,null,null,null,null,{"$f":"AC58-AC59","v":0},null,null,null,null,null,null,null,null,null,{"$f":"AM58-AM59","v":0}]
[]
[null,{"$f":"\"Sprawdzenie \"&$B$33","v":"Sprawdzenie INNE "}]
[null,"Nota",null,null,null,null,null,null,null,null,null,null,null,null,null,null,null,null,null,null,null,null,null,null,null,null,null,null,{"$f":"$AC$33","v":0},null,null,null,null,null,null,null,null,null,{"$f":"$AM$33","v":0}]
[null,"RZiS",null,null,null,null,null,null,null,null,null,null,null,null,null,null,null,null,null,null,null,null,null,null,null,null,null,null,{"$f":"IF(Parametry!$N$24=\"p\",Rachunek_ZiS_porównawczy!$S$50,Rachunek_ZiS_kalkulacyjny!$S$44)","v":0},null,null,null,null,null,null,null,null,null,{"$f":"IF(Parametry!$N$24=\"p\",Rachunek_ZiS_porównawczy!$X$50,Rachunek_ZiS_kalkulacyjny!$X$44)","v":0}]
[null,"różnica",null,null,null,null,null,null,null,null,null,null,null,null,null,null,null,null,null,null,null,null,null,null,null,null,null,null,{"$f":"AC63-AC64","v":0},null,null,null,null,null,null,null,null,null,{"$f":"AM63-AM64","v":0}]
[]
[null,{"$f":"\"Sprawdzenie \"&$A$40","v":"Sprawdzenie RAZEM"}]
[null,"Nota",null,null,null,null,null,null,null,null,null,null,null,null,null,null,null,null,null,null,null,null,null,null,null,null,null,null,{"$f":"$AC$40","v":0},null,null,null,null,null,null,null,null,null,{"$f":"$AM$40","v":0}]
[null,"RZiS",null,null,null,null,null,null,null,null,null,null,null,null,null,null,null,null,null,null,null,null,null,null,null,null,null,null,{"$f":"IF(Parametry!$N$24=\"p\",Rachunek_ZiS_porównawczy!$S$39,Rachunek_ZiS_kalkulacyjny!$S$33)","v":0},null,null,null,null,null,null,null,null,null,{"$f":"IF(Parametry!$N$24=\"p\",Rachunek_ZiS_porównawczy!$X$39,Rachunek_ZiS_kalkulacyjny!$X$33)","v":0}]
[null,"różnica",null,null,null,null,null,null,null,null,null,null,null,null,null,null,null,null,null,null,null,null,null,null,null,null,null,null,{"$f":"AC68-AC69","v":0},null,null,null,null,null,null,null,null,null,{"$f":"AM68-AM69","v":0}]

{"sheet":"Koszty_fin","index":64,"n_rows":65,"n_cols":78,"rows_kept":65,"cut":false,"hidden":true,"merged":[[2,44,2,49],[43,33,43,37],[44,33,44,37],[9,1,9,27],[13,33,13,37],[18,28,18,32],[22,38,22,42],[20,33,20,37],[19,38,19,42],[16,38,16,42],[35,1,35,27],[38,28,38,32],[38,33,38,37],[44,38,44,42],[39,28,39,32],[39,33,39,37],[38,38,38,42],[42,28,42,32],[44,28,44,32],[43,38,43,42],[42,38,42,42],[43,28,43,32],[38,1,38,27],[39,0,39,27],[33,44,35,59],[26,44,29,59],[8,44,12,59],[10,33,10,37],[11,33,11,37],[8,38,8,42],[30,38,30,42],[17,33,17,37],[9,38,9,42],[10,38,10,42],[11,38,11,42],[12,38,12,42],[13,38,13,42],[17,38,17,42],[18,38,18,42],[34,38,34,42],[33,38,33,42],[14,38,14,42],[31,38,31,42],[23,38,23,42],[25,33,25,37],[29,38,29,42],[20,38,20,42],[27,38,27,42],[6,0,7,0],[6,28,7,32],[6,33,7,37],[8,1,8,27],[12,28,12,32],[36,33,36,37],[19,28,19,32],[24,28,24,32],[26,33,26,37],[14,33,14,37],[15,33,15,37],[16,33,16,37],[22,33,22,37],[18,33,18,37],[23,28,23,32],[16,28,16,32],[17,28,17,32],[33,1,33,27],[31,1,31,27],[30,28,30,32],[24,1,24,27],[15,28,15,32],[20,1,20,27],[26,1,26,27],[4,0,4,9],[11,1,11,27],[12,1,12,27],[13,1,13,27],[10,1,10,27],[6,1,7,27],[42,1,42,22],[42,23,42,27],[43,1,43,22],[43,23,43,27],[14,1,14,27],[23,1,23,27],[21,1,21,27],[16,1,16,27],[19,1,19,27],[5,0,5,32],[37,1,37,27],[37,28,37,32],[25,28,25,32],[26,28,26,32],[14,28,14,32],[15,1,15,27],[17,1,17,27],[18,1,18,27],[6,38,7,42],[10,28,10,32],[9,28,9,32],[13,28,13,32],[35,28,35,32],[19,33,19,37],[29,33,29,37],[11,28,11,32],[8,28,8,32],[12,33,12,37],[8,33,8,37],[9,33,9,37],[35,38,35,42],[35,33,35,37],[15,38,15,42],[28,38,28,42],[25,38,25,42],[21,38,21,42],[24,33,24,37],[24,38,24,42],[26,38,26,42],[21,33,21,37],[21,28,21,32],[22,28,22,32],[44,1,44,22],[44,23,44,27],[42,33,42,37],[36,28,36,32],[36,1,36,27],[36,38,36,42],[32,1,32,27],[39,38,39,42],[37,33,37,37],[37,38,37,42],[32,38,32,42],[0,36,2,36],[28,1,28,27],[28,33,28,37],[34,1,34,27],[33,28,33,32],[32,28,32,32],[31,28,31,32],[29,28,29,32],[29,1,29,27],[30,1,30,27],[34,33,34,37],[33,33,33,37],[30,33,30,37],[31,33,31,37],[32,33,32,37],[28,28,28,32],[34,28,34,32],[25,1,25,27],[22,1,22,27],[23,33,23,37],[20,28,20,32],[27,33,27,37],[27,1,27,27],[27,28,27,32],[47,1,47,22],[47,23,47,27],[47,28,47,32],[47,33,47,37],[47,38,47,42],[48,1,48,22],[48,23,48,27],[48,28,48,32],[48,33,48,37],[48,38,48,42],[54,1,54,22],[54,23,54,27],[54,28,54,32],[54,33,54,37],[54,38,54,42],[49,1,49,22],[49,23,49,27],[49,28,49,32],[49,33,49,37],[49,38,49,42],[52,1,52,22],[52,23,52,27],[52,28,52,32],[52,33,52,37],[52,38,52,42],[53,1,53,22],[53,23,53,27],[53,28,53,32],[53,33,53,37],[53,38,53,42],[64,1,64,22],[64,23,64,27],[64,28,64,32],[64,33,64,37],[64,38,64,42],[59,1,59,22],[59,23,59,27],[59,28,59,32],[59,33,59,37],[59,38,59,42],[62,1,62,22],[62,23,62,27],[62,28,62,32],[62,33,62,37],[62,38,62,42],[63,1,63,22],[63,23,63,27],[63,28,63,32],[63,33,63,37],[63,38,63,42],[57,1,57,22],[57,23,57,27],[57,28,57,32],[57,33,57,37],[57,38,57,42],[58,1,58,22],[58,23,58,27],[58,28,58,32],[58,33,58,37],[58,38,58,42]]}
[{"$f":"nazwa","v":"DEMO"}]
[{"$f":"temat","v":"Sprawozdanie finansowe za rok 2023"}]
[null,null,null,null,null,null,null,null,null,null,null,null,null,null,null,null,null,null,null,null,null,null,null,null,null,null,null,null,null,null,null,null,null,null,null,null,null,null,null,"UKRYJ \"n.k.u.p.\"\"",null,null,null,null,"Powrót do parametrów",null,null,null,null,null,null,null,null,null,null,null,null,null,null,null,null,null,null,null,null,null,null,null,null,null,null,null,null,null,null,null,null,false]
[]
[{"$f":"NumerNoty(Parametry!$B$81)","v":"Nota nie podlegająca prezentacji"}]
["Koszty finansowe"]
["Lp.","Wyszczególnienie",null,null,null,null,null,null,null,null,null,null,null,null,null,null,null,null,null,null,null,null,null,null,null,null,null,null,{"$f":"rokb","v":"dd.mm-dd.mm.rrrr"},null,null,null,null,"w tym: n.k.u.p.",null,null,null,null,{"$f":"rokp","v":"dd.mm-dd.mm.rrrr"}]
[]
["I.","ODSETKI, w tym:",null,null,null,null,null,null,null,null,null,null,null,null,null,null,null,null,null,null,null,null,null,null,null,null,null,null,{"$f":"AC11+AC14+AC18+AC21+AC24+AC25+AC17+AC26","v":0},null,null,null,null,{"$f":"AH11+AH14+AH18+AH21+AH24+AH25+AH17+AH26","v":0},null,null,null,null,{"$f":"AM11+AM14+AM18+AM21+AM24+AM25+AM17+AM26","v":0},null,null,null,null,null,"Zaleca się wyszczególnienie n.k.u.p., które służy uzgodnieniu noty dotyczącej podatku dochodowego CIT. \nPrezentowanie tych danych nie jest jednak wymagane, dlatego umożliwiono ukrycie wypełnionej kolumny poprzez zaznaczenie checkbox'u UKRYJ n.k.u.p."]
[null,"- dla jednostek powiązanych"]
[" 1.","Odsetki od zaciągniętych pożyczek",null,null,null,null,null,null,null,null,null,null,null,null,null,null,null,null,null,null,null,null,null,null,null,null,null,null,{"$f":"SUM(AC12:AG13)","v":0},null,null,null,null,{"$f":"SUM(AH12:AL13)","v":0},null,null,null,null,{"$f":"SUM(AM12:AQ13)","v":0}]
[null,"zapłacone"]
[null,"niezapłacone"]
[" 2.","Odsetki od kredytów",null,null,null,null,null,null,null,null,null,null,null,null,null,null,null,null,null,null,null,null,null,null,null,null,null,null,{"$f":"SUM(AC15:AG16)","v":0},null,null,null,null,{"$f":"SUM(AH15:AL16)","v":0},null,null,null,null,{"$f":"SUM(AM15:AQ16)","v":0}]
[null,"zapłacone"]
[null,"niezapłacone"]
[" 3.","Prowizje z tytułu kredytów i pożyczek"]
[" 4.","Odsetki od obligacji własnych",null,null,null,null,null,null,null,null,null,null,null,null,null,null,null,null,null,null,null,null,null,null,null,null,null,null,{"$f":"SUM(AC19:AG20)","v":0},null,null,null,null,{"$f":"SUM(AH19:AL20)","v":0},null,null,null,null,{"$f":"SUM(AM19:AQ20)","v":0}]
[null,"zapłacone"]
[null,"niezapłacone"]
[" 5.","Odsetki od zobowiązań handlowych wobec dostawców obcych",null,null,null,null,null,null,null,null,null,null,null,null,null,null,null,null,null,null,null,null,null,null,null,null,null,null,{"$f":"SUM(AC22:AG23)","v":0},null,null,null,null,{"$f":"SUM(AH22:AL23)","v":0},null,null,null,null,{"$f":"SUM(AM22:AQ23)","v":0}]
[null,"zapłacone"]
[null,"niezapłacone"]
[" 6.","Odsetki od przyjętych w leasing finansowy rzeczowych składników majątku"]
[" 7.","Odsetki od zobowiązań budżetowych"]
[]
["II.","STRATA Z TYTUŁU ROZCHODU AKTYWÓW FINANSOWYCH, w tym:",null,null,null,null,null,null,null,null,null,null,null,null,null,null,null,null,null,null,null,null,null,null,null,null,null,null,{"$f":"SUM(AC29:AG30)","v":0},null,null,null,null,{"$f":"SUM(AH29:AL30)","v":0},null,null,null,null,{"$f":"SUM(AM29:AQ30)","v":0},null,null,null,null,null,"W przypadku wystąpienia zysku ze zbycia inwestycji należy zaprezentować przychody i koszty tym związane w nocie dotyczącej przychodów finansowych."]
[null,"- w jednostkach powiązanych"]
[" 1.","Strata na sprzedaży papierów wartościowych"]
[" 2.","Strata na sprzedaży udziałów"]
["III.","AKTUALIZACJA WARTOŚCI AKTYWÓW FINANSOWYCH",null,null,null,null,null,null,null,null,null,null,null,null,null,null,null,null,null,null,null,null,null,null,null,null,null,null,{"$f":"SUM(AC32:AG32)","v":0},null,null,null,null,{"$f":"SUM(AH32:AL32)","v":0},null,null,null,null,{"$f":"SUM(AM32:AQ32)","v":0}]
[]
["IV.","INNE ",null,null,null,null,null,null,null,null,null,null,null,null,null,null,null,null,null,null,null,null,null,null,null,null,null,null,{"$f":"SUM(AC34,AC37:AC39)","v":0},null,null,null,null,{"$f":"SUM(AH34,AH37:AH39)","v":0},null,null,null,null,{"$f":"SUM(AM34,AM37:AM39)","v":0}]
[" 1.","Nadwyżka kosztów nad przychodami z tytułu różnic kursowych",null,null,null,null,null,null,null,null,null,null,null,null,null,null,null,null,null,null,null,null,null,null,null,null,null,null,{"$f":"AC36-AC35","v":0},null,null,null,null,{"$f":"AH36-AH35","v":0},null,null,null,null,{"$f":"AM36-AM35","v":0},null,null,null,null,null,"W przypadku wystąpienia zysku z tytułu różnic kursowych należy zaprezentować przychody i koszty z tym związane w nocie dotyczącej przychodów finansowych."]
[null,"Przychody z tytułu różnic kursowych "]
[null,"Koszty z tytułu różnic kursowych"]
[" 2.","Odpisy aktualizujące wartość należności (odsetki i pożyczki)"]
[]
[]
["RAZEM",null,null,null,null,null,null,null,null,null,null,null,null,null,null,null,null,null,null,null,null,null,null,null,null,null,null,null,{"$f":"AC9+AC27+AC31+AC33","v":0},null,null,null,null,{"$f":"AH9+AH27+AH31+AH33","v":0},null,null,null,null,{"$f":"AM9+AM27+AM31+AM33","v":0}]
[]
[null,{"$f":"\"Sprawdzenie \"&$B$9","v":"Sprawdzenie ODSETKI, w tym:"}]
[null,"Nota",null,null,null,null,null,null,null,null,null,null,null,null,null,null,null,null,null,null,null,null,null,null,null,null,null,null,{"$f":"$AC$9","v":0},null,null,null,null,null,null,null,null,null,{"$f":"$AM$9","v":0}]
[null,"RZiS",null,null,null,null,null,null,null,null,null,null,null,null,null,null,null,null,null,null,null,null,null,null,null,null,null,null,{"$f":"IF(Parametry!$N$24=\"p\",Rachunek_ZiS_porównawczy!$S$52,Rachunek_ZiS_kalkulacyjny!$S$46)","v":0},null,null,null,null,null,null,null,null,null,{"$f":"IF(Parametry!$N$24=\"p\",Rachunek_ZiS_porównawczy!$X$52,Rachunek_ZiS_kalkulacyjny!$X$46)","v":0}]
[null,"różnica",null,null,null,null,null,null,null,null,null,null,null,null,null,null,null,null,null,null,null,null,null,null,null,null,null,null,{"$f":"AC43-AC44","v":0},null,null,null,null,null,null,null,null,null,{"$f":"AM43-AM44","v":0}]
[]
[null,{"$f":"\"Sprawdzenie \"&$B$27","v":"Sprawdzenie STRATA Z TYTUŁU ROZCHODU AKTYWÓW FINANSOWYCH, w tym:"}]
[null,"Nota",null,null,null,null,null,null,null,null,null,null,null,null,null,null,null,null,null,null,null,null,null,null,null,null,null,null,{"$f":"$AC$27","v":0},null,null,null,null,null,null,null,null,null,{"$f":"$AM$27","v":0}]
[null,"RZiS",null,null,null,null,null,null,null,null,null,null,null,null,null,null,null,null,null,null,null,null,null,null,null,null,null,null,{"$f":"IF(Parametry!$N$24=\"p\",Rachunek_ZiS_porównawczy!$S$54,Rachunek_ZiS_kalkulacyjny!$S$48)","v":0},null,null,null,null,null,null,null,null,null,{"$f":"IF(Parametry!$N$24=\"p\",Rachunek_ZiS_porównawczy!$X$54,Rachunek_ZiS_kalkulacyjny!$X$48)","v":0}]
[null,"różnica",null,null,null,null,null,null,null,null,null,null,null,null,null,null,null,null,null,null,null,null,null,null,null,null,null,null,{"$f":"AC48-AC49","v":0},null,null,null,null,null,null,null,null,null,{"$f":"AM48-AM49","v":0}]
[]
[null,{"$f":"\"Sprawdzenie \"&$B$31","v":"Sprawdzenie AKTUALIZACJA WARTOŚCI AKTYWÓW FINANSOWYCH"}]
[null,"Nota",null,null,null,null,null,null,null,null,null,null,null,null,null,null,null,null,null,null,null,null,null,null,null,null,null,null,{"$f":"$AC$31","v":0},null,null,null,null,null,null,null,null,null,{"$f":"$AM$31","v":0}]
[null,"RZiS",null,null,null,null,null,null,null,null,null,null,null,null,null,null,null,null,null,null,null,null,null,null,null,null,null,null,{"$f":"IF(Parametry!$N$24=\"p\",Rachunek_ZiS_porównawczy!$S$56,Rachunek_ZiS_kalkulacyjny!$S$50)","v":0},null,null,null,null,null,null,null,null,null,{"$f":"IF(Parametry!$N$24=\"p\",Rachunek_ZiS_porównawczy!$X$56,Rachunek_ZiS_kalkulacyjny!$X$50)","v":0}]
[null,"różnica",null,null,null,null,null,null,null,null,null,null,null,null,null,null,null,null,null,null,null,null,null,null,null,null,null,null,{"$f":"AC53-AC54","v":0},null,null,null,null,null,null,null,null,null,{"$f":"AM53-AM54","v":0}]
[]
[null,{"$f":"\"Sprawdzenie \"&$B$33","v":"Sprawdzenie INNE "}]
[null,"Nota",null,null,null,null,null,null,null,null,null,null,null,null,null,null,null,null,null,null,null,null,null,null,null,null,null,null,{"$f":"$AC$33","v":0},null,null,null,null,null,null,null,null,null,{"$f":"$AM$33","v":0}]
[null,"RZiS",null,null,null,null,null,null,null,null,null,null,null,null,null,null,null,null,null,null,null,null,null,null,null,null,null,null,{"$f":"IF(Parametry!$N$24=\"p\",Rachunek_ZiS_porównawczy!$S$57,Rachunek_ZiS_kalkulacyjny!$S$51)","v":0},null,null,null,null,null,null,null,null,null,{"$f":"IF(Parametry!$N$24=\"p\",Rachunek_ZiS_porównawczy!$X$57,Rachunek_ZiS_kalkulacyjny!$X$51)","v":0}]
[null,"różnica",null,null,null,null,null,null,null,null,null,null,null,null,null,null,null,null,null,null,null,null,null,null,null,null,null,null,{"$f":"AC58-AC59","v":0},null,null,null,null,null,null,null,null,null,{"$f":"AM58-AM59","v":0}]
[]
[null,{"$f":"\"Sprawdzenie \"&$A$40","v":"Sprawdzenie RAZEM"}]
[null,"Nota",null,null,null,null,null,null,null,null,null,null,null,null,null,null,null,null,null,null,null,null,null,null,null,null,null,null,{"$f":"$AC$40","v":0},null,null,null,null,null,null,null,null,null,{"$f":"$AM$40","v":0}]
[null,"RZiS",null,null,null,null,null,null,null,null,null,null,null,null,null,null,null,null,null,null,null,null,null,null,null,null,null,null,{"$f":"IF(Parametry!$N$24=\"p\",Rachunek_ZiS_porównawczy!$S$51,Rachunek_ZiS_kalkulacyjny!$S$45)","v":0},null,null,null,null,null,null,null,null,null,{"$f":"IF(Parametry!$N$24=\"p\",Rachunek_ZiS_porównawczy!$X$51,Rachunek_ZiS_kalkulacyjny!$X$45)","v":0}]
[null,"różnica",null,null,null,null,null,null,null,null,null,null,null,null,null,null,null,null,null,null,null,null,null,null,null,null,null,null,{"$f":"AC63-AC64","v":0},null,null,null,null,null,null,null,null,null,{"$f":"AM63-AM64","v":0}]

{"sheet":"Inf_o_dział_zaniechanej","index":65,"n_rows":25,"n_cols":45,"rows_kept":25,"cut":false,"hidden":true,"merged":[[2,44,2,49],[21,44,23,50],[7,38,7,42],[18,44,20,50],[17,0,17,42],[18,0,36,42],[4,0,4,9],[15,38,15,42],[16,38,16,42],[6,1,6,37],[7,1,7,37],[15,1,15,37],[16,1,16,37],[5,0,5,42],[6,38,6,42],[8,1,8,37],[8,38,8,42],[9,1,9,37],[9,38,9,42],[10,1,10,37],[10,38,10,42],[14,1,14,37],[14,38,14,42],[11,1,11,37],[11,38,11,42],[12,1,12,37],[12,38,12,42],[13,1,13,37],[13,38,13,42]]}
[{"$f":"nazwa","v":"DEMO"}]
[{"$f":"temat","v":"Sprawozdanie finansowe za rok 2023"}]
[null,null,null,null,null,null,null,null,null,null,null,null,null,null,null,null,null,null,null,null,null,null,null,null,null,null,null,null,null,null,null,null,null,null,null,null,null,null,null,null,null,null,null,null,"Powrót do parametrów"]
[]
[{"$f":"NumerNoty(Parametry!$B$82)","v":"Nota nie podlegająca prezentacji"}]
["Informacje o przychodach, kosztach i wynikach działalności zaniechanej w roku obrotowym lub przewidzianej do zaniechania w roku następnym"]
["Lp.","Wyszczególnienie",null,null,null,null,null,null,null,null,null,null,null,null,null,null,null,null,null,null,null,null,null,null,null,null,null,null,null,null,null,null,null,null,null,null,null,null,"Wartość"]
[" 1."]
[" 2."]
[" 3."]
[" 4."]
[" 5."]
[" 6."]
[" 7."]
[" 8."]
[" 9."]
[" 10."]
[]
[]
[]
[]
[]
[]
[]
[null,null,null,null,null,null,null,null,null,null,null,null,null,null,null,null,null,null,null,null,null,null,null,null,null,null,null,null,null,null,null,null,null,null,null,null,null,null,null,null,null,null,null,null,"Miejsce na dodatkowy opis"]

{"sheet":"Kursy_walut","index":66,"n_rows":31,"n_cols":45,"rows_kept":31,"cut":false,"hidden":true,"merged":[[2,44,2,49],[12,20,12,36],[13,20,13,36],[14,20,14,36],[15,20,15,36],[8,20,8,36],[9,20,9,36],[10,20,10,36],[11,20,11,36],[11,37,11,42],[9,37,9,42],[10,37,10,42],[16,20,16,36],[13,37,13,42],[17,20,17,36],[18,20,18,36],[21,20,21,36],[18,37,18,42],[20,37,20,42],[19,20,19,36],[19,37,19,42],[21,37,21,42],[21,15,21,19],[22,15,22,19],[27,15,27,19],[18,1,18,14],[18,15,18,19],[20,1,20,14],[26,1,26,14],[19,1,19,14],[19,15,19,19],[21,1,21,14],[22,1,22,14],[24,1,24,14],[23,15,23,19],[24,15,24,19],[25,15,25,19],[4,0,4,9],[5,0,5,42],[6,0,7,0],[6,1,7,14],[6,37,7,42],[6,15,7,19],[6,20,7,36],[14,15,14,19],[29,0,29,42],[30,0,36,42],[10,1,10,14],[8,1,8,14],[8,37,8,42],[9,1,9,14],[12,37,12,42],[14,37,14,42],[8,15,8,19],[9,15,9,19],[10,15,10,19],[12,15,12,19],[11,15,11,19],[15,15,15,19],[26,37,26,42],[11,1,11,14],[13,1,13,14],[13,15,13,19],[22,37,22,42],[24,37,24,42],[22,20,22,36],[12,1,12,14],[14,1,14,14],[17,37,17,42],[15,1,15,14],[15,37,15,42],[16,37,16,42],[16,1,16,14],[17,1,17,14],[16,15,16,19],[17,15,17,19],[28,1,28,14],[27,1,27,14],[25,37,25,42],[23,1,23,14],[25,1,25,14],[27,37,27,42],[28,15,28,19],[23,37,23,42],[24,20,24,36],[23,20,23,36],[25,20,25,36],[28,20,28,36],[28,37,28,42]]}
[{"$f":"nazwa","v":"DEMO"}]
[{"$f":"temat","v":"Sprawozdanie finansowe za rok 2023"}]
[null,null,null,null,null,null,null,null,null,null,null,null,null,null,null,null,null,null,null,null,null,null,null,null,null,null,null,null,null,null,null,null,null,null,null,null,null,null,null,null,null,null,null,null,"Powrót do parametrów"]
[]
[{"$f":"NumerNoty(Parametry!$B$83)","v":"Nota nie podlegająca prezentacji"}]
["Kursy walut przyjęte do wyceny składników bilansu oraz rachunku zysków i strat"]
["Lp.","Rodzaj składnika/Nazwa waluty",null,null,null,null,null,null,null,null,null,null,null,null,null,"Kod waluty",null,null,null,null,"Rodzaj kursu/tabela kursów",null,null,null,null,null,null,null,null,null,null,null,null,null,null,null,null,"Przyjęty kurs"]
[]
["1.","Należności "]
[null,"– euro",null,null,null,null,null,null,null,null,null,null,null,null,null,"EUR"]
[null,"– dolar amerykański",null,null,null,null,null,null,null,null,null,null,null,null,null,"USD"]
[null,"– funt szterling",null,null,null,null,null,null,null,null,null,null,null,null,null,"GBP"]
[]
[]
[]
[" 2.","Środki pieniężne w kasie i w banku"]
[null,"– euro",null,null,null,null,null,null,null,null,null,null,null,null,null,"EUR"]
[null,"– dolar amerykański",null,null,null,null,null,null,null,null,null,null,null,null,null,"USD"]
[null,"– funt szterling",null,null,null,null,null,null,null,null,null,null,null,null,null,"GBP"]
[null,null,null,null,null,null,null,null,null,null,null,null,null,null,null,"GBP"]
[]
[]
[" 3.","Zobowiązania"]
[null,"– euro",null,null,null,null,null,null,null,null,null,null,null,null,null,"EUR"]
[null,"– dolar amerykański",null,null,null,null,null,null,null,null,null,null,null,null,null,"USD"]
[null,"– funt szterling",null,null,null,null,null,null,null,null,null,null,null,null,null,"GBP"]
[]
[]
[]
[]
[null,null,null,null,null,null,null,null,null,null,null,null,null,null,null,null,null,null,null,null,null,null,null,null,null,null,null,null,null,null,null,null,null,null,null,null,null,null,null,null,null,null,null,null,"Miejsce na dodatkowy opis"]

{"sheet":"Odsetki_i_róznice_kursowe","index":67,"n_rows":24,"n_cols":45,"rows_kept":24,"cut":false,"hidden":true,"merged":[[2,44,2,49],[11,1,11,30],[11,31,11,36],[11,37,11,42],[9,1,9,30],[9,31,9,36],[9,37,9,42],[10,1,10,30],[10,31,10,36],[10,37,10,42],[22,0,22,42],[23,0,36,42],[4,0,4,9],[5,0,5,42],[19,31,19,36],[19,37,19,42],[19,1,19,30],[15,1,15,30],[12,31,12,36],[12,37,12,42],[13,31,13,36],[13,37,13,42],[15,31,15,36],[14,1,14,30],[14,31,14,36],[14,37,14,42],[20,31,20,36],[20,37,20,42],[18,1,18,30],[18,31,18,36],[18,37,18,42],[16,1,16,30],[16,31,16,36],[16,37,16,42],[17,1,17,30],[17,31,17,36],[17,37,17,42],[21,31,21,36],[21,37,21,42],[20,1,20,30],[21,1,21,30],[6,1,6,30],[7,1,7,30],[8,1,8,30],[12,1,12,30],[13,1,13,30],[7,31,7,36],[7,37,7,42],[8,31,8,36],[8,37,8,42],[6,31,6,36],[6,37,6,42],[15,37,15,42]]}
[{"$f":"nazwa","v":"DEMO"}]
[{"$f":"temat","v":"Sprawozdanie finansowe za rok 2023"}]
[null,null,null,null,null,null,null,null,null,null,null,null,null,null,null,null,null,null,null,null,null,null,null,null,null,null,null,null,null,null,null,null,null,null,null,null,null,null,null,null,null,null,null,null,"Powrót do parametrów"]
[]
[{"$f":"NumerNoty(Parametry!$B$84)","v":"Nota nie podlegająca prezentacji"}]
["Odsetki oraz różnice kursowe, które powiększyły cenę nabycia towarów lub koszt wytworzenia produktów w roku obrotowym"]
["Lp.","Wyszczególnienie",null,null,null,null,null,null,null,null,null,null,null,null,null,null,null,null,null,null,null,null,null,null,null,null,null,null,null,null,null,"Towary",null,null,null,null,null,"Produkty"]
["1.","Różnice kursowe, w tym z tytułu:",null,null,null,null,null,null,null,null,null,null,null,null,null,null,null,null,null,null,null,null,null,null,null,null,null,null,null,null,null,{"$f":"SUM(AF9:AK14)","v":0},null,null,null,null,null,{"$f":"SUM(AL9:AQ14)","v":0}]
[]
[]
[]
[]
[]
[]
[" 2.","Odsetki, w tym z tytułu:",null,null,null,null,null,null,null,null,null,null,null,null,null,null,null,null,null,null,null,null,null,null,null,null,null,null,null,null,null,{"$f":"SUM(AF16:AK21)","v":0},null,null,null,null,null,{"$f":"SUM(AL16:AQ21)","v":0}]
[]
[]
[]
[]
[]
[]
[null,"RAZEM",null,null,null,null,null,null,null,null,null,null,null,null,null,null,null,null,null,null,null,null,null,null,null,null,null,null,null,null,null,{"$f":"AF8+AF15","v":0},null,null,null,null,null,{"$f":"AL8+AL15","v":0}]
[]
[null,null,null,null,null,null,null,null,null,null,null,null,null,null,null,null,null,null,null,null,null,null,null,null,null,null,null,null,null,null,null,null,null,null,null,null,null,null,null,null,null,null,null,null,"Miejsce na dodatkowy opis"]

{"sheet":"Koszt_wytw_ŚR_TRW_w_bud","index":68,"n_rows":31,"n_cols":45,"rows_kept":31,"cut":false,"hidden":true,"merged":[[24,0,24,27],[27,44,29,50],[6,33,6,42],[21,33,21,37],[22,33,22,37],[24,38,24,42],[21,38,21,42],[23,44,26,50],[7,38,8,42],[7,33,8,37],[25,0,25,42],[26,0,36,42],[21,1,21,27],[22,1,22,27],[23,1,23,27],[23,38,23,42],[24,33,24,37],[24,28,24,32],[9,38,9,42],[23,28,23,32],[23,33,23,37],[21,28,21,32],[22,28,22,32],[9,28,9,32],[9,33,9,37],[6,28,8,32],[22,38,22,42],[2,44,2,49],[9,1,9,27],[5,0,5,42],[6,0,8,0],[4,0,4,9],[6,1,8,27],[10,1,10,27],[10,28,10,32],[10,33,10,37],[10,38,10,42],[16,1,16,27],[16,28,16,32],[16,33,16,37],[16,38,16,42],[11,1,11,27],[11,28,11,32],[11,33,11,37],[11,38,11,42],[12,1,12,27],[12,28,12,32],[12,33,12,37],[12,38,12,42],[17,1,17,27],[17,28,17,32],[17,33,17,37],[17,38,17,42],[18,1,18,27],[18,28,18,32],[18,33,18,37],[18,38,18,42],[19,1,19,27],[19,28,19,32],[19,33,19,37],[19,38,19,42],[20,1,20,27],[20,28,20,32],[20,33,20,37],[20,38,20,42],[15,1,15,27],[15,28,15,32],[15,33,15,37],[15,38,15,42],[13,1,13,27],[13,28,13,32],[13,33,13,37],[13,38,13,42],[14,1,14,27],[14,28,14,32],[14,33,14,37],[14,38,14,42]]}
[{"$f":"nazwa","v":"DEMO"}]
[{"$f":"temat","v":"Sprawozdanie finansowe za rok 2023"}]
[null,null,null,null,null,null,null,null,null,null,null,null,null,null,null,null,null,null,null,null,null,null,null,null,null,null,null,null,null,null,null,null,null,null,null,null,null,null,null,null,null,null,null,null,"Powrót do parametrów"]
[]
[{"$f":"NumerNoty(Parametry!$B$85)","v":"Nota nie podlegająca prezentacji"}]
["Koszt wytworzenia środków trwałych w budowie"]
["Lp.","Wyszczególnienie",null,null,null,null,null,null,null,null,null,null,null,null,null,null,null,null,null,null,null,null,null,null,null,null,null,null,"Wartość",null,null,null,null,"w tym:"]
[null,null,null,null,null,null,null,null,null,null,null,null,null,null,null,null,null,null,null,null,null,null,null,null,null,null,null,null,null,null,null,null,null,"odsetki",null,null,null,null,"skapitalizowane różnice kursowe"]
[]
[" 1."]
[" 2."]
[" 3."]
[" 4."]
[" 5."]
[" 6."]
[" 7."]
[" 8."]
[" 9."]
[" 10."]
[" 11."]
[" 12."]
[" 13."]
[" 14."]
[" 15."]
["RAZEM",null,null,null,null,null,null,null,null,null,null,null,null,null,null,null,null,null,null,null,null,null,null,null,null,null,null,null,{"$f":"SUM(AC10:AG24)","v":0},null,null,null,null,{"$f":"SUM(AH10:AL24)","v":0},null,null,null,null,{"$f":"SUM(AM10:AQ24)","v":0}]
[]
[]
[]
[]
[]
[null,null,null,null,null,null,null,null,null,null,null,null,null,null,null,null,null,null,null,null,null,null,null,null,null,null,null,null,null,null,null,null,null,null,null,null,null,null,null,null,null,null,null,null,"Miejsce na dodatkowy opis"]

{"sheet":"Nakłady_na_N_A_T","index":69,"n_rows":22,"n_cols":45,"rows_kept":22,"cut":false,"hidden":true,"merged":[[2,44,2,49],[18,0,36,42],[14,1,14,32],[11,33,11,37],[15,33,15,37],[11,38,11,42],[13,1,13,32],[15,1,15,32],[12,33,12,37],[12,38,12,42],[13,33,13,37],[13,38,13,42],[14,33,14,37],[14,38,14,42],[15,38,15,42],[17,44,20,50],[6,1,10,32],[11,1,11,32],[4,0,4,9],[5,0,5,42],[6,33,10,37],[6,38,10,42],[6,0,10,0],[17,0,17,42],[16,1,16,32],[16,33,16,37],[12,1,12,32],[16,38,16,42]]}
[{"$f":"nazwa","v":"DEMO"}]
[{"$f":"temat","v":"Sprawozdanie finansowe za rok 2023"}]
[null,null,null,null,null,null,null,null,null,null,null,null,null,null,null,null,null,null,null,null,null,null,null,null,null,null,null,null,null,null,null,null,null,null,null,null,null,null,null,null,null,null,null,null,"Powrót do parametrów"]
[]
[{"$f":"NumerNoty(Parametry!$B$86)","v":"Nota nie podlegająca prezentacji"}]
["Nakłady na niefinansowe aktywa trwałe, w tym nakłady na ochronę środowiska"]
["Lp.","Wyszczególnienie",null,null,null,null,null,null,null,null,null,null,null,null,null,null,null,null,null,null,null,null,null,null,null,null,null,null,null,null,null,null,null,"Nakłady poniesione\nw bieżącym roku obrotowym",null,null,null,null,"Nakłady planowane"]
[]
[]
[]
[]
[" 1.","Wartości niematerialne i prawne"]
[" 2.","Środki trwałe przyjęte do użytkowania, w tym:"]
[null,"– na ochronę środowiska"]
[" 3.","Środki trwałe w budowie, w tym:"]
[null,"– na ochronę środowiska"]
[" 4.","Inwestycje w nieruchomości i prawa przyjęte do użytkowania"]
[]
[]
[]
[]
[null,null,null,null,null,null,null,null,null,null,null,null,null,null,null,null,null,null,null,null,null,null,null,null,null,null,null,null,null,null,null,null,null,null,null,null,null,null,null,null,null,null,null,null,"Miejsce na dodatkowy opis"]

{"sheet":"Przychody_i_koszty_incydent","index":70,"n_rows":28,"n_cols":45,"rows_kept":28,"cut":false,"hidden":true,"merged":[[26,0,26,42],[27,0,36,42],[13,1,13,32],[13,38,13,42],[14,1,14,32],[25,1,25,32],[15,38,15,42],[19,38,19,42],[23,1,23,32],[15,1,15,32],[19,1,19,32],[19,33,19,37],[20,1,20,32],[20,33,20,37],[18,1,18,32],[18,33,18,37],[12,38,12,42],[4,0,4,9],[5,0,5,42],[6,1,7,32],[6,0,7,0],[6,33,7,37],[6,38,7,42],[9,1,9,32],[10,1,10,32],[12,1,12,32],[12,33,12,37],[11,1,11,32],[2,44,2,49],[23,38,23,42],[22,44,25,50],[9,33,9,37],[9,38,9,42],[10,33,10,37],[10,38,10,42],[21,33,21,37],[21,38,21,42],[22,33,22,37],[22,38,22,42],[24,33,24,37],[24,38,24,42],[11,33,11,37],[11,38,11,42],[15,33,15,37],[17,0,17,42],[13,33,13,37],[8,0,8,42],[25,33,25,37],[25,38,25,42],[14,33,14,37],[14,38,14,42],[16,1,16,32],[16,33,16,37],[16,38,16,42],[20,38,20,42],[18,38,18,42],[21,1,21,32],[22,1,22,32],[24,1,24,32],[23,33,23,37]]}
[{"$f":"nazwa","v":"DEMO"}]
[{"$f":"temat","v":"Sprawozdanie finansowe za rok 2023"}]
[null,null,null,null,null,null,null,null,null,null,null,null,null,null,null,null,null,null,null,null,null,null,null,null,null,null,null,null,null,null,null,null,null,null,null,null,null,null,null,null,null,null,null,null,"Powrót do parametrów"]
[]
[{"$f":"NumerNoty(Parametry!$B$87)","v":"Nota nie podlegająca prezentacji"}]
["Kwota i charakter poszczególnych pozycji przychodów i kosztów o nadzwyczajnej wartości lub które wystąpiły incydentalnie"]
["Lp.","Wyszczególnienie",null,null,null,null,null,null,null,null,null,null,null,null,null,null,null,null,null,null,null,null,null,null,null,null,null,null,null,null,null,null,null,{"$f":"rokb","v":"dd.mm-dd.mm.rrrr"},null,null,null,null,{"$f":"rokp","v":"dd.mm-dd.mm.rrrr"}]
[]
["Przychody"]
[" 1.","o nadzwyczajnej wartości:",null,null,null,null,null,null,null,null,null,null,null,null,null,null,null,null,null,null,null,null,null,null,null,null,null,null,null,null,null,null,null,{"$f":"SUM(AH11:AL13)","v":0},null,null,null,null,{"$f":"SUM(AM11:AQ13)","v":0}]
[null,"-"]
[null,"-"]
[null,"-"]
[" 2.","które wystąpiły incydentalnie:",null,null,null,null,null,null,null,null,null,null,null,null,null,null,null,null,null,null,null,null,null,null,null,null,null,null,null,null,null,null,null,{"$f":"SUM(AH15:AL17)","v":0},null,null,null,null,{"$f":"SUM(AM15:AQ17)","v":0}]
[null,"-"]
[null,"-"]
[null,"-"]
["Koszty"]
[" 1.","o nadzwyczajnej wartości:",null,null,null,null,null,null,null,null,null,null,null,null,null,null,null,null,null,null,null,null,null,null,null,null,null,null,null,null,null,null,null,{"$f":"SUM(AH20:AL22)","v":0},null,null,null,null,{"$f":"SUM(AM20:AQ22)","v":0}]
[null,"-"]
[null,"-"]
[null,"-"]
[" 2.","które wystąpiły incydentalnie:",null,null,null,null,null,null,null,null,null,null,null,null,null,null,null,null,null,null,null,null,null,null,null,null,null,null,null,null,null,null,null,{"$f":"SUM(AH24:AL26)","v":0},null,null,null,null,{"$f":"SUM(AM24:AQ26)","v":0}]
[null,"-"]
[null,"-"]
[null,"-"]
[]
[null,null,null,null,null,null,null,null,null,null,null,null,null,null,null,null,null,null,null,null,null,null,null,null,null,null,null,null,null,null,null,null,null,null,null,null,null,null,null,null,null,null,null,null,"Miejsce na dodatkowy opis"]

{"sheet":"Ukryte_zyski","index":71,"n_rows":27,"n_cols":45,"rows_kept":27,"cut":false,"hidden":true,"merged":[[24,1,24,37],[24,38,24,42],[20,1,20,37],[22,1,22,37],[22,38,22,42],[23,1,23,37],[23,38,23,42],[14,0,15,0],[14,1,15,37],[14,38,15,42],[17,1,17,37],[18,0,19,0],[18,1,19,37],[18,38,19,42],[25,0,25,42],[26,0,34,42],[6,1,7,37],[20,38,20,42],[20,44,24,50],[17,38,17,42],[16,1,16,37],[16,38,16,42],[8,1,10,37],[8,38,10,42],[8,0,10,0],[21,1,21,37],[21,38,21,42],[11,0,13,0],[11,1,13,37],[11,38,13,42],[2,44,2,49],[4,0,4,9],[5,0,5,42],[6,0,7,0],[6,38,7,42]]}
[{"$f":"nazwa","v":"DEMO"}]
[{"$f":"temat","v":"Sprawozdanie finansowe za rok 2023"}]
[null,null,null,null,null,null,null,null,null,null,null,null,null,null,null,null,null,null,null,null,null,null,null,null,null,null,null,null,null,null,null,null,null,null,null,null,null,null,null,null,null,null,null,null,"Powrót do parametrów"]
[]
[{"$f":"NumerNoty(Parametry!$B$88)","v":"Nota nie podlegająca prezentacji"}]
["informacje o dochodach z tytułu ukrytych zysków w rozumieniu art. 28m ust. 1 pkt 2 ustawy z dnia 15.02.1992 r. o podatku doch. od osób prawnych",null,null,null,null,null,null,null,null,null,null,null,null,null,null,null,null,null,null,null,null,null,null,null,null,null,null,null,null,null,null,null,null,null,null,null,null,null,null,null,null,null,null,null,"Tabelę wypełniają wyłacznie podatnicy CIT \"estońskiego\""]
["Lp.","Wyszczególnienie",null,null,null,null,null,null,null,null,null,null,null,null,null,null,null,null,null,null,null,null,null,null,null,null,null,null,null,null,null,null,null,null,null,null,null,null,"Wartość"]
[]
[" 1.","kwota pożyczki (kredytu) udzielonej przez podatnika (spółkę) wspólnikowi, w tym za pośrednictwem tworzonych z zysku funduszy, lub podmiotowi powiązanemu ze wspólnikiem, a także odsetki, prowizje, wynagrodzenia i opłaty od pożyczki (kredytu) udzielonej przez te podmioty podatnikowi (spółce);",null,null,null,null,null,null,null,null,null,null,null,null,null,null,null,null,null,null,null,null,null,null,null,null,null,null,null,null,null,null,null,null,null,null,null,null,0]
[]
[]
[" 2.","świadczenie wykonane na rzecz: - fundacji prywatnej lub rodzinnej, podmiotu równoważnego takiej fundacji lub przedsiębiorstwa prowadzonego przez taką fundację albo taki podmiot, lub na rzecz beneficjentów takiej fundacji lub takiego podmiotu, - trustu lub innego podmiotu albo stosunku prawnego o charakterze powierniczym;",null,null,null,null,null,null,null,null,null,null,null,null,null,null,null,null,null,null,null,null,null,null,null,null,null,null,null,null,null,null,null,null,null,null,null,null,0]
[]
[]
[" 3.","nadwyżka wartości rynkowej transakcji określona zgodnie z art. 11c ustawy o CIT ponad ustaloną cenę tej transakcji, czyli wartości ustalonej na warunkach, które ustaliłyby między sobą podmioty niepowiązane;",null,null,null,null,null,null,null,null,null,null,null,null,null,null,null,null,null,null,null,null,null,null,null,null,null,null,null,null,null,null,null,null,null,null,null,null,0]
[]
[" 4.","równowartość zysku przeznaczonego na podwyższenie kapitału zakładowego;",null,null,null,null,null,null,null,null,null,null,null,null,null,null,null,null,null,null,null,null,null,null,null,null,null,null,null,null,null,null,null,null,null,null,null,null,0]
[" 5.","darowizny, prezenty czy wydatki na reprezentację;",null,null,null,null,null,null,null,null,null,null,null,null,null,null,null,null,null,null,null,null,null,null,null,null,null,null,null,null,null,null,null,null,null,null,null,null,0]
[" 6.","wypłacone z zysku wynagrodzenie z tytułu umorzenia udziału (akcji), ze zmniejszenia wartości udziału (akcji), z wystąpienia wspólnika ze spółki lub ze zmniejszenia udziału kapitałowego wspólnika w spółce;",null,null,null,null,null,null,null,null,null,null,null,null,null,null,null,null,null,null,null,null,null,null,null,null,null,null,null,null,null,null,null,null,null,null,null,null,0]
[]
[" 7.","dopłaty wypłacone w przypadku połączenia lub podziału podmiotów;",null,null,null,null,null,null,null,null,null,null,null,null,null,null,null,null,null,null,null,null,null,null,null,null,null,null,null,null,null,null,null,null,null,null,null,null,0]
[" 8.","odsetki od udziału kapitałowego, wypłacane na rzecz wspólnika przez spółkę;",null,null,null,null,null,null,null,null,null,null,null,null,null,null,null,null,null,null,null,null,null,null,null,null,null,null,null,null,null,null,null,null,null,null,null,null,0]
[" 9.","zysk przeznaczony na uzupełnienie udziału kapitałowego wspólnika spółki;",null,null,null,null,null,null,null,null,null,null,null,null,null,null,null,null,null,null,null,null,null,null,null,null,null,null,null,null,null,null,null,null,null,null,null,null,0]
[" 10.","świadczenia pieniężne i niepieniężne wypłacone w przypadku zmniejszenia udziału kapitałowego wspólnika w spółce.",null,null,null,null,null,null,null,null,null,null,null,null,null,null,null,null,null,null,null,null,null,null,null,null,null,null,null,null,null,null,null,null,null,null,null,null,0]
[" 11.","inne świadczenie, którego beneficjentem, bezpośrednio lub pośrednio, jest wspólnik lub inny podmiot powiązany",null,null,null,null,null,null,null,null,null,null,null,null,null,null,null,null,null,null,null,null,null,null,null,null,null,null,null,null,null,null,null,null,null,null,null,null,0]
[]
[null,null,null,null,null,null,null,null,null,null,null,null,null,null,null,null,null,null,null,null,null,null,null,null,null,null,null,null,null,null,null,null,null,null,null,null,null,null,null,null,null,null,null,null,"Miejsce na dodatkowy opis"]

{"sheet":"Podatek_CIT","index":72,"n_rows":52,"n_cols":115,"rows_kept":52,"cut":false,"hidden":true,"merged":[[50,19,50,22],[34,19,35,22],[45,1,46,18],[29,1,29,18],[28,19,28,22],[2,44,2,49],[14,23,14,26],[12,35,13,38],[15,31,15,34],[15,23,15,26],[15,27,15,30],[18,27,18,30],[18,31,18,34],[18,23,18,26],[16,35,17,38],[11,35,11,38],[10,39,10,42],[11,23,11,26],[21,19,21,22],[20,1,20,18],[21,23,21,26],[21,27,21,30],[21,31,21,34],[22,23,22,26],[51,1,51,18],[51,19,51,22],[22,19,22,22],[47,1,47,18],[47,19,47,22],[41,1,41,18],[41,19,41,22],[42,1,42,18],[42,19,42,22],[44,1,44,18],[44,19,44,22],[36,1,36,18],[36,19,36,22],[38,1,38,18],[39,1,40,18],[39,19,40,22],[49,1,49,18],[49,19,49,22],[50,1,50,18],[27,19,27,22],[28,1,28,18],[31,1,31,18],[30,19,30,22],[27,1,27,18],[5,94,5,97],[6,78,6,81],[6,82,6,85],[6,86,6,89],[6,90,6,93],[6,94,6,97],[5,78,5,81],[5,82,5,85],[9,39,9,42],[6,74,6,77],[7,39,8,42],[5,56,5,69],[5,74,5,77],[5,86,5,89],[5,90,5,93],[6,46,9,47],[26,19,26,22],[45,19,46,22],[22,35,22,38],[30,1,30,18],[34,1,35,18],[22,31,22,34],[22,27,22,30],[22,1,22,18],[31,19,31,22],[33,1,33,18],[33,19,33,22],[29,19,29,22],[25,1,25,18],[26,1,26,18],[10,1,10,18],[10,19,10,22],[10,23,10,26],[12,23,13,26],[15,35,15,38],[21,1,21,18],[14,1,14,18],[19,31,19,34],[19,35,19,38],[19,19,19,22],[19,23,19,26],[21,35,21,38],[12,31,13,34],[18,19,18,22],[11,1,11,18],[11,19,11,22],[11,31,11,34],[11,27,11,30],[12,27,13,30],[12,1,13,18],[12,19,13,22],[16,1,17,18],[16,19,17,22],[18,1,18,18],[11,39,11,42],[14,27,14,30],[14,31,14,34],[14,35,14,38],[14,39,14,42],[12,39,13,42],[10,27,10,30],[10,31,10,34],[10,35,10,38],[4,56,4,69],[5,0,5,30],[6,0,8,0],[6,1,8,18],[6,19,6,30],[6,31,6,42],[6,56,6,73],[9,19,9,22],[9,23,9,26],[9,27,9,30],[9,31,9,34],[9,35,9,38],[7,19,8,22],[7,23,8,26],[7,27,8,30],[7,31,8,34],[4,0,4,15],[6,44,9,45],[7,35,8,38],[9,1,9,18],[20,19,20,22],[20,31,20,34],[20,39,20,42],[20,35,20,38],[14,19,14,22],[16,27,17,30],[16,31,17,34],[15,1,15,18],[15,39,15,42],[16,23,17,26],[15,19,15,22],[19,1,19,18],[16,39,17,42],[18,39,18,42],[19,39,19,42],[19,27,19,30],[18,35,18,38],[33,74,33,77],[33,78,33,81],[33,82,33,85],[33,86,33,89],[33,90,33,93],[33,94,33,97],[32,56,32,73],[33,56,33,73],[20,23,20,26],[20,27,20,30],[21,39,21,42],[22,39,22,42]]}
[{"$f":"nazwa","v":"DEMO"}]
[{"$f":"temat","v":"Sprawozdanie finansowe za rok 2023"}]
[null,null,null,null,null,null,null,null,null,null,null,null,null,null,null,null,null,null,null,null,null,null,null,null,null,null,null,null,null,null,null,null,null,null,null,null,null,null,null,null,null,null,null,null,"Powrót do parametrów",null,null,null,null,null,null,null,53,54,null,null,null,null,null,null,null,null,null,null,null,null,null,null,null,null,null,null,null,null,null,null,{"$f":"BZ3","v":false},false,false,null,null,null,null,null,null,null,null,null,null,null,null,null,null,null,null,null,null,null,null,null,null,null,null,null,null,null,"UKRYJ poprzedni rok",null,null,null,null,null,null,null,"SUMOWANIE Uszczegółowienia"]
[null,null,null,null,null,null,null,null,null,null,null,null,null,null,null,null,null,null,null,null,null,null,null,null,null,null,null,null,null,null,null,null,null,null,null,null,null,null,null,null,null,null,null,null,null,null,null,null,null,null,"PRmulti","Dodanych wierszy","Czy sa wiersze dodane","wiersz Spec Pozosttale"]
[{"$f":"NumerNoty(Parametry!$B$89)","v":"Nota nie podlegająca prezentacji"},null,null,null,null,null,null,null,null,null,null,null,null,null,null,null,null,null,null,null,null,null,null,null,null,null,null,null,null,null,null,null,null,null,null,null,null,null,null,null,null,null,null,null,null,null,null,null,null,"status","liczniki",null,null,null,null,null,"w tym:",null,null,null,null,null,null,null,null,null,null,null,null,null,"art.","ust.","pkt","lit."]
["Pozycje różniące podstawę opodatkowania podatkiem dochodowym od wyniku finansowego brutto",null,null,null,null,null,null,null,null,null,null,null,null,null,null,null,null,null,null,null,null,null,null,null,null,null,null,null,null,null,null,null,null,null,null,null,null,null,null,null,null,null,null,null,null,null,null,null,null,false,{"$f":"SUM(AY7:BA28)","v":2},null,{"$f":"SUM(BA7:BA27)","v":0},null,null,null,null,null,null,null,null,null,null,null,null,null,null,null,null,null,null,null,null,null,{"$f":"CA6+CE6","v":0},null,null,null,null,null,null,null,null,null,null,null,{"$f":"CM6+CQ6","v":0}]
["Lp.","Wyszczególnienie",null,null,null,null,null,null,null,null,null,null,null,null,null,null,null,null,null,{"$f":"stanb","v":"Stan na dzień dd.mm.rrrr"},null,null,null,null,null,null,null,null,null,null,null,{"$f":"stanp","v":"Stan na dzień dd.mm.rrrr"},null,null,null,null,null,null,null,null,null,null,null,null,"Pozycje uszczegó- łowienia",null,"Pozostałe (łączna kwota różnic do 20000 zł)",null,null,null,null,null,null,null,null,null,"Pozostałe (łączna kwota różnic o wartościach niższych niż 20.000 zł)",null,null,null,null,null,null,null,null,null,null,null,null,null,null,null,null,null,{"$f":"CA7+CE7","v":0},null,null,null,null,null,null,null,null,null,null,null,{"$f":"CM7+CQ7","v":0}]
[null,null,null,null,null,null,null,null,null,null,null,null,null,null,null,null,null,null,null,"Wartość",null,null,null,"Z zysków kapitałowych",null,null,null,"Z innych przychodów",null,null,null,"Wartość",null,null,null,"Z zysków kapitałowych",null,null,null,"Z innych przychodów"]
[]
["I.","Zysk (strata) brutto",null,null,null,null,null,null,null,null,null,null,null,null,null,null,null,null,null,{"$f":"X10+AB10","v":0},null,null,null,null,null,null,null,null,null,null,null,{"$f":"AJ10+AN10","v":0},null,null,null,null,null,null,null,null,null,null,null,{"$f":"A10","v":"I."},null,null,null,null,1,"I"]
[" 1.","Przychody zwolnione z opodatkowania (trwałe różnice)",null,null,null,null,null,null,null,null,null,null,null,null,null,null,null,null,null,{"$f":"X11+AB11","v":0},null,null,null,null,null,null,null,null,null,null,null,{"$f":"AJ11+AN11","v":0},null,null,null,null,null,null,null,null,null,null,null,{"$f":"A11","v":" 1."},null,null,null,null,1,1,null,0,{"$f":"IF(AZ11>0,1,0)","v":0},0]
[" 2.","Przychody niepodlegające opodatkowaniu w roku bieżącym",null,null,null,null,null,null,null,null,null,null,null,null,null,null,null,null,null,{"$f":"X12+AB12","v":0},null,null,null,null,null,null,null,null,null,null,null,{"$f":"AJ12+AN12","v":0},null,null,null,null,null,null,null,null,null,null,null," 2.",null,null,null,null,1,2,null,0,{"$f":"IF(AZ12>0,1,0)","v":0},0]
[" 3.","Przychody podlegające opodatkowaniu w roku bieżącym, ujęte w księgach lat ubiegłych",null,null,null,null,null,null,null,null,null,null,null,null,null,null,null,null,null,{"$f":"X13+AB13","v":0},null,null,null,null,null,null,null,null,null,null,null,{"$f":"AJ13+AN13","v":0},null,null,null,null,null,null,null,null,null,null,null," 3.",null,null,null,null,1,3,1,0,{"$f":"IF(AZ13>0,1,0)","v":0},0]
["aaa",null,null,null,null,null,null,null,null,null,null,null,null,null,null,null,null,null,null,null,null,null,null,null,null,null,null,null,null,null,null,null,null,null,null,null,null,null,null,null,null,null,null,null,null,null,null,null,1]
[" 4.","Koszty niestanowiące kosztów uzyskania przychodów (trwałe różnice)",null,null,null,null,null,null,null,null,null,null,null,null,null,null,null,null,null,{"$f":"X15+AB15","v":0},null,null,null,null,null,null,null,null,null,null,null,{"$f":"AJ15+AN15","v":0},null,null,null,null,null,null,null,null,null,null,null," 4.",null,null,null,null,1,4,null,0,{"$f":"IF(AZ15>0,1,0)","v":0},0]
[" 5.","Koszty nieuznawane za koszty uzyskania przychodów w roku bieżącym",null,null,null,null,null,null,null,null,null,null,null,null,null,null,null,null,null,0,null,null,null,null,null,null,null,null,null,null,null,0,null,null,null,null,null,null,null,null,null,null,null," 5.",null,null,null,null,1,5,null,0,{"$f":"IF(AZ16>0,1,0)","v":0},0]
[" 6.","Koszty uznawane za koszty uzyskania przychodów w roku bieżącym ujęte w księgach lat ubiegłych",null,null,null,null,null,null,null,null,null,null,null,null,null,null,null,null,null,{"$f":"X17+AB17","v":0},null,null,null,null,null,null,null,null,null,null,null,{"$f":"AJ17+AN17","v":0},null,null,null,null,null,null,null,null,null,null,null," 6.",null,null,null,null,1,6,1,0,{"$f":"IF(AZ17>0,1,0)","v":0},0]
["aaa",null,null,null,null,null,null,null,null,null,null,null,null,null,null,null,null,null,null,null,null,null,null,null,null,null,null,null,null,null,null,null,null,null,null,null,null,null,null,null,null,null,null,null,null,null,null,null,1]
[" 7.","Strata z lat ubiegłych",null,null,null,null,null,null,null,null,null,null,null,null,null,null,null,null,null,{"$f":"X19+AB19","v":0},null,null,null,null,null,null,null,null,null,null,null,{"$f":"AJ19+AN19","v":0},null,null,null,null,null,null,null,null,null,null,null," 7.",null,null,null,null,1,7,null,0,{"$f":"IF(AZ19>0,1,0)","v":0},0]
[" 8.","Inne zmiany podstawy opodatkowania podatkiem dochodowym (+/-)",null,null,null,null,null,null,null,null,null,null,null,null,null,null,null,null,null,0,null,null,null,null,null,null,null,null,null,null,null,0,null,null,null,null,null,null,null,null,null,null,null," 8.",null,null,null,null,1,8,null,0,{"$f":"IF(AZ20>0,1,0)","v":0},0]
["II.","Podstawa opodatkowania podatkiem dochodowym",null,null,null,null,null,null,null,null,null,null,null,null,null,null,null,null,null,0,null,null,null,{"$f":"MAX(ROUND(X10-X11-X12+X13+X15+X16-X17-X19+X20,0),0)","v":0},null,null,null,{"$f":"MAX(ROUND(AB10-AB11-AB12+AB13+AB15+AB16-AB17-AB19+AB20,0),0)","v":0},null,null,null,0,null,null,null,{"$f":"MAX(ROUND(AJ10-AJ11-AJ12+AJ13+AJ15+AJ16-AJ17-AJ19+AJ20,0),0)","v":0},null,null,null,{"$f":"MAX(ROUND(AN10-AN11-AN12+AN13+AN15+AN16-AN17-AN19+AN20,0),0)","v":0},null,null,null,"II.",null,null,null,null,1,"II"]
["aaa","Procent podatku dochodowego",null,null,null,null,null,null,null,null,null,null,null,null,null,null,null,null,null,"x",null,null,null,0.19,null,null,null,0.19,null,null,null,"x",null,null,null,0.19,null,null,null,0.19,null,null,null,null,null,null,null,null,1]
["III.","Podatek dochodowy",null,null,null,null,null,null,null,null,null,null,null,null,null,null,null,null,null,{"$f":"X23+AB23","v":0},null,null,null,{"$f":"ROUND(X21*X22,0)","v":0},null,null,null,{"$f":"ROUND(AB21*AB22,0)","v":0},null,null,null,{"$f":"AJ23+AN23","v":0},null,null,null,{"$f":"ROUND(AJ21*AJ22,0)","v":0},null,null,null,{"$f":"ROUND(AN21*AN22,0)","v":0},null,null,null,"III.",null,null,null,null,1,"III"]
[]
[]
[null,"Sprawdzenie - koszty NKUP"]
[null,"koszty rodzajowe - nota",null,null,null,null,null,null,null,null,null,null,null,null,null,null,null,null,null,{"$f":"IF(Parametry!$P$13=1,Koszty_rodzajowe!AH27,Koszty_ukł_kalkulacyjny!AH25)","v":0}]
[null,"wartość sprzedanych towarów i materiałów - nota",null,null,null,null,null,null,null,null,null,null,null,null,null,null,null,null,null,{"$f":"IF(Parametry!$P$13=1,Koszty_rodzajowe!AH29,Koszty_ukł_kalkulacyjny!AH26)","v":0}]
[null,"koszt wytworzenia produktów na własne potrzeby - nota",null,null,null,null,null,null,null,null,null,null,null,null,null,null,null,null,null,{"$f":"IF(Parametry!$P$13=1,-Koszty_rodzajowe!AH30,-Koszty_ukł_kalkulacyjny!AH27)","v":0}]
[null,"zmiana stanu produktów - nota",null,null,null,null,null,null,null,null,null,null,null,null,null,null,null,null,null,{"$f":"IF(Parametry!$P$13=1,-Koszty_rodzajowe!AH31,-Koszty_ukł_kalkulacyjny!AH28)","v":0}]
[null,"pozostałe koszty operacyjne - nota",null,null,null,null,null,null,null,null,null,null,null,null,null,null,null,null,null,{"$f":"Poz_koszty_oper!AH13+Poz_koszty_oper!AH16+SUM(Poz_koszty_oper!AH17:AL19)+Poz_koszty_oper!AH20+Poz_koszty_oper!AH27+Poz_przych_oper!AH12+Poz_przych_oper!AH15","v":0}]
[null,"koszty finansowe - nota",null,null,null,null,null,null,null,null,null,null,null,null,null,null,null,null,null,{"$f":"Koszty_fin!AH9+Koszty_fin!AH27+Koszty_fin!AH31+Koszty_fin!AH36+SUM(Koszty_fin!AH37:AL39)+Przych_fin!AH36","v":0}]
[null,null,null,null,null,null,null,null,null,null,null,null,null,null,null,null,null,null,null,null,null,null,null,null,null,null,null,null,null,null,null,null,null,null,null,null,null,null,null,null,null,null,null,null,null,null,null,null,null,null,null,null,null,null,null,null,"w tym:"]
[null,"Razem NKUP",null,null,null,null,null,null,null,null,null,null,null,null,null,null,null,null,null,{"$f":"SUM(T27:W32)","v":0},null,null,null,null,null,null,null,null,null,null,null,null,null,null,null,null,null,null,null,null,null,null,null,null,null,null,null,null,null,null,null,null,null,null,null,null,null,null,null,null,null,null,null,null,null,null,null,null,null,null,null,null,null,null,{"$f":"CA34+CE34","v":0},null,null,null,null,null,null,null,null,null,null,null,{"$f":"CM34+CQ34","v":0}]
[null,"koszty NKUP i nieuznawane za koszty uzyskania przychodów w roku bieżącym wg noty",null,null,null,null,null,null,null,null,null,null,null,null,null,null,null,null,null,{"$f":"T15+T16","v":0}]
[]
[null,"różnica",null,null,null,null,null,null,null,null,null,null,null,null,null,null,null,null,null,{"$f":"T34-T35","v":0}]
[]
[null,"Sprawdzenie - przychody niepodatkowe zbiorczo"]
[null,"przychody netto ze sprzedaży produktów (usług), towarów i materiałów (struktura rzeczowa i terytorialna)",null,null,null,null,null,null,null,null,null,null,null,null,null,null,null,null,null,{"$f":"Przychody!$AA$11","v":0}]
[]
[null,"pozostałe przychody operacyjne - nota",null,null,null,null,null,null,null,null,null,null,null,null,null,null,null,null,null,{"$f":"Poz_przych_oper!AH11+Poz_przych_oper!AH14+Poz_przych_oper!AH16+Poz_przych_oper!AH17+Poz_przych_oper!AH18+Poz_przych_oper!AH21+Poz_przych_oper!AH24+Poz_koszty_oper!AH12+Poz_koszty_oper!AH15","v":0}]
[null,"przychody finansowe - nota",null,null,null,null,null,null,null,null,null,null,null,null,null,null,null,null,null,{"$f":"Przych_fin!AH9+Przych_fin!AH14+Przych_fin!AH26+Przych_fin!AH31+Przych_fin!AH35+Przych_fin!AH37+Przych_fin!AH38+Przych_fin!AH39+Koszty_fin!AH35","v":0}]
[]
[null,"Razem przychody niepodatkowe",null,null,null,null,null,null,null,null,null,null,null,null,null,null,null,null,null,{"$f":"SUM(T40:W43)","v":0}]
[null,"przychody zwolnione i niepodlegające opodatkowaniu w roku bieżącym wg noty",null,null,null,null,null,null,null,null,null,null,null,null,null,null,null,null,null,{"$f":"T11+T12","v":0}]
[]
[null,"różnica",null,null,null,null,null,null,null,null,null,null,null,null,null,null,null,null,null,{"$f":"T45-T46","v":0}]
[]
[null,"Zysk (strata) brutto",null,null,null,null,null,null,null,null,null,null,null,null,null,null,null,null,null,{"$f":"IF(Parametry!$P$13=1,Rachunek_ZiS_porównawczy!$S$58,Rachunek_ZiS_kalkulacyjny!$S$52)","v":0}]
[null,"Zysk (strata) brutto - nota",null,null,null,null,null,null,null,null,null,null,null,null,null,null,null,null,null,{"$f":"T10","v":0}]
[null,"różnica",null,null,null,null,null,null,null,null,null,null,null,null,null,null,null,null,null,{"$f":"T50-T51","v":0}]

{"sheet":"Pod_odroczony","index":73,"n_rows":42,"n_cols":45,"rows_kept":42,"cut":false,"hidden":true,"merged":[[2,44,2,49],[39,1,39,37],[41,1,41,37],[39,38,39,42],[40,38,40,42],[40,1,40,37],[41,38,41,42],[6,38,6,42],[6,1,6,37],[7,1,7,37],[17,38,17,42],[8,38,8,42],[8,1,8,37],[9,38,9,42],[7,38,7,42],[15,1,15,37],[38,1,38,37],[17,1,17,37],[9,1,9,37],[18,0,18,42],[19,0,36,42],[4,0,4,29],[5,0,5,42],[16,1,16,37],[14,38,14,42],[15,38,15,42],[13,1,13,37],[16,38,16,42],[12,1,12,37],[12,38,12,42],[13,38,13,42],[14,1,14,37],[10,38,10,42],[11,1,11,37],[11,38,11,42],[10,1,10,37]]}
[{"$f":"nazwa","v":"DEMO"}]
[{"$f":"temat","v":"Sprawozdanie finansowe za rok 2023"}]
[null,null,null,null,null,null,null,null,null,null,null,null,null,null,null,null,null,null,null,null,null,null,null,null,null,null,null,null,null,null,null,null,null,null,null,null,null,null,null,null,null,null,null,null,"Powrót do parametrów"]
[]
[{"$f":"NumerNoty(Parametry!$B$90)","v":"Nota nie podlegająca prezentacji"}]
["Zmiany rezerw i aktywów na odroczony podatek dochodowy"]
["Lp.","Wyszczególnienie",null,null,null,null,null,null,null,null,null,null,null,null,null,null,null,null,null,null,null,null,null,null,null,null,null,null,null,null,null,null,null,null,null,null,null,null,"Kwota zł"]
[" 1.","Aktywa z tytułu odroczonego podatku dochodowego na BO"]
[null,"Wzrost aktywów z tytułu odroczonego podatku dochodowego"]
[null,"Zmniejszenie aktywów z tytułu odroczonego podatku dochodowego"]
[" 2.","Aktywa z tytułu odroczonego podatku dochodowego na BZ",null,null,null,null,null,null,null,null,null,null,null,null,null,null,null,null,null,null,null,null,null,null,null,null,null,null,null,null,null,null,null,null,null,null,null,null,{"$f":"AM8+AM9-AM10","v":0}]
[" 3.","Rezerwa z tytułu odroczonego podatku dochodowego na BO"]
[null,"Wzrost rezerwy z tytułu odroczonego podatku dochodowego"]
[null,"Zmniejszenie rezerwy z tytułu odroczonego podatku dochodowego"]
[" 4.","Rezerwa z tytułu odroczonego podatku dochodowego na BZ",null,null,null,null,null,null,null,null,null,null,null,null,null,null,null,null,null,null,null,null,null,null,null,null,null,null,null,null,null,null,null,null,null,null,null,null,{"$f":"AM12+AM13-AM14","v":0}]
[" 5.","Podatek dochodowy - część odroczona, w tym:",null,null,null,null,null,null,null,null,null,null,null,null,null,null,null,null,null,null,null,null,null,null,null,null,null,null,null,null,null,null,null,null,null,null,null,null,{"$f":"-(AM11-AM8)+(AM15-AM12)","v":0}]
[null,"wykazana w rachunku zysków i strat"]
[null,"odniesiona na kapitał własny"]
[]
[null,null,null,null,null,null,null,null,null,null,null,null,null,null,null,null,null,null,null,null,null,null,null,null,null,null,null,null,null,null,null,null,null,null,null,null,null,null,null,null,null,null,null,null,"Miejsce na dodatkowy opis"]
[]
[]
[]
[]
[]
[]
[]
[]
[]
[]
[]
[]
[]
[]
[]
[]
[]
[]
[null,"Sprawdzenie podatku dochodowego"]
[null,"Nota podatek dochodowy wg not  (część wykazana w RZiS)",null,null,null,null,null,null,null,null,null,null,null,null,null,null,null,null,null,null,null,null,null,null,null,null,null,null,null,null,null,null,null,null,null,null,null,null,{"$f":"AM17+Podatek_CIT!T23","v":0}]
[null,"RZiS",null,null,null,null,null,null,null,null,null,null,null,null,null,null,null,null,null,null,null,null,null,null,null,null,null,null,null,null,null,null,null,null,null,null,null,null,{"$f":"IF(Parametry!$N$24=\"p\",Rachunek_ZiS_porównawczy!S59,Rachunek_ZiS_kalkulacyjny!S53)","v":0}]
[null,"różnica",null,null,null,null,null,null,null,null,null,null,null,null,null,null,null,null,null,null,null,null,null,null,null,null,null,null,null,null,null,null,null,null,null,null,null,null,{"$f":"AM40-AM41","v":0}]

{"sheet":"Transakcje_nierynkowe","index":74,"n_rows":40,"n_cols":45,"rows_kept":40,"cut":false,"hidden":true,"merged":[[2,44,2,49],[27,38,27,42],[27,1,27,37],[26,38,26,42],[26,1,26,37],[15,1,15,37],[15,38,15,42],[21,1,21,37],[21,38,21,42],[18,38,18,42],[17,38,17,42],[16,1,16,37],[16,38,16,42],[17,1,17,37],[18,1,18,37],[24,38,24,42],[11,1,11,37],[13,1,13,37],[35,1,35,37],[30,38,30,42],[31,38,31,42],[31,1,31,37],[25,38,25,42],[25,1,25,37],[35,38,35,42],[32,38,32,42],[23,1,23,37],[22,1,22,37],[22,38,22,42],[24,1,24,37],[11,38,11,42],[12,1,12,37],[4,0,4,27],[7,0,8,0],[7,38,8,42],[5,0,6,42],[7,1,8,37],[12,38,12,42],[14,38,14,42],[23,38,23,42],[13,38,13,42],[14,1,14,37],[36,0,36,37],[9,38,10,42],[9,1,10,37],[9,0,10,0],[39,0,88,42],[28,1,28,37],[29,1,29,37],[33,1,33,37],[34,1,34,37],[28,38,28,42],[33,38,33,42],[29,38,29,42],[34,38,34,42],[30,1,30,37],[32,1,32,37],[36,38,36,42]]}
[{"$f":"nazwa","v":"DEMO"}]
[{"$f":"temat","v":"Sprawozdanie finansowe za rok 2023"}]
[null,null,null,null,null,null,null,null,null,null,null,null,null,null,null,null,null,null,null,null,null,null,null,null,null,null,null,null,null,null,null,null,null,null,null,null,null,null,null,null,null,null,null,null,"Powrót do parametrów"]
[]
[{"$f":"NumerNoty(Parametry!$B$91)","v":"Nota nie podlegająca prezentacji"}]
["Informacje o istotnych transakcjach zawartych przez jednostkę na innych warunkach niż rynkowe ze stronami powiązanymi, wraz z informacjami określającymi ich charakter"]
[]
["Lp.","Wyszczególnienie / rodzaj transakcji",null,null,null,null,null,null,null,null,null,null,null,null,null,null,null,null,null,null,null,null,null,null,null,null,null,null,null,null,null,null,null,null,null,null,null,null,"Kwota w zł:"]
[]
["I.","z osobą sparwującą kontrolę lub współkontrolę nad jednostką lub mającą znaczący wpływ na jednostkę, z członkiem kluczowego personelu kierowniczego jednostki lub jej jednostki dominującej",null,null,null,null,null,null,null,null,null,null,null,null,null,null,null,null,null,null,null,null,null,null,null,null,null,null,null,null,null,null,null,null,null,null,null,null,{"$f":"SUM(AM12:AQ16)","v":0}]
[]
["1."]
["2."]
["3."]
["4."]
["5."]
["II.","z bliskimi członkami rodziny osób wymienionych w pkt. I",null,null,null,null,null,null,null,null,null,null,null,null,null,null,null,null,null,null,null,null,null,null,null,null,null,null,null,null,null,null,null,null,null,null,null,null,{"$f":"SUM(AM18:AQ22)","v":0}]
["1."]
["2."]
["3."]
["4."]
["5."]
["III.","z jednostkami związanymi z jednostką sprawozdawczą (zgodnie z MSR 24)",null,null,null,null,null,null,null,null,null,null,null,null,null,null,null,null,null,null,null,null,null,null,null,null,null,null,null,null,null,null,null,null,null,null,null,null,{"$f":"SUM(AM24:AQ36)","v":0}]
["1."]
["2."]
["3."]
["4."]
["5."]
["6."]
["7."]
["8."]
["9."]
["10."]
["11."]
["12."]
["13."]
["RAZEM",null,null,null,null,null,null,null,null,null,null,null,null,null,null,null,null,null,null,null,null,null,null,null,null,null,null,null,null,null,null,null,null,null,null,null,null,null,{"$f":"SUM(AM10,AM17,AM23)","v":0}]
[]
[]
["DEFINICJA z MSR 24\nparagraf 9\nW standardzie posłużono się terminami o następującym znaczeniu:\n\nPodmiot powiązany jest osobą lub jednostką związaną z jednostką, która sporządza sprawozdanie finansowe (w niniejszym standardzie nazywaną „jednostką sprawozdawczą”).\na)   Osoba lub bliski członek rodziny tej osoby jest związany z jednostką sprawozdawczą, jeżeli ta osoba:\n(i)   sprawuje kontrolę lub współkontrolę nad jednostką sprawozdawczą;\n(ii)   ma znaczący wpływ na jednostkę sprawozdawczą; lub\n(iii)   jest członkiem kluczowego personelu kierowniczego jednostki sprawozdawczej lub jej jednostki dominującej.\n\nb)   Jednostka jest związana z jednostką sprawozdawczą, jeżeli spełniony jest jeden z poniższych warunków:\n(i)   Jednostka i jednostka sprawozdawcza są członkami tej samej grupy (co oznacza, że każda jednostka dominująca, zależna i współzależna jest związana z pozostałymi jednostkami).\n(ii)   Jedna jednostka jest jednostką stowarzyszoną lub wspólnym przedsięwzięciem innej jednostki (lub jednostką stowarzyszoną lub wspólnym przedsięwzięciem członka grupy, której członkiem jest ta inna jednostka).\n(iii)   Obydwie jednostki są wspólnymi przedsięwzięciami tego samego trzeciego podmiotu.\n(iv)   Jedna jednostka jest wspólnym przedsięwzięciem trzeciej jednostki, a dana inna jednostka jest jednostką stowarzyszoną trzeciej jednostki).\n(v)   Jednostka jest programem świadczeń po okresie zatrudnienia na rzecz pracowników jednostki sprawozdawczej lub jednostki związanej z jednostką sprawozdawczą. Jeżeli jednostka sprawozdawcza jest sama w sobie takim programem, sponsorujący pracodawcy są również związani z jednostką sprawozdawczą.\n(vi)   Jednostka jest kontrolowana lub wspólnie kontrolowana przez osobę określoną w pkt a).\n(vii)   Osoba określona w pkt a) ppkt (i) ma znaczący wpływ na jednostkę lub jest członkiem kluczowego personelu kierowniczego jednostki (lub jednostki dominującej tej jednostki).\n(viii)   Jednostka lub dowolny członek grupy, której jednostka jest częścią, świadczy usługi kluczowego personelu kierowniczego na rzecz jednostki sprawozdawczej lub jej jednostki dominującej.\n\nTransakcja z podmiotem powiązanym jest przekazaniem zasobów, usług lub zobowiązań pomiędzy jednostką sprawozdawczą a podmiotem powiązanym, niezależnie od tego, czy transakcja jest odpłatna.\n\nBliscy członkowie rodziny danej osoby są członkami rodziny, co do których istnieje przypuszczenie, że mogą wywierać wpływ na tę osobę lub podlegać wpływowi tej osoby w swoich kontaktach z jednostką. Można do nich zaliczyć:\na)   dzieci i małżonka lub partnera życiowego tej osoby;\nb)   dzieci małżonka lub partnera życiowego tej osoby; oraz\nc)   osoby pozostające na utrzymaniu tej osoby lub małżonka lub partnera życiowego tej osoby.\n\nŚwiadczenie łączy w sobie wszystkie świadczenia pracownicze (według definicji w MSR 19 Świadczenia pracownicze), w tym świadczenia pracownicze, do których odnosi się MSSF 2 Płatności w formie akcji. Świadczenia pracownicze stanowią wszelkie formy wynagrodzenia wypłaconego, przypadającego do zapłaty lub zapewnianego przez jednostkę lub w jej imieniu w zamian za usługi świadczone na rzecz jednostki. W ich skład wchodzi też wynagrodzenie wypłacane w imieniu jednostki dominującej w stosunku do jednostki. W skład świadczenia wchodzą:\na)   krótkoterminowe świadczenia pracownicze, jak pensje i składki na ubezpieczenie społeczne, płatny urlop wypoczynkowy i płatne zwolnienia chorobowe, udziały w zyskach i premie (jeśli są wypłacane w ciągu dwunastu miesięcy od zakończenia okresu) oraz świadczenia niepieniężne (jak opieka medyczna, zakwaterowanie, samochody oraz bezpłatne bądź dotowane dobra lub usługi) na rzecz obecnych pracowników;\nb)   świadczenia po okresie zatrudnienia, jak emerytury, pozostałe świadczenia emerytalne, emerytalne ubezpieczenie na życie albo emerytalna opieka zdrowotna;\nc)   pozostałe długoterminowe świadczenia pracownicze, w tym urlop udzielany pracownikom z tytułu wysługi lat, urlop naukowy, nagrody jubileuszowe bądź inne długoterminowe świadczenia pracownicze, długoterminowe świadczenia rentowe oraz, jeśli nie są one płatne w całości w okresie dwunastu miesięcy od zakończenia okresu, udziały w zyskach, premie i odroczone wynagrodzenie;\nd)   świadczenia z tytułu rozwiązania stosunku pracy; oraz\ne)   płatności w formie akcji.\n\nKluczowy personel kierowniczy to osoby posiadające uprawnienia i odpowiedzialność za planowanie, kierowanie i kontrolowanie czynności jednostki w sposób bezpośredni lub pośredni, w tym każdy dyrektor (wykonawczy bądź inny) tej jednostki.\n\nPojęcie rząd odnosi się do rządu, agencji rządowych oraz innych podobnych organów lokalnych, krajowych lub międzynarodowych.\nJednostka powiązana z rządem jest to jednostka kontrolowana, wspólnie kontrolowana lub podlegająca znaczącemu wpływowi rządu.\n\nPojęcia „kontrola”, „wspólna kontrola” i „znaczący wpływ” są zdefiniowane w MSSF 10, MSSF 11 Wspólne ustalenia umowne i MSR 28 Inwestycje w jednostkach stowarzyszonych i wspólnych przedsięwzięciach i są stosowane w niniejszym standardzie w znaczeniu podanym w wymienionych MSSF."]

{"sheet":"Instr_finans_Aktywa","index":75,"n_rows":68,"n_cols":45,"rows_kept":68,"cut":false,"hidden":true,"merged":[[25,1,25,30],[25,31,25,36],[25,37,25,42],[27,1,27,30],[24,31,24,36],[24,37,24,42],[26,1,26,30],[11,1,11,30],[11,31,11,36],[11,37,11,42],[12,1,12,30],[12,31,12,36],[12,37,12,42],[27,31,27,36],[22,31,22,36],[24,1,24,30],[27,37,27,42],[26,31,26,36],[26,37,26,42],[33,1,33,30],[33,31,33,36],[33,37,33,42],[32,1,32,30],[31,37,31,42],[31,1,31,30],[32,31,32,36],[32,37,32,42],[34,1,34,30],[34,31,34,36],[34,37,34,42],[31,31,31,36],[2,44,2,49],[4,0,4,9],[5,0,5,42],[19,31,19,36],[21,37,21,42],[6,0,7,0],[6,1,7,30],[6,31,7,36],[6,37,7,42],[15,1,15,30],[15,31,15,36],[15,37,15,42],[10,1,10,30],[10,31,10,36],[10,37,10,42],[13,1,13,30],[20,1,20,30],[20,31,20,36],[20,37,20,42],[13,31,13,36],[13,37,13,42],[8,1,8,30],[9,37,9,42],[14,1,14,30],[8,31,8,36],[8,37,8,42],[22,37,22,42],[23,1,23,30],[17,1,17,30],[17,31,17,36],[17,37,17,42],[18,31,18,36],[18,37,18,42],[18,1,18,30],[9,1,9,30],[9,31,9,36],[19,37,19,42],[23,31,23,36],[23,37,23,42],[19,1,19,30],[21,1,21,30],[21,31,21,36],[14,31,14,36],[14,37,14,42],[16,1,16,30],[16,31,16,36],[16,37,16,42],[22,1,22,30],[30,1,30,30],[30,31,30,36],[30,37,30,42],[28,1,28,30],[28,31,28,36],[28,37,28,42],[29,1,29,30],[29,31,29,36],[29,37,29,42],[42,1,42,30],[42,31,42,36],[42,37,42,42],[44,1,44,30],[44,31,44,36],[44,37,44,42],[35,0,36,42],[40,1,40,30],[41,1,41,30],[41,31,41,36],[41,37,41,42],[50,1,50,30],[50,31,50,36],[50,37,50,42],[43,1,43,30],[43,31,43,36],[43,37,43,42],[49,1,49,30],[49,31,49,36],[49,37,49,42],[46,1,46,30],[47,1,47,30],[47,31,47,36],[47,37,47,42],[48,1,48,30],[48,31,48,36],[48,37,48,42]]}
[{"$f":"nazwa","v":"DEMO"}]
[{"$f":"temat","v":"Sprawozdanie finansowe za rok 2023"}]
[null,null,null,null,null,null,null,null,null,null,null,null,null,null,null,null,null,null,null,null,null,null,null,null,null,null,null,null,null,null,null,null,null,null,null,null,null,null,null,null,null,null,null,null,"Powrót do parametrów"]
[]
[{"$f":"NumerNoty(Parametry!$B$92)","v":"Nota nie podlegająca prezentacji"}]
["Klasyfikacja instrumentów finansowych - Aktywa finansowe"]
["Lp.","Wyszczególnienie",null,null,null,null,null,null,null,null,null,null,null,null,null,null,null,null,null,null,null,null,null,null,null,null,null,null,null,null,null,{"$f":"stanb","v":"Stan na dzień dd.mm.rrrr"},null,null,null,null,null,{"$f":"stanp","v":"Stan na dzień dd.mm.rrrr"}]
[]
[null,"Aktywa finansowe",null,null,null,null,null,null,null,null,null,null,null,null,null,null,null,null,null,null,null,null,null,null,null,null,null,null,null,null,null,{"$f":"AF10+AF23","v":0},null,null,null,null,null,{"$f":"AL10+AL23","v":0}]
["I.","Długoterminowe",null,null,null,null,null,null,null,null,null,null,null,null,null,null,null,null,null,null,null,null,null,null,null,null,null,null,null,null,null,{"$f":"AF11+AF14+AF17+AF20","v":0},null,null,null,null,null,{"$f":"AL11+AL14+AL17+AL20","v":0}]
[" 1.","Aktywa finansowe przeznaczone do obrotu",null,null,null,null,null,null,null,null,null,null,null,null,null,null,null,null,null,null,null,null,null,null,null,null,null,null,null,null,null,{"$f":"SUM(AF12:AK13)","v":0},null,null,null,null,null,{"$f":"SUM(AL12:AQ13)","v":0}]
[null,"- udziały lub akcje"]
[null,"- "]
[" 2.","Pożyczki udzielone i należności własne",null,null,null,null,null,null,null,null,null,null,null,null,null,null,null,null,null,null,null,null,null,null,null,null,null,null,null,null,null,{"$f":"SUM(AF15:AK16)","v":0},null,null,null,null,null,{"$f":"SUM(AL15:AQ16)","v":0}]
[null,"- udzielone pożyczki"]
[null,"- pozostałe należności długoterminowe"]
[" 3.","Aktywa finansowe utrzymywane do terminu wymagalności",null,null,null,null,null,null,null,null,null,null,null,null,null,null,null,null,null,null,null,null,null,null,null,null,null,null,null,null,null,{"$f":"SUM(AF18:AK19)","v":0},null,null,null,null,null,{"$f":"SUM(AL18:AQ19)","v":0}]
[null,"- obligacje"]
[null,"- "]
[" 4.","Aktywa finansowe dostępne do sprzedaży",null,null,null,null,null,null,null,null,null,null,null,null,null,null,null,null,null,null,null,null,null,null,null,null,null,null,null,null,null,{"$f":"SUM(AF21:AK22)","v":0},null,null,null,null,null,{"$f":"SUM(AL21:AQ22)","v":0}]
[null,"- "]
[null,"- "]
["II.","Krótkoterminowe",null,null,null,null,null,null,null,null,null,null,null,null,null,null,null,null,null,null,null,null,null,null,null,null,null,null,null,null,null,{"$f":"AF24+AF28+AF31+AF34","v":0},null,null,null,null,null,{"$f":"AL24+AL28+AL31+AL34","v":0}]
[" 1.","Aktywa finansowe przeznaczone do obrotu",null,null,null,null,null,null,null,null,null,null,null,null,null,null,null,null,null,null,null,null,null,null,null,null,null,null,null,null,null,{"$f":"SUM(AF25:AK27)","v":0},null,null,null,null,null,{"$f":"SUM(AL25:AQ27)","v":0}]
[null,"- udziały lub akcje"]
[null,"- instrumenty pochodne"]
[null,"- inne papiery wartościowe"]
[" 2.","Pożyczki udzielone i należności własne",null,null,null,null,null,null,null,null,null,null,null,null,null,null,null,null,null,null,null,null,null,null,null,null,null,null,null,null,null,{"$f":"SUM(AF29:AK30)","v":0},null,null,null,null,null,{"$f":"SUM(AL29:AQ30)","v":0}]
[null,"- udzielone pożyczki"]
[null,"- środki pieniężne i ich ekwiwalenty"]
[" 3.","Aktywa finansowe utrzymywane do terminu wymagalności",null,null,null,null,null,null,null,null,null,null,null,null,null,null,null,null,null,null,null,null,null,null,null,null,null,null,null,null,null,{"$f":"SUM(AF32:AK33)","v":0},null,null,null,null,null,{"$f":"SUM(AL32:AQ33)","v":0}]
[null,"- obligacje"]
[null,"- "]
[" 4.","Aktywa finansowe dostępne do sprzedaży",null,null,null,null,null,null,null,null,null,null,null,null,null,null,null,null,null,null,null,null,null,null,null,null,null,null,null,null,null,{"$f":"SUM(AF35:AK35)","v":0},null,null,null,null,null,{"$f":"SUM(AL35:AQ35)","v":0}]
[null,"- "]
[null,null,null,null,null,null,null,null,null,null,null,null,null,null,null,null,null,null,null,null,null,null,null,null,null,null,null,null,null,null,null,null,null,null,null,null,null,null,null,null,null,null,null,null,"Miejsce na dodatkowy opis"]
[]
[]
[]
[]
[null,"Sprawdzenie - Aktywa finansowe długoterminowe"]
[null,"Nota",null,null,null,null,null,null,null,null,null,null,null,null,null,null,null,null,null,null,null,null,null,null,null,null,null,null,null,null,null,{"$f":"AF10","v":0},null,null,null,null,null,{"$f":"AL10","v":0}]
[null,"Bilans",null,null,null,null,null,null,null,null,null,null,null,null,null,null,null,null,null,null,null,null,null,null,null,null,null,null,null,null,null,{"$f":"Bilans_AKTYWA!$S$32","v":0},null,null,null,null,null,{"$f":"Bilans_AKTYWA!$X$32","v":0}]
[null,"Aktywa wykazane w bilansie, które nie posiadają charakteru instrumentów finansowych - udziały i akje w jedn. powiązanych"]
[null,"różnica",null,null,null,null,null,null,null,null,null,null,null,null,null,null,null,null,null,null,null,null,null,null,null,null,null,null,null,null,null,{"$f":"AF42-(AF43-AF44)","v":0},null,null,null,null,null,{"$f":"AL42-(AL43-AL44)","v":0}]
[]
[null,"Sprawdzenie - Aktywa finansowe krótkoterminowe"]
[null,"Nota",null,null,null,null,null,null,null,null,null,null,null,null,null,null,null,null,null,null,null,null,null,null,null,null,null,null,null,null,null,{"$f":"AF23","v":0},{"$f":"AF15","v":0},null,null,null,null,{"$f":"AL23","v":0}]
[null,"Bilans",null,null,null,null,null,null,null,null,null,null,null,null,null,null,null,null,null,null,null,null,null,null,null,null,null,null,null,null,null,{"$f":"Bilans_AKTYWA!$S$74+Bilans_AKTYWA!$S$94","v":0},null,null,null,null,null,{"$f":"Bilans_AKTYWA!$X$74+Bilans_AKTYWA!$X$94","v":0}]
[null,"Aktywa wykazane w bilansie, które nie posiadają charakteru instrumentów finansowych - udziały i akje w jedn. powiązanych"]
[null,"różnica",null,null,null,null,null,null,null,null,null,null,null,null,null,null,null,null,null,null,null,null,null,null,null,null,null,null,null,null,null,{"$f":"AF48-(AF49-AF50)","v":0},null,null,null,null,null,{"$f":"AL48-(AL49-AL50)","v":0}]
[]
[]
[]
[null,"*) zgodnie z przepisami Rozporządzenia z dnia 12 grudnia 2001 r. w sprawie szczegółowych zasad uznawania, metod wyceny, zakresu ujawniania i sposobu prezentacji instrumentów finansowych:"]
[null,"§ 2. 1. Przepisy rozporządzenia stosuje się odpowiednio do:"]
[null,"1) umów, których przedmiotem są towary, takich jak kontrakty towarowe, opcje i kontrakty swap, przewidujących dla"]
[null,"jednej ze stron prawo do rozliczenia zobowiązania poprzez wydanie środków pieniężnych albo innych aktywów"]
[null,"finansowych, z wyjątkiem przypadku, gdy jednostka:"]
[null,"a) zawarła umowę w celu nabycia, sprzedaży lub wykorzystania towarów i nie stwierdza zajścia okoliczności, które"]
[null,"uniemożliwiają wykonanie postanowień objętych umową,"]
[null,"b) zawierając umowę, miała zamiar nabycia, sprzedaży lub wykorzystania towarów,"]
[null,"c) oczekuje wykonania postanowień umowy poprzez dostawę towarów"]
[]
[null,"Zgodnie z powyższą definicją nie zalicza się do aktywów finansowych np.należności z tytułu dostaw i usług czy sprzedaży składników majątku trwałego"]
[null,"Do instrumentów finansowych nie zalicza się także udziałów i akcji w jednostkach powiązanych"]
[]
[null,"Środki pieniężne i ich ekwiwalenty zgodnie z rozporządzeniem wykazuje się jako należności własne."]

{"sheet":"Instr_finans_Zobowiązania","index":76,"n_rows":65,"n_cols":45,"rows_kept":65,"cut":false,"hidden":true,"merged":[[6,0,7,0],[6,1,7,30],[8,1,8,30],[2,44,2,49],[27,0,27,42],[4,0,4,9],[5,0,5,42],[9,1,9,30],[10,1,10,30],[11,1,11,30],[12,1,12,30],[6,37,7,42],[8,31,8,36],[8,37,8,42],[9,31,9,36],[9,37,9,42],[50,1,50,30],[50,31,50,36],[50,37,50,42],[47,31,47,36],[47,37,47,42],[49,31,49,36],[49,37,49,42],[48,1,48,30],[48,31,48,36],[48,37,48,42],[49,1,49,30],[47,1,47,30],[13,1,13,30],[14,1,14,30],[15,1,15,30],[16,1,16,30],[28,0,36,42],[17,1,17,30],[18,1,18,30],[19,1,19,30],[20,1,20,30],[22,1,22,30],[14,31,14,36],[14,37,14,42],[15,37,15,42],[16,37,16,42],[17,31,17,36],[17,37,17,42],[6,31,7,36],[10,37,10,42],[11,31,11,36],[12,31,12,36],[13,31,13,36],[11,37,11,42],[12,37,12,42],[13,37,13,42],[10,31,10,36],[18,31,18,36],[18,37,18,42],[15,31,15,36],[16,31,16,36],[19,37,19,42],[20,37,20,42],[21,31,21,36],[21,37,21,42],[22,31,22,36],[22,37,22,42],[21,1,21,30],[19,31,19,36],[20,31,20,36],[23,31,23,36],[24,31,24,36],[44,1,44,30],[41,31,41,36],[41,37,41,42],[42,31,42,36],[43,31,43,36],[44,31,44,36],[42,37,42,42],[43,37,43,42],[44,37,44,42],[43,1,43,30],[23,37,23,42],[24,37,24,42],[25,37,25,42],[41,1,41,30],[42,1,42,30],[26,31,26,36],[26,37,26,42],[23,1,23,30],[24,1,24,30],[25,1,25,30],[25,31,25,36],[40,1,40,32],[26,1,26,30]]}
[{"$f":"nazwa","v":"DEMO"}]
[{"$f":"temat","v":"Sprawozdanie finansowe za rok 2023"}]
[null,null,null,null,null,null,null,null,null,null,null,null,null,null,null,null,null,null,null,null,null,null,null,null,null,null,null,null,null,null,null,null,null,null,null,null,null,null,null,null,null,null,null,null,"Powrót do parametrów"]
[]
[{"$f":"NumerNoty(Parametry!$B$93)","v":"Nota nie podlegająca prezentacji"}]
["Klasyfikacja instrumentów finansowych - Zobowiązania finansowe"]
["Lp.","Wyszczególnienie",null,null,null,null,null,null,null,null,null,null,null,null,null,null,null,null,null,null,null,null,null,null,null,null,null,null,null,null,null,{"$f":"stanb","v":"Stan na dzień dd.mm.rrrr"},null,null,null,null,null,{"$f":"stanp","v":"Stan na dzień dd.mm.rrrr"}]
[]
[null,"Zobowiązania finansowe",null,null,null,null,null,null,null,null,null,null,null,null,null,null,null,null,null,null,null,null,null,null,null,null,null,null,null,null,null,{"$f":"AF10+AF18","v":0},null,null,null,null,null,{"$f":"AL10+AL18","v":0}]
["I.","Długoterminowe",null,null,null,null,null,null,null,null,null,null,null,null,null,null,null,null,null,null,null,null,null,null,null,null,null,null,null,null,null,{"$f":"AF11","v":0},null,null,null,null,null,{"$f":"AL11","v":0}]
[" 1.","Zobowiązania finansowe wyceniane w skorygowanej cenie nabycia (według zamortyzowanego kosztu)",null,null,null,null,null,null,null,null,null,null,null,null,null,null,null,null,null,null,null,null,null,null,null,null,null,null,null,null,null,{"$f":"SUM(AF12:AK17)","v":0},null,null,null,null,null,{"$f":"SUM(AL12:AQ17)","v":0}]
[null,"- kredyty bankowe i pożyczki"]
[null,"- obligacje"]
[null,"- zobowiązania z tyt. leasingu"]
[null,"- pozostałe zobowiązania finansowe"]
[]
[]
["II.","Krótkoterminowe",null,null,null,null,null,null,null,null,null,null,null,null,null,null,null,null,null,null,null,null,null,null,null,null,null,null,null,null,null,{"$f":"AF19+AF22","v":0},null,null,null,null,null,{"$f":"AL19+AL22","v":0}]
[" 1.","Zobowiązania finansowe przeznaczone do obrotu",null,null,null,null,null,null,null,null,null,null,null,null,null,null,null,null,null,null,null,null,null,null,null,null,null,null,null,null,null,{"$f":"SUM(AF20:AK21)","v":0},null,null,null,null,null,{"$f":"SUM(AL20:AQ21)","v":0}]
[null,"- instrumenty pochodne"]
[]
[" 2.","Zobowiązania finansowe wyceniane w skorygowanej cenie nabycia (według zamortyzowanego kosztu)",null,null,null,null,null,null,null,null,null,null,null,null,null,null,null,null,null,null,null,null,null,null,null,null,null,null,null,null,null,{"$f":"SUM(AF23:AK27)","v":0},null,null,null,null,null,{"$f":"SUM(AL23:AQ27)","v":0}]
[null,"- kredyty bankowe i pożyczki"]
[null,"- obligacje"]
[null,"- zobowiązania z tyt. leasingu"]
[null,"- pozostałe zobowiązania finansowe"]
[]
[]
[null,null,null,null,null,null,null,null,null,null,null,null,null,null,null,null,null,null,null,null,null,null,null,null,null,null,null,null,null,null,null,null,null,null,null,null,null,null,null,null,null,null,null,null,"Miejsce na dodatkowy opis"]
[]
[]
[]
[]
[]
[]
[]
[]
[]
[]
[]
[null,"Sprawdzenie - Zobowiązania finansowe długoterminowe"]
[null,"Nota",null,null,null,null,null,null,null,null,null,null,null,null,null,null,null,null,null,null,null,null,null,null,null,null,null,null,null,null,null,{"$f":"AF10","v":0},null,null,null,null,null,{"$f":"AL10","v":0}]
[null,"Bilans",null,null,null,null,null,null,null,null,null,null,null,null,null,null,null,null,null,null,null,null,null,null,null,null,null,null,null,null,null,{"$f":"Bilans_PASYWA!$S$36","v":0},null,null,null,null,null,{"$f":"Bilans_PASYWA!$X$36","v":0}]
[null,"Zobowiązania wykazane w bilansie, które nie posiadają charakteru instrumentów finansowych"]
[null,"różnica",null,null,null,null,null,null,null,null,null,null,null,null,null,null,null,null,null,null,null,null,null,null,null,null,null,null,null,null,null,{"$f":"AF42-(AF43-AG44)","v":0},null,null,null,null,null,{"$f":"AL42-(AL43-AM44)","v":0}]
[]
[null,"Sprawdzenie - Zobowiązania finansowe krótkoterminowe"]
[null,"Nota",null,null,null,null,null,null,null,null,null,null,null,null,null,null,null,null,null,null,null,null,null,null,null,null,null,null,null,null,null,{"$f":"AF18","v":0},null,null,null,null,null,{"$f":"AL18","v":0}]
[null,"Bilans",null,null,null,null,null,null,null,null,null,null,null,null,null,null,null,null,null,null,null,null,null,null,null,null,null,null,null,null,null,{"$f":"Bilans_PASYWA!$S$46","v":0},null,null,null,null,null,{"$f":"Bilans_PASYWA!$X$46","v":0}]
[null,"Zobowiązania wykazane w bilansie, które nie posiadają charakteru instrumentów finansowych"]
[null,"różnica",null,null,null,null,null,null,null,null,null,null,null,null,null,null,null,null,null,null,null,null,null,null,null,null,null,null,null,null,null,{"$f":"AF48-(AF49-AF50)","v":0},null,null,null,null,null,{"$f":"AL48-(AL49-AL50)","v":0}]
[]
[]
[]
[null,"*) zgodnie z przepisami Rozporządzenia z dnia 12 grudnia 2001 r. w sprawie szczegółowych zasad uznawania, metod wyceny, zakresu ujawniania i sposobu prezentacji instrumentów finansowych:"]
[null,"§ 2. 1. Przepisy rozporządzenia stosuje się odpowiednio do:"]
[null,"1) umów, których przedmiotem są towary, takich jak kontrakty towarowe, opcje i kontrakty swap, przewidujących dla"]
[null,"jednej ze stron prawo do rozliczenia zobowiązania poprzez wydanie środków pieniężnych albo innych aktywów"]
[null,"finansowych, z wyjątkiem przypadku, gdy jednostka:"]
[null,"a) zawarła umowę w celu nabycia, sprzedaży lub wykorzystania towarów i nie stwierdza zajścia okoliczności, które"]
[null,"uniemożliwiają wykonanie postanowień objętych umową,"]
[null,"b) zawierając umowę, miała zamiar nabycia, sprzedaży lub wykorzystania towarów,"]
[null,"c) oczekuje wykonania postanowień umowy poprzez dostawę towarów"]
[]
[null,"Zgodnie z powyższą definicją nie zalicza się do aktywów finansowych np.zobowiązań z tytułu dostaw i usług czy zakupu składników majątku trwałego"]

{"sheet":"Instr_finans_wart_godziwa","index":77,"n_rows":23,"n_cols":45,"rows_kept":23,"cut":false,"hidden":true,"merged":[[2,44,2,49],[20,0,20,42],[21,0,36,42],[4,0,4,11],[5,0,5,42],[6,0,9,0],[6,1,9,12],[6,13,9,17],[6,18,6,37],[6,38,9,42],[7,18,7,27],[7,28,7,37],[8,18,9,22],[8,23,9,27],[8,28,9,32],[8,33,9,37],[12,33,12,37],[10,38,10,42],[11,33,11,37],[11,38,11,42],[10,33,10,37],[11,1,11,12],[11,13,11,17],[11,18,11,22],[11,23,11,27],[11,28,11,32],[10,1,10,12],[10,13,10,17],[10,18,10,22],[10,23,10,27],[10,28,10,32],[14,38,14,42],[12,38,12,42],[12,44,14,50],[13,1,13,12],[13,13,13,17],[13,18,13,22],[13,23,13,27],[13,28,13,32],[13,33,13,37],[13,38,13,42],[14,1,14,12],[12,1,12,12],[12,13,12,17],[12,18,12,22],[12,23,12,27],[12,28,12,32],[15,33,15,37],[14,13,14,17],[14,18,14,22],[14,23,14,27],[14,28,14,32],[14,33,14,37],[17,38,17,42],[15,38,15,42],[15,44,17,50],[16,1,16,12],[16,13,16,17],[16,18,16,22],[16,23,16,27],[16,28,16,32],[16,33,16,37],[16,38,16,42],[17,1,17,12],[15,1,15,12],[15,13,15,17],[15,18,15,22],[15,23,15,27],[15,28,15,32],[17,13,17,17],[17,18,17,22],[17,23,17,27],[17,28,17,32],[17,33,17,37],[18,38,18,42],[19,1,19,12],[19,13,19,17],[19,18,19,22],[19,23,19,27],[19,28,19,32],[19,33,19,37],[19,38,19,42],[18,1,18,12],[18,13,18,17],[18,18,18,22],[18,23,18,27],[18,28,18,32],[18,33,18,37]]}
[{"$f":"nazwa","v":"DEMO"}]
[{"$f":"temat","v":"Sprawozdanie finansowe za rok 2023"}]
[null,null,null,null,null,null,null,null,null,null,null,null,null,null,null,null,null,null,null,null,null,null,null,null,null,null,null,null,null,null,null,null,null,null,null,null,null,null,null,null,null,null,null,null,"Powrót do parametrów"]
[]
[{"$f":"NumerNoty(Parametry!$B$94)","v":"Nota nie podlegająca prezentacji"}]
["Instrumenty finansowe wyceniane według wartości godziwej "]
["Lp.","Tytuł (składnik aktywów niebędący instrumentem finansowym) ",null,null,null,null,null,null,null,null,null,null,null,"Wartość godziwa składnika wykazana w bilansie ",null,null,null,null,"Skutki przeszacowania wpływające w danym okresie sprawozdawczym na:",null,null,null,null,null,null,null,null,null,null,null,null,null,null,null,null,null,null,null,"Uwagi"]
[null,null,null,null,null,null,null,null,null,null,null,null,null,null,null,null,null,null,"wynik finansowy ",null,null,null,null,null,null,null,null,null,"kapitał z aktualizacji "]
[null,null,null,null,null,null,null,null,null,null,null,null,null,null,null,null,null,null,"przychody finansowe",null,null,null,null,"koszty finansowe",null,null,null,null,"zwiększenie",null,null,null,null," zmniejszenie"]
[]
[" 1."]
[" 2."]
[" 3."]
[" 4."]
[" 5."]
[" 6."]
[" 7."]
[" 8."]
[" 9."]
[" 10."]
[]
[]
[null,null,null,null,null,null,null,null,null,null,null,null,null,null,null,null,null,null,null,null,null,null,null,null,null,null,null,null,null,null,null,null,null,null,null,null,null,null,null,null,null,null,null,null,"Miejsce na dodatkowy opis"]

{"sheet":"Instr_finans_kapitał_akt_wyceny","index":78,"n_rows":26,"n_cols":45,"rows_kept":26,"cut":false,"hidden":true,"merged":[[2,44,2,49],[27,0,36,42],[4,0,4,13],[5,0,5,42],[6,0,8,0],[6,1,8,22],[6,23,6,42],[7,23,8,27],[7,28,8,32],[7,33,8,37],[7,38,8,42],[9,1,9,22],[9,23,9,27],[21,44,23,50],[22,1,22,22],[22,23,22,27],[22,28,22,32],[22,33,22,37],[22,38,22,42],[23,1,23,22],[23,23,23,27],[23,28,23,32],[23,33,23,37],[23,38,23,42],[20,28,21,32],[20,33,21,37],[20,38,21,42],[9,28,9,32],[9,33,9,37],[9,38,9,42],[14,28,15,32],[18,38,18,42],[19,28,19,32],[19,33,19,37],[19,38,19,42],[25,44,26,50],[24,1,24,22],[24,23,24,27],[24,28,24,32],[24,33,24,37],[24,38,24,42],[25,1,25,22],[25,23,25,27],[25,28,25,32],[25,33,25,37],[25,38,25,42],[26,0,26,42],[10,1,10,22],[10,23,10,27],[10,28,10,32],[10,33,10,37],[10,38,10,42],[10,44,13,50],[11,1,11,22],[11,23,11,27],[11,28,11,32],[11,33,11,37],[11,38,11,42],[12,1,12,22],[12,23,12,27],[12,28,12,32],[12,33,12,37],[12,38,12,42],[13,1,13,22],[13,23,13,27],[13,28,13,32],[13,33,13,37],[13,38,13,42],[15,44,19,50],[16,1,16,22],[16,23,16,27],[16,28,16,32],[16,33,16,37],[16,38,16,42],[18,1,18,22],[18,23,18,27],[18,28,18,32],[18,33,18,37],[17,23,17,27],[17,28,17,32],[17,33,17,37],[17,38,17,42],[14,33,15,37],[14,38,15,42],[14,0,15,0],[14,1,15,22],[20,1,21,22],[20,0,21,0],[14,23,15,27],[19,1,19,22],[19,23,19,27],[20,23,21,27]]}
[{"$f":"nazwa","v":"DEMO"}]
[{"$f":"temat","v":"Sprawozdanie finansowe za rok 2023"}]
[null,null,null,null,null,null,null,null,null,null,null,null,null,null,null,null,null,null,null,null,null,null,null,null,null,null,null,null,null,null,null,null,null,null,null,null,null,null,null,null,null,null,null,null,"Powrót do parametrów"]
[]
[{"$f":"NumerNoty(Parametry!$B$95)","v":"Nota nie podlegająca prezentacji"}]
["Zmiany w kapitale (funduszu) z aktualizacji wyceny w zakresie instrumentów finansowych"]
["Lp.","Wyszczególnienie",null,null,null,null,null,null,null,null,null,null,null,null,null,null,null,null,null,null,null,null,null,"Wartość kapitału z aktualizacji wyceny"]
[null,null,null,null,null,null,null,null,null,null,null,null,null,null,null,null,null,null,null,null,null,null,null,{"$f":"stanp","v":"Stan na dzień dd.mm.rrrr"},null,null,null,null,"zwiększenia",null,null,null,null,"zmniejszenia",null,null,null,null,{"$f":"stanb","v":"Stan na dzień dd.mm.rrrr"}]
[]
[" 1.","Skutki przeszacowania aktywów finansowych dostępnych do sprzedaży",null,null,null,null,null,null,null,null,null,null,null,null,null,null,null,null,null,null,null,null,null,{"$f":"SUM(X11:AB14)","v":0},null,null,null,null,{"$f":"SUM(AC11:AG14)","v":0},null,null,null,null,{"$f":"SUM(AH11:AL14)","v":0},null,null,null,null,{"$f":"X10+AC10-AH10","v":0}]
[null,null,null,null,null,null,null,null,null,null,null,null,null,null,null,null,null,null,null,null,null,null,null,null,null,null,null,null,null,null,null,null,null,null,null,null,null,null,{"$f":"X11+AC11-AH11","v":0}]
[null,null,null,null,null,null,null,null,null,null,null,null,null,null,null,null,null,null,null,null,null,null,null,null,null,null,null,null,null,null,null,null,null,null,null,null,null,null,0]
[null,null,null,null,null,null,null,null,null,null,null,null,null,null,null,null,null,null,null,null,null,null,null,null,null,null,null,null,null,null,null,null,null,null,null,null,null,null,0]
[null,null,null,null,null,null,null,null,null,null,null,null,null,null,null,null,null,null,null,null,null,null,null,null,null,null,null,null,null,null,null,null,null,null,null,null,null,null,0]
[" 2.","Okresowa wycena pozycji zabezpieczanych oraz instrumentów zabezpieczających w związku z zabezpieczaniem",null,null,null,null,null,null,null,null,null,null,null,null,null,null,null,null,null,null,null,null,null,{"$f":"SUM(X16:AB19)","v":0},null,null,null,null,{"$f":"SUM(AC16:AG19)","v":0},null,null,null,null,{"$f":"SUM(AH16:AL19)","v":0},null,null,null,null,0]
[]
[null,null,null,null,null,null,null,null,null,null,null,null,null,null,null,null,null,null,null,null,null,null,null,null,null,null,null,null,null,null,null,null,null,null,null,null,null,null,0]
[null,null,null,null,null,null,null,null,null,null,null,null,null,null,null,null,null,null,null,null,null,null,null,null,null,null,null,null,null,null,null,null,null,null,null,null,null,null,0]
[null,null,null,null,null,null,null,null,null,null,null,null,null,null,null,null,null,null,null,null,null,null,null,null,null,null,null,null,null,null,null,null,null,null,null,null,null,null,0]
[null,null,null,null,null,null,null,null,null,null,null,null,null,null,null,null,null,null,null,null,null,null,null,null,null,null,null,null,null,null,null,null,null,null,null,null,null,null,0]
[" 3.","Ustalenia, przeszacowania i odpisania na wynik finansowy rezerwy oraz aktywów z tytułu odroczonego podatku dochodowego",null,null,null,null,null,null,null,null,null,null,null,null,null,null,null,null,null,null,null,null,null,{"$f":"SUM(X22:AB25)","v":0},null,null,null,null,{"$f":"SUM(AC22:AG25)","v":0},null,null,null,null,{"$f":"SUM(AH22:AL25)","v":0},null,null,null,null,{"$f":"X21+AC21-AH21","v":0}]
[]
[null," ",null,null,null,null,null,null,null,null,null,null,null,null,null,null,null,null,null,null,null,null,null,null,null,null,null,null,null,null,null,null,null,null,null,null,null,null,0]
[null,null,null,null,null,null,null,null,null,null,null,null,null,null,null,null,null,null,null,null,null,null,null,null,null,null,null,null,null,null,null,null,null,null,null,null,null,null,0]
[null,null,null,null,null,null,null,null,null,null,null,null,null,null,null,null,null,null,null,null,null,null,null,null,null,null,null,null,null,null,null,null,null,null,null,null,null,null,0]
[null,null,null,null,null,null,null,null,null,null,null,null,null,null,null,null,null,null,null,null,null,null,null,null,null,null,null,null,null,null,null,null,null,null,null,null,null,null,0]

{"sheet":"Zatrudnienie","index":79,"n_rows":16,"n_cols":45,"rows_kept":16,"cut":false,"hidden":true,"merged":[[2,44,2,49],[13,0,13,42],[14,0,36,42],[5,0,5,42],[4,0,4,27],[10,38,10,42],[6,0,7,0],[9,38,9,42],[6,1,7,32],[9,1,9,32],[8,1,8,32],[6,33,7,37],[8,33,8,37],[10,1,10,32],[6,38,7,42],[10,33,10,37],[8,38,8,42],[9,33,9,37],[12,38,12,42],[11,1,11,32],[11,38,11,42],[11,33,11,37],[12,33,12,37],[12,0,12,32]]}
[{"$f":"nazwa","v":"DEMO"}]
[{"$f":"temat","v":"Sprawozdanie finansowe za rok 2023"}]
[null,null,null,null,null,null,null,null,null,null,null,null,null,null,null,null,null,null,null,null,null,null,null,null,null,null,null,null,null,null,null,null,null,null,null,null,null,null,null,null,null,null,null,null,"Powrót do parametrów"]
[]
[{"$f":"NumerNoty(Parametry!$B$96)","v":"Nota nie podlegająca prezentacji"}]
["Informacje o przeciętnym zatrudnieniu w grupach zawodowych"]
["Lp.","Wyszczególnienie",null,null,null,null,null,null,null,null,null,null,null,null,null,null,null,null,null,null,null,null,null,null,null,null,null,null,null,null,null,null,null,{"$f":"rokb","v":"dd.mm-dd.mm.rrrr"},null,null,null,null,{"$f":"rokp","v":"dd.mm-dd.mm.rrrr"}]
[]
[" 1.","Pracownicy bezpośrednio produkcyjny"]
[" 2.","Pracownicy pośrednio produkcyjni"]
[" 3.","Pozostali"]
[" 4.","Stanowiska nierobotnicze"]
["RAZEM",null,null,null,null,null,null,null,null,null,null,null,null,null,null,null,null,null,null,null,null,null,null,null,null,null,null,null,null,null,null,null,null,{"$f":"SUM(AH9:AL12)","v":0},null,null,null,null,{"$f":"SUM(AM9:AQ12)","v":0}]
[]
[]
[null,null,null,null,null,null,null,null,null,null,null,null,null,null,null,null,null,null,null,null,null,null,null,null,null,null,null,null,null,null,null,null,null,null,null,null,null,null,null,null,null,null,null,null,"Miejsce na dodatkowy opis"]

{"sheet":"Pożyczki_zarząd_nadz","index":80,"n_rows":29,"n_cols":45,"rows_kept":29,"cut":false,"hidden":true,"merged":[[2,44,2,49],[27,0,27,42],[28,0,36,42],[26,28,26,32],[19,0,20,0],[19,1,20,15],[19,16,20,18],[19,19,20,21],[19,22,20,24],[24,0,25,0],[26,38,26,42],[26,33,26,37],[26,0,26,27],[21,38,21,42],[22,1,22,15],[22,16,22,18],[22,19,22,21],[22,22,22,24],[22,25,22,27],[22,28,22,32],[22,33,22,37],[24,38,25,42],[24,1,25,15],[24,16,25,18],[24,19,25,21],[24,22,25,24],[24,25,25,27],[24,28,25,32],[24,33,25,37],[14,25,15,27],[14,28,15,32],[14,33,15,37],[14,38,15,42],[19,25,20,27],[19,38,20,42],[18,38,18,42],[21,33,21,37],[16,38,16,42],[17,28,17,32],[17,33,17,37],[17,38,17,42],[19,28,20,32],[19,33,20,37],[16,25,16,27],[18,28,18,32],[18,33,18,37],[23,38,23,42],[22,38,22,42],[18,16,18,18],[18,19,18,21],[18,22,18,24],[18,25,18,27],[17,22,17,24],[17,25,17,27],[11,38,11,42],[12,1,12,15],[12,16,12,18],[12,19,12,21],[12,22,12,24],[12,25,12,27],[12,28,12,32],[12,33,12,37],[12,38,12,42],[13,25,13,27],[16,33,16,37],[11,33,11,37],[13,33,13,37],[16,1,16,15],[16,16,16,18],[16,19,16,21],[16,22,16,24],[7,0,10,0],[13,28,13,32],[7,33,10,37],[4,0,4,9],[5,0,6,42],[16,28,16,32],[13,38,13,42],[7,38,10,42],[8,16,10,18],[8,19,10,21],[8,22,10,24],[8,25,10,27],[7,28,10,32],[7,1,7,15],[7,16,7,27],[11,25,11,27],[11,28,11,32],[14,0,15,0],[14,1,15,15],[14,16,15,18],[14,19,15,21],[14,22,15,24],[11,1,11,15],[11,16,11,18],[23,33,23,37],[23,28,23,32],[21,28,21,32],[8,1,10,15],[23,1,23,15],[23,16,23,18],[23,19,23,21],[23,22,23,24],[23,25,23,27],[21,1,21,15],[21,16,21,18],[21,19,21,21],[21,22,21,24],[21,25,21,27],[17,1,17,15],[17,16,17,18],[17,19,17,21],[11,19,11,21],[11,22,11,24],[13,1,13,15],[13,16,13,18],[13,19,13,21],[13,22,13,24],[18,1,18,15]]}
[{"$f":"nazwa","v":"DEMO"}]
[{"$f":"temat","v":"Sprawozdanie finansowe za rok 2023"}]
[null,null,null,null,null,null,null,null,null,null,null,null,null,null,null,null,null,null,null,null,null,null,null,null,null,null,null,null,null,null,null,null,null,null,null,null,null,null,null,null,null,null,null,null,"Powrót do parametrów"]
[]
[{"$f":"NumerNoty(Parametry!$B$97)","v":"Nota nie podlegająca prezentacji"}]
["Zaliczki, kredyty, pożyczki i świadczenia o podobnym charakterze udzielone osobom wchodzącym w skład organów zarządzających, nadzorujących i administrujących"]
[]
["Lp.","Wyszczególnienie",null,null,null,null,null,null,null,null,null,null,null,null,null,null,"Główne warunki umowy",null,null,null,null,null,null,null,null,null,null,null,"Kwota świadczenia",null,null,null,null,"Kwota spłacona",null,null,null,null,{"$f":"stanb","v":"Stan na dzień dd.mm.rrrr"}]
[null,"Pożyczkobiorca",null,null,null,null,null,null,null,null,null,null,null,null,null,null,"Wysokość oprocento- wania",null,null,"Data udzielenia  świadczeń",null,null,"Termin spłaty",null,null,"Inne"]
[]
[]
[" 1.","Organ zarządzający",null,null,null,null,null,null,null,null,null,null,null,null,null,null,null,null,null,null,null,null,null,null,null,null,null,null,{"$f":"SUM(AC13:AG16)","v":0},null,null,null,null,{"$f":"SUM(AH13:AL16)","v":0},null,null,null,null,{"$f":"SUM(AM13:AQ16)","v":0}]
[null," – pożyczka/kredyt",null,null,null,null,null,null,null,null,null,null,null,null,null,null,null,null,null,null,null,null,null,null,null,null,null,null,null,null,null,null,null,null,null,null,null,null,{"$f":"AC13-AH13","v":0}]
[null," – zaliczka",null,null,null,null,null,null,null,null,null,null,null,null,null,null,null,null,null,null,null,null,null,null,null,null,null,null,null,null,null,null,null,null,null,null,null,null,{"$f":"AC14-AH14","v":0}]
[null," – zobowiązania zaciągnięte w ich imieniu tytułem gwarancji i poręczeń",null,null,null,null,null,null,null,null,null,null,null,null,null,null,null,null,null,null,null,null,null,null,null,null,null,null,null,null,null,null,null,null,null,null,null,null,{"$f":"AC15-AH15","v":0}]
[]
[" 2.","Organ nadzorujący",null,null,null,null,null,null,null,null,null,null,null,null,null,null,null,null,null,null,null,null,null,null,null,null,null,null,{"$f":"SUM(AC18:AG21)","v":0},null,null,null,null,{"$f":"SUM(AH18:AL21)","v":0},null,null,null,null,{"$f":"SUM(AM18:AQ21)","v":0}]
[null," – pożyczka/kredyt",null,null,null,null,null,null,null,null,null,null,null,null,null,null,null,null,null,null,null,null,null,null,null,null,null,null,null,null,null,null,null,null,null,null,null,null,{"$f":"AC18-AH18","v":0}]
[null," – zaliczka",null,null,null,null,null,null,null,null,null,null,null,null,null,null,null,null,null,null,null,null,null,null,null,null,null,null,null,null,null,null,null,null,null,null,null,null,{"$f":"AC19-AH19","v":0}]
[null," – zobowiązania zaciągnięte w ich imieniu tytułem gwarancji i poręczeń",null,null,null,null,null,null,null,null,null,null,null,null,null,null,null,null,null,null,null,null,null,null,null,null,null,null,null,null,null,null,null,null,null,null,null,null,{"$f":"AC20-AH20","v":0}]
[]
[" 3.","Organ administrujący",null,null,null,null,null,null,null,null,null,null,null,null,null,null,null,null,null,null,null,null,null,null,null,null,null,null,{"$f":"SUM(AC23:AG26)","v":0},null,null,null,null,{"$f":"SUM(AH23:AL26)","v":0},null,null,null,null,{"$f":"SUM(AM23:AQ26)","v":0}]
[null," – pożyczka/kredyt",null,null,null,null,null,null,null,null,null,null,null,null,null,null,null,null,null,null,null,null,null,null,null,null,null,null,null,null,null,null,null,null,null,null,null,null,{"$f":"AC23-AH23","v":0}]
[null," – zaliczka",null,null,null,null,null,null,null,null,null,null,null,null,null,null,null,null,null,null,null,null,null,null,null,null,null,null,null,null,null,null,null,null,null,null,null,null,{"$f":"AC24-AH24","v":0}]
[null," – zobowiązania zaciągnięte w ich imieniu tytułem gwarancji i poręczeń",null,null,null,null,null,null,null,null,null,null,null,null,null,null,null,null,null,null,null,null,null,null,null,null,null,null,null,null,null,null,null,null,null,null,null,null,{"$f":"AC25-AH25","v":0}]
[]
["RAZEM",null,null,null,null,null,null,null,null,null,null,null,null,null,null,null,null,null,null,null,null,null,null,null,null,null,null,null,{"$f":"AC22+AC17+AC12","v":0},null,null,null,null,{"$f":"AH22+AH17+AH12","v":0},null,null,null,null,{"$f":"AM22+AM17+AM12","v":0}]
[]
[null,null,null,null,null,null,null,null,null,null,null,null,null,null,null,null,null,null,null,null,null,null,null,null,null,null,null,null,null,null,null,null,null,null,null,null,null,null,null,null,null,null,null,null,"Miejsce na dodatkowy opis"]

{"sheet":"Wynagr_i_zobow_org_zarząd","index":81,"n_rows":25,"n_cols":45,"rows_kept":25,"cut":false,"hidden":true,"merged":[[2,44,2,49],[21,35,21,42],[5,0,6,42],[11,1,11,26],[12,1,12,26],[12,27,12,34],[12,35,12,42],[20,27,20,34],[20,35,20,42],[17,35,18,42],[17,27,18,34],[16,27,16,42],[14,0,15,42],[7,0,9,0],[7,1,9,26],[7,27,7,42],[23,0,23,42],[24,0,36,42],[13,1,13,26],[13,27,13,34],[13,35,13,42],[22,35,22,42],[22,27,22,34],[16,0,18,0],[16,1,18,26],[22,1,22,26],[19,1,19,26],[19,27,19,34],[19,35,19,42],[20,1,20,26],[21,1,21,26],[21,27,21,34],[11,27,11,34],[11,35,11,42],[4,0,4,9],[8,27,9,34],[8,35,9,42],[10,1,10,26],[10,27,10,34],[10,35,10,42]]}
[{"$f":"nazwa","v":"DEMO"}]
[{"$f":"temat","v":"Sprawozdanie finansowe za rok 2023"}]
[null,null,null,null,null,null,null,null,null,null,null,null,null,null,null,null,null,null,null,null,null,null,null,null,null,null,null,null,null,null,null,null,null,null,null,null,null,null,null,null,null,null,null,null,"Powrót do parametrów"]
[]
[{"$f":"NumerNoty(Parametry!$B$98)","v":"Nota nie podlegająca prezentacji"}]
["Wynagrodzenia, łącznie z wynagrodzeniem z zysku, wypłacone lub należne osobom wchodzącym w skład organów jednostki"]
[]
["Lp.","Wyszczególnienie",null,null,null,null,null,null,null,null,null,null,null,null,null,null,null,null,null,null,null,null,null,null,null,null,null,"Wynagrodzenia brutto za rok obrotowy"]
[null,null,null,null,null,null,null,null,null,null,null,null,null,null,null,null,null,null,null,null,null,null,null,null,null,null,null,"obciążające koszty",null,null,null,null,null,null,null,"obciążające zysk"]
[]
[" 1.","Organ zarządzający"]
[" 2.","Organ nadzorujący"]
[" 3.","Organ administrujący"]
[null,"RAZEM",null,null,null,null,null,null,null,null,null,null,null,null,null,null,null,null,null,null,null,null,null,null,null,null,null,{"$f":"SUM(AB11:AI13)","v":0},null,null,null,null,null,null,null,{"$f":"SUM(AJ11:AQ13)","v":0}]
["Zobowiązania wynikające z emerytur i podobnych świadczeń oraz zaciągnięte w związku z tymi emeryturami dla byłych członków organów jednostki"]
[]
["Lp.","Wyszczególnienie",null,null,null,null,null,null,null,null,null,null,null,null,null,null,null,null,null,null,null,null,null,null,null,null,null,"Zobowiązania"]
[null,null,null,null,null,null,null,null,null,null,null,null,null,null,null,null,null,null,null,null,null,null,null,null,null,null,null,"wynikające z emerytur i świadczeń o podobnym charakterze",null,null,null,null,null,null,null,"zaciągnięte w związku\nz tymi emeryturami"]
[]
[" 1.","Byli członkowie organu zarządzającego"]
[" 2.","Byli członkowie organu nadzorującego"]
[" 3.","Byli członkowie organu administrującego"]
[null,"RAZEM",null,null,null,null,null,null,null,null,null,null,null,null,null,null,null,null,null,null,null,null,null,null,null,null,null,{"$f":"SUM(AB20:AI22)","v":0},null,null,null,null,null,null,null,{"$f":"SUM(AJ20:AQ22)","v":0}]
[]
[null,null,null,null,null,null,null,null,null,null,null,null,null,null,null,null,null,null,null,null,null,null,null,null,null,null,null,null,null,null,null,null,null,null,null,null,null,null,null,null,null,null,null,null,"Miejsce na dodatkowy opis"]

{"sheet":"Wynagrodzenie_audytora","index":82,"n_rows":18,"n_cols":45,"rows_kept":18,"cut":false,"hidden":true,"merged":[[2,44,2,49],[16,0,16,42],[17,0,36,42],[15,0,15,37],[15,38,15,42],[9,1,9,37],[10,1,10,37],[11,1,11,37],[13,38,13,42],[14,38,14,42],[13,1,13,37],[14,1,14,37],[11,38,11,42],[8,1,8,37],[12,38,12,42],[12,1,12,37],[4,0,4,42],[7,1,7,37],[8,38,8,42],[9,38,9,42],[10,38,10,42],[5,0,6,42],[7,38,7,42]]}
[{"$f":"nazwa","v":"DEMO"}]
[{"$f":"temat","v":"Sprawozdanie finansowe za rok 2023"}]
[null,null,null,null,null,null,null,null,null,null,null,null,null,null,null,null,null,null,null,null,null,null,null,null,null,null,null,null,null,null,null,null,null,null,null,null,null,null,null,null,null,null,null,null,"Powrót do parametrów"]
[]
[{"$f":"NumerNoty(Parametry!$B$99)","v":"Nota nie podlegająca prezentacji"}]
["Informacje o wynagrodzeniu podmiotu badającego sprawozdanie finansowe"]
[]
["Lp.","Wyszczególnienie",null,null,null,null,null,null,null,null,null,null,null,null,null,null,null,null,null,null,null,null,null,null,null,null,null,null,null,null,null,null,null,null,null,null,null,null,"Kwota w zł"]
["1.","Badanie rocznego sprawozdania finansowego"]
["2.","Inne usługi poświadczające"]
["3.","Usługi doradztwa podatkowego"]
["4.","Pozostałe usługi (opisać)"]
[]
[]
[]
["RAZEM",null,null,null,null,null,null,null,null,null,null,null,null,null,null,null,null,null,null,null,null,null,null,null,null,null,null,null,null,null,null,null,null,null,null,null,null,null,{"$f":"SUM(AM9:AQ12)","v":0}]
[]
[null,null,null,null,null,null,null,null,null,null,null,null,null,null,null,null,null,null,null,null,null,null,null,null,null,null,null,null,null,null,null,null,null,null,null,null,null,null,null,null,null,null,null,null,"Miejsce na dodatkowy opis"]

{"sheet":"Transakcje_z_jed_pow","index":83,"n_rows":35,"n_cols":181,"rows_kept":35,"cut":false,"hidden":true,"merged":[[2,44,2,49],[26,1,26,36],[27,1,27,36],[28,1,28,36],[29,1,29,36],[30,1,30,36],[31,1,31,36],[32,1,32,36],[17,1,17,36],[18,1,18,36],[19,1,19,36],[20,1,20,36],[21,1,21,36],[22,1,22,36],[23,1,23,36],[24,1,24,36],[25,1,25,36],[29,37,29,42],[23,37,23,42],[17,37,17,42],[4,0,4,22],[7,0,9,0],[7,1,9,36],[10,1,10,36],[11,1,11,36],[12,1,12,36],[13,1,13,36],[14,1,14,36],[15,1,15,36],[16,1,16,36],[29,45,29,50],[29,51,29,56],[30,37,30,42],[30,45,30,50],[30,51,30,56],[23,45,23,50],[23,51,23,56],[24,37,24,42],[24,45,24,50],[24,51,24,56],[25,37,25,42],[25,45,25,50],[25,51,25,56],[20,37,20,42],[20,45,20,50],[20,51,20,56],[21,37,21,42],[21,45,21,50],[19,45,19,50],[19,51,19,56],[31,37,31,42],[31,45,31,50],[31,51,31,56],[26,37,26,42],[26,45,26,50],[26,51,26,56],[27,37,27,42],[27,45,27,50],[27,51,27,56],[28,37,28,42],[28,45,28,50],[28,51,28,56],[32,51,32,56],[9,45,9,50],[9,51,9,56],[10,37,10,42],[10,45,10,50],[10,51,10,56],[11,37,11,42],[11,45,11,50],[11,51,11,56],[12,37,12,42],[12,45,12,50],[12,51,12,56],[13,45,13,50],[13,51,13,56],[14,37,14,42],[14,45,14,50],[14,51,14,56],[15,37,15,42],[15,45,15,50],[15,51,15,56],[16,37,16,42],[16,45,16,50],[16,51,16,56],[21,51,21,56],[32,171,32,176],[32,157,32,162],[32,121,32,156],[31,171,31,176],[31,165,31,170],[31,121,31,156],[31,157,31,162],[32,108,32,113],[32,114,32,119],[32,165,32,170],[9,165,9,170],[9,171,9,176],[10,165,10,170],[10,171,10,176],[12,165,12,170],[12,171,12,176],[18,165,18,170],[13,171,13,176],[14,165,14,170],[13,165,13,170],[14,171,14,176],[11,165,11,170],[11,171,11,176],[24,171,24,176],[19,165,19,170],[15,165,15,170],[15,171,15,176],[20,171,20,176],[17,165,17,170],[17,171,17,176],[16,165,16,170],[23,171,23,176],[16,171,16,176],[18,171,18,176],[21,165,21,170],[21,171,21,176],[22,165,22,170],[22,171,22,176],[19,171,19,176],[20,165,20,170],[23,165,23,170],[24,165,24,170],[28,171,28,176],[26,157,26,162],[29,165,29,170],[29,171,29,176],[30,165,30,170],[30,171,30,176],[27,165,27,170],[27,171,27,176],[25,165,25,170],[25,171,25,176],[29,157,29,162],[30,157,30,162],[26,165,26,170],[26,171,26,176],[28,165,28,170],[25,157,25,162],[27,157,27,162],[30,121,30,156],[28,114,28,119],[30,108,30,113],[26,108,26,113],[26,114,26,119],[28,108,28,113],[28,100,28,105],[27,100,27,105],[27,108,27,113],[27,114,27,119],[26,100,26,105],[23,157,23,162],[24,157,24,162],[31,114,31,119],[30,114,30,119],[32,64,32,99],[30,100,30,105],[30,64,30,99],[31,64,31,99],[31,100,31,105],[32,100,32,105],[26,121,26,156],[23,121,23,156],[29,108,29,113],[29,114,29,119],[25,121,25,156],[27,121,27,156],[27,64,27,99],[29,121,29,156],[24,121,24,156],[23,114,23,119],[24,114,24,119],[23,108,23,113],[28,121,28,156],[28,157,28,162],[5,0,6,42],[7,37,9,42],[15,64,15,99],[14,64,14,99],[22,64,22,99],[23,64,23,99],[12,64,12,99],[13,64,13,99],[18,64,18,99],[19,64,19,99],[20,64,20,99],[21,64,21,99],[7,63,9,63],[7,64,9,99],[10,64,10,99],[22,37,22,42],[22,45,22,50],[22,51,22,56],[17,45,17,50],[17,51,17,56],[18,37,18,42],[18,45,18,50],[18,51,18,56],[19,37,19,42],[14,108,14,113],[11,108,11,113],[7,100,9,105],[10,100,10,105],[13,100,13,105],[13,114,13,119],[11,114,11,119],[42,3,42,39],[31,108,31,113],[41,3,41,39],[39,3,39,39],[40,3,40,39],[13,37,13,42],[24,64,24,99],[22,108,22,113],[25,64,25,99],[28,64,28,99],[26,64,26,99],[29,64,29,99],[29,100,29,105],[34,0,36,42],[33,0,33,42],[32,37,32,42],[32,45,32,50],[9,108,9,113],[12,108,12,113],[10,108,10,113],[9,114,9,119],[12,100,12,105],[11,100,11,105],[11,121,11,156],[12,121,12,156],[13,108,13,113],[25,114,25,119],[21,100,21,105],[22,100,22,105],[25,100,25,105],[23,100,23,105],[24,100,24,105],[16,64,16,99],[25,108,25,113],[24,108,24,113],[20,100,20,105],[21,108,21,113],[19,100,19,105],[20,108,20,113],[17,64,17,99],[18,108,18,113],[17,108,17,113],[7,157,9,162],[10,121,10,156],[14,157,14,162],[13,121,13,156],[16,114,16,119],[19,121,19,156],[19,157,19,162],[17,121,17,156],[12,114,12,119],[10,157,10,162],[7,121,9,156],[11,157,11,162],[12,157,12,162],[13,157,13,162],[18,157,18,162],[17,114,17,119],[18,121,18,156],[14,114,14,119],[19,114,19,119],[7,120,9,120],[10,114,10,119],[16,157,16,162],[14,121,14,156],[15,108,15,113],[19,108,19,113],[22,121,22,156],[11,64,11,99],[14,100,14,105],[22,157,22,162],[21,157,21,162],[15,114,15,119],[16,121,16,156],[22,114,22,119],[17,100,17,105],[20,121,20,156],[16,108,16,113],[17,157,17,162],[15,121,15,156],[20,114,20,119],[15,157,15,162],[21,114,21,119],[20,157,20,162],[21,121,21,156],[15,100,15,105],[16,100,16,105],[18,100,18,105],[18,114,18,119]]}
[{"$f":"nazwa","v":"DEMO"},null,null,null,null,null,null,null,null,null,null,null,null,null,null,null,null,null,null,null,null,null,null,null,null,null,null,null,null,null,null,null,null,null,null,null,null,null,null,null,null,null,null,null,null,null,null,null,null,null,null,null,null,null,null,null,null,null,null,null,null,null,null,null,null,null,null,null,null,null,null,null,null,null,null,null,null,null,null,null,1]
[{"$f":"temat","v":"Sprawozdanie finansowe za rok 2023"}]
[null,null,null,null,null,null,null,null,null,null,null,null,null,null,null,null,null,null,null,null,null,null,null,null,null,null,null,null,null,null,null,null,null,null,null,null,null,null,null,null,null,null,null,null,"Powrót do parametrów",null,null,null,null,null,null,null,null,null,null,null,null,null,null,null,null,null,null,null,null,null,null,null,null,null,null,null,null,null,null,null,null,null,null,null,null,null,null,null,null,null,null,null,null,null,null,null,null,null,null,null,null,null,null,null,null,null,null,null,null,"kalkulacyjny",null,null,null,null,null,null,null,null,null,null,null,null,null,null,null,null,null,null,null,null,null,null,null,null,null,null,null,null,null,null,null,null,null,null,null,null,null,null,null,null,null,null,null,null,null,null,null,null,null,null,null,null,null,null,null,null,"porownawczy"]
[]
[{"$f":"NumerNoty(Parametry!$B$100)","v":"Nota nie podlegająca prezentacji"}]
["Transakcje z jednostkami powiązanymi"]
[]
["Lp.","Wyszczególnienie",null,null,null,null,null,null,null,null,null,null,null,null,null,null,null,null,null,null,null,null,null,null,null,null,null,null,null,null,null,null,null,null,null,null,null,"Razem",null,null,null,null,null,null,null,null,null,null,null,null,null,null,null,null,null,null,null,null,null,null,null,null,null,null,null,null,null,null,null,null,null,null,null,null,null,null,null,null,null,null,null,null,null,null,null,null,null,null,null,null,null,null,null,null,null,null,null,null,null,null,"Razem",null,null,null,null,null,null,null,null,null,null,null,null,null,null,null,null,null,null,null,"Lp.","Wyszczególnienie",null,null,null,null,null,null,null,null,null,null,null,null,null,null,null,null,null,null,null,null,null,null,null,null,null,null,null,null,null,null,null,null,null,null,null,"Razem"]
[]
[null,null,null,null,null,null,null,null,null,null,null,null,null,null,null,null,null,null,null,null,null,null,null,null,null,null,null,null,null,null,null,null,null,null,null,null,null,null,null,null,null,null,null,null,null,"Sprawdzenie w. porówn.",null,null,null,null,null,"Różnica",null,null,null,null,null,null,null,null,null,null,null,null,null,null,null,null,null,null,null,null,null,null,null,null,null,null,null,null,null,null,null,null,null,null,null,null,null,null,null,null,null,null,null,null,null,null,null,null,null,null,null,null,null,null,null,null,"Sprawdzenie w. kalk.",null,null,null,null,null,"Różnica",null,null,null,null,null,null,null,null,null,null,null,null,null,null,null,null,null,null,null,null,null,null,null,null,null,null,null,null,null,null,null,null,null,null,null,null,null,null,null,null,null,null,null,null,null,null,null,null,null,null,"Sprawdzenie w. porówn.",null,null,null,null,null,"Różnica"]
[1,"Należności długoterminowe",null,null,null,null,null,null,null,null,null,null,null,null,null,null,null,null,null,null,null,null,null,null,null,null,null,null,null,null,null,null,null,null,null,null,null,null,null,null,null,null,null,null,null,{"$f":"Bilans_AKTYWA!$S$25","v":0},null,null,null,null,null,{"$f":"$AL11-$AT11","v":0},null,null,null,null,null,null,null,null,null,null,null,null,null,null,null,null,null,null,null,null,null,null,null,null,null,null,null,null,null,null,null,null,null,null,null,null,null,null,null,null,null,null,null,null,null,null,null,null,null,null,null,null,null,null,null,null,{"$f":"Bilans_AKTYWA!$S$25","v":0},null,null,null,null,null,{"$f":"$AL11-$AT11","v":0},null,null,null,null,null,null,null,null,null,null,null,null,null,null,null,null,null,null,null,null,null,null,null,null,null,null,null,null,null,null,null,null,null,null,null,null,null,null,null,null,null,null,null,null,null,null,null,null,null,null,{"$f":"Bilans_AKTYWA!$S$25","v":0},null,null,null,null,null,{"$f":"$AL11-$AT11","v":0},null,null,null,null,null,null,null,null,{"$f":"DR11=BM11","v":true}]
[2,"Długoterminowe aktywa finansowe",null,null,null,null,null,null,null,null,null,null,null,null,null,null,null,null,null,null,null,null,null,null,null,null,null,null,null,null,null,null,null,null,null,null,null,{"$f":"SUM(AL13:AQ16)","v":0},null,null,null,null,null,null,null,{"$f":"Bilans_AKTYWA!$S$33","v":0},null,null,null,null,null,{"$f":"$AL12-$AT12","v":0},null,null,null,null,null,null,null,null,null,null,null,null,null,null,null,null,null,null,null,null,null,null,null,null,null,null,null,null,null,null,null,null,null,null,null,null,null,null,null,null,null,null,null,null,null,null,null,null,{"$f":"SUM(CW13:DB16)","v":0},null,null,null,null,null,null,null,{"$f":"Bilans_AKTYWA!$S$33","v":0},null,null,null,null,null,{"$f":"$AL12-$AT12","v":0},null,null,null,null,null,null,null,null,null,null,null,null,null,null,null,null,null,null,null,null,null,null,null,null,null,null,null,null,null,null,null,null,null,null,null,null,null,null,null,null,null,null,{"$f":"SUM(FB13:FG16)","v":0},null,null,null,null,null,null,null,{"$f":"Bilans_AKTYWA!$S$33","v":0},null,null,null,null,null,{"$f":"$AL12-$AT12","v":0},null,null,null,null,null,null,null,null,{"$f":"DR12=BM12","v":true}]
[null,"- udziały lub akcje",null,null,null,null,null,null,null,null,null,null,null,null,null,null,null,null,null,null,null,null,null,null,null,null,null,null,null,null,null,null,null,null,null,null,null,null,null,null,null,null,null,null,null,{"$f":" Bilans_AKTYWA!$S$34","v":0},null,null,null,null,null,0,null,null,null,null,null,null,null,null,null,null,null,null,null,null,null,null,null,null,null,null,null,null,null,null,null,null,null,null,null,null,null,null,null,null,null,null,null,null,null,null,null,null,null,null,null,null,null,null,null,null,null,null,null,null,null,null,{"$f":"Bilans_AKTYWA!$S$34","v":0},null,null,null,null,null,0,null,null,null,null,null,null,null,null,null,null,null,null,null,null,null,null,null,null,null,null,null,null,null,null,null,null,null,null,null,null,null,null,null,null,null,null,null,null,null,null,null,null,null,null,null,null,null,null,null,null,{"$f":" Bilans_AKTYWA!$S$34","v":0},null,null,null,null,null,0,null,null,null,null,null,null,null,null,true]
[null,"- inne papiery wartościowe",null,null,null,null,null,null,null,null,null,null,null,null,null,null,null,null,null,null,null,null,null,null,null,null,null,null,null,null,null,null,null,null,null,null,null,null,null,null,null,null,null,null,null,{"$f":"Bilans_AKTYWA!$S$35","v":0},null,null,null,null,null,0,null,null,null,null,null,null,null,null,null,null,null,null,null,null,null,null,null,null,null,null,null,null,null,null,null,null,null,null,null,null,null,null,null,null,null,null,null,null,null,null,null,null,null,null,null,null,null,null,null,null,null,null,null,null,null,null,{"$f":"Bilans_AKTYWA!$S$35","v":0},null,null,null,null,null,0,null,null,null,null,null,null,null,null,null,null,null,null,null,null,null,null,null,null,null,null,null,null,null,null,null,null,null,null,null,null,null,null,null,null,null,null,null,null,null,null,null,null,null,null,null,null,null,null,null,null,{"$f":"Bilans_AKTYWA!$S$35","v":0},null,null,null,null,null,0,null,null,null,null,null,null,null,null,true]
[null,"- udzielone pożyczki",null,null,null,null,null,null,null,null,null,null,null,null,null,null,null,null,null,null,null,null,null,null,null,null,null,null,null,null,null,null,null,null,null,null,null,null,null,null,null,null,null,null,null,{"$f":"Bilans_AKTYWA!$S$36","v":0},null,null,null,null,null,0,null,null,null,null,null,null,null,null,null,null,null,null,null,null,null,null,null,null,null,null,null,null,null,null,null,null,null,null,null,null,null,null,null,null,null,null,null,null,null,null,null,null,null,null,null,null,null,null,null,null,null,null,null,null,null,null,{"$f":"Bilans_AKTYWA!$S$36","v":0},null,null,null,null,null,0,null,null,null,null,null,null,null,null,null,null,null,null,null,null,null,null,null,null,null,null,null,null,null,null,null,null,null,null,null,null,null,null,null,null,null,null,null,null,null,null,null,null,null,null,null,null,null,null,null,null,{"$f":"Bilans_AKTYWA!$S$36","v":0},null,null,null,null,null,0,null,null,null,null,null,null,null,null,true]
[null,"- inne długoterminowe aktywa finansowe",null,null,null,null,null,null,null,null,null,null,null,null,null,null,null,null,null,null,null,null,null,null,null,null,null,null,null,null,null,null,null,null,null,null,null,null,null,null,null,null,null,null,null,{"$f":"Bilans_AKTYWA!$S$37","v":0},null,null,null,null,null,0,null,null,null,null,null,null,null,null,null,null,null,null,null,null,null,null,null,null,null,null,null,null,null,null,null,null,null,null,null,null,null,null,null,null,null,null,null,null,null,null,null,null,null,null,null,null,null,null,null,null,null,null,null,null,null,null,{"$f":"Bilans_AKTYWA!$S$37","v":0},null,null,null,null,null,0,null,null,null,null,null,null,null,null,null,null,null,null,null,null,null,null,null,null,null,null,null,null,null,null,null,null,null,null,null,null,null,null,null,null,null,null,null,null,null,null,null,null,null,null,null,null,null,null,null,null,{"$f":"Bilans_AKTYWA!$S$37","v":0},null,null,null,null,null,0,null,null,null,null,null,null,null,null,true]
[3,"Należności krótkoterminowe",null,null,null,null,null,null,null,null,null,null,null,null,null,null,null,null,null,null,null,null,null,null,null,null,null,null,null,null,null,null,null,null,null,null,null,{"$f":"SUM(AL18:AQ19)","v":0},null,null,null,null,null,null,null,{"$f":"Bilans_AKTYWA!$S$75","v":0},null,null,null,null,null,0,null,null,null,null,null,null,null,null,null,null,null,null,null,null,null,null,null,null,null,null,null,null,null,null,null,null,null,null,null,null,null,null,null,null,null,null,null,null,null,null,null,null,null,null,null,null,null,null,{"$f":"SUM(CW18:DB19)","v":0},null,null,null,null,null,null,null,{"$f":"Bilans_AKTYWA!$S$75","v":0},null,null,null,null,null,0,null,null,null,null,null,null,null,null,null,null,null,null,null,null,null,null,null,null,null,null,null,null,null,null,null,null,null,null,null,null,null,null,null,null,null,null,null,null,null,null,null,null,{"$f":"SUM(FB18:FG19)","v":0},null,null,null,null,null,null,null,{"$f":"Bilans_AKTYWA!$S$75","v":0},null,null,null,null,null,0,null,null,null,null,null,null,null,null,true]
[null,"- z tytułu dostaw i usług",null,null,null,null,null,null,null,null,null,null,null,null,null,null,null,null,null,null,null,null,null,null,null,null,null,null,null,null,null,null,null,null,null,null,null,null,null,null,null,null,null,null,null,{"$f":"Bilans_AKTYWA!$S$76","v":0},null,null,null,null,null,0,null,null,null,null,null,null,null,null,null,null,null,null,null,null,null,null,null,null,null,null,null,null,null,null,null,null,null,null,null,null,null,null,null,null,null,null,null,null,null,null,null,null,null,null,null,null,null,null,null,null,null,null,null,null,null,null,{"$f":"Bilans_AKTYWA!$S$76","v":0},null,null,null,null,null,0,null,null,null,null,null,null,null,null,null,null,null,null,null,null,null,null,null,null,null,null,null,null,null,null,null,null,null,null,null,null,null,null,null,null,null,null,null,null,null,null,null,null,null,null,null,null,null,null,null,null,{"$f":"Bilans_AKTYWA!$S$76","v":0},null,null,null,null,null,0,null,null,null,null,null,null,null,null,true]
[null,"- inne",null,null,null,null,null,null,null,null,null,null,null,null,null,null,null,null,null,null,null,null,null,null,null,null,null,null,null,null,null,null,null,null,null,null,null,null,null,null,null,null,null,null,null,{"$f":"Bilans_AKTYWA!$S$79","v":0},null,null,null,null,null,0,null,null,null,null,null,null,null,null,null,null,null,null,null,null,null,null,null,null,null,null,null,null,null,null,null,null,null,null,null,null,null,null,null,null,null,null,null,null,null,null,null,null,null,null,null,null,null,null,null,null,null,null,null,null,null,null,{"$f":"Bilans_AKTYWA!$S$79","v":0},null,null,null,null,null,0,null,null,null,null,null,null,null,null,null,null,null,null,null,null,null,null,null,null,null,null,null,null,null,null,null,null,null,null,null,null,null,null,null,null,null,null,null,null,null,null,null,null,null,null,null,null,null,null,null,null,{"$f":"Bilans_AKTYWA!$S$79","v":0},null,null,null,null,null,0,null,null,null,null,null,null,null,null,true]
[4,"Krótkoterminowe aktywa finansowe",null,null,null,null,null,null,null,null,null,null,null,null,null,null,null,null,null,null,null,null,null,null,null,null,null,null,null,null,null,null,null,null,null,null,null,{"$f":"SUM(AL21:AQ24)","v":0},null,null,null,null,null,null,null,{"$f":"Bilans_AKTYWA!$S$96","v":0},null,null,null,null,null,0,null,null,null,null,null,null,null,null,null,null,null,null,null,null,null,null,null,null,null,null,null,null,null,null,null,null,null,null,null,null,null,null,null,null,null,null,null,null,null,null,null,null,null,null,null,null,null,null,{"$f":"SUM(CW21:DB24)","v":0},null,null,null,null,null,null,null,{"$f":"Bilans_AKTYWA!$S$96","v":0},null,null,null,null,null,0,null,null,null,null,null,null,null,null,null,null,null,null,null,null,null,null,null,null,null,null,null,null,null,null,null,null,null,null,null,null,null,null,null,null,null,null,null,null,null,null,null,null,{"$f":"SUM(FB21:FG24)","v":0},null,null,null,null,null,null,null,{"$f":"Bilans_AKTYWA!$S$96","v":0},null,null,null,null,null,0,null,null,null,null,null,null,null,null,true]
[null,"- udziały lub akcje",null,null,null,null,null,null,null,null,null,null,null,null,null,null,null,null,null,null,null,null,null,null,null,null,null,null,null,null,null,null,null,null,null,null,null,null,null,null,null,null,null,null,null,{"$f":"Bilans_AKTYWA!$S$97","v":0},null,null,null,null,null,0,null,null,null,null,null,null,null,null,null,null,null,null,null,null,null,null,null,null,null,null,null,null,null,null,null,null,null,null,null,null,null,null,null,null,null,null,null,null,null,null,null,null,null,null,null,null,null,null,null,null,null,null,null,null,null,null,{"$f":"Bilans_AKTYWA!$S$97","v":0},null,null,null,null,null,0,null,null,null,null,null,null,null,null,null,null,null,null,null,null,null,null,null,null,null,null,null,null,null,null,null,null,null,null,null,null,null,null,null,null,null,null,null,null,null,null,null,null,null,null,null,null,null,null,null,null,{"$f":"Bilans_AKTYWA!$S$97","v":0},null,null,null,null,null,0,null,null,null,null,null,null,null,null,true]
[null,"- inne papiery wartościowe",null,null,null,null,null,null,null,null,null,null,null,null,null,null,null,null,null,null,null,null,null,null,null,null,null,null,null,null,null,null,null,null,null,null,null,null,null,null,null,null,null,null,null,{"$f":"Bilans_AKTYWA!$S$98","v":0},null,null,null,null,null,0,null,null,null,null,null,null,null,null,null,null,null,null,null,null,null,null,null,null,null,null,null,null,null,null,null,null,null,null,null,null,null,null,null,null,null,null,null,null,null,null,null,null,null,null,null,null,null,null,null,null,null,null,null,null,null,null,{"$f":"Bilans_AKTYWA!$S$98","v":0},null,null,null,null,null,0,null,null,null,null,null,null,null,null,null,null,null,null,null,null,null,null,null,null,null,null,null,null,null,null,null,null,null,null,null,null,null,null,null,null,null,null,null,null,null,null,null,null,null,null,null,null,null,null,null,null,{"$f":"Bilans_AKTYWA!$S$98","v":0},null,null,null,null,null,0,null,null,null,null,null,null,null,null,true]
[null,"- udzielone pożyczki",null,null,null,null,null,null,null,null,null,null,null,null,null,null,null,null,null,null,null,null,null,null,null,null,null,null,null,null,null,null,null,null,null,null,null,null,null,null,null,null,null,null,null,{"$f":"Bilans_AKTYWA!$S$99","v":0},null,null,null,null,null,0,null,null,null,null,null,null,null,null,null,null,null,null,null,null,null,null,null,null,null,null,null,null,null,null,null,null,null,null,null,null,null,null,null,null,null,null,null,null,null,null,null,null,null,null,null,null,null,null,null,null,null,null,null,null,null,null,{"$f":"Bilans_AKTYWA!$S$99","v":0},null,null,null,null,null,0,null,null,null,null,null,null,null,null,null,null,null,null,null,null,null,null,null,null,null,null,null,null,null,null,null,null,null,null,null,null,null,null,null,null,null,null,null,null,null,null,null,null,null,null,null,null,null,null,null,null,{"$f":"Bilans_AKTYWA!$S$99","v":0},null,null,null,null,null,0,null,null,null,null,null,null,null,null,true]
[null,"- inne długoterminowe aktywa finansowe",null,null,null,null,null,null,null,null,null,null,null,null,null,null,null,null,null,null,null,null,null,null,null,null,null,null,null,null,null,null,null,null,null,null,null,null,null,null,null,null,null,null,null,{"$f":"Bilans_AKTYWA!$S$100","v":0},null,null,null,null,null,0,null,null,null,null,null,null,null,null,null,null,null,null,null,null,null,null,null,null,null,null,null,null,null,null,null,null,null,null,null,null,null,null,null,null,null,null,null,null,null,null,null,null,null,null,null,null,null,null,null,null,null,null,null,null,null,null,{"$f":"Bilans_AKTYWA!$S$100","v":0},null,null,null,null,null,0,null,null,null,null,null,null,null,null,null,null,null,null,null,null,null,null,null,null,null,null,null,null,null,null,null,null,null,null,null,null,null,null,null,null,null,null,null,null,null,null,null,null,null,null,null,null,null,null,null,null,{"$f":"Bilans_AKTYWA!$S$100","v":0},null,null,null,null,null,0,null,null,null,null,null,null,null,null,true]
[5,"Zobowiązania długoterminowe",null,null,null,null,null,null,null,null,null,null,null,null,null,null,null,null,null,null,null,null,null,null,null,null,null,null,null,null,null,null,null,null,null,null,null,null,null,null,null,null,null,null,null,{"$f":"Bilans_PASYWA!$S$37","v":0},null,null,null,null,null,0,null,null,null,null,null,null,null,null,null,null,null,null,null,null,null,null,null,null,null,null,null,null,null,null,null,null,null,null,null,null,null,null,null,null,null,null,null,null,null,null,null,null,null,null,null,null,null,null,null,null,null,null,null,null,null,null,{"$f":"Bilans_PASYWA!$S$37","v":0},null,null,null,null,null,0,null,null,null,null,null,null,null,null,null,null,null,null,null,null,null,null,null,null,null,null,null,null,null,null,null,null,null,null,null,null,null,null,null,null,null,null,null,null,null,null,null,null,null,null,null,null,null,null,null,null,{"$f":"Bilans_PASYWA!$S$37","v":0},null,null,null,null,null,0,null,null,null,null,null,null,null,null,true]
[6,"Zobowiązania krótkoterminowe",null,null,null,null,null,null,null,null,null,null,null,null,null,null,null,null,null,null,null,null,null,null,null,null,null,null,null,null,null,null,null,null,null,null,null,{"$f":"SUM(AL27:AQ28)","v":0},null,null,null,null,null,null,null,{"$f":"Bilans_PASYWA!$S$47","v":0},null,null,null,null,null,0,null,null,null,null,null,null,null,null,null,null,null,null,null,null,null,null,null,null,null,null,null,null,null,null,null,null,null,null,null,null,null,null,null,null,null,null,null,null,null,null,null,null,null,null,null,null,null,null,{"$f":"SUM(CW27:DB28)","v":0},null,null,null,null,null,null,null,{"$f":"Bilans_PASYWA!$S$47","v":0},null,null,null,null,null,0,null,null,null,null,null,null,null,null,null,null,null,null,null,null,null,null,null,null,null,null,null,null,null,null,null,null,null,null,null,null,null,null,null,null,null,null,null,null,null,null,null,null,{"$f":"SUM(FB27:FG28)","v":0},null,null,null,null,null,null,null,{"$f":"Bilans_PASYWA!$S$47","v":0},null,null,null,null,null,0,null,null,null,null,null,null,null,null,true]
[null,"- z tytułu dostaw i usług",null,null,null,null,null,null,null,null,null,null,null,null,null,null,null,null,null,null,null,null,null,null,null,null,null,null,null,null,null,null,null,null,null,null,null,null,null,null,null,null,null,null,null,{"$f":"Bilans_PASYWA!$S$48","v":0},null,null,null,null,null,0,null,null,null,null,null,null,null,null,null,null,null,null,null,null,null,null,null,null,null,null,null,null,null,null,null,null,null,null,null,null,null,null,null,null,null,null,null,null,null,null,null,null,null,null,null,null,null,null,null,null,null,null,null,null,null,null,{"$f":"Bilans_PASYWA!$S$48","v":0},null,null,null,null,null,0,null,null,null,null,null,null,null,null,null,null,null,null,null,null,null,null,null,null,null,null,null,null,null,null,null,null,null,null,null,null,null,null,null,null,null,null,null,null,null,null,null,null,null,null,null,null,null,null,null,null,{"$f":"Bilans_PASYWA!$S$48","v":0},null,null,null,null,null,0,null,null,null,null,null,null,null,null,true]
[null,"- inne",null,null,null,null,null,null,null,null,null,null,null,null,null,null,null,null,null,null,null,null,null,null,null,null,null,null,null,null,null,null,null,null,null,null,null,null,null,null,null,null,null,null,null,{"$f":"Bilans_PASYWA!$S$51","v":0},null,null,null,null,null,0,null,null,null,null,null,null,null,null,null,null,null,null,null,null,null,null,null,null,null,null,null,null,null,null,null,null,null,null,null,null,null,null,null,null,null,null,null,null,null,null,null,null,null,null,null,null,null,null,null,null,null,null,null,null,null,null,{"$f":"Bilans_PASYWA!$S$51","v":0},null,null,null,null,null,0,null,null,null,null,null,null,null,null,null,null,null,null,null,null,null,null,null,null,null,null,null,null,null,null,null,null,null,null,null,null,null,null,null,null,null,null,null,null,null,null,null,null,null,null,null,null,null,null,null,null,{"$f":"Bilans_PASYWA!$S$51","v":0},null,null,null,null,null,0,null,null,null,null,null,null,null,null,true]
[7,"Przychody ze sprzedaży",null,null,null,null,null,null,null,null,null,null,null,null,null,null,null,null,null,null,null,null,null,null,null,null,null,null,null,null,null,null,null,null,null,null,null,null,null,null,null,null,null,null,null,{"$f":"Rachunek_ZiS_porównawczy!$S$11","v":0},null,null,null,null,null,0,null,null,null,null,null,null,null,null,null,null,null,null,null,null,null,null,null,null,null,null,null,null,null,null,null,null,null,null,null,null,null,null,null,null,null,null,null,null,null,null,null,null,null,null,null,null,null,null,null,null,null,null,null,null,null,null,{"$f":"Rachunek_ZiS_kalkulacyjny!$S$12","v":0},null,null,null,null,null,0,null,null,null,null,null,null,null,null,null,null,null,null,null,null,null,null,null,null,null,null,null,null,null,null,null,null,null,null,null,null,null,null,null,null,null,null,null,null,null,null,null,null,null,null,null,null,null,null,null,null,{"$f":"Rachunek_ZiS_porównawczy!$S$11","v":0},null,null,null,null,null,0,null,null,null,null,null,null,null,null,true]
[8,"Koszty sprzedanych produktów, towarów i materiałów",null,null,null,null,null,null,null,null,null,null,null,null,null,null,null,null,null,null,null,null,null,null,null,null,null,null,null,null,null,null,null,null,null,null,null,null,null,null,null,null,null,null,null,"x",null,null,null,null,null,0,null,null,null,null,null,null,null,null,null,null,null,null,null,null,null,null,null,null,null,null,null,null,null,null,null,null,null,null,null,null,null,null,null,null,null,null,null,null,null,null,null,null,null,null,null,null,null,null,null,null,null,null,null,null,null,null,{"$f":"Rachunek_ZiS_kalkulacyjny!$S$16","v":0},null,null,null,null,null,{"$error":"#VALUE!"},null,null,null,null,null,null,null,null,null,null,null,null,null,null,null,null,null,null,null,null,null,null,null,null,null,null,null,null,null,null,null,null,null,null,null,null,null,null,null,null,null,null,null,null,null,null,null,null,null,null,"x",null,null,null,null,null,0,null,null,null,null,null,null,null,null,true]
[9,"Przychody finansowe - dywidendy i udziały w zyskach",null,null,null,null,null,null,null,null,null,null,null,null,null,null,null,null,null,null,null,null,null,null,null,null,null,null,null,null,null,null,null,null,null,null,null,null,null,null,null,null,null,null,null,{"$f":"Rachunek_ZiS_porównawczy!$S$41","v":0},null,null,null,null,null,{"$f":"$AL31-$AT31","v":0},null,null,null,null,null,null,null,null,null,null,null,null,null,null,null,null,null,null,null,null,null,null,null,null,null,null,null,null,null,null,null,null,null,null,null,null,null,null,null,null,null,null,null,null,null,null,null,null,null,null,null,null,null,null,null,null,{"$f":"Rachunek_ZiS_kalkulacyjny!$S$35","v":0},null,null,null,null,null,{"$f":"$AL32-$AT32","v":0},null,null,null,null,null,null,null,null,null,null,null,null,null,null,null,null,null,null,null,null,null,null,null,null,null,null,null,null,null,null,null,null,null,null,null,null,null,null,null,null,null,null,null,null,null,null,null,null,null,null,{"$f":"Rachunek_ZiS_porównawczy!$S$41","v":0},null,null,null,null,null,{"$f":"$AL31-$AT31","v":0},null,null,null,null,null,null,null,null,true]
[10,"Przychody finansowe - odsetki",null,null,null,null,null,null,null,null,null,null,null,null,null,null,null,null,null,null,null,null,null,null,null,null,null,null,null,null,null,null,null,null,null,null,null,null,null,null,null,null,null,null,null,{"$f":"Rachunek_ZiS_porównawczy!$S$46","v":0},null,null,null,null,null,{"$f":"$AL32-$AT32","v":0},null,null,null,null,null,null,null,null,null,null,null,null,null,null,null,null,null,null,null,null,null,null,null,null,null,null,null,null,null,null,null,null,null,null,null,null,null,null,null,null,null,null,null,null,null,null,null,null,null,null,null,null,null,null,null,null,{"$f":"Rachunek_ZiS_kalkulacyjny!$S$40","v":0},null,null,null,null,null,{"$f":"$AL33-$AT33","v":0},null,null,null,null,null,null,null,null,null,null,null,null,null,null,null,null,null,null,null,null,null,null,null,null,null,null,null,null,null,null,null,null,null,null,null,null,null,null,null,null,null,null,null,null,null,null,null,null,null,null,{"$f":"Rachunek_ZiS_porównawczy!$S$46","v":0},null,null,null,null,null,{"$f":"$AL32-$AT32","v":0},null,null,null,null,null,null,null,null,true]
[11,"Koszty finansowe - odsetki",null,null,null,null,null,null,null,null,null,null,null,null,null,null,null,null,null,null,null,null,null,null,null,null,null,null,null,null,null,null,null,null,null,null,null,null,null,null,null,null,null,null,null,{"$f":"Rachunek_ZiS_porównawczy!$S$53","v":0},null,null,null,null,null,{"$f":"$AL33-$AT33","v":0},null,null,null,null,null,null,null,null,null,null,null,null,null,null,null,null,null,null,null,null,null,null,null,null,null,null,null,null,null,null,null,null,null,null,null,null,null,null,null,null,null,null,null,null,null,null,null,null,null,null,null,null,null,null,null,null,{"$f":"Rachunek_ZiS_kalkulacyjny!$S$47","v":0},null,null,null,null,null,{"$f":"$AL34-$AT34","v":0},null,null,null,null,null,null,null,null,null,null,null,null,null,null,null,null,null,null,null,null,null,null,null,null,null,null,null,null,null,null,null,null,null,null,null,null,null,null,null,null,null,null,null,null,null,null,null,null,null,null,{"$f":"Rachunek_ZiS_porównawczy!$S$53","v":0},null,null,null,null,null,{"$f":"$AL33-$AT33","v":0},null,null,null,null,null,null,null,null,true]
[]
[null,null,null,null,null,null,null,null,null,null,null,null,null,null,null,null,null,null,null,null,null,null,null,null,null,null,null,null,null,null,null,null,null,null,null,null,null,null,null,null,null,null,null,null,null,"Miejsce na dodatkowy opis"]

{"sheet":"Objaśnienie_do_przepływów","index":84,"n_rows":255,"n_cols":46,"rows_kept":255,"cut":false,"hidden":true,"merged":[[18,1,18,37],[19,1,19,37],[19,38,19,42],[18,38,18,42],[2,45,2,50],[253,1,253,5],[253,6,253,22],[254,1,254,5],[254,6,254,22],[251,1,251,5],[251,23,251,27],[251,28,251,32],[251,33,251,37],[252,1,252,5],[252,6,252,22],[252,23,252,27],[253,23,253,27],[254,23,254,27],[247,33,247,37],[243,28,243,32],[245,1,245,5],[245,33,245,37],[245,6,245,22],[247,1,247,5],[249,1,249,5],[248,1,248,5],[249,6,249,22],[247,23,247,27],[247,28,247,32],[247,6,247,22],[249,33,249,37],[248,28,248,32],[248,33,248,37],[248,23,248,27],[248,6,248,22],[249,23,249,27],[249,28,249,32],[245,23,245,27],[245,28,245,32],[246,6,246,22],[244,1,244,5],[239,1,239,5],[239,6,239,37],[243,33,243,37],[244,23,244,27],[243,1,243,5],[244,28,244,32],[244,33,244,37],[243,23,243,27],[244,6,244,22],[246,23,246,27],[246,33,246,37],[246,1,246,5],[246,28,246,32],[240,38,240,42],[238,6,238,37],[238,1,238,5],[240,1,240,5],[240,6,240,37],[125,1,125,5],[130,1,130,5],[137,1,137,5],[167,1,167,5],[153,1,153,5],[238,38,238,42],[237,1,237,5],[237,6,237,37],[237,38,237,42],[239,38,239,42],[235,1,235,5],[235,6,235,37],[148,1,148,5],[158,1,158,5],[159,1,159,5],[128,1,128,5],[164,1,164,5],[132,1,132,5],[127,1,127,5],[163,1,163,5],[154,1,154,5],[161,1,161,5],[161,6,161,37],[160,1,160,5],[123,1,123,5],[123,38,123,42],[124,6,124,37],[102,1,103,5],[122,38,122,42],[108,6,108,37],[107,6,107,37],[106,1,106,5],[102,6,103,37],[119,6,119,37],[159,6,159,37],[163,6,163,37],[144,1,144,5],[146,1,146,5],[143,1,143,5],[145,1,145,5],[136,1,136,5],[133,1,133,5],[131,1,131,5],[6,1,6,37],[7,1,7,37],[6,38,6,42],[4,0,4,9],[5,0,5,42],[7,38,7,42],[108,1,108,5],[104,0,105,0],[104,1,105,5],[75,0,76,0],[75,1,76,5],[102,0,103,0],[77,1,77,5],[81,1,81,5],[82,1,82,5],[79,1,79,5],[89,1,89,5],[60,0,61,0],[60,1,61,5],[93,1,93,5],[95,1,95,5],[94,1,94,5],[40,38,40,42],[78,1,78,5],[69,1,69,5],[73,1,73,5],[115,1,115,5],[118,1,118,5],[129,1,129,5],[134,1,134,5],[135,1,135,5],[98,1,98,5],[91,1,91,5],[92,1,92,5],[96,1,96,5],[119,1,119,5],[117,1,117,5],[114,1,114,5],[113,1,113,5],[112,1,112,5],[110,1,110,5],[99,1,99,5],[124,1,124,5],[120,1,120,5],[85,1,85,5],[74,1,74,5],[71,1,71,5],[70,1,70,5],[66,1,66,5],[47,1,47,5],[49,1,49,5],[52,1,52,5],[62,1,62,5],[63,1,63,5],[68,6,68,37],[49,6,49,37],[46,6,47,37],[68,1,68,5],[67,1,67,5],[50,6,50,37],[63,6,63,37],[62,6,62,37],[60,6,61,37],[52,6,52,37],[55,6,55,37],[56,6,56,37],[57,6,58,37],[53,6,54,37],[57,0,58,0],[57,1,58,5],[53,0,54,0],[53,1,54,5],[45,1,45,5],[50,1,50,5],[46,1,46,5],[33,0,34,0],[35,0,36,0],[37,1,38,5],[39,1,39,5],[35,1,36,5],[37,0,38,0],[33,1,34,5],[43,1,43,5],[44,1,44,5],[56,1,56,5],[55,1,55,5],[46,38,47,42],[48,1,48,5],[30,38,30,42],[48,6,48,37],[48,38,48,42],[49,38,49,42],[7,45,13,60],[8,1,8,37],[9,38,9,42],[23,0,24,42],[9,1,9,37],[10,38,10,42],[10,1,10,37],[8,38,8,42],[40,6,40,37],[43,6,43,37],[41,6,41,37],[41,38,41,42],[44,38,44,42],[45,38,45,42],[44,6,44,37],[43,38,43,42],[45,6,45,37],[25,0,28,0],[33,38,34,42],[33,6,34,37],[37,6,38,37],[39,38,39,42],[32,1,32,5],[25,38,28,42],[39,6,39,37],[35,6,36,37],[25,6,28,37],[32,6,32,37],[25,1,28,5],[32,38,32,42],[35,38,36,42],[37,38,38,42],[30,1,30,5],[30,6,30,37],[56,38,56,42],[67,6,67,37],[57,38,58,42],[69,38,69,42],[53,38,54,42],[59,38,59,42],[74,38,74,42],[78,38,78,42],[77,38,77,42],[60,38,61,42],[66,6,66,37],[66,38,66,42],[68,38,68,42],[62,38,62,42],[67,38,67,42],[71,6,71,37],[50,38,50,42],[64,38,64,42],[63,38,63,42],[59,6,59,37],[89,6,89,37],[91,6,91,37],[90,38,90,42],[94,38,94,42],[81,6,81,37],[84,6,84,37],[81,38,81,42],[52,38,52,42],[75,38,76,42],[79,6,79,37],[70,38,70,42],[73,6,73,37],[69,6,69,37],[70,6,70,37],[71,38,71,42],[74,6,74,37],[77,6,77,37],[75,6,76,37],[55,38,55,42],[73,38,73,42],[89,38,89,42],[82,6,82,37],[85,6,85,37],[91,38,91,42],[85,38,85,42],[88,38,88,42],[83,38,83,42],[94,6,94,37],[88,6,88,37],[82,38,82,42],[86,38,86,42],[84,38,84,42],[83,6,83,37],[83,1,83,5],[109,1,109,5],[110,6,110,37],[100,6,100,37],[109,6,109,37],[113,6,113,37],[114,6,114,37],[78,6,78,37],[79,38,79,42],[90,1,90,5],[112,6,112,37],[86,6,86,37],[84,1,84,5],[107,1,107,5],[88,1,88,5],[86,1,86,5],[90,6,90,37],[107,38,107,42],[93,38,93,42],[92,6,92,37],[92,38,92,42],[100,1,100,5],[100,38,100,42],[93,6,93,37],[102,38,103,42],[101,38,101,42],[106,6,106,37],[99,38,99,42],[95,38,95,42],[104,6,105,37],[98,38,98,42],[108,38,108,42],[120,38,120,42],[109,38,109,42],[115,6,115,37],[120,6,120,37],[106,38,106,42],[104,38,105,42],[99,6,99,37],[117,6,117,37],[118,6,118,37],[95,6,95,37],[98,6,98,37],[112,38,112,42],[101,6,101,37],[96,38,96,42],[96,6,96,37],[135,6,135,37],[110,38,110,42],[117,38,117,42],[119,38,119,42],[129,6,129,37],[127,6,127,37],[113,38,113,42],[114,38,114,42],[115,38,115,42],[118,38,118,42],[125,38,125,42],[129,38,129,42],[128,6,128,37],[128,38,128,42],[127,38,127,42],[124,38,124,42],[123,6,123,37],[125,6,125,37],[137,38,137,42],[138,6,138,37],[140,1,140,5],[138,1,138,5],[136,38,136,42],[122,1,122,5],[138,38,138,42],[141,1,141,5],[132,38,132,42],[130,38,130,42],[133,38,133,42],[134,6,134,37],[135,38,135,42],[134,38,134,42],[137,6,137,37],[139,1,139,5],[139,6,139,37],[131,38,131,42],[122,6,122,37],[131,6,131,37],[130,6,130,37],[136,6,136,37],[133,6,133,37],[132,6,132,37],[163,38,163,42],[159,38,159,42],[161,38,161,42],[146,38,146,42],[144,38,144,42],[145,6,145,37],[142,38,142,42],[140,38,140,42],[141,38,141,42],[143,6,143,37],[146,6,146,37],[140,6,140,37],[148,6,148,37],[145,38,145,42],[143,38,143,42],[155,38,155,42],[153,38,153,42],[154,6,154,37],[155,6,155,37],[149,6,149,37],[144,6,144,37],[142,6,142,37],[149,1,149,5],[141,6,141,37],[148,38,148,42],[139,38,139,42],[156,6,156,37],[151,1,151,5],[151,38,151,42],[160,6,160,37],[150,6,150,37],[154,38,154,42],[160,38,160,42],[149,38,149,42],[150,1,150,5],[151,6,151,37],[156,38,156,42],[153,6,153,37],[158,38,158,42],[150,38,150,42],[158,6,158,37],[155,1,155,5],[156,1,156,5],[142,1,142,5],[164,38,164,42],[167,38,167,42],[175,6,175,37],[172,1,172,5],[168,6,168,37],[168,38,168,42],[170,38,170,42],[169,6,169,37],[169,1,169,5],[168,1,168,5],[172,6,172,37],[173,38,173,42],[165,1,165,5],[164,6,164,37],[174,1,174,5],[174,6,174,37],[166,1,166,5],[173,1,173,5],[170,6,170,37],[172,38,172,42],[170,1,170,5],[169,38,169,42],[173,6,173,37],[165,6,165,37],[166,6,166,37],[166,38,166,42],[165,38,165,42],[167,6,167,37],[175,38,175,42],[179,38,179,42],[178,38,178,42],[177,38,177,42],[175,1,175,5],[178,6,178,37],[178,1,178,5],[177,6,177,37],[174,38,174,42],[177,1,177,5],[179,1,179,5],[180,1,180,5],[182,6,182,37],[182,38,182,42],[180,6,180,37],[180,38,180,42],[184,6,184,37],[183,38,183,42],[185,6,185,37],[179,6,179,37],[183,1,183,5],[183,6,183,37],[182,1,182,5],[185,1,185,5],[184,38,184,42],[185,38,185,42],[184,1,184,5],[187,1,187,5],[188,1,188,5],[192,1,192,5],[190,1,190,5],[192,6,192,37],[189,1,189,5],[190,6,190,37],[187,6,187,37],[188,6,188,37],[189,6,189,37],[205,6,205,37],[203,6,203,37],[197,6,197,37],[204,6,204,37],[195,6,195,37],[193,6,193,37],[205,38,205,42],[187,38,187,42],[190,38,190,42],[192,38,192,42],[188,38,188,42],[189,38,189,42],[202,38,202,42],[203,38,203,42],[197,38,197,42],[204,38,204,42],[200,1,200,5],[193,38,193,42],[194,6,194,37],[194,38,194,42],[202,6,202,37],[195,1,195,5],[198,1,198,5],[199,6,199,37],[199,1,199,5],[200,6,200,37],[200,38,200,42],[195,38,195,42],[198,38,198,42],[199,38,199,42],[197,1,197,5],[235,38,235,42],[234,38,234,42],[234,6,234,37],[214,38,214,42],[217,1,217,5],[217,6,217,37],[217,38,217,42],[215,38,215,42],[232,38,232,42],[234,1,234,5],[233,1,233,5],[233,6,233,37],[233,38,233,42],[228,1,228,5],[228,6,228,37],[228,38,228,42],[232,1,232,5],[219,1,219,5],[214,6,214,37],[222,38,222,42],[220,38,220,42],[222,1,222,5],[222,6,222,37],[223,1,223,5],[204,1,204,5],[198,6,198,37],[220,1,220,5],[220,6,220,37],[210,6,210,37],[212,1,212,5],[212,6,212,37],[208,1,208,5],[208,38,208,42],[209,1,209,5],[209,6,209,37],[208,6,208,37],[219,6,219,37],[218,6,218,37],[213,38,213,42],[213,1,213,5],[215,1,215,5],[215,6,215,37],[219,38,219,42],[214,1,214,5],[218,38,218,42],[213,6,213,37],[203,1,203,5],[202,1,202,5],[223,6,223,37],[232,6,232,37],[230,6,230,37],[230,38,230,42],[218,1,218,5],[230,1,230,5],[223,38,223,42],[229,1,229,5],[229,6,229,37],[229,38,229,42],[227,38,227,42],[224,1,224,5],[224,6,224,37],[224,38,224,42],[225,1,225,5],[225,6,225,37],[225,38,225,42],[227,1,227,5],[227,6,227,37],[126,1,126,5],[126,6,126,37],[126,38,126,42],[212,38,212,42],[210,38,210,42],[13,0,13,42],[14,1,14,37],[14,38,14,42],[15,1,15,37],[15,38,15,42],[16,1,16,37],[16,38,16,42],[17,1,17,37],[17,38,17,42],[207,6,207,37],[207,1,207,5],[205,1,205,5],[210,1,210,5],[207,38,207,42],[209,38,209,42],[20,1,20,37],[20,38,20,42],[193,1,193,5],[194,1,194,5]]}
[{"$f":"nazwa","v":"DEMO"}]
[{"$f":"temat","v":"Sprawozdanie finansowe za rok 2023"}]
[null,null,null,null,null,null,null,null,null,null,null,null,null,null,null,null,null,null,null,null,null,null,null,null,null,null,null,null,null,null,null,null,null,null,null,null,null,null,null,null,null,null,null,null,null,"Powrót do parametrów"]
[]
[{"$f":"NumerNoty(Parametry!$B$101)","v":"Nota nie podlegająca prezentacji"}]
["Objaśnienie struktury środków pieniężnych przyjętych do rachunku przepływów"]
["Lp.","Wyszczególnienie",null,null,null,null,null,null,null,null,null,null,null,null,null,null,null,null,null,null,null,null,null,null,null,null,null,null,null,null,null,null,null,null,null,null,null,null,"Kwota zł"]
[" 1.","Środki pieniężne na koniec okresu według bilansu - poz. B III. c)",null,null,null,null,null,null,null,null,null,null,null,null,null,null,null,null,null,null,null,null,null,null,null,null,null,null,null,null,null,null,null,null,null,null,null,null,{"$f":"Bilans_AKTYWA!$S$106","v":0},null,null,null,null,null,null,"W nocie objaśniającej przepływy środków pieniężnych istnieje możliwość ukrycia wszystkich wierszy, które w kolumnę \"Kwota zł\" mają wartość 0. Wystarczy nacisnąć  przycisk \"UKRYJ…\" .    Aby przeglądać i wprowadzać dane naciśnij przycisk \"ODKRY …\""]
["a.","zmiana stanu środków pieniężnych wywołana różnicami kursowymi "]
["b.","przeklasyfikowanie składników krótkoterminowych pomiędzy aktywami finansowymi (poz. B.III.1.a) i b) a środkami pieniężnymi (poz. III.B.1.c))"]
[" 2.","Środki pieniężne na koniec okresu według rachunku przepływów pieniężnych - poz. G ",null,null,null,null,null,null,null,null,null,null,null,null,null,null,null,null,null,null,null,null,null,null,null,null,null,null,null,null,null,null,null,null,null,null,null,null,{"$f":"AM8-AM9-AM10","v":0}]
[]
[]
["Struktura środków pieniężnych na koniec okresu"]
["Lp.","Wyszczególnienie",null,null,null,null,null,null,null,null,null,null,null,null,null,null,null,null,null,null,null,null,null,null,null,null,null,null,null,null,null,null,null,null,null,null,null,null,"Kwota zł"]
[null,"Środki pieniężne razem",null,null,null,null,null,null,null,null,null,null,null,null,null,null,null,null,null,null,null,null,null,null,null,null,null,null,null,null,null,null,null,null,null,null,null,null,{"$f":"AM17+AM19+AM20+AM21","v":0}]
[" 1.","Środki pieniężne na rachunkach bankowych"]
["a.","w tym środki pieniężne zgromadzone na rachunkach VAT"]
["2.","Środki pieniężne w kasie "]
[" 3.","Inne środki pieniężne"]
[" 4.","Inne aktywa pieniężne"]
[]
[null,null,null,null,null,null,null,null,null,null,null,null,null,null,null,null,null,null,null,null,null,null,null,null,null,null,null,null,null,null,null,null,null,null,null,null,null,null,null,null,null,null,null,1]
["Wyjaśnienie przyczyn różnic pomiędzy zmianami stanu niektórych pozycji w bilansie oraz zmianami tych samych pozycji w rachunku przepływów pieniężnych"]
[]
["Lp.","Pozycja w rachunku przepływów pieniężnych",null,null,null,null,"Wyszczególnienie",null,null,null,null,null,null,null,null,null,null,null,null,null,null,null,null,null,null,null,null,null,null,null,null,null,null,null,null,null,null,null,"Kwota zł"]
[]
[]
[]
[]
[null,"A.II.1.",null,null,null,null,"Amortyzacja",null,null,null,null,null,null,null,null,null,null,null,null,null,null,null,null,null,null,null,null,null,null,null,null,null,null,null,null,null,null,null,null,null,null,null,null,1]
[]
[null,"A.II.2.",null,null,null,null,"Zyski (straty) z tytułu różnic kursowych",null,null,null,null,null,null,null,null,null,null,null,null,null,null,null,null,null,null,null,null,null,null,null,null,null,null,null,null,null,null,null,{"$f":"SUM(AM34:AQ42)","v":0},null,null,null,null,1]
[null,null,null,null,null,null,"- wyłączenie zrealizowanych różnic kursowych niedotyczących działalności operacyjnej (różnice dodatnie ze znakiem minus, różnice ujemne ze znakiem plus)",null,null,null,null,null,null,null,null,null,null,null,null,null,null,null,null,null,null,null,null,null,null,null,null,null,null,null,null,null,null,null,null,null,null,null,null,{"$f":"AM34","v":0}]
[null,null,null,null,null,null,null,null,null,null,null,null,null,null,null,null,null,null,null,null,null,null,null,null,null,null,null,null,null,null,null,null,null,null,null,null,null,null,null,null,null,null,null,{"$f":"AM34","v":0}]
[null,null,null,null,null,null,"- wyłączenie nie zrealizowanych różnic kursowych nie dotyczących działalności operacyjnej (nie zrealizowane zyski ze znakiem minus, nie zrealizowane straty ze znakiem plus)",null,null,null,null,null,null,null,null,null,null,null,null,null,null,null,null,null,null,null,null,null,null,null,null,null,null,null,null,null,null,null,null,null,null,null,null,{"$f":"AM36","v":0}]
[null,null,null,null,null,null,null,null,null,null,null,null,null,null,null,null,null,null,null,null,null,null,null,null,null,null,null,null,null,null,null,null,null,null,null,null,null,null,null,null,null,null,null,{"$f":"AM36","v":0}]
[null,null,null,null,null,null,"- wyłączenie różnic kursowych z tytułu wyceny środków pieniężnych zgromadzanych na rachunkach walutowych i w kasie jednostki (dodatnie ze znakiem minus, ujemne ze znakiem plus)",null,null,null,null,null,null,null,null,null,null,null,null,null,null,null,null,null,null,null,null,null,null,null,null,null,null,null,null,null,null,null,null,null,null,null,null,{"$f":"AM38","v":0}]
[null,null,null,null,null,null,null,null,null,null,null,null,null,null,null,null,null,null,null,null,null,null,null,null,null,null,null,null,null,null,null,null,null,null,null,null,null,null,null,null,null,null,null,{"$f":"AM38","v":0}]
[null,null,null,null,null,null,"- inne korekty (wymienić)"]
[]
[]
[]
[null,"A.II.3.",null,null,null,null,"Odsetki i udziały w zyskach (dywidendy)",null,null,null,null,null,null,null,null,null,null,null,null,null,null,null,null,null,null,null,null,null,null,null,null,null,null,null,null,null,null,null,{"$f":"SUM(AM45:AQ51)","v":0},null,null,null,null,1]
[null,null,null,null,null,null,"- wyłączenie odsetek i dywidend otrzymanych (ze znakiem minus)"]
[null,null,null,null,null,null,"- wyłączenie odsetek zapłaconych (ze znakiem plus)"]
[null,null,null,null,null,null,"- wyłączenie odsetek i dywidend naliczonych, lecz nieotrzymanych ani niewypłaconych (ze znakiem plus lub minus tj. przeciwnym do posiadanego)",null,null,null,null,null,null,null,null,null,null,null,null,null,null,null,null,null,null,null,null,null,null,null,null,null,null,null,null,null,null,null,null,null,null,null,null,{"$f":"AM47","v":0}]
[null,null,null,null,null,null,null,null,null,null,null,null,null,null,null,null,null,null,null,null,null,null,null,null,null,null,null,null,null,null,null,null,null,null,null,null,null,null,null,null,null,null,null,{"$f":"AM47","v":0}]
[null,null,null,null,null,null,"- inne korekty (wymienić)"]
[]
[]
[]
[null,"A.II.4.",null,null,null,null,"Zysk (strata) z działalności inwestycyjnej",null,null,null,null,null,null,null,null,null,null,null,null,null,null,null,null,null,null,null,null,null,null,null,null,null,null,null,null,null,null,null,{"$f":"SUM(AM54:AQ65)","v":0},null,null,null,null,1]
[null,null,null,null,null,null,"- korekta z wiązana z zyskiem (ze znakiem minus) lub stratą (ze znakiem plus) na sprzedaży składników działalności inwestycyjnej",null,null,null,null,null,null,null,null,null,null,null,null,null,null,null,null,null,null,null,null,null,null,null,null,null,null,null,null,null,null,null,null,null,null,null,null,{"$f":"AM54","v":0}]
[null,null,null,null,null,null,null,null,null,null,null,null,null,null,null,null,null,null,null,null,null,null,null,null,null,null,null,null,null,null,null,null,null,null,null,null,null,null,null,null,null,null,null,{"$f":"AM54","v":0}]
[null,null,null,null,null,null,"- korekta związana z stratą (ze znakiem plus) na likwidacji składników działalności inwestycyjnej"]
[null,null,null,null,null,null,"- korekty wynikająca z przekazania darowizn niepieniężnych składników działalności inwestycyjnej (ze znakiem plus)"]
[null,null,null,null,null,null,"- korekty dotyczące ujawnionych nadwyżek (ze znakiem minus) i niedoborów (ze znakiem plus) inwentaryzacyjnych składników działalności inwestycyjnej",null,null,null,null,null,null,null,null,null,null,null,null,null,null,null,null,null,null,null,null,null,null,null,null,null,null,null,null,null,null,null,null,null,null,null,null,{"$f":"AM58","v":0}]
[null,null,null,null,null,null,null,null,null,null,null,null,null,null,null,null,null,null,null,null,null,null,null,null,null,null,null,null,null,null,null,null,null,null,null,null,null,null,null,null,null,null,null,{"$f":"AM58","v":0}]
[null,null,null,null,null,null,"- korekty dotyczące zdarzeń losowych (ze znakiem plus lub minus)"]
[null,null,null,null,null,null,"- korekty dotyczące odpisów korygujących wartość składników aktywów trwałych oraz krótkoterminowych aktywów finansowych z tytułu trwałej utraty wartości i ich korekty (plus lub minus)",null,null,null,null,null,null,null,null,null,null,null,null,null,null,null,null,null,null,null,null,null,null,null,null,null,null,null,null,null,null,null,null,null,null,null,null,{"$f":"AM61","v":0}]
[null,null,null,null,null,null,null,null,null,null,null,null,null,null,null,null,null,null,null,null,null,null,null,null,null,null,null,null,null,null,null,null,null,null,null,null,null,null,null,null,null,null,null,{"$f":"AM61","v":0}]
[null,null,null,null,null,null,"- inne korekty (wymienić)"]
[]
[]
[]
[null,"A.II.5.",null,null,null,null,"Zmiana stanu rezerw",null,null,null,null,null,null,null,null,null,null,null,null,null,null,null,null,null,null,null,null,null,null,null,null,null,null,null,null,null,null,null,{"$f":"SUM(AM68:AQ72)","v":0},null,null,null,null,1]
[null,null,null,null,null,null,"- zmiana stanu według bilansu",null,null,null,null,null,null,null,null,null,null,null,null,null,null,null,null,null,null,null,null,null,null,null,null,null,null,null,null,null,null,null,{"$f":"Bilans_PASYWA!$S$28-Bilans_PASYWA!$X$28","v":0}]
[null,null,null,null,null,null,"- korekta z tytułu  zmiany stanu rezerw na odroczony podatek dochodowy utworzonych  w ciężar kapitału (funduszu) własnego"]
[null,null,null,null,null,null,"- inne korekty (wymienić)"]
[]
[]
[]
[null,"A.II.6.",null,null,null,null,"Zmiana stanu zapasów",null,null,null,null,null,null,null,null,null,null,null,null,null,null,null,null,null,null,null,null,null,null,null,null,null,null,null,null,null,null,null,{"$f":"SUM(AM75:AQ80)","v":0},null,null,null,null,1]
[null,null,null,null,null,null,"- zmiana stanu według bilansu",null,null,null,null,null,null,null,null,null,null,null,null,null,null,null,null,null,null,null,null,null,null,null,null,null,null,null,null,null,null,null,{"$f":"(Bilans_AKTYWA!$S$68-Bilans_AKTYWA!$X$68)*-1","v":0}]
[null,null,null,null,null,null,"- korekta wynikająca ze zmiany stanu zapasów  z tytułu wkładu niepieniężnego otrzymanego lub przekazanego pod postacią składników aktywów obrotowych (zapasów)",null,null,null,null,null,null,null,null,null,null,null,null,null,null,null,null,null,null,null,null,null,null,null,null,null,null,null,null,null,null,null,null,null,null,null,null,{"$f":"AM76","v":0}]
[null,null,null,null,null,null,null,null,null,null,null,null,null,null,null,null,null,null,null,null,null,null,null,null,null,null,null,null,null,null,null,null,null,null,null,null,null,null,null,null,null,null,null,{"$f":"AM76","v":0}]
[null,null,null,null,null,null,"- inne korekty (wymienić)"]
[]
[]
[]
[null,"A.II.7.",null,null,null,null,"Zmiana stanu należności",null,null,null,null,null,null,null,null,null,null,null,null,null,null,null,null,null,null,null,null,null,null,null,null,null,null,null,null,null,null,null,{"$f":"SUM(AM83:AQ87)","v":0},null,null,null,null,1]
[null,null,null,null,null,null,"- zmiana stanu według bilansu, poz. A. III i B. II",null,null,null,null,null,null,null,null,null,null,null,null,null,null,null,null,null,null,null,null,null,null,null,null,null,null,null,null,null,null,null,{"$f":"((Bilans_AKTYWA!$S$24+Bilans_AKTYWA!$S$74)-(Bilans_AKTYWA!$X$24+Bilans_AKTYWA!$X$74))*-1","v":0}]
[null,null,null,null,null,null,"- korekta z tytułu zmiany stanu należności dotyczących działalności inwestycyjnej"]
[null,null,null,null,null,null,"- inne korekty ( wymienić)"]
[]
[]
[]
[null,"A.II.8.",null,null,null,null,"Zmiana stanu zobowiązań krótkoterminowych, z wyjątkiem pożyczek i kredytów ",null,null,null,null,null,null,null,null,null,null,null,null,null,null,null,null,null,null,null,null,null,null,null,null,null,null,null,null,null,null,null,{"$f":"SUM(AM90:AQ97)","v":0},null,null,null,null,1]
[null,null,null,null,null,null,"- zmiana stanu według bilansu",null,null,null,null,null,null,null,null,null,null,null,null,null,null,null,null,null,null,null,null,null,null,null,null,null,null,null,null,null,null,null,{"$f":"(Bilans_PASYWA!$S$47+Bilans_PASYWA!$S$52+Bilans_PASYWA!$S$71+Bilans_PASYWA!$S$74+Bilans_PASYWA!$S$75+Bilans_PASYWA!$S$76+Bilans_PASYWA!$S$77+Bilans_PASYWA!$S$78+Bilans_PASYWA!$S$79)-(Bilans_PASYWA!$X$47+Bilans_PASYWA!$X$52+Bilans_PASYWA!$X$71+Bilans_PASYWA!$X$74+Bilans_PASYWA!$X$75+Bilans_PASYWA!$X$76+Bilans_PASYWA!$X$77+Bilans_PASYWA!$X$78+Bilans_PASYWA!$X$79)","v":0}]
[null,null,null,null,null,null,"- korekta z tytułu zmiany stanu zobowiązań działalności inwestycyjnej"]
[null,null,null,null,null,null,"- korekta z tytułu zmiany stanu zobowiązań działalności finansowej (leasingu finansowego)"]
[null,null,null,null,null,null,"- korekta z tytułu zmiany stanu ZFŚS związana z odpisem z zysku na ten fundusz"]
[null,null,null,null,null,null,"- korekta z tytułu zmiany stanu funduszu nagród z tytułu zadeklarowanych, a nie wypłaconych  nagród z zysku"]
[null,null,null,null,null,null,"- inne korekty (wymienić)"]
[]
[]
[]
[null,"A.II.9.",null,null,null,null,"Zmiana stanu rozliczeń międzyokresowych",null,null,null,null,null,null,null,null,null,null,null,null,null,null,null,null,null,null,null,null,null,null,null,null,null,null,null,null,null,null,null,{"$f":"SUM(AM103:AQ111)+AM100","v":0},null,null,null,null,1]
[null,null,null,null,null,null,"- zmiana stanu według bilansu ",null,null,null,null,null,null,null,null,null,null,null,null,null,null,null,null,null,null,null,null,null,null,null,null,null,null,null,null,null,null,null,{"$f":"SUM(AM101:AQ102)","v":0}]
[null,null,null,null,null,null,"   - czynne (wzrost stanu ze znakiem minus, zmniejszenie zez znakiem plus)",null,null,null,null,null,null,null,null,null,null,null,null,null,null,null,null,null,null,null,null,null,null,null,null,null,null,null,null,null,null,null,{"$f":"((Bilans_AKTYWA!$S$50+Bilans_AKTYWA!$S$111)-(Bilans_AKTYWA!$X$50+Bilans_AKTYWA!$X$111))*-1","v":0}]
[null,null,null,null,null,null,"   - rozliczenia międzyokresowe przychodów (wzrost stanu ze znakiem plus, zmniejszenie ze znakiem minus)",null,null,null,null,null,null,null,null,null,null,null,null,null,null,null,null,null,null,null,null,null,null,null,null,null,null,null,null,null,null,null,{"$f":"(Bilans_PASYWA!$S$80-Bilans_PASYWA!$X$80)","v":0}]
[null,null,null,null,null,null,"- korekta dotycząca rozliczeń czynnych z tytułu odroczonego podatku dochodowego odnoszonego bezpośrednio na kapitał (fundusz) własny",null,null,null,null,null,null,null,null,null,null,null,null,null,null,null,null,null,null,null,null,null,null,null,null,null,null,null,null,null,null,null,null,null,null,null,null,{"$f":"AM103","v":0}]
[null,null,null,null,null,null,null,null,null,null,null,null,null,null,null,null,null,null,null,null,null,null,null,null,null,null,null,null,null,null,null,null,null,null,null,null,null,null,null,null,null,null,null,{"$f":"AM103","v":0}]
[null,null,null,null,null,null,"- korekta dotycząca rozliczeń międzyokresowych przychodów z tytułu zmiany stanu ujemnej wartości firmy w roku jej powstania",null,null,null,null,null,null,null,null,null,null,null,null,null,null,null,null,null,null,null,null,null,null,null,null,null,null,null,null,null,null,null,null,null,null,null,null,{"$f":"AM105","v":0}]
[null,null,null,null,null,null,null,null,null,null,null,null,null,null,null,null,null,null,null,null,null,null,null,null,null,null,null,null,null,null,null,null,null,null,null,null,null,null,null,null,null,null,null,{"$f":"AM105","v":0}]
[null,null,null,null,null,null,"- korekta dotycząca rozliczeń międzyokresowych z tytułu wartości darowizn niepieniężnych aktywów trwałych"]
[null,null,null,null,null,null,"- korekta rozliczeń międzyokresowych przychodów z tytułu wartości dotacji w roku ich otrzymania"]
[null,null,null,null,null,null,"- zmiana stanu wykazana w rachunku przepływów pieniężnych"]
[]
[]
[]
[null,"A.II.10.",null,null,null,null,"Inne korekty",null,null,null,null,null,null,null,null,null,null,null,null,null,null,null,null,null,null,null,null,null,null,null,null,null,null,null,null,null,null,null,{"$f":"SUM(AM114:AQ116)","v":0},null,null,null,null,1]
[null,null,null,null,null,null,"-"]
[]
[]
[]
[null,"B.I.1.",null,null,null,null,"Zbycie wartości niematerialnych i prawnych oraz rzeczowych aktywów trwałych",null,null,null,null,null,null,null,null,null,null,null,null,null,null,null,null,null,null,null,null,null,null,null,null,null,null,null,null,null,null,null,{"$f":"SUM(AM119:AQ121)","v":0},null,null,null,null,1]
[null,null,null,null,null,null,"-"]
[]
[]
[]
[null,"B.I.2.",null,null,null,null,"Zbycie inwestycji w nieruchomości oraz wartości niematerialne i prawne",null,null,null,null,null,null,null,null,null,null,null,null,null,null,null,null,null,null,null,null,null,null,null,null,null,null,null,null,null,null,null,{"$f":"SUM(AM124:AQ126)","v":0},null,null,null,null,1]
[null,null,null,null,null,null,"-"]
[]
[]
[null,"B.I.3.",null,null,null,null,"Wpływy z aktywów finansowych",null,null,null,null,null,null,null,null,null,null,null,null,null,null,null,null,null,null,null,null,null,null,null,null,null,null,null,null,null,null,null,{"$f":"AM128+AM132+AM136+AM140+AM144","v":0}]
[null,null,null,null,null,null,"Zbycie aktywów finansowych",null,null,null,null,null,null,null,null,null,null,null,null,null,null,null,null,null,null,null,null,null,null,null,null,null,null,null,null,null,null,null,{"$f":"AM129+AM130","v":0},null,null,null,null,1]
[null,null,null,null,null,null,"- w jednostkach powiązanych"]
[null,null,null,null,null,null,"- w pozostałych jednostkach"]
[]
[null,null,null,null,null,null,"Wpływy z dywidend i udziałów w zyskach",null,null,null,null,null,null,null,null,null,null,null,null,null,null,null,null,null,null,null,null,null,null,null,null,null,null,null,null,null,null,null,{"$f":"SUM(AM133:AQ135)","v":0}]
[null,null,null,null,null,null,"- w jednostkach powiązanych"]
[null,null,null,null,null,null,"- w pozostałych jednostkach"]
[]
[null,null,null,null,null,null,"Spłata udzielonych pożyczek długoterminowych",null,null,null,null,null,null,null,null,null,null,null,null,null,null,null,null,null,null,null,null,null,null,null,null,null,null,null,null,null,null,null,{"$f":"SUM(AM137:AQ139)","v":0}]
[null,null,null,null,null,null,"- w jednostkach powiązanych"]
[null,null,null,null,null,null,"- w pozostałych jednostkach"]
[]
[null,null,null,null,null,null,"Wpływy z odsetek",null,null,null,null,null,null,null,null,null,null,null,null,null,null,null,null,null,null,null,null,null,null,null,null,null,null,null,null,null,null,null,{"$f":"SUM(AM141:AQ143)","v":0}]
[null,null,null,null,null,null,"- w jednostkach powiązanych"]
[null,null,null,null,null,null,"- w pozostałych jednostkach"]
[]
[null,null,null,null,null,null,"Inne wpływy z aktywów finansowych",null,null,null,null,null,null,null,null,null,null,null,null,null,null,null,null,null,null,null,null,null,null,null,null,null,null,null,null,null,null,null,{"$f":"SUM(AM145:AQ147)","v":0}]
[null,null,null,null,null,null,"- w jednostkach powiązanych"]
[null,null,null,null,null,null,"- w pozostałych jednostkach"]
[]
[]
[null,"B.I.4.",null,null,null,null,"Inne wpływy inwestycyjne",null,null,null,null,null,null,null,null,null,null,null,null,null,null,null,null,null,null,null,null,null,null,null,null,null,null,null,null,null,null,null,{"$f":"SUM(AM150:AQ152)","v":0},null,null,null,null,1]
[null,null,null,null,null,null,"-"]
[]
[]
[]
[null,"B.II.1.",null,null,null,null,"Nabycie wartości niematerialnych i prawnych oraz rzeczowych aktywów trwałych",null,null,null,null,null,null,null,null,null,null,null,null,null,null,null,null,null,null,null,null,null,null,null,null,null,null,null,null,null,null,null,{"$f":"SUM(AM155:AQ157)","v":0},null,null,null,null,1]
[null,null,null,null,null,null,"-"]
[]
[]
[]
[null,"B.II.2.",null,null,null,null,"Inwestycje w nieruchomości oraz wartości niematerialne i prawne",null,null,null,null,null,null,null,null,null,null,null,null,null,null,null,null,null,null,null,null,null,null,null,null,null,null,null,null,null,null,null,{"$f":"SUM(AM160:AQ162)","v":0},null,null,null,null,1]
[null,null,null,null,null,null,"-"]
[]
[]
[]
[null,"B.II.3.",null,null,null,null,"Nabycie aktywów finansowych",null,null,null,null,null,null,null,null,null,null,null,null,null,null,null,null,null,null,null,null,null,null,null,null,null,null,null,null,null,null,null,{"$f":"AM165+AM166","v":0},null,null,null,null,1]
[null,null,null,null,null,null,"- w jednostkach powiązanych"]
[null,null,null,null,null,null,"- w pozostałych jednostkach"]
[]
[null,null,null,null,null,null,"Udzielone pożyczki długoterminowe - w pozostałych jednostkach",null,null,null,null,null,null,null,null,null,null,null,null,null,null,null,null,null,null,null,null,null,null,null,null,null,null,null,null,null,null,null,{"$f":"SUM(AM169:AQ171)","v":0}]
[null,null,null,null,null,null,"-"]
[]
[]
[]
[null,"B.II.4.",null,null,null,null,"Inne wydatki inwestycyjne",null,null,null,null,null,null,null,null,null,null,null,null,null,null,null,null,null,null,null,null,null,null,null,null,null,null,null,null,null,null,null,{"$f":"SUM(AM174:AQ176)","v":0},null,null,null,null,1]
[null,null,null,null,null,null,"-"]
[]
[]
[]
[null,"C.I.1.",null,null,null,null,"Wpływy netto z wydania udziałów (emisji akcji) i innych instrumentów kapitałowych oraz dopłat do kapitału",null,null,null,null,null,null,null,null,null,null,null,null,null,null,null,null,null,null,null,null,null,null,null,null,null,null,null,null,null,null,null,{"$f":"SUM(AM179:AQ181)","v":0},null,null,null,null,1]
[null,null,null,null,null,null,"-"]
[]
[]
[]
[null,"C.I.2.",null,null,null,null,"Kredyty i pożyczki",null,null,null,null,null,null,null,null,null,null,null,null,null,null,null,null,null,null,null,null,null,null,null,null,null,null,null,null,null,null,null,{"$f":"SUM(AM184:AQ185)","v":0},null,null,null,null,1]
[null,null,null,null,null,null,"-"]
[]
[]
[]
[null,"C.I.3.",null,null,null,null,"Emisja dłużnych papierów wartościowych",null,null,null,null,null,null,null,null,null,null,null,null,null,null,null,null,null,null,null,null,null,null,null,null,null,null,null,null,null,null,null,{"$f":"SUM(AM189:AQ191)","v":0},null,null,null,null,1]
[null,null,null,null,null,null,"-"]
[]
[]
[]
[null,"C.I.4.",null,null,null,null,"Inne wpływy finansowe",null,null,null,null,null,null,null,null,null,null,null,null,null,null,null,null,null,null,null,null,null,null,null,null,null,null,null,null,null,null,null,{"$f":"SUM(AM194:AQ196)","v":0},null,null,null,null,1]
[null,null,null,null,null,null,"-"]
[]
[]
[]
[null,"C.II.1.",null,null,null,null,"Nabycie udziałów (akcji) własnych",null,null,null,null,null,null,null,null,null,null,null,null,null,null,null,null,null,null,null,null,null,null,null,null,null,null,null,null,null,null,null,{"$f":"SUM(AM199:AQ201)","v":0},null,null,null,null,1]
[null,null,null,null,null,null,"-"]
[]
[]
[]
[null,"C.II.2.",null,null,null,null,"Dywidendy i inne wpłaty na rzecz właścicieli",null,null,null,null,null,null,null,null,null,null,null,null,null,null,null,null,null,null,null,null,null,null,null,null,null,null,null,null,null,null,null,{"$f":"SUM(AM204:AQ206)","v":0},null,null,null,null,1]
[null,null,null,null,null,null,"-"]
[]
[]
[]
[null,"C.II.3.",null,null,null,null,"Inne niż wypłaty na rzecz właścicieli, wydatki z tytułu podziału zysku",null,null,null,null,null,null,null,null,null,null,null,null,null,null,null,null,null,null,null,null,null,null,null,null,null,null,null,null,null,null,null,{"$f":"SUM(AM209:AQ211)","v":0},null,null,null,null,1]
[null,null,null,null,null,null,"-"]
[]
[]
[]
[null,"C.II.4.",null,null,null,null,"Spłaty kredytów i pożyczek",null,null,null,null,null,null,null,null,null,null,null,null,null,null,null,null,null,null,null,null,null,null,null,null,null,null,null,null,null,null,null,{"$f":"SUM(AM214:AQ216)","v":0},null,null,null,null,1]
[null,null,null,null,null,null,"-"]
[]
[]
[]
[null,"C.II.5.",null,null,null,null,"Wykup dłużnych papierów wartościowych",null,null,null,null,null,null,null,null,null,null,null,null,null,null,null,null,null,null,null,null,null,null,null,null,null,null,null,null,null,null,null,{"$f":"SUM(AM219:AQ221)","v":0},null,null,null,null,1]
[null,null,null,null,null,null,"-"]
[]
[]
[]
[null,"C.II.6.",null,null,null,null,"Z tytułu innych zobowiązań finansowych",null,null,null,null,null,null,null,null,null,null,null,null,null,null,null,null,null,null,null,null,null,null,null,null,null,null,null,null,null,null,null,{"$f":"SUM(AM224:AQ226)","v":0},null,null,null,null,1]
[null,null,null,null,null,null,"-"]
[]
[]
[]
[null,"C.II.7.",null,null,null,null,"Płatności zobowiązań z tytułu umów leasingu finansowego",null,null,null,null,null,null,null,null,null,null,null,null,null,null,null,null,null,null,null,null,null,null,null,null,null,null,null,null,null,null,null,{"$f":"SUM(AM229:AQ231)","v":0},null,null,null,null,1]
[null,null,null,null,null,null,"-"]
[]
[]
[]
[null,"C.II.8.",null,null,null,null,"Odsetki",null,null,null,null,null,null,null,null,null,null,null,null,null,null,null,null,null,null,null,null,null,null,null,null,null,null,null,null,null,null,null,{"$f":"SUM(AM234:AQ236)","v":0},null,null,null,null,1]
[null,null,null,null,null,null,"-"]
[]
[]
[]
[null,"C.II.9.",null,null,null,null,"Inne wydatki finansowe",null,null,null,null,null,null,null,null,null,null,null,null,null,null,null,null,null,null,null,null,null,null,null,null,null,null,null,null,null,null,null,{"$f":"SUM(AM239:AQ242)","v":0},null,null,null,null,1]
[null,null,null,null,null,null,"-"]
[]
[]
[]
[]
[null,"Sprawdzenie",null,null,null,null,null,null,null,null,null,null,null,null,null,null,null,null,null,null,null,null,null,"W rach. przepływów",null,null,null,null,"Wg noty",null,null,null,null,"Różnica"]
[null,"A.II.",null,null,null,null,"Działalność operacyjna - korekty razem",null,null,null,null,null,null,null,null,null,null,null,null,null,null,null,null,{"$f":"Rachunek_przepływów_pieniężnych!$S$11","v":0},null,null,null,null,{"$f":"AM31+AM33+AM44+AM53+AM67+AM74+AM82+AM89+AM99+AM113","v":0},null,null,null,null,{"$f":"X245-AC245","v":0}]
[null,"B.I.",null,null,null,null,"Działalność inwestycyjna - wpływy",null,null,null,null,null,null,null,null,null,null,null,null,null,null,null,null,{"$f":"Rachunek_przepływów_pieniężnych!$S$25","v":0},null,null,null,null,{"$f":"AM118+AM123+AM129+AM130+AM132+AM136+AM140+AM144+AM149","v":0},null,null,null,null,0]
[null,"B.II.",null,null,null,null,"Działalność inwestycyjna - wydatki",null,null,null,null,null,null,null,null,null,null,null,null,null,null,null,null,{"$f":"Rachunek_przepływów_pieniężnych!$S$39","v":0},null,null,null,null,{"$f":"AM154+AM159+AM165+AM166+AM168+AM173","v":0},null,null,null,null,0]
[null,"C.I.",null,null,null,null,"Działalność finansowa - wpływy",null,null,null,null,null,null,null,null,null,null,null,null,null,null,null,null,{"$f":"Rachunek_przepływów_pieniężnych!$S$68","v":0},null,null,null,null,{"$f":"AM178+AM183+AM188+AM193","v":0},null,null,null,null,0]
[null,"C.II.",null,null,null,null,"Działalność finansowa - wydatki",null,null,null,null,null,null,null,null,null,null,null,null,null,null,null,null,{"$f":"Rachunek_przepływów_pieniężnych!$S$74","v":0},null,null,null,null,{"$f":"AM198+AM203+AM208+AM213+AM218+AM223+AM228+AM233+AM238","v":0},null,null,null,null,0]
[null,"G.",null,null,null,null,"Stan środków pieniężnych na koniec okresu",null,null,null,null,null,null,null,null,null,null,null,null,null,null,null,null,{"$f":"Rachunek_przepływów_pieniężnych!$S$90","v":0},null,null,null,null,{"$f":"AM11","v":0},null,null,null,null,0]
[]
[null,"Sprawdzenie"]
[null,null,null,null,null,null,"Środki pieniężne na koniec okresu według bilansu - poz. B III. c)",null,null,null,null,null,null,null,null,null,null,null,null,null,null,null,null,{"$f":"AM8","v":0}]
[null,null,null,null,null,null,"Środki pieniężne razem na koniec okresu",null,null,null,null,null,null,null,null,null,null,null,null,null,null,null,null,{"$f":"AM16","v":0}]
[null,null,null,null,null,null,"różnica",null,null,null,null,null,null,null,null,null,null,null,null,null,null,null,null,{"$f":"X253-X254","v":0}]

{"sheet":"Wydruk_sprawozdania","index":85,"n_rows":0,"n_cols":0,"rows_kept":0,"cut":false,"hidden":true,"merged":[]}

{"sheet":"Wydruk_noty1","index":86,"n_rows":0,"n_cols":0,"rows_kept":0,"cut":false,"hidden":true,"merged":[]}

{"sheet":"Wydruk_noty2","index":87,"n_rows":0,"n_cols":0,"rows_kept":0,"cut":false,"hidden":true,"merged":[]}

{"sheet":"Błędy_zmiany_polit_zdarz_po_bil","index":88,"n_rows":58,"n_cols":34,"rows_kept":58,"cut":false,"hidden":true,"merged":[[2,29,2,34],[54,33,55,36],[44,1,44,7],[39,8,41,12],[38,1,41,7],[19,1,19,22],[20,1,21,27],[38,0,41,0],[38,23,41,27],[20,0,21,0],[23,1,24,27],[33,33,34,36],[54,0,56,0],[54,1,56,27],[43,18,43,22],[43,23,43,27],[43,1,43,7],[43,8,43,12],[43,13,43,17],[47,23,47,27],[52,23,52,27],[51,18,51,22],[51,23,51,27],[51,1,51,7],[28,1,28,17],[29,1,29,17],[29,18,29,22],[30,1,30,17],[19,23,19,27],[18,23,18,27],[18,1,18,22],[22,1,22,27],[29,23,29,27],[27,18,27,22],[53,23,53,27],[52,18,52,22],[50,1,50,27],[53,18,53,22],[30,23,30,27],[49,18,49,22],[49,23,49,27],[48,18,48,22],[48,23,48,27],[48,1,48,7],[48,8,48,12],[48,13,48,17],[49,1,49,7],[49,8,49,12],[49,13,49,17],[51,13,51,17],[52,1,52,7],[52,8,52,12],[31,23,31,27],[31,1,31,17],[31,18,31,22],[51,8,51,12],[3,0,3,6],[12,1,12,22],[12,23,12,27],[13,1,13,22],[13,23,13,27],[10,1,11,27],[7,0,8,0],[5,0,6,27],[7,1,8,27],[7,33,8,36],[9,1,9,27],[4,0,4,9],[20,33,21,36],[25,23,26,27],[28,18,28,22],[44,18,44,22],[44,23,44,27],[47,1,47,7],[47,8,47,12],[47,13,47,17],[46,1,46,27],[30,18,30,22],[39,13,41,17],[39,18,41,22],[14,23,14,27],[14,1,14,22],[17,23,17,27],[16,23,16,27],[15,23,15,27],[15,1,15,22],[16,1,16,22],[17,1,17,22],[27,1,27,17],[57,1,57,27],[25,0,26,0],[25,1,26,17],[25,18,26,22],[28,23,28,27],[27,23,27,27],[45,18,45,22],[45,23,45,27],[47,18,47,22],[52,13,52,17],[45,8,45,12],[45,13,45,17],[44,8,44,12],[44,13,44,17],[45,1,45,7],[33,0,34,0],[33,1,34,27],[35,1,35,27],[36,1,37,27],[42,1,42,27],[38,8,38,22],[53,1,53,7],[53,8,53,12],[53,13,53,17]]}
[{"$f":"nazwa","v":"DEMO"}]
[{"$f":"Bilans_AKTYWA!A2","v":"Sprawozdanie finansowe za rok 2023"}]
[null,null,null,null,null,null,null,null,null,null,null,null,null,null,null,null,null,null,null,null,null,null,null,null,null,null,null,null,null,"Powrót do parametrów"]
[]
[{"$f":"NumerNoty(Parametry!$B$102)","v":"Nota nie podlegająca prezentacji"}]
["Błędy lat ubiegłych, zdarzenia po dniu bilansowym oraz\nzmiany polityki rachunkowości"]
[]
[" 1.","Informacje o przychodach i kosztach z tytułu błędów popełnionych w latach ubiegłych odnoszonych w roku obrotowym na kapitał (fundusz) własny z podaniem ich kwot i rodzaju",null,null,null,null,null,null,null,null,null,null,null,null,null,null,null,null,null,null,null,null,null,null,null,null,null,null,null,null,null,null,null,"Zmiana wielkości pola opisu"]
[]
[null,"Nie dotyczy"]
[null,"Przychody i koszty z tytułu błędów popełnionych w latach ubiegłych odnoszone na kapitał (fundusz) własny"]
[]
["Lp.","Rodzaj popełnionego błędu",null,null,null,null,null,null,null,null,null,null,null,null,null,null,null,null,null,null,null,null,null,"Kwota"]
[1,"Korekta przychodów"]
[]
[]
[2,"Korekta kosztów"]
[]
[]
[3,"Korekta zysku (straty) z lat ubiegłych"]
[" 2.","Zmiany zasad (polityki) rachunkowości oraz zmiany sposobu sporządzania sprawozdania finansowego.",null,null,null,null,null,null,null,null,null,null,null,null,null,null,null,null,null,null,null,null,null,null,null,null,null,null,null,null,null,null,null,"Zmiana wielkości pola opisu"]
[]
[null,"Nie dotyczy"]
[null,"Skutki zmian zasad (polityki) rachunkowości"]
[]
["Lp.","Opis zmiany",null,null,null,null,null,null,null,null,null,null,null,null,null,null,null,null,"Wpływ na bilans",null,null,null,null,"Wpływ na rachunek zysków i strat"]
[]
[]
[]
[]
[]
[]
[]
[" 3.","Informacje liczbowe, wraz z wyjaśnieniem, zapewniające porównywalność danych sprawozdania finansowego za rok poprzedzający ze sprawozdaniem za rok obrotowy",null,null,null,null,null,null,null,null,null,null,null,null,null,null,null,null,null,null,null,null,null,null,null,null,null,null,null,null,null,null,null,"Zmiana wielkości pola opisu"]
[]
[null,"Opisać..."]
[null,"Dane liczbowe zapewniające porównywalność danych"]
[]
["Lp.","Pozycja SF",null,null,null,null,null,null,"Rok ubiegły",null,null,null,null,null,null,null,null,null,null,null,null,null,null,"Dane za bieżący rok obrotowy"]
[null,null,null,null,null,null,null,null,"Dane porównawcze wg zatwierdzonego SF",null,null,null,null,"Kwota korekta ",null,null,null,null,"Dane przekształcone (po korekcie)"]
[]
[]
[" 1.","AKTYWA"]
[]
[]
[]
[" 2.","PASYWA"]
[]
[]
[]
[" 3.","RACHUNEK ZYSKÓW I STRAT"]
[]
[]
[]
[" 4.","Informacje o istotnych zdarzeniach, jakie nastąpiły po dniu bilansowym, a nieuwzględnionych w sprawozdaniu finansowym oraz o ich wpływie na sytuację majątkową, finansową oraz wynik finansowy jednostki",null,null,null,null,null,null,null,null,null,null,null,null,null,null,null,null,null,null,null,null,null,null,null,null,null,null,null,null,null,null,null,"Zmiana wielkości pola opisu"]
[]
[]
[null,"Nie dotyczy lub Opisać …"]

{"sheet":"Wspólne_przeds_grupa_kapit","index":89,"n_rows":97,"n_cols":44,"rows_kept":97,"cut":false,"hidden":true,"merged":[[42,1,42,17],[37,18,37,27],[38,18,38,27],[39,18,39,27],[37,1,37,17],[36,18,36,27],[32,18,33,27],[32,1,33,17],[32,0,33,0],[34,0,35,0],[34,1,35,17],[34,18,35,27],[3,0,3,6],[5,0,5,27],[6,0,7,0],[6,1,7,27],[9,1,10,27],[2,29,2,34],[23,1,23,27],[29,1,29,27],[26,1,26,27],[6,33,7,36],[4,0,4,9],[21,0,22,0],[21,1,22,27],[15,0,16,0],[17,18,17,27],[18,18,18,27],[19,18,19,27],[20,18,20,27],[8,1,8,27],[21,33,22,36],[30,0,30,27],[27,0,28,0],[27,1,28,27],[24,0,25,0],[11,18,11,27],[12,1,12,17],[12,18,12,27],[13,1,13,17],[13,18,13,27],[11,1,11,17],[14,18,14,27],[24,1,25,27],[14,1,14,17],[15,1,16,17],[17,1,17,17],[18,1,18,17],[19,1,19,17],[20,1,20,17],[15,18,16,27],[52,18,52,27],[53,18,53,27],[49,1,50,17],[57,23,57,27],[58,23,58,27],[59,23,59,27],[53,1,53,17],[54,1,54,17],[24,33,25,36],[27,33,28,36],[31,1,31,17],[31,18,31,27],[36,1,36,17],[43,1,43,17],[44,1,44,17],[43,18,43,27],[44,18,44,27],[40,18,40,27],[41,18,41,27],[42,18,42,27],[38,1,38,17],[39,1,39,17],[40,1,40,17],[41,1,41,17],[96,1,96,27],[90,1,90,27],[91,1,91,27],[92,1,92,27],[93,1,93,27],[94,1,94,27],[84,1,84,27],[85,1,85,27],[87,0,87,1],[88,1,88,27],[89,1,89,27],[45,0,45,27],[73,1,73,27],[46,18,46,27],[46,1,46,17],[64,0,64,1],[67,0,67,1],[63,0,63,27],[65,1,65,27],[66,1,66,27],[57,1,57,17],[58,1,58,17],[52,1,52,17],[51,18,51,27],[60,23,60,27],[60,1,60,17],[72,0,72,1],[68,1,68,27],[69,1,69,27],[47,0,48,0],[61,18,61,22],[61,23,61,27],[61,1,61,17],[55,1,56,17],[55,18,56,22],[47,1,48,17],[49,0,50,0],[59,1,59,17],[70,1,70,27],[47,18,48,27],[74,1,74,27],[95,1,95,27],[77,1,77,27],[76,1,76,27],[75,1,75,27],[55,23,56,27],[51,1,51,17],[54,18,54,27],[78,1,78,27],[79,1,79,27],[80,1,80,27],[81,1,81,27],[83,1,83,27],[55,0,56,0],[57,18,57,22],[58,18,58,22],[59,18,59,22],[60,18,60,22],[49,18,50,27]]}
[{"$f":"nazwa","v":"DEMO"},null,null,null,null,null,null,null,null,null,null,null,null,null,null,null,null,null,null,null,null,null,null,null,null,null,null,null,null,null,null,null,null,null,null,null,null,null,null,null,0,0,0,0]
[{"$f":"Bilans_AKTYWA!A2","v":"Sprawozdanie finansowe za rok 2023"}]
[null,null,null,null,null,null,null,null,null,null,null,null,null,null,null,null,null,null,null,null,null,null,null,null,null,null,null,null,null,"Powrót do parametrów"]
[]
[{"$f":"NumerNoty(Parametry!$B$103)","v":"Nota nie podlegająca prezentacji"}]
["Informacje o wspólnych przedsięwzięciach, grupie kapitałowej i połączeniach"]
[" 1.","Informacje o wspólnych przedsięwzięciach, które nie podlegają konsolidacji",null,null,null,null,null,null,null,null,null,null,null,null,null,null,null,null,null,null,null,null,null,null,null,null,null,null,null,null,null,null,null,"Zmiana wielkości pola opisu"]
[]
[null,"Nie dotyczy"]
[null,"Wspólne przedsięwzięcia niepodlegające konsolidacji"]
[]
["Lp.","Opis wspólnego przedsięwzięcia",null,null,null,null,null,null,null,null,null,null,null,null,null,null,null,null,"Opis / Wartość"]
[" 1.","Nazwa (firma) "]
[" 2.","Zakres wspólnego przedsięwzięcia"]
[" 3.","Procentowy udział jednostki w przedsięwzięciu"]
[" 4.","Wartości wspólnie kontrolowanych rzeczowych składników aktywów trwałych oraz wartości niematerialnych i prawnych"]
[]
[" 5.","Kwoty zobowiązań zaciągniętych w celu sfinansowania przedsięwzięcia"]
[" 6.","Wielkość zobowiązań warunkowych związanych z przedsięwzięciem"]
[" 7.","Przychody uzyskane ze wspólnego przedsięwzięcia"]
[" 8.","Koszty poniesione na realizację wspólnego przedsięwzięcia"]
[" 2.","Informacje o grupie kapitałowej",null,null,null,null,null,null,null,null,null,null,null,null,null,null,null,null,null,null,null,null,null,null,null,null,null,null,null,null,null,null,null,"Zmiana wielkości pola opisu"]
[]
[null,"Nie dotyczy"]
[" 3.","Skonsolidowane sprawozdanie finansowe – zwolnienia i wyłączenia",null,null,null,null,null,null,null,null,null,null,null,null,null,null,null,null,null,null,null,null,null,null,null,null,null,null,null,null,null,null,null,"Zmiana wielkości pola opisu"]
[]
[null,"Nie dotyczy"]
[" 4.","Informacje na temat połączenia jednostki (jeśli nastąpiło w ciągu roku)",null,null,null,null,null,null,null,null,null,null,null,null,null,null,null,null,null,null,null,null,null,null,null,null,null,null,null,null,null,null,null,"Zmiana wielkości pola opisu"]
[]
[null,"Nie dotyczy"]
["Połączenie metodą nabycia – sprawozdanie sporządzone po połączeniu spółek"]
["Lp.","Wyszczególnienie",null,null,null,null,null,null,null,null,null,null,null,null,null,null,null,null,"Opis / dane liczbowe"]
[" 1.","Nazwa (firma)"]
[]
[" 2.","Opis przedmiotu działalności spółki przejętej"]
[]
[" 3.","Data połączenia (wpisu do rejestru sądowego)"]
[" 4.","Liczba udziałów (akcji) wyemitowanych w celu połączenia"]
[" 5.","Rodzaj udziałów (akcji) wyemitowanych w celu połączenia"]
[" 6.","Wartość nominalna udziałów (akcji) wyemitowanych w celu połączenia"]
[" 7.","Dane finansowe"]
[null,"– cena przejęcia"]
[null,"– wartość godziwa aktywów netto spółki przejętej na dzień połączenia"]
[null,"– wartość firmy (ujemna wartość firmy)"]
[" 8.","Opis zasad amortyzacji wartości firmy (ujemnej wartości firmy)"]
["Połączenie metodą łączenia udziałów – sprawozdanie sporządzone"]
["Lp.","Wyszczególnienie",null,null,null,null,null,null,null,null,null,null,null,null,null,null,null,null,"Opis / dane liczbowe"]
[" 1.","Nazwa (firma) spółek, które w wyniku połączenia zostały wykreślone z rejestru"]
[]
[" 2.","Opis przedmiotu działalności spółek, które w wyniku połączenia zostały wykreślone z rejestru"]
[]
[" 3.","Data połączenia (wpisu do rejestru sądowego)"]
[" 4.","Liczba udziałów (akcji) wyemitowanych w celu połączenia"]
[" 5.","Rodzaj udziałów (akcji) wyemitowanych w celu połączenia"]
[" 6.","Wartość nominalna udziałów (akcji) wyemitowanych w celu połączenia"]
[" 7.","Dane finansowe za okres od początku roku obrotowego, w ciągu którego nastąpiło połączenie, do dnia połączenia",null,null,null,null,null,null,null,null,null,null,null,null,null,null,null,null,"spółka I",null,null,null,null,"spółka II"]
[]
[null,"– przychody"]
[null,"– koszty"]
[null,"– zyski"]
[null,"– straty"]
[null,"– zmiany (wzrost +, spadek –) kapitałów własnych połączonych spółek "]
[]
["Wskazówki dla prawidłowego wypełnienia punktów:"]
["Ad. 1"]
[null,"Podać informacje o:"]
[null,"a) nazwie, zakresie działalności wspólnego przedsięwzięcia,\nb) procentowym udziale,\nc) części wspólnie kontrolowanych rzeczowych składników aktywów trwałych oraz wartości niematerialnych,\nd) zobowiązaniach zaciągniętych na potrzeby przedsięwzięcia lub zakupu używanych rzeczowych składników aktywów trwałych,\ne) części zobowiązań wspólnie zaciągniętych,\nf) przychodach uzyskanych ze wspólnego przedsięwzięcia i kosztach z nimi związanych,\ng) zobowiązaniach warunkowych i inwestycyjnych dotyczących wspólnego przedsięwzięcia."]
["Ad. 2"]
[null,"Podać nazwę grupy kapitałowej, opisać jej skład.\nPodać informacje o:"]
[null,"a) nazwie i siedzibie jednostki sporządzającej skonsolidowane sprawozdanie finansowe na najwyższym szczeblu grupy kapitałowej, w której skład wchodzi spółka jako jednostka zależna, oraz miejscu, w którym sprawozdanie to jest dostępne,"]
[null,"b) nazwie i siedzibie jednostki sporządzającej skonsolidowane sprawozdanie finansowe na najniższym szczeblu grupy kapitałowej, w skład której wchodzi spółka jako jednostka zależna, oraz miejscu, w którym sprawozdanie to jest dostępne."]
[]
["Ad. 3"]
[null,"Podać:"]
[null,"a) podstawę prawną wraz z danymi uzasadniającymi odstąpienie od konsolidacji"]
[null,"Podstawy prawne odstąpienia od konsolidacji"]
[null,"- Mała grupa kapitałowa – art. 56 ust. 1 pkt 1 i 2 ustawy o rachunkowości"]
[null,"- Konsolidacji dokonuje jednostka dominująca wyższego szczebla – art. 56 ust. 2 ustawy o rachunkowości (nazwa i siedziba, miejsce publikacji skonsolidowanego sprawozdania finansowego)"]
[null,"- Udziały jednostki nabyto, zakupiono lub pozyskano w innej formie, z wyłącznym przeznaczeniem ich do późniejszej odprzedaży, w terminie jednego roku od dnia ich nabycia, zakupu lub pozyskania w innej formie – art. 57 pkt 1 ustawy o rachunkowości"]
[null,"- Występują poważne długoterminowe ograniczenia w sprawowaniu kontroli nad jednostką – art. 57 pkt 2 ustawy o rachunkowości"]
[null,"- Bez ponoszenia niewspółmiernie wysokich kosztów lub bez zbędnej zwłoki nie można uzyskać informacji niezbędnych do sporządzenia skonsolidowanego sprawozdania finansowego – art. 57 pkt 3 ustawy o rachunkowości"]
[null,"- Dane finansowe jednostki są nieistotne – art. 58 ust. 1 ustawy o rachunkowości"]
[]
[null,"b) podstawowe wskaźniki ekonomiczno-finansowe jednostek powiązanych w danym i ubiegłym roku obrotowym, takich jak:"]
[null,"– przychody netto ze sprzedaży produktów, towarów i materiałów oraz przychody finansowe,\n– wynik finansowy netto oraz kwota kapitału (funduszu) własnego, z podziałem na grupy,\n– wartość aktywów,\n– przeciętne roczne zatrudnienie,"]
[null,"c) rodzaju stosowanych standardów rachunkowości (krajowych czy międzynarodowych) przez jednostki powiązane"]
[]
["Ad. 4"]
[null,"W przypadku sprawozdania finansowego sporządzonego za okres, w ciągu którego nastąpiło połączenie:"]
[null,"1. jeżeli połączenie zostało rozliczone metodą nabycia:"]
[null," a) nazwę (firmę) i opis przedmiotu działalności spółki przejętej,"]
[null," b) liczbę, wartość nominalną i rodzaj udziałów (akcji) wyemitowanych w celu połączenia,"]
[null," c) ceną przejęcia, wartość aktywów netto według wartości godziwej spółki przejętej na dzień połączenia, wartość firmy ujemnej wartości firmy i opis zasad jej amortyzacji"]
[null,"2. jeżeli połączenie zostało rozliczone metodą nabycia:"]
[null," a) nazwy (firmy) i opis przedmiotu działalności spółek, które w wyniku połączenia zostały wykreślone z rejestru,"]
[null," b) liczbę, wartość nominalną i rodzaj udziałów (akcji) wyemitowanych w celu połączenia,"]
[null," c) przychody i koszty, zyski i straty oraz zmiany w kapitałach własnych połączonych spółek za okres od początku roku obrotowego, w ciągu którego nastąpiło połączenie, do dnia połączenia;"]

{"sheet":"Pozostałe_info","index":90,"n_rows":30,"n_cols":44,"rows_kept":30,"cut":false,"hidden":true,"merged":[[29,2,34,27],[6,0,7,0],[6,1,7,27],[28,1,28,2],[27,1,27,27],[21,18,21,22],[21,23,21,27],[8,1,8,27],[12,1,12,27],[13,1,16,27],[9,0,11,0],[9,1,11,27],[20,1,20,27],[2,29,2,34],[18,33,19,36],[18,1,19,27],[3,0,3,6],[5,0,5,27],[4,0,4,9],[18,0,19,0],[13,0,15,0],[17,1,17,27],[6,33,7,36],[9,33,10,36],[13,33,14,36]]}
[{"$f":"nazwa","v":"DEMO"},null,null,null,null,null,null,null,null,null,null,null,null,null,null,null,null,null,null,null,null,null,null,null,null,null,null,null,null,null,null,null,null,null,null,null,null,null,null,null,0,0,0,0]
[{"$f":"Bilans_AKTYWA!A2","v":"Sprawozdanie finansowe za rok 2023"}]
[null,null,null,null,null,null,null,null,null,null,null,null,null,null,null,null,null,null,null,null,null,null,null,null,null,null,null,null,null,"Powrót do parametrów"]
[]
[{"$f":"NumerNoty(Parametry!$B$104)","v":"Nota nie podlegająca prezentacji"}]
["Pozostałe informacje"]
[" 1.","Niepewność co do możliwości kontynuowania działalności Jednostki - opis podejmowanych lub planowanych działań mających na celu eliminację niepewności ",null,null,null,null,null,null,null,null,null,null,null,null,null,null,null,null,null,null,null,null,null,null,null,null,null,null,null,null,null,null,null,"Zmiana wielkości pola opisu"]
[]
[null,"Nie dotyczy"]
[" 2.","Informacje o charakterze i celu gospodarczym zawartych przez jednostkę umów nieuwzględnionych w bilansie w zakresie niezbędnym do oceny ich wpływu na sytuację majątkową, finansową i wynik finansowy jednostki",null,null,null,null,null,null,null,null,null,null,null,null,null,null,null,null,null,null,null,null,null,null,null,null,null,null,null,null,null,null,null,"Zmiana wielkości pola opisu"]
[]
[]
[null,"Nie dotyczy"]
[" 3.","Wartość żywności przekazanej organizacjom pozarządowym, z przeznaczeniem na wykonywanie przez te organizacje zadań w zakresie określonym w art. 2 pkt 2 ustawy z dnia 19 lipca 2019 r. o przeciwdziałaniu marnowaniu żywności (Dz. U. z 2020 r. poz. 1645), lub kwota opłaty za marnowanie żywności, o której mowa w art. 5 tej ustawy",null,null,null,null,null,null,null,null,null,null,null,null,null,null,null,null,null,null,null,null,null,null,null,null,null,null,null,null,null,null,null,"Zmiana wielkości pola opisu"]
[]
[]
[]
[null,"Nie dotyczy"]
[" 4.","Inne informacje istotne dla Jednostki",null,null,null,null,null,null,null,null,null,null,null,null,null,null,null,null,null,null,null,null,null,null,null,null,null,null,null,null,null,null,null,"Zmiana wielkości pola opisu"]
[]
[null,"Nie dotyczy"]
[]
[]
[]
[]
[]
[]
[null,"Wskazówki dla prawidłowego wypełnienia punktów:"]
[null,"Ad. 1"]
[null,null,"W przypadku występowania niepewności co do możliwości kontynuowania działalności, opis tych niepewności oraz stwierdzenie, że taka niepewność występuje, oraz wskazanie, czy sprawozdanie finansowe zawiera korekty z tym związane; informacja powinna zawierać również opis podejmowanych bądź planowanych przez jednostkę działań mających na celu eliminację niepewności."]

{"sheet":"Ostatnia_str","index":91,"n_rows":16,"n_cols":1,"rows_kept":16,"cut":false,"hidden":true,"merged":[[1,0,1,1],[15,0,16,1],[12,3,13,4]]}
[]
["Sprawozdanie finansowe obejmuje:"]
[]
[]
["1. wprowadzenie do sprawozdania finansowego"]
["2. bilans "]
["3. rachunek zysków i strat "]
["4. rachunek przepływów pieniężnych "]
["5. zestawienie zmian w kapitale własnym "]
["6.  dodatkowe informacje i objaśnienia"]
[]
[]
[]
[]
[]
["Sprawozdanie finansowe podpisuje osoba której powierzono prowadzenie ksiąg rachunkowych oraz Kierownik Jednostki (jeżeli jednostką kieruje organ wieloosobowy – wszyscy członkowie tego organu)"]

{"sheet":"AKTYWAT_ANALIZA","index":92,"n_rows":100,"n_cols":24,"rows_kept":100,"cut":false,"hidden":true,"merged":[[4,0,5,7],[3,0,3,6],[1,23,6,36],[6,6,6,7],[96,0,96,1],[6,0,8,0],[6,1,7,1],[6,2,6,3],[6,4,6,5],[8,23,10,36],[2,11,2,16]]}
[{"$f":"nazwa","v":"DEMO"}]
[{"$f":"temat","v":"Sprawozdanie finansowe za rok 2023"},null,null,null,null,null,null,null,"Podstawowe","MFA",null,null,null,null,null,null,null,null,null,null,null,null,null,"Obok zaproponowano standardowy zakres prezentacji ANALIZY AKTYWÓW i PASYWÓW - wzór MP.\nKorzystając z przygotowanych przycisków można ukryć wiersze zerowe i odkryć wszystkie wiersze. Następnie można ukryć inne pozycje, zgodnie z wybranym stopniem szczegółowości prezentacji danych."]
[null,null,null,null,null,null,null,null,null,null,null,"Powrót do parametrów"]
[]
["BILANS - AKTYWA - ANALIZA"]
[]
["Lp.","Wyszczególnienie",{"$f":"stanb","v":"Stan na dzień dd.mm.rrrr"},null,{"$f":"stanp","v":"Stan na dzień dd.mm.rrrr"},null,"Zmiana stanu"]
[null,null,"tys. zł","% struktura","tys. zł","% struktura","kwota (2-4)","% (8:4)"]
[null,1,2,3,4,5,6,7,null,null,null,null,null,null,null,null,null,null,null,null,null,null,null,"WYDRUK ANALIZY\nTabele analityczne nie wchodzą w skład wydruku SF.\nWydruk tabel analitycznych (każdej oddzielnie) należy dokonać osobno."]
["A.","Aktywa trwałe",{"$f":"SUM(C11+C16+C25+C29+C49)","v":0},{"$f":"IF(C$97=0,\"-\",C10/C$97)","v":"-"},{"$f":"SUM(E11+E16+E25+E29+E49)","v":0},{"$f":"IF(E$97=0,\"-\",E10/E$97)","v":"-"},{"$f":"C10-E10","v":0},{"$f":"IF(E10=0,\"-\",G10/(SIGN(E10)*E10))","v":"-"},1]
["I.","Wartości niematerialne i prawne",{"$f":"SUM(C12:C15)","v":0},"-",{"$f":"SUM(E12:E15)","v":0},"-",0,"-",1,1]
[null,"Koszty zakończonych prac rozwojowych",{"$f":"Bilans_AKTYWA!S11/1000","v":0},"-",{"$f":"Bilans_AKTYWA!X11/1000","v":0},"-",0,"-"]
[null,"Wartość firmy",{"$f":"Bilans_AKTYWA!S12/1000","v":0},"-",{"$f":"Bilans_AKTYWA!X12/1000","v":0},"-",0,"-"]
[null,"Inne wartości niematerialne i prawne",{"$f":"Bilans_AKTYWA!S13/1000","v":0},"-",{"$f":"Bilans_AKTYWA!X13/1000","v":0},"-",0,"-"]
[null,"Zaliczki na wartości niematerialne i prawne",{"$f":"Bilans_AKTYWA!S14/1000","v":0},"-",{"$f":"Bilans_AKTYWA!X14/1000","v":0},"-",0,"-"]
["II.","Rzeczowe Aktywa trwałe",{"$f":"SUM(C17+C23+C24)","v":0},"-",{"$f":"SUM(E17+E23+E24)","v":0},"-",0,"-",1]
[null,"Środki trwałe",{"$f":"SUM(C18:C22)","v":0},"-",{"$f":"SUM(E18:E22)","v":0},"-",0,"-",null,1]
[null,"- grunty (w tym prawo użytkowania wieczystego gruntu)",{"$f":"Bilans_AKTYWA!S17/1000","v":0},"-",{"$f":"Bilans_AKTYWA!X17/1000","v":0},"-",0,"-"]
[null,"- budynki, lokale i obiekty inżynierii lądowej i wodnej",{"$f":"Bilans_AKTYWA!S18/1000","v":0},"-",{"$f":"Bilans_AKTYWA!X18/1000","v":0},"-",0,"-"]
[null,"- urządzenia techniczne i maszyny",{"$f":"Bilans_AKTYWA!S19/1000","v":0},"-",{"$f":"Bilans_AKTYWA!X19/1000","v":0},"-",0,"-"]
[null,"- środki transportu",{"$f":"Bilans_AKTYWA!S20/1000","v":0},"-",{"$f":"Bilans_AKTYWA!X20/1000","v":0},"-",0,"-"]
[null,"- inne środki trwałe",{"$f":"Bilans_AKTYWA!S21/1000","v":0},"-",{"$f":"Bilans_AKTYWA!X21/1000","v":0},"-",0,"-"]
[null,"Środki trwałe w budowie",{"$f":"Bilans_AKTYWA!S22/1000","v":0},"-",{"$f":"Bilans_AKTYWA!X22/1000","v":0},"-",0,"-",null,1]
[null,"Zaliczki na środki trwałe w budowie",{"$f":"Bilans_AKTYWA!S23/1000","v":0},"-",{"$f":"Bilans_AKTYWA!X23/1000","v":0},"-",0,"-",null,1]
["III.","Należności długoterminowe",{"$f":"SUM(C26:C28)","v":0},"-",{"$f":"SUM(E26:E28)","v":0},"-",0,"-",1]
[null,"Od jednostek powiązanych",{"$f":"Bilans_AKTYWA!S25/1000","v":0},"-",{"$f":"Bilans_AKTYWA!X25/1000","v":0},"-",0,"-"]
[null,"Od pozostałych jednostek, w których jednostka posiada zaangażowanie w kapitale",{"$f":"Bilans_AKTYWA!S26/1000","v":0},"-",{"$f":"Bilans_AKTYWA!X26/1000","v":0},"-",{"$f":"C27-E27","v":0},{"$f":"IF(E27=0,\"-\",G27/(SIGN(E27)*E27))","v":"-"}]
[null,"Od pozostałych jednostek",{"$f":"Bilans_AKTYWA!S28/1000","v":0},"-",{"$f":"Bilans_AKTYWA!X28/1000","v":0},"-",0,"-"]
["IV.","Inwestycje długoterminowe",{"$f":"SUM(C30+C31+C32+C48)","v":0},"-",{"$f":"SUM(E30+E31+E32+E48)","v":0},"-",0,"-",1]
[null,"Nieruchomości",{"$f":"Bilans_AKTYWA!S30/1000","v":0},"-",{"$f":"Bilans_AKTYWA!X30/1000","v":0},"-",0,"-",null,1]
[null,"Wartości niematerialne i prawne ",{"$f":"Bilans_AKTYWA!S31/1000","v":0},"-",{"$f":"Bilans_AKTYWA!X31/1000","v":0},"-",0,"-",null,1]
[null,"Długoterminowe aktywa finansowe",{"$f":"C33+C38+C43","v":0},"-",{"$f":"E33+E38+E43","v":0},"-",0,"-",null,1]
[null,"- w jednostkach powiązanych",{"$f":"SUM(C34:C37)","v":0},"-",{"$f":"SUM(E34:E37)","v":0},"-",0,"-"]
[null,"- udziały lub akcje",{"$f":"Bilans_AKTYWA!S34/1000","v":0},"-",{"$f":"Bilans_AKTYWA!X34/1000","v":0},"-",0,"-"]
[null,"- inne papiery wartościowe",{"$f":"Bilans_AKTYWA!S35/1000","v":0},"-",{"$f":"Bilans_AKTYWA!X35/1000","v":0},"-",0,"-"]
[null,"- udzielone pożyczki",{"$f":"Bilans_AKTYWA!S36/1000","v":0},"-",{"$f":"Bilans_AKTYWA!X36/1000","v":0},"-",0,"-"]
[null,"- inne długoterminowe aktywa finansowe",{"$f":"Bilans_AKTYWA!S37/1000","v":0},"-",{"$f":"Bilans_AKTYWA!X37/1000","v":0},"-",0,"-"]
[null,"- w pozostałych jednostkach, w których jednostka posiada zaangażowanie w kapitale",{"$f":"SUM(C39:C42)","v":0},"-",{"$f":"SUM(E39:E42)","v":0},"-",{"$f":"C38-E38","v":0},{"$f":"IF(E38=0,\"-\",G38/(SIGN(E38)*E38))","v":"-"}]
[null,"- udziały lub akcje",{"$f":"Bilans_AKTYWA!S40/1000","v":0},"-",{"$f":"Bilans_AKTYWA!X40/1000","v":0},"-",{"$f":"C39-E39","v":0},{"$f":"IF(E39=0,\"-\",G39/(SIGN(E39)*E39))","v":"-"}]
[null,"- inne papiery wartościowe",{"$f":"Bilans_AKTYWA!S41/1000","v":0},"-",{"$f":"Bilans_AKTYWA!X41/1000","v":0},"-",{"$f":"C40-E40","v":0},{"$f":"IF(E40=0,\"-\",G40/(SIGN(E40)*E40))","v":"-"}]
[null,"- udzielone pożyczki",{"$f":"Bilans_AKTYWA!S42/1000","v":0},"-",{"$f":"Bilans_AKTYWA!X42/1000","v":0},"-",{"$f":"C41-E41","v":0},{"$f":"IF(E41=0,\"-\",G41/(SIGN(E41)*E41))","v":"-"}]
[null,"- inne długoterminowe aktywa finansowe",{"$f":"Bilans_AKTYWA!S43/1000","v":0},{"$f":"IF(C$97=0,\"-\",C42/C$97)","v":"-"},{"$f":"Bilans_AKTYWA!X43/1000","v":0},{"$f":"IF(E$97=0,\"-\",E42/E$97)","v":"-"},{"$f":"C42-E42","v":0},{"$f":"IF(E42=0,\"-\",G42/(SIGN(E42)*E42))","v":"-"}]
[null,"- w pozostałych jednostkach",{"$f":"SUM(C44:C47)","v":0},"-",{"$f":"SUM(E44:E47)","v":0},"-",0,"-"]
[null,"- udziały lub akcje",{"$f":"Bilans_AKTYWA!S45/1000","v":0},"-",{"$f":"Bilans_AKTYWA!X45/1000","v":0},"-",0,"-"]
[null,"- inne papiery wartościowe",{"$f":"Bilans_AKTYWA!S46/1000","v":0},"-",{"$f":"Bilans_AKTYWA!X46/1000","v":0},"-",0,"-"]
[null,"- udzielone pożyczki",{"$f":"Bilans_AKTYWA!S47/1000","v":0},"-",{"$f":"Bilans_AKTYWA!X47/1000","v":0},"-",0,"-"]
[null,"- inne długoterminowe aktywa finansowe",{"$f":"Bilans_AKTYWA!S48/1000","v":0},"-",{"$f":"Bilans_AKTYWA!X48/1000","v":0},"-",0,"-"]
[null,"Inne inwestycje długoterminowe",{"$f":"Bilans_AKTYWA!S49/1000","v":0},"-",{"$f":"Bilans_AKTYWA!X49/1000","v":0},"-",0,{"$f":"IF(E48=0,\"-\",G48/(SIGN(E48)*E48))","v":"-"},null,1]
["V.","Długoterminowe rozliczenia międzyokresowe",{"$f":"SUM(C50:C51)","v":0},"-",{"$f":"SUM(E50:E51)","v":0},"-",0,"-",1]
[null,"Aktywa z tytułu odroczonego podatku dochodowego",{"$f":"Bilans_AKTYWA!S51/1000","v":0},"-",{"$f":"Bilans_AKTYWA!X51/1000","v":0},"-",0,"-",null,1]
[null,"Inne rozliczenia międzyokresowe",{"$f":"Bilans_AKTYWA!S52/1000","v":0},"-",{"$f":"Bilans_AKTYWA!X52/1000","v":0},"-",0,"-",null,1]
["B.","Aktywa obrotowe",{"$f":"SUM(C53+C59+C77+C94)","v":0},"-",{"$f":"SUM(E53+E59+E77+E94)","v":0},"-",0,"-",1]
["I.","Zapasy",{"$f":"SUM(C54:C58)","v":0},"-",{"$f":"SUM(E54:E58)","v":0},"-",0,"-",1]
[null,"Materiały",{"$f":"Bilans_AKTYWA!S69/1000","v":0},"-",{"$f":"Bilans_AKTYWA!X69/1000","v":0},"-",0,"-"]
[null,"Półprodukty i produkty w toku",{"$f":"Bilans_AKTYWA!S70/1000","v":0},"-",{"$f":"Bilans_AKTYWA!X70/1000","v":0},"-",0,"-"]
[null,"Produkty gotowe",{"$f":"Bilans_AKTYWA!S71/1000","v":0},"-",{"$f":"Bilans_AKTYWA!X71/1000","v":0},"-",0,"-"]
[null,"Towary",{"$f":"Bilans_AKTYWA!S72/1000","v":0},"-",{"$f":"Bilans_AKTYWA!X72/1000","v":0},"-",0,"-"]
[null,"Zaliczki na dostawy",{"$f":"Bilans_AKTYWA!S73/1000","v":0},"-",{"$f":"Bilans_AKTYWA!X73/1000","v":0},"-",0,"-"]
["II.","Należności krótkoterminowe",{"$f":"SUM(C60+C65+C70)","v":0},"-",{"$f":"SUM(E60+E65+E70)","v":0},"-",0,"-",1]
[null,"Należności od jednostek powiązanych",{"$f":"SUM(C61+C64)","v":0},"-",{"$f":"SUM(E61+E64)","v":0},"-",0,"-",null,1]
[null,"- w tym z tytułu dostaw i usług",{"$f":"SUM(C62:C63)","v":0},"-",{"$f":"SUM(E62:E63)","v":0},"-",0,"-"]
[null,"- do 12 miesięcy ",{"$f":"Bilans_AKTYWA!S77/1000","v":0},"-",{"$f":"Bilans_AKTYWA!X77/1000","v":0},"-",0,"-"]
[null,"- powyżej 12 miesięcy",{"$f":"Bilans_AKTYWA!S78/1000","v":0},"-",{"$f":"Bilans_AKTYWA!X78/1000","v":0},"-",0,"-"]
[null,"- inne",{"$f":"Bilans_AKTYWA!S79/1000","v":0},"-",{"$f":"Bilans_AKTYWA!X79/1000","v":0},"-",0,"-"]
[null,"Należności od jednostek powiązanych, w których jednostka posiada zaangażowanie w kapitale",{"$f":"SUM(C66+C69)","v":0},"-",{"$f":"SUM(E66+E69)","v":0},"-",{"$f":"C65-E65","v":0},{"$f":"IF(E65=0,\"-\",G65/(SIGN(E65)*E65))","v":"-"},null,1]
[null,"- z tytułu dostaw i usług",{"$f":"SUM(C67:C68)","v":0},"-",{"$f":"SUM(E67:E68)","v":0},"-",{"$f":"C66-E66","v":0},{"$f":"IF(E66=0,\"-\",G66/(SIGN(E66)*E66))","v":"-"}]
[null,"- do 12 miesięcy ",{"$f":"Bilans_AKTYWA!S83/1000","v":0},"-",{"$f":"Bilans_AKTYWA!X83/1000","v":0},"-",{"$f":"C67-E67","v":0},{"$f":"IF(E67=0,\"-\",G67/(SIGN(E67)*E67))","v":"-"}]
[null,"- powyżej 12 miesięcy",{"$f":"Bilans_AKTYWA!S84/1000","v":0},{"$f":"IF(C$97=0,\"-\",C68/C$97)","v":"-"},{"$f":"Bilans_AKTYWA!X84/1000","v":0},{"$f":"IF(E$97=0,\"-\",E68/E$97)","v":"-"},{"$f":"C68-E68","v":0},{"$f":"IF(E68=0,\"-\",G68/(SIGN(E68)*E68))","v":"-"}]
[null,"- inne",{"$f":"Bilans_AKTYWA!S85/1000","v":0},{"$f":"IF(C$97=0,\"-\",C69/C$97)","v":"-"},{"$f":"Bilans_AKTYWA!X85/1000","v":0},{"$f":"IF(E$97=0,\"-\",E69/E$97)","v":"-"},{"$f":"C69-E69","v":0},{"$f":"IF(E69=0,\"-\",G69/(SIGN(E69)*E69))","v":"-"}]
[null,"Należności od pozostałych jednostek",{"$f":"SUM(C71+C74+C75+C76)","v":0},{"$f":"IF(C$97=0,\"-\",C70/C$97)","v":"-"},{"$f":"SUM(E71+E74+E75+E76)","v":0},{"$f":"IF(E$97=0,\"-\",E70/E$97)","v":"-"},0,"-",null,1]
[null,"- w tym z tytułu dostaw i usług",{"$f":"SUM(C72:C73)","v":0},"-",{"$f":"SUM(E72:E73)","v":0},"-",0,"-",null,1]
[null,"- do 12 miesięcy",{"$f":"Bilans_AKTYWA!S88/1000","v":0},"-",{"$f":"Bilans_AKTYWA!X88/1000","v":0},"-",0,"-"]
[null,"- powyżej 12 miesięcy",{"$f":"Bilans_AKTYWA!S89/1000","v":0},"-",{"$f":"Bilans_AKTYWA!X89/1000","v":0},"-",0,"-"]
[null,"- w tym z tytułu podatków, dotacji, ceł, ubezpieczeń społecznych i zdrowotnych oraz innych świadczeń",{"$f":"Bilans_AKTYWA!S90/1000","v":0},"-",{"$f":"Bilans_AKTYWA!X90/1000","v":0},"-",0,"-"]
[null,"- inne",{"$f":"Bilans_AKTYWA!S92/1000","v":0},"-",{"$f":"Bilans_AKTYWA!X92/1000","v":0},"-",0,"-"]
[null,"- dochodzone na drodze sądowej",{"$f":"Bilans_AKTYWA!S93/1000","v":0},"-",{"$f":"Bilans_AKTYWA!X93/1000","v":0},"-",0,"-"]
["III.","Inwestycje krótkoterminowe",{"$f":"SUM(C78+C93)","v":0},"-",{"$f":"SUM(E78+E93)","v":0},"-",0,"-",1]
[null,"Krótkoterminowe aktywa finansowe",{"$f":"SUM(C79+C84+C89)","v":0},"-",{"$f":"SUM(E79+E84+E89)","v":0},"-",0,"-",null,1]
[null,"- w jednostkach powiązanych",{"$f":"SUM(C80:C83)","v":0},"-",{"$f":"SUM(E80:E83)","v":0},"-",0,"-"]
[null,"- udziały lub akcje",{"$f":"Bilans_AKTYWA!S97/1000","v":0},"-",{"$f":"Bilans_AKTYWA!X97/1000","v":0},"-",0,"-"]
[null,"- inne papiery wartościowe",{"$f":"Bilans_AKTYWA!S98/1000","v":0},"-",{"$f":"Bilans_AKTYWA!X98/1000","v":0},"-",0,"-"]
[null,"- udzielone pożyczki",{"$f":"Bilans_AKTYWA!S99/1000","v":0},"-",{"$f":"Bilans_AKTYWA!X99/1000","v":0},"-",0,"-"]
[null,"- inne krótkoterminowe aktywa finansowe",{"$f":"Bilans_AKTYWA!S100/1000","v":0},"-",{"$f":"Bilans_AKTYWA!X100/1000","v":0},"-",0,"-"]
[null,"- w pozostałych jednostkach",{"$f":"SUM(C85:C88)","v":0},"-",{"$f":"SUM(E85:E88)","v":0},"-",0,"-"]
[null,"- udziały lub akcje",{"$f":"Bilans_AKTYWA!S102/1000","v":0},{"$f":"IF(C$97=0,\"-\",C85/C$97)","v":"-"},{"$f":"Bilans_AKTYWA!X102/1000","v":0},{"$f":"IF(E$97=0,\"-\",E85/E$97)","v":"-"},{"$f":"C85-E85","v":0},{"$f":"IF(E85=0,\"-\",G85/(SIGN(E85)*E85))","v":"-"}]
[null,"- inne papiery wartościowe",{"$f":"Bilans_AKTYWA!S103/1000","v":0},"-",{"$f":"Bilans_AKTYWA!X103/1000","v":0},"-",0,"-"]
[null,"- udzielone pożyczki",{"$f":"Bilans_AKTYWA!S104/1000","v":0},"-",{"$f":"Bilans_AKTYWA!X104/1000","v":0},"-",0,"-"]
[null,"- inne krótkoterminowe aktywa finansowe",{"$f":"Bilans_AKTYWA!S105/1000","v":0},"-",{"$f":"Bilans_AKTYWA!X105/1000","v":0},"-",0,"-"]
[null,"- środki pieniężne i inne aktywa pieniężne",{"$f":"SUM(C90:C92)","v":0},"-",{"$f":"SUM(E90:E92)","v":0},"-",0,"-"]
[null,"- środki pieniężne w kasie i na rachunkach",{"$f":"Bilans_AKTYWA!S107/1000","v":0},"-",{"$f":"Bilans_AKTYWA!X107/1000","v":0},"-",0,"-"]
[null,"- inne środki pieniężne",{"$f":"Bilans_AKTYWA!S108/1000","v":0},"-",{"$f":"Bilans_AKTYWA!X108/1000","v":0},"-",0,"-"]
[null,"- inne aktywa pieniężne",{"$f":"Bilans_AKTYWA!S109/1000","v":0},"-",{"$f":"Bilans_AKTYWA!X109/1000","v":0},"-",0,"-"]
[null,"Inne inwestycje krótkoterminowe",{"$f":"Bilans_AKTYWA!S110/1000","v":0},"-",{"$f":"Bilans_AKTYWA!X110/1000","v":0},"-",0,"-",null,1]
["IV.","Krótkoterminowe rozliczenia międzyokresowe",{"$f":"Bilans_AKTYWA!S111/1000","v":0},"-",{"$f":"Bilans_AKTYWA!X111/1000","v":0},"-",0,"-",1]
["C.","Należne wpłaty na kapitał (fundusz) podstawowy",{"$f":"Bilans_AKTYWA!S112/1000","v":0},{"$f":"IF(C$97=0,\"-\",C95/C$97)","v":"-"},{"$f":"Bilans_AKTYWA!X112/1000","v":0},{"$f":"IF(E$97=0,\"-\",E95/E$97)","v":"-"},{"$f":"C95-E95","v":0},{"$f":"IF(E95=0,\"-\",G95/(SIGN(E95)*E95))","v":"-"},1]
["D.","Udziały (akcje) własne",{"$f":"Bilans_AKTYWA!S113/1000","v":0},{"$f":"IF(C$97=0,\"-\",C96/C$97)","v":"-"},{"$f":"Bilans_AKTYWA!X113/1000","v":0},{"$f":"IF(E$97=0,\"-\",E96/E$97)","v":"-"},{"$f":"C96-E96","v":0},{"$f":"IF(E96=0,\"-\",G96/(SIGN(E96)*E96))","v":"-"},1]
["AKTYWA RAZEM",null,{"$f":"SUM(C52+C10+C95+C96)","v":0},{"$f":"IF(C$97=0,\"-\",C97/C$97)","v":"-"},{"$f":"SUM(E52+E10+E95+E96)","v":0},{"$f":"IF(E$97=0,\"-\",E97/E$97)","v":"-"},0,"-",1]
[]
[null,"sprawdzenie",{"$f":"Bilans_AKTYWA!$S$114/1000","v":0},null,{"$f":"Bilans_AKTYWA!$X$114/1000","v":0}]
[null,"różnica",{"$f":"C97-C99","v":0},null,{"$f":"E97-E99","v":0}]

{"sheet":"PASYWAT_ANALIZA","index":93,"n_rows":72,"n_cols":12,"rows_kept":72,"cut":false,"hidden":true,"merged":[[2,11,2,16],[3,0,3,6],[4,0,5,7],[6,6,6,7],[68,0,68,1],[6,0,8,0],[6,1,7,1],[6,2,6,3],[6,4,6,5]]}
[{"$f":"nazwa","v":"DEMO"}]
[{"$f":"temat","v":"Sprawozdanie finansowe za rok 2023"}]
[null,null,null,null,null,null,null,null,null,null,null,"Powrót do parametrów"]
[]
["BILANS - PASYWA - ANALIZA"]
[]
["Lp.","Wyszczególnienie",{"$f":"stanb","v":"Stan na dzień dd.mm.rrrr"},null,{"$f":"stanp","v":"Stan na dzień dd.mm.rrrr"},null,"Zmiana stanu"]
[null,null,"tys. zł","% struktura","tys. zł","% struktura","kwota (2-4)","% (8:4)"]
[null,1,2,3,4,5,6,7]
[" A.","Kapitał (fundusz)  własny",{"$f":"C11+C12+C14+C16+C19+C20+C21","v":0},{"$f":"IF(C$69=0,\"-\",C10/C$69)","v":"-"},{"$f":"E11+E12+E14+E16+E19+E20+E21","v":0},{"$f":"IF(E$69=0,\"-\",E10/E$69)","v":"-"},{"$f":"C10-E10","v":0},{"$f":"IF(E10=0,\"-\",G10/(SIGN(E10)*E10))","v":"-"},1]
[null,"Kapitał (fundusz) podstawowy",{"$f":"Bilans_PASYWA!S10/1000","v":0},"-",{"$f":"Bilans_PASYWA!X10/1000","v":0},"-",0,"-",1]
[null,"Kapitał (fundusz) zapasowy, w tym:",{"$f":"Bilans_PASYWA!S11/1000","v":0},"-",{"$f":"Bilans_PASYWA!X11/1000","v":0},"-",0,"-",1]
[null,"- nadwyżka wartości sprzedaży (wartości emisyjnej) nad wartością nominalną udziałów (akcji)",{"$f":"Bilans_PASYWA!S12/1000","v":0},"-",{"$f":"Bilans_PASYWA!X12/1000","v":0},"-",{"$f":"C13-E13","v":0},{"$f":"IF(E13=0,\"-\",G13/(SIGN(E13)*E13))","v":"-"}]
[null,"Kapitał (fundusz) z aktualizacji wyceny, w tym:",{"$f":"Bilans_PASYWA!S15/1000","v":0},"-",{"$f":"Bilans_PASYWA!X15/1000","v":0},"-",0,"-",1]
[null,"- z tytułu aktualizacji wartości godziwej",{"$f":"Bilans_PASYWA!S16/1000","v":0},"-",{"$f":"Bilans_PASYWA!X16/1000","v":0},"-",{"$f":"C15-E15","v":0},{"$f":"IF(E15=0,\"-\",G15/(SIGN(E15)*E15))","v":"-"}]
[null,"Pozostałe kapitały (fundusze) rezerwowe, w tym:",{"$f":"Bilans_PASYWA!S17/1000","v":0},"-",{"$f":"Bilans_PASYWA!X17/1000","v":0},"-",0,"-",1]
[null,"- tworzone zgodnie z umową (statutem) spółki",{"$f":"Bilans_PASYWA!S18/1000","v":0},{"$f":"IF(C$69=0,\"-\",C17/C$69)","v":"-"},{"$f":"Bilans_PASYWA!X18/1000","v":0},{"$f":"IF(E$69=0,\"-\",E17/E$69)","v":"-"},{"$f":"C17-E17","v":0},{"$f":"IF(E17=0,\"-\",G17/(SIGN(E17)*E17))","v":"-"}]
[null,"- na udziały (akcje) własne",{"$f":"Bilans_PASYWA!S19/1000","v":0},{"$f":"IF(C$69=0,\"-\",C18/C$69)","v":"-"},{"$f":"Bilans_PASYWA!X19/1000","v":0},{"$f":"IF(E$69=0,\"-\",E18/E$69)","v":"-"},{"$f":"C18-E18","v":0},{"$f":"IF(E18=0,\"-\",G18/(SIGN(E18)*E18))","v":"-"}]
[null,"Zysk (strata) z lat ubiegłych",{"$f":"Bilans_PASYWA!S21/1000","v":0},{"$f":"IF(C$69=0,\"-\",C19/C$69)","v":"-"},{"$f":"Bilans_PASYWA!X21/1000","v":0},{"$f":"IF(E$69=0,\"-\",E19/E$69)","v":"-"},0,"-",1]
[null,"Zysk (strata) netto",{"$f":"Bilans_PASYWA!S24/1000","v":0},"-",{"$f":"Bilans_PASYWA!X24/1000","v":0},"-",0,"-",1]
[null,"Odpisy z zysku netto w ciągu roku obrotowego (wielkość ujemna)",{"$f":"Bilans_PASYWA!S25/1000","v":0},"-",{"$f":"Bilans_PASYWA!X25/1000","v":0},"-",0,"-",1]
[" B.","Zobowiązania i rezerwy na zobowiązania",{"$f":"C23+C31+C40+C64","v":0},"-",{"$f":"E23+E31+E40+E64","v":0},"-",0,"-",1]
["I.","Rezerwy na zobowiązania",{"$f":"SUM(C24+C25+C28)","v":0},"-",{"$f":"SUM(E24+E25+E28)","v":0},"-",0,"-",1]
[null,"Rezerwa z tytułu odroczonego podatku dochodowego",{"$f":"Bilans_PASYWA!S29/1000","v":0},"-",{"$f":"Bilans_PASYWA!X29/1000","v":0},"-",0,"-",null,1]
[null,"Rezerwa na świadczenia emerytalne i podobne",{"$f":"SUM(C26:C27)","v":0},"-",{"$f":"SUM(E26:E27)","v":0},"-",0,"-",null,1]
[null,"- długoterminowa",{"$f":"Bilans_PASYWA!S31/1000","v":0},"-",{"$f":"Bilans_PASYWA!X31/1000","v":0},"-",0,"-"]
[null,"- krótkoterminowa",{"$f":"Bilans_PASYWA!S32/1000","v":0},"-",{"$f":"Bilans_PASYWA!X32/1000","v":0},"-",0,"-"]
[null,"Pozostałe rezerwy",{"$f":"SUM(C29:C30)","v":0},"-",{"$f":"SUM(E29:E30)","v":0},"-",0,"-",null,1]
[null,"- długoterminowe",{"$f":"Bilans_PASYWA!S34/1000","v":0},"-",{"$f":"Bilans_PASYWA!X34/1000","v":0},"-",0,"-"]
[null,"- krótkoterminowe",{"$f":"Bilans_PASYWA!S35/1000","v":0},"-",{"$f":"Bilans_PASYWA!X35/1000","v":0},"-",0,"-"]
["II.","Zobowiązania długoterminowe",{"$f":"SUM(C32+C33+C34)","v":0},"-",{"$f":"SUM(E32+E33+E34)","v":0},"-",0,"-",1]
[null,"Wobec jednostek powiązanych",{"$f":"Bilans_PASYWA!S37/1000","v":0},"-",{"$f":"Bilans_PASYWA!X37/1000","v":0},"-",0,"-",null,1]
[null,"Wobec pozostałych jednostek, w których jednostka posiada zaangażowanie w kapitale",{"$f":"Bilans_PASYWA!S38/1000","v":0},"-",{"$f":"Bilans_PASYWA!X38/1000","v":0},"-",{"$f":"C33-E33","v":0},{"$f":"IF(E33=0,\"-\",G33/(SIGN(E33)*E33))","v":"-"},null,1]
[null,"Wobec pozostałych jednostek",{"$f":"SUM(C35:C39)","v":0},"-",{"$f":"SUM(E35:E39)","v":0},"-",0,"-",null,1]
[null,"- w tym kredyty i pożyczki",{"$f":"Bilans_PASYWA!S41/1000","v":0},"-",{"$f":"Bilans_PASYWA!X41/1000","v":0},"-",0,"-",null,1]
[null,"- z tytułu emisji dłużnych papierów wartościowych",{"$f":"Bilans_PASYWA!S42/1000","v":0},"-",{"$f":"Bilans_PASYWA!X42/1000","v":0},{"$f":"IF(E$69=0,\"-\",E36/E$69)","v":"-"},{"$f":"C36-E36","v":0},{"$f":"IF(E36=0,\"-\",G36/(SIGN(E36)*E36))","v":"-"}]
[null,"- inne zobowiązania finansowe",{"$f":"Bilans_PASYWA!S43/1000","v":0},"-",{"$f":"Bilans_PASYWA!X43/1000","v":0},{"$f":"IF(E$69=0,\"-\",E37/E$69)","v":"-"},{"$f":"C37-E37","v":0},{"$f":"IF(E37=0,\"-\",G37/(SIGN(E37)*E37))","v":"-"}]
[null,"- zobowiązania wekslowe",{"$f":"Bilans_PASYWA!S44/1000","v":0},"-",{"$f":"Bilans_PASYWA!X44/1000","v":0},{"$f":"IF(E$69=0,\"-\",E38/E$69)","v":"-"},{"$f":"C38-E38","v":0},{"$f":"IF(E38=0,\"-\",G38/(SIGN(E38)*E38))","v":"-"}]
[null,"- inne",{"$f":"Bilans_PASYWA!S45/1000","v":0},"-",{"$f":"Bilans_PASYWA!X45/1000","v":0},{"$f":"IF(E$69=0,\"-\",E39/E$69)","v":"-"},{"$f":"C39-E39","v":0},{"$f":"IF(E39=0,\"-\",G39/(SIGN(E39)*E39))","v":"-"}]
["III.","Zobowiązania krótkoterminowe",{"$f":"SUM(C41+C46+C51+C63)","v":0},"-",{"$f":"SUM(E41+E46+E51+E63)","v":0},"-",0,"-",1]
[null,"Wobec jednostek powiązanych",{"$f":"SUM(C42+C45)","v":0},"-",{"$f":"SUM(E42+E45)","v":0},"-",0,"-",null,1]
[null,"- w tym z tytułu dostaw i usług",{"$f":"SUM(C43:C44)","v":0},"-",{"$f":"SUM(E43:E44)","v":0},"-",0,"-"]
[null,"- do 12 miesięcy",{"$f":"Bilans_PASYWA!S49/1000","v":0},"-",{"$f":"Bilans_PASYWA!X49/1000","v":0},"-",0,"-"]
[null,"- powyżej 12 miesięcy",{"$f":"Bilans_PASYWA!S50/1000","v":0},"-",{"$f":"Bilans_PASYWA!X50/1000","v":0},"-",0,"-"]
[null,"- inne",{"$f":"Bilans_PASYWA!S51/1000","v":0},"-",{"$f":"Bilans_PASYWA!X51/1000","v":0},"-",0,"-"]
[null,"Wobec pozostałych jednostek, w których jednostka posiada zaangażowanie w kapitale",{"$f":"SUM(C47+C50)","v":0},"-",{"$f":"SUM(E47+E50)","v":0},"-",{"$f":"C46-E46","v":0},{"$f":"IF(E46=0,\"-\",G46/(SIGN(E46)*E46))","v":"-"},null,1]
[null,"- z tytułu dostaw i usług",{"$f":"SUM(C48:C49)","v":0},"-",{"$f":"SUM(E48:E49)","v":0},"-",{"$f":"C47-E47","v":0},{"$f":"IF(E47=0,\"-\",G47/(SIGN(E47)*E47))","v":"-"}]
[null,"- do 12 miesięcy",{"$f":"Bilans_PASYWA!S55/1000","v":0},"-",{"$f":"Bilans_PASYWA!X55/1000","v":0},"-",{"$f":"C48-E48","v":0},{"$f":"IF(E48=0,\"-\",G48/(SIGN(E48)*E48))","v":"-"}]
[null,"- powyżej 12 miesięcy",{"$f":"Bilans_PASYWA!S56/1000","v":0},"-",{"$f":"Bilans_PASYWA!X56/1000","v":0},"-",{"$f":"C49-E49","v":0},{"$f":"IF(E49=0,\"-\",G49/(SIGN(E49)*E49))","v":"-"}]
[null,"- inne",{"$f":"Bilans_PASYWA!S57/1000","v":0},"-",{"$f":"Bilans_PASYWA!X57/1000","v":0},"-",{"$f":"C50-E50","v":0},{"$f":"IF(E50=0,\"-\",G50/(SIGN(E50)*E50))","v":"-"}]
[null,"Wobec pozostałych jednostek",{"$f":"SUM(C52+C53+C54+C55+C58+C59+C60+C61+C62)","v":0},"-",{"$f":"SUM(E52+E53+E54+E55+E58+E59+E60+E61+E62)","v":0},"-",0,{"$f":"IF(E51=0,\"-\",G51/(SIGN(E51)*E51))","v":"-"},null,1]
[null,"- w tym kredyty i pożyczki",{"$f":"Bilans_PASYWA!S68/1000","v":0},{"$f":"IF(C$69=0,\"-\",C52/C$69)","v":"-"},{"$f":"Bilans_PASYWA!X68/1000","v":0},{"$f":"IF(E$69=0,\"-\",E52/E$69)","v":"-"},0,"-",null,1]
[null,"- z tytułu emisji dłużnych papierów wartościowych",{"$f":"Bilans_PASYWA!S69/1000","v":0},"-",{"$f":"Bilans_PASYWA!X69/1000","v":0},"-",0,"-"]
[null,"- inne zobowiązania finansowe",{"$f":"Bilans_PASYWA!S70/1000","v":0},"-",{"$f":"Bilans_PASYWA!X70/1000","v":0},"-",0,"-"]
[null,"- w tym z tytułu dostaw i usług",{"$f":"SUM(C56:C57)","v":0},"-",{"$f":"SUM(E56:E57)","v":0},"-",0,"-",null,1]
[null,"- do 12 miesięcy",{"$f":"Bilans_PASYWA!S72/1000","v":0},"-",{"$f":"Bilans_PASYWA!X72/1000","v":0},"-",0,"-"]
[null,"- powyżej 12 miesięcy",{"$f":"Bilans_PASYWA!S73/1000","v":0},"-",{"$f":"Bilans_PASYWA!X73/1000","v":0},"-",0,"-"]
[null,"- zaliczki otrzymane na dostawy",{"$f":"Bilans_PASYWA!S74/1000","v":0},"-",{"$f":"Bilans_PASYWA!X74/1000","v":0},"-",0,"-"]
[null,"- zobowiązania wekslowe",{"$f":"Bilans_PASYWA!S75/1000","v":0},"-",{"$f":"Bilans_PASYWA!X75/1000","v":0},"-",0,"-"]
[null,"- w tym z tytułu podatków, ceł, ubezpieczeń i innych świadczeń",{"$f":"Bilans_PASYWA!S76/1000","v":0},"-",{"$f":"Bilans_PASYWA!X76/1000","v":0},"-",0,"-"]
[null,"- z tytułu wynagrodzeń",{"$f":"Bilans_PASYWA!S77/1000","v":0},"-",{"$f":"Bilans_PASYWA!X77/1000","v":0},"-",0,"-"]
[null,"- inne",{"$f":"Bilans_PASYWA!S78/1000","v":0},"-",{"$f":"Bilans_PASYWA!X78/1000","v":0},"-",0,"-"]
[null,"Fundusze specjalne",{"$f":"Bilans_PASYWA!S79/1000","v":0},"-",{"$f":"Bilans_PASYWA!X79/1000","v":0},"-",0,"-"]
["IV.","Rozliczenia międzyokresowe",{"$f":"SUM(C65:C66)","v":0},"-",{"$f":"SUM(E65:E66)","v":0},"-",0,"-",1]
[null,"Ujemna wartość firmy",{"$f":"Bilans_PASYWA!S81/1000","v":0},"-",{"$f":"Bilans_PASYWA!X81/1000","v":0},"-",0,"-",null,1]
[null,"Inne rozliczenia międzyokresowe",{"$f":"SUM(C67:C68)","v":0},"-",{"$f":"SUM(E67:E68)","v":0},"-",0,"-",null,1]
[null,"- długoterminowe",{"$f":"Bilans_PASYWA!S83/1000","v":0},"-",{"$f":"Bilans_PASYWA!X83/1000","v":0},"-",0,"-"]
[null,"- krótkoterminowe",{"$f":"Bilans_PASYWA!S84/1000","v":0},"-",{"$f":"Bilans_PASYWA!X84/1000","v":0},"-",0,"-"]
["PASYWA RAZEM",null,{"$f":"SUM(C22+C10)","v":0},"-",{"$f":"SUM(E22+E10)","v":0},"-",0,"-",1]
[]
[null,"sprawdzenie",{"$f":"Bilans_PASYWA!$S$85/1000","v":0},null,{"$f":"Bilans_PASYWA!$X$85/1000","v":0}]
[null,"różnica",{"$f":"C69-C71","v":0},null,{"$f":"E69-E71","v":0}]

{"sheet":"RACH_POR_ANALIZA","index":94,"n_rows":20,"n_cols":8,"rows_kept":20,"cut":false,"hidden":true,"merged":[[2,7,2,12],[6,1,7,1],[6,0,7,0],[6,4,6,5],[3,0,3,5],[4,0,5,5]]}
[{"$f":"nazwa","v":"DEMO"}]
[{"$f":"temat","v":"Sprawozdanie finansowe za rok 2023"}]
[null,null,null,null,null,null,null,"Powrót do parametrów"]
[]
["RACHUNEK ZYSKÓW I STRAT - ANALIZA"]
[]
["L.p.","Wyszczególnienie",{"$f":"rokb","v":"dd.mm-dd.mm.rrrr"},{"$f":"rokp","v":"dd.mm-dd.mm.rrrr"},"Zmiana"]
[null,null,"tys. zł","tys. zł","kwota  tys. zł (3-4)","% (5:4)"]
[1,2,3,4,5,6]
[" 1.","Przychody ze sprzedaży ",{"$f":"Rachunek_ZiS_porównawczy!S12/1000+Rachunek_ZiS_porównawczy!S16/1000","v":0},{"$f":"Rachunek_ZiS_porównawczy!X12/1000+Rachunek_ZiS_porównawczy!X16/1000","v":0},{"$f":"C10-D10","v":0},{"$f":"IF(OR(D10=0,C10*D10<0),\"-\",E10/(SIGN(D10)*D10))","v":"-"}]
[" 2.","Koszty działalności operacyjnej",{"$f":"Rachunek_ZiS_porównawczy!S17/1000-Rachunek_ZiS_porównawczy!S13/1000-Rachunek_ZiS_porównawczy!S15/1000","v":0},{"$f":"Rachunek_ZiS_porównawczy!X17/1000-Rachunek_ZiS_porównawczy!X13/1000-Rachunek_ZiS_porównawczy!X15/1000","v":0},0,{"$f":"IF(OR(D11=0,C11*D11<0),\"-\",E11/(SIGN(D11)*D11))","v":"-"}]
[" 3.","Wynik na sprzedaży",{"$f":"C10-C11","v":0},{"$f":"D10-D11","v":0},0,"-"]
[" 4.","Wynik na pozostałej działalności operacyjnej",{"$f":"Rachunek_ZiS_porównawczy!S29/1000-Rachunek_ZiS_porównawczy!S34/1000","v":0},{"$f":"Rachunek_ZiS_porównawczy!X29/1000-Rachunek_ZiS_porównawczy!X34/1000","v":0},0,"-"]
[" 5.","Wynik na operacjach finansowych",{"$f":"Rachunek_ZiS_porównawczy!S39/1000-Rachunek_ZiS_porównawczy!S51/1000","v":0},{"$f":"Rachunek_ZiS_porównawczy!X39/1000-Rachunek_ZiS_porównawczy!X51/1000","v":0},0,"-"]
[" 6.","Wynik brutto (3+4+5)",{"$f":"C12+C13+C14","v":0},{"$f":"D12+D13+D14","v":0},0,"-"]
[" 7.","Obowiązkowe zmniejszenia wyniku",{"$f":"Rachunek_ZiS_porównawczy!S59/1000+Rachunek_ZiS_porównawczy!S60/1000","v":0},{"$f":"Rachunek_ZiS_porównawczy!X59/1000+Rachunek_ZiS_porównawczy!X60/1000","v":0},0,"-"]
[" 8.","Wynik netto (6-7)",{"$f":"C15-C16","v":0},{"$f":"D15-D16","v":0},0,"-"]
[]
[null,"sprawdzenie",{"$f":"Rachunek_ZiS_porównawczy!$S$61/1000","v":0},{"$f":"Rachunek_ZiS_porównawczy!$X$61/1000","v":0}]
[null,"różnica",{"$f":"C17-C19","v":0},{"$f":"D17-D19","v":0}]

{"sheet":"WSKAŹNIKI_POR_ANALIZA","index":95,"n_rows":45,"n_cols":6,"rows_kept":45,"cut":false,"hidden":true,"merged":[[3,0,3,3],[4,0,5,3],[13,2,14,2],[13,3,14,3],[2,5,2,10],[15,2,16,2],[15,3,16,3],[8,1,8,3],[9,2,10,2],[9,3,10,3],[11,2,12,2],[11,3,12,3],[17,1,17,3],[20,2,21,2],[20,3,21,3],[18,2,19,2],[18,3,19,3],[29,2,30,2],[29,3,30,3],[31,2,32,2],[22,2,23,2],[22,3,23,3],[24,2,25,2],[24,3,25,3],[26,1,26,3],[27,2,28,2],[27,3,28,3],[36,3,37,3],[34,2,35,2],[34,3,35,3],[31,3,32,3],[43,2,44,2],[43,3,44,3],[38,2,39,2],[38,3,39,3],[40,1,40,3],[41,2,42,2],[41,3,42,3],[33,1,33,3],[36,2,37,2]]}
[{"$f":"nazwa","v":"DEMO"}]
[{"$f":"temat","v":"Sprawozdanie finansowe za rok 2023"}]
[null,null,null,null,null,"Powrót do parametrów"]
[]
["WSKAŹNIKI - ANALIZA"]
[]
["Lp.","Treść",{"$f":"stanb","v":"Stan na dzień dd.mm.rrrr"},{"$f":"stanp","v":"Stan na dzień dd.mm.rrrr"}]
[1,2,3,4]
["1.","Wskaźniki charakteryzujące opłacalność działalności"]
["1.1.","Rentowność aktywów ROA",{"$f":"IF(AKTYWAT_ANALIZA!C97=0,\"-\",RACH_POR_ANALIZA!C17/AKTYWAT_ANALIZA!C97)","v":"-"},{"$f":"IF(AKTYWAT_ANALIZA!E97=0,\"-\",RACH_POR_ANALIZA!D17/AKTYWAT_ANALIZA!E97)","v":"-"}]
[null,"wynik finansowy netto  /  suma aktywów"]
["1.2.","Rentowność kapitałów własnych ROE",{"$f":"IF(PASYWAT_ANALIZA!C10=0,\"-\",RACH_POR_ANALIZA!C17/PASYWAT_ANALIZA!C10)","v":"-"},{"$f":"IF(PASYWAT_ANALIZA!E10=0,\"-\",RACH_POR_ANALIZA!D17/PASYWAT_ANALIZA!E10)","v":"-"}]
[null,"wynik finansowy netto  /  kapitał własny"]
["1.3.","Rentowność netto",{"$f":"IF(RACH_POR_ANALIZA!C10=0,\"-\",RACH_POR_ANALIZA!C17/RACH_POR_ANALIZA!C10)","v":"-"},{"$f":"IF(RACH_POR_ANALIZA!D10=0,\"-\",RACH_POR_ANALIZA!D17/RACH_POR_ANALIZA!D10)","v":"-"}]
[null,"wynik finansowy netto  /  przychody ze sprzedaży produktów i towarów"]
["1.4.","Rentowność brutto",{"$f":"IF(RACH_POR_ANALIZA!C10=0,\"-\",RACH_POR_ANALIZA!C15/RACH_POR_ANALIZA!C10)","v":"-"},{"$f":"IF(RACH_POR_ANALIZA!D10=0,\"-\",RACH_POR_ANALIZA!D15/RACH_POR_ANALIZA!D10)","v":"-"}]
[null,"wynik finansowy brutto  /  przychody ze sprzedaży produktów i towarów"]
["2.","Wskaźniki charakteryzujące płynność finansową"]
["2.1.","Płynność - wskaźnik płynności I",{"$f":"IF((PASYWAT_ANALIZA!C40-PASYWAT_ANALIZA!C44-PASYWAT_ANALIZA!C57-PASYWAT_ANALIZA!C63)=0,\"-\",(AKTYWAT_ANALIZA!C52-AKTYWAT_ANALIZA!C63-AKTYWAT_ANALIZA!C73)/(PASYWAT_ANALIZA!C40-PASYWAT_ANALIZA!C44-PASYWAT_ANALIZA!C57-PASYWAT_ANALIZA!C63))","v":"-"},{"$f":"IF((PASYWAT_ANALIZA!E40-PASYWAT_ANALIZA!E44-PASYWAT_ANALIZA!E57-PASYWAT_ANALIZA!E63)=0,\"-\",(AKTYWAT_ANALIZA!E52-AKTYWAT_ANALIZA!E63-AKTYWAT_ANALIZA!E73)/(PASYWAT_ANALIZA!E40-PASYWAT_ANALIZA!E44-PASYWAT_ANALIZA!E57-PASYWAT_ANALIZA!E63))","v":"-"}]
[null,"aktywa obrotowe ogółem  /  zobowiązania krótkoterminowe"]
["2.2.","Płynność - wskaźnik płynności II",{"$f":"IF((PASYWAT_ANALIZA!C40-PASYWAT_ANALIZA!C44-PASYWAT_ANALIZA!C57-PASYWAT_ANALIZA!C63)=0,\"-\",(AKTYWAT_ANALIZA!C52-AKTYWAT_ANALIZA!C63-AKTYWAT_ANALIZA!C73-AKTYWAT_ANALIZA!C53)/(PASYWAT_ANALIZA!C40-PASYWAT_ANALIZA!C44-PASYWAT_ANALIZA!C57-PASYWAT_ANALIZA!C63))","v":"-"},{"$f":"IF((PASYWAT_ANALIZA!E40-PASYWAT_ANALIZA!E44-PASYWAT_ANALIZA!E57-PASYWAT_ANALIZA!E63)=0,\"-\",(AKTYWAT_ANALIZA!E52-AKTYWAT_ANALIZA!E63-AKTYWAT_ANALIZA!E73-AKTYWAT_ANALIZA!E53)/(PASYWAT_ANALIZA!E40-PASYWAT_ANALIZA!E44-PASYWAT_ANALIZA!E57-PASYWAT_ANALIZA!E63))","v":"-"}]
[null,"aktywa obrotowe ogółem - zapasy  /  zobowiązania krótkoterminowe"]
["2.3.","Płynność - wskaźnik płynności III",{"$f":"IF((PASYWAT_ANALIZA!C40-PASYWAT_ANALIZA!C44-PASYWAT_ANALIZA!C57-PASYWAT_ANALIZA!C63)=0,\"-\",AKTYWAT_ANALIZA!C89/(PASYWAT_ANALIZA!C40-PASYWAT_ANALIZA!C44-PASYWAT_ANALIZA!C57-PASYWAT_ANALIZA!C63))","v":"-"},{"$f":"IF((PASYWAT_ANALIZA!E40-PASYWAT_ANALIZA!E44-PASYWAT_ANALIZA!E57-PASYWAT_ANALIZA!E63)=0,\"-\",AKTYWAT_ANALIZA!E89/(PASYWAT_ANALIZA!E40-PASYWAT_ANALIZA!E44-PASYWAT_ANALIZA!E57-PASYWAT_ANALIZA!E63))","v":"-"}]
[null," środki pieniężne i inne aktywa pieniężne  / zobowiązania krótkoterminowe"]
["2.4.","Płynność długoterminowa",{"$f":"IF((PASYWAT_ANALIZA!C40+PASYWAT_ANALIZA!C31)=0,\"-\",AKTYWAT_ANALIZA!C97/(PASYWAT_ANALIZA!C40+PASYWAT_ANALIZA!C31))","v":"-"},{"$f":"IF((PASYWAT_ANALIZA!E40+PASYWAT_ANALIZA!E31)=0,\"-\",AKTYWAT_ANALIZA!E97/(PASYWAT_ANALIZA!E40+PASYWAT_ANALIZA!E31))","v":"-"}]
[null,"aktywa ogółem / zobowiązania krótko- i długoterminowe"]
["3.","Wskaźniki efektywności gospodarowania majątkiem"]
["3.1.","Szybkość obrotu należności",{"$f":"IF(RACH_POR_ANALIZA!C10=0,\"-\",(AKTYWAT_ANALIZA!C62+AKTYWAT_ANALIZA!C72+((Należności!S18+Należności!S29+Należności!S35)/1000))*365/RACH_POR_ANALIZA!C10)","v":"-"},{"$f":"IF(RACH_POR_ANALIZA!D10=0,\"-\",(AKTYWAT_ANALIZA!E62+AKTYWAT_ANALIZA!E72+((Należności!AH18+Należności!AH29+Należności!AH35)/1000))*365/RACH_POR_ANALIZA!D10)","v":"-"}]
[null,"należności z tyt. dostaw i usług (powiększone o odpisy aktualizujące) x 365  /  przychód netto ze sprzedaży produktów i towarów  (w dniach)"]
["3.2.","Szybkość spłaty zobowiązań",{"$f":"IF(RACH_POR_ANALIZA!C11=0,\"-\",(PASYWAT_ANALIZA!C43+PASYWAT_ANALIZA!C56)*365/RACH_POR_ANALIZA!C11)","v":"-"},{"$f":"IF(RACH_POR_ANALIZA!D11=0,\"-\",(PASYWAT_ANALIZA!E43+PASYWAT_ANALIZA!E56)*365/RACH_POR_ANALIZA!D11)","v":"-"}]
[null,"zobowiązania z tyt. dostaw i usług  x 365  /  wartość sprzedanych towarów i materiałów + koszty wytworzenia sprzedanych produktów (w dniach)"]
["3.3.","Szybkość obrotu zapasów",{"$f":"IF(RACH_POR_ANALIZA!C11=0,\"-\",AKTYWAT_ANALIZA!C53*365/RACH_POR_ANALIZA!C11)","v":"-"},{"$f":"IF(RACH_POR_ANALIZA!D11=0,\"-\",AKTYWAT_ANALIZA!E53*365/RACH_POR_ANALIZA!D11)","v":"-"}]
[null,"zapasy  x 365  /  wartość sprzedanych towarów i materiałów + koszt wytworzenia sprzedanych produktów     ( w dniach)"]
["4.","Wskaźniki charakteryzujące zaangażowanie i zwrotność kapitału"]
["4.1.","Wskaźnik zwrotu kapitału własnego    ( w latach )",{"$f":"IF(RACH_POR_ANALIZA!C17=0,\"-\",PASYWAT_ANALIZA!C10/RACH_POR_ANALIZA!C17)","v":"-"},{"$f":"IF(RACH_POR_ANALIZA!D17=0,\"-\",PASYWAT_ANALIZA!E10/RACH_POR_ANALIZA!D17)","v":"-"}]
[null,"kapitał własny / zysk netto"]
["4.2.","Wskaźnik pokrycia majątku kapitałem własnym",{"$f":"IF(AKTYWAT_ANALIZA!C97=0,\"-\",PASYWAT_ANALIZA!C10/AKTYWAT_ANALIZA!C97)","v":"-"},{"$f":"IF(AKTYWAT_ANALIZA!E97=0,\"-\",PASYWAT_ANALIZA!E10/AKTYWAT_ANALIZA!E97)","v":"-"}]
[null,"kapitał własny  /  aktywa ogółem"]
["4.3.","Trwałość struktury finansowania",{"$f":"IF(PASYWAT_ANALIZA!C69=0,\"-\",(PASYWAT_ANALIZA!C10+PASYWAT_ANALIZA!C24+PASYWAT_ANALIZA!C26+PASYWAT_ANALIZA!C29+PASYWAT_ANALIZA!C31+PASYWAT_ANALIZA!C44+PASYWAT_ANALIZA!C57+PASYWAT_ANALIZA!C65+PASYWAT_ANALIZA!C67)/PASYWAT_ANALIZA!C69)","v":"-"},{"$f":"IF(PASYWAT_ANALIZA!E69=0,\"-\",(PASYWAT_ANALIZA!E10+PASYWAT_ANALIZA!E24+PASYWAT_ANALIZA!E26+PASYWAT_ANALIZA!E29+PASYWAT_ANALIZA!E31+PASYWAT_ANALIZA!E44+PASYWAT_ANALIZA!E57+PASYWAT_ANALIZA!E65+PASYWAT_ANALIZA!E67)/PASYWAT_ANALIZA!E69)","v":"-"}]
[null,"kapitał własny + rezerwy długoterminowe+ zobowiązania długoterminowe  /  suma pasywów"]
["5.","Wskaźniki zadłużenia"]
["5.1.","Wskaźnik ogólnego zadłużenia",{"$f":"IF(PASYWAT_ANALIZA!C69=0,\"-\",PASYWAT_ANALIZA!C22/PASYWAT_ANALIZA!C69)","v":"-"},{"$f":"IF(PASYWAT_ANALIZA!E69=0,\"-\",PASYWAT_ANALIZA!E22/PASYWAT_ANALIZA!E69)","v":"-"}]
[null,"zobowiązania długoterminowe +  krótkoterminowe  /  suma pasywów"]
["5.2.","Wskaźnik zadłużenia krótkoterminowego",{"$f":"IF(PASYWAT_ANALIZA!C69=0,\"-\",(PASYWAT_ANALIZA!C27+PASYWAT_ANALIZA!C30+PASYWAT_ANALIZA!C40-PASYWAT_ANALIZA!C44-PASYWAT_ANALIZA!C57+PASYWAT_ANALIZA!C68)/PASYWAT_ANALIZA!C69)","v":"-"},{"$f":"IF(PASYWAT_ANALIZA!E69=0,\"-\",(PASYWAT_ANALIZA!E27+PASYWAT_ANALIZA!E30+PASYWAT_ANALIZA!E40-PASYWAT_ANALIZA!E44-PASYWAT_ANALIZA!E57+PASYWAT_ANALIZA!E68)/PASYWAT_ANALIZA!E69)","v":"-"}]
[null,"zobowiązania krótkoterminowe  /  suma pasywów"]

{"sheet":"RACH_KALK_ANALIZA","index":96,"n_rows":20,"n_cols":8,"rows_kept":20,"cut":false,"hidden":true,"merged":[[2,7,2,12],[14,8,15,14],[17,8,20,14],[6,0,7,0],[6,1,7,1],[6,4,6,5],[3,0,3,5],[4,0,5,5],[10,8,12,25]]}
[{"$f":"nazwa","v":"DEMO"}]
[{"$f":"temat","v":"Sprawozdanie finansowe za rok 2023"}]
[null,null,null,null,null,null,null,"Powrót do parametrów"]
[]
["RACHUNEK ZYSKÓW I STRAT - ANALIZA"]
[]
["Lp.","Wyszczególnienie",{"$f":"rokb","v":"dd.mm-dd.mm.rrrr"},{"$f":"rokp","v":"dd.mm-dd.mm.rrrr"},"Zmiana"]
[null,null,"tys. zł","tys. zł","kwota  tys. zł (3-4)","% (5:4)"]
[1,2,3,4,5,6]
[" 1.","Przychody netto ze sprzedaży",{"$f":"Rachunek_ZiS_kalkulacyjny!S10/1000","v":0},{"$f":"Rachunek_ZiS_kalkulacyjny!X10/1000","v":0},{"$f":"C10-D10","v":0},{"$f":"IF(OR(D10=0,C10*D10<0),\"-\",E10/(SIGN(D10)*D10))","v":"-"}]
[" 2.","Koszty działalności operacyjnej",{"$f":"Rachunek_ZiS_kalkulacyjny!S15/1000+Rachunek_ZiS_kalkulacyjny!S20/1000+Rachunek_ZiS_kalkulacyjny!S21/1000","v":0},{"$f":"Rachunek_ZiS_kalkulacyjny!X15/1000+Rachunek_ZiS_kalkulacyjny!X20/1000+Rachunek_ZiS_kalkulacyjny!X21/1000","v":0},0,{"$f":"IF(OR(D11=0,C11*D11<0),\"-\",E11/(SIGN(D11)*D11))","v":"-"}]
[" 3.","Wynik na sprzedaży",{"$f":"C10-C11","v":0},{"$f":"D10-D11","v":0},0,"-"]
[" 4.","Wynik na pozostałej działalności operacyjnej",{"$f":"Rachunek_ZiS_kalkulacyjny!S23/1000-Rachunek_ZiS_kalkulacyjny!S28/1000","v":0},{"$f":"Rachunek_ZiS_kalkulacyjny!X23/1000-Rachunek_ZiS_kalkulacyjny!X28/1000","v":0},0,"-"]
[" 5.","Wynik na operacjach finansowych",{"$f":"Rachunek_ZiS_kalkulacyjny!S33/1000-Rachunek_ZiS_kalkulacyjny!S45/1000","v":0},{"$f":"Rachunek_ZiS_kalkulacyjny!X33/1000-Rachunek_ZiS_kalkulacyjny!X45/1000","v":0},0,"-"]
[" 6.","Wynik brutto (3+4+5)",{"$f":"C12+C13+C14","v":0},{"$f":"D12+D13+D14","v":0},0,"-"]
[" 7.","Obowiązkowe zmniejszenia wyniku",{"$f":"(Rachunek_ZiS_kalkulacyjny!S53+Rachunek_ZiS_kalkulacyjny!S54)/1000","v":0},{"$f":"(Rachunek_ZiS_kalkulacyjny!X53+Rachunek_ZiS_kalkulacyjny!X54)/1000","v":0},0,"-"]
[" 8.","Wynik netto (6-7)",{"$f":"C15-C16","v":0},{"$f":"D15-D16","v":0},0,"-"]
[]
[null,"sprawdzenie",{"$f":"Rachunek_ZiS_kalkulacyjny!$S$56/1000","v":0},{"$f":"Rachunek_ZiS_kalkulacyjny!$X$56/1000","v":0}]
[null,"różnica",{"$f":"C17-C19","v":0},{"$f":"D17-D19","v":0}]

{"sheet":"WSKAŹNIKI_KALK_ANALIZA","index":97,"n_rows":45,"n_cols":6,"rows_kept":45,"cut":false,"hidden":true,"merged":[[19,6,22,12],[3,0,3,3],[4,0,5,3],[14,6,17,12],[8,1,8,3],[9,2,10,2],[9,3,10,3],[11,2,12,2],[11,3,12,3],[13,2,14,2],[2,5,2,10],[26,1,26,3],[27,2,28,2],[13,3,14,3],[15,2,16,2],[15,3,16,3],[17,1,17,3],[18,2,19,2],[18,3,19,3],[20,2,21,2],[20,3,21,3],[22,2,23,2],[22,3,23,3],[24,2,25,2],[24,3,25,3],[27,3,28,3],[36,2,37,2],[36,3,37,3],[43,2,44,2],[43,3,44,3],[38,2,39,2],[38,3,39,3],[40,1,40,3],[41,2,42,2],[41,3,42,3],[29,2,30,2],[31,2,32,2],[31,3,32,3],[33,1,33,3],[34,2,35,2],[34,3,35,3],[29,3,30,3]]}
[{"$f":"nazwa","v":"DEMO"}]
[{"$f":"temat","v":"Sprawozdanie finansowe za rok 2023"}]
[null,null,null,null,null,"Powrót do parametrów"]
[]
["WSKAŹNIKI - ANALIZA"]
[]
["Lp.","Treść",{"$f":"stanb","v":"Stan na dzień dd.mm.rrrr"},{"$f":"stanp","v":"Stan na dzień dd.mm.rrrr"}]
[1,2,3,4]
["1.","Wskaźniki charakteryzujące opłacalność działalności"]
["1.1.","Rentowność aktywów ROA",{"$f":"IF(AKTYWAT_ANALIZA!C97=0,\"-\",RACH_KALK_ANALIZA!C17/AKTYWAT_ANALIZA!C97)","v":"-"},{"$f":"IF(AKTYWAT_ANALIZA!E97=0,\"-\",RACH_KALK_ANALIZA!D17/AKTYWAT_ANALIZA!E97)","v":"-"}]
[null,"wynik finansowy netto  /  suma aktywów"]
["1.2.","Rentowność kapitałów własnych ROE",{"$f":"IF(PASYWAT_ANALIZA!C10=0,\"-\",RACH_KALK_ANALIZA!C17/PASYWAT_ANALIZA!C10)","v":"-"},{"$f":"IF(PASYWAT_ANALIZA!E10=0,\"-\",RACH_KALK_ANALIZA!D17/PASYWAT_ANALIZA!E10)","v":"-"}]
[null,"wynik finansowy netto  /  kapitał własny"]
["1.3.","Rentowność netto ROS",{"$f":"IF(RACH_KALK_ANALIZA!C10=0,\"-\",RACH_KALK_ANALIZA!C17/RACH_KALK_ANALIZA!C10)","v":"-"},{"$f":"IF(RACH_KALK_ANALIZA!D10=0,\"-\",RACH_KALK_ANALIZA!D17/RACH_KALK_ANALIZA!D10)","v":"-"}]
[null,"wynik finansowy netto  /  przychody ze sprzedaży produktów i towarów"]
["1.4.","Rentowność brutto",{"$f":"IF(RACH_KALK_ANALIZA!C10=0,\"-\",RACH_KALK_ANALIZA!C15/RACH_KALK_ANALIZA!C10)","v":"-"},{"$f":"IF(RACH_KALK_ANALIZA!D10=0,\"-\",RACH_KALK_ANALIZA!D15/RACH_KALK_ANALIZA!D10)","v":"-"}]
[null,"wynik finansowy brutto  /  przychody ze sprzedaży produktów i towarów"]
["2.","Wskaźniki charakteryzujące płynność finansową"]
["2.1.","Płynność - wskaźnik płynności I",{"$f":"IF((PASYWAT_ANALIZA!C40-PASYWAT_ANALIZA!C44-PASYWAT_ANALIZA!C57-PASYWAT_ANALIZA!C63)=0,\"-\",(AKTYWAT_ANALIZA!C52-AKTYWAT_ANALIZA!C63-AKTYWAT_ANALIZA!C73)/(PASYWAT_ANALIZA!C40-PASYWAT_ANALIZA!C44-PASYWAT_ANALIZA!C57-PASYWAT_ANALIZA!C63))","v":"-"},{"$f":"IF((PASYWAT_ANALIZA!E40-PASYWAT_ANALIZA!E44-PASYWAT_ANALIZA!E57-PASYWAT_ANALIZA!E63)=0,\"-\",(AKTYWAT_ANALIZA!E52-AKTYWAT_ANALIZA!E63-AKTYWAT_ANALIZA!E73)/(PASYWAT_ANALIZA!E40-PASYWAT_ANALIZA!E44-PASYWAT_ANALIZA!E57-PASYWAT_ANALIZA!E63))","v":"-"}]
[null,"aktywa obrotowe ogółem  /  zobowiązania krótkoterminowe"]
["2.2.","Płynność - wskaźnik płynności II",{"$f":"IF((PASYWAT_ANALIZA!C40-PASYWAT_ANALIZA!C44-PASYWAT_ANALIZA!C57-PASYWAT_ANALIZA!C63)=0,\"-\",(AKTYWAT_ANALIZA!C52-AKTYWAT_ANALIZA!C63-AKTYWAT_ANALIZA!C73-AKTYWAT_ANALIZA!C53)/(PASYWAT_ANALIZA!C40-PASYWAT_ANALIZA!C44-PASYWAT_ANALIZA!C57-PASYWAT_ANALIZA!C63))","v":"-"},{"$f":"IF((PASYWAT_ANALIZA!E40-PASYWAT_ANALIZA!E44-PASYWAT_ANALIZA!E57-PASYWAT_ANALIZA!E63)=0,\"-\",(AKTYWAT_ANALIZA!E52-AKTYWAT_ANALIZA!E63-AKTYWAT_ANALIZA!E73-AKTYWAT_ANALIZA!E53)/(PASYWAT_ANALIZA!E40-PASYWAT_ANALIZA!E44-PASYWAT_ANALIZA!E57-PASYWAT_ANALIZA!E63))","v":"-"}]
[null,"aktywa obrotowe ogółem - zapasy  /  zobowiązania krótkoterminowe"]
["2.3.","Płynność - wskaźnik płynności III",{"$f":"IF((PASYWAT_ANALIZA!C40-PASYWAT_ANALIZA!C44-PASYWAT_ANALIZA!C57-PASYWAT_ANALIZA!C63)=0,\"-\",AKTYWAT_ANALIZA!C89/(PASYWAT_ANALIZA!C40-PASYWAT_ANALIZA!C44-PASYWAT_ANALIZA!C57-PASYWAT_ANALIZA!C63))","v":"-"},{"$f":"IF((PASYWAT_ANALIZA!E40-PASYWAT_ANALIZA!E44-PASYWAT_ANALIZA!E57-PASYWAT_ANALIZA!E63)=0,\"-\",AKTYWAT_ANALIZA!E89/(PASYWAT_ANALIZA!E40-PASYWAT_ANALIZA!E44-PASYWAT_ANALIZA!E57-PASYWAT_ANALIZA!E63))","v":"-"}]
[null," środki pieniężne i inne aktywa pieniężne  / zobowiązania krótkoterminowe"]
["2.4.","Płynność długoterminowa",{"$f":"IF((PASYWAT_ANALIZA!C40+PASYWAT_ANALIZA!C31)=0,\"-\",AKTYWAT_ANALIZA!C97/(PASYWAT_ANALIZA!C40+PASYWAT_ANALIZA!C31))","v":"-"},{"$f":"IF((PASYWAT_ANALIZA!E40+PASYWAT_ANALIZA!E31)=0,\"-\",AKTYWAT_ANALIZA!E97/(PASYWAT_ANALIZA!E40+PASYWAT_ANALIZA!E31))","v":"-"}]
[null,"aktywa ogółem / zobowiązania krótko- i długoterminowe"]
["3.","Wskaźniki efektywności gospodarowania majątkiem"]
["3.1.","Szybkość obrotu należności",{"$f":"IF(RACH_KALK_ANALIZA!C10=0,\"-\",(AKTYWAT_ANALIZA!C62+AKTYWAT_ANALIZA!C72+((Należności!S18+Należności!S29+Należności!S35)/1000))*365/RACH_KALK_ANALIZA!C10)","v":"-"},{"$f":"IF(RACH_KALK_ANALIZA!D10=0,\"-\",(AKTYWAT_ANALIZA!E62+AKTYWAT_ANALIZA!E72+((Należności!AH18+Należności!AH29+Należności!AH35)/1000))*365/RACH_KALK_ANALIZA!D10)","v":"-"}]
[null,"należności z tyt. dostaw i usług x 365  /  przychód netto ze sprzedaży produktów i towarów  (w dniach)"]
["3.2.","Szybkość spłaty zobowiązań",{"$f":"IF(RACH_KALK_ANALIZA!C11=0,\"-\",(PASYWAT_ANALIZA!C43+PASYWAT_ANALIZA!C56)*365/RACH_KALK_ANALIZA!C11)","v":"-"},{"$f":"IF(RACH_KALK_ANALIZA!D11=0,\"-\",(PASYWAT_ANALIZA!E43+PASYWAT_ANALIZA!E56)*365/RACH_KALK_ANALIZA!D11)","v":"-"}]
[null,"zobowiązania z tyt. dostaw i usług  x 365  /  wartość sprzedanych towarów i materiałów + koszty wytworzenia sprzedanych produktów (w dniach)"]
["3.3.","Szybkość obrotu zapasów",{"$f":"IF(RACH_KALK_ANALIZA!C11=0,\"-\",AKTYWAT_ANALIZA!C53*365/RACH_KALK_ANALIZA!C11)","v":"-"},{"$f":"IF(RACH_KALK_ANALIZA!D11=0,\"-\",AKTYWAT_ANALIZA!E53*365/RACH_KALK_ANALIZA!D11)","v":"-"}]
[null,"zapasy  x 365  /  wartość sprzedanych towarów i materiałów + koszt wytworzenia sprzedanych produktów     ( w dniach)"]
["4.","Wskaźniki charakteryzujące zaangażowanie i zwrotność kapitału"]
["4.1.","Wskaźnik zwrotu kapitałów własnych    ( w latach )",{"$f":"IF(RACH_KALK_ANALIZA!C17=0,\"-\",PASYWAT_ANALIZA!C10/RACH_KALK_ANALIZA!C17)","v":"-"},{"$f":"IF(RACH_KALK_ANALIZA!D17=0,\"-\",PASYWAT_ANALIZA!E10/RACH_KALK_ANALIZA!D17)","v":"-"}]
[null,"kapitał własny / zysk netto"]
["4.2.","Wskaźnik pokrycia majątku kapitałem własnym",{"$f":"IF(AKTYWAT_ANALIZA!C97=0,\"-\",PASYWAT_ANALIZA!C10/AKTYWAT_ANALIZA!C97)","v":"-"},{"$f":"IF(AKTYWAT_ANALIZA!E97=0,\"-\",PASYWAT_ANALIZA!E10/AKTYWAT_ANALIZA!E97)","v":"-"}]
[null,"kapitał własny  /  aktywa ogółem"]
["4.3.","Trwałość struktury finansowania",{"$f":"IF(PASYWAT_ANALIZA!C69=0,\"-\",(PASYWAT_ANALIZA!C10+PASYWAT_ANALIZA!C24+PASYWAT_ANALIZA!C26+PASYWAT_ANALIZA!C29+PASYWAT_ANALIZA!C31+PASYWAT_ANALIZA!C44+PASYWAT_ANALIZA!C57+PASYWAT_ANALIZA!C65+PASYWAT_ANALIZA!C67)/PASYWAT_ANALIZA!C69)","v":"-"},{"$f":"IF(PASYWAT_ANALIZA!E69=0,\"-\",(PASYWAT_ANALIZA!E10+PASYWAT_ANALIZA!E24+PASYWAT_ANALIZA!E26+PASYWAT_ANALIZA!E29+PASYWAT_ANALIZA!E31+PASYWAT_ANALIZA!E44+PASYWAT_ANALIZA!E57+PASYWAT_ANALIZA!E65+PASYWAT_ANALIZA!E67)/PASYWAT_ANALIZA!E69)","v":"-"}]
[null,"kapitał własny + rezerwy długoterminowe+ zobowiązania długoterminowe  /  suma pasywów"]
["5.","Wskaźniki zadłużenia"]
["5.1.","Wskaźnik ogólnego zadłużenia",{"$f":"IF(PASYWAT_ANALIZA!C69=0,\"-\",PASYWAT_ANALIZA!C22/PASYWAT_ANALIZA!C69)","v":"-"},{"$f":"IF(PASYWAT_ANALIZA!E69=0,\"-\",PASYWAT_ANALIZA!E22/PASYWAT_ANALIZA!E69)","v":"-"}]
[null,"zobowiązania długoterminowe +  krótkoterminowe  /  suma pasywów"]
["5.2.","Wskaźnik zadłużenia krótkoterminowego",{"$f":"IF(PASYWAT_ANALIZA!C69=0,\"-\",(PASYWAT_ANALIZA!C27+PASYWAT_ANALIZA!C30+PASYWAT_ANALIZA!C40-PASYWAT_ANALIZA!C44-PASYWAT_ANALIZA!C57+PASYWAT_ANALIZA!C68)/PASYWAT_ANALIZA!C69)","v":"-"},{"$f":"IF(PASYWAT_ANALIZA!E69=0,\"-\",(PASYWAT_ANALIZA!E27+PASYWAT_ANALIZA!E30+PASYWAT_ANALIZA!E40-PASYWAT_ANALIZA!E44-PASYWAT_ANALIZA!E57+PASYWAT_ANALIZA!E68)/PASYWAT_ANALIZA!E69)","v":"-"}]
[null,"zobowiązania krótkoterminowe  /  suma pasywów"]

{"sheet":"KOSZTY_RODZ_POR_ANALIZA","index":98,"n_rows":20,"n_cols":10,"rows_kept":20,"cut":false,"hidden":true,"merged":[[2,9,2,14],[16,0,16,1],[3,0,3,7],[4,0,5,7],[6,0,7,0],[6,1,7,1],[6,6,6,7],[6,2,6,3],[6,4,6,5]]}
[{"$f":"nazwa","v":"DEMO"}]
[{"$f":"temat","v":"Sprawozdanie finansowe za rok 2023"}]
[null,null,null,null,null,null,null,null,null,"Powrót do parametrów"]
[]
["KOSZTY RODZAJOWE - ANALIZA"]
[]
["L.p.","Wyszczególnienie",{"$f":"rokb","v":"dd.mm-dd.mm.rrrr"},null,{"$f":"rokp","v":"dd.mm-dd.mm.rrrr"},null,"Zmiana"]
[null,null,"tys. zł","% struktura","tys. zł","% struktura","kwota  tys. zł (3-5)","% (5:3)"]
[1,2,3,4,5,6,7,8]
["1.","Amortyzacja",{"$f":"Rachunek_ZiS_porównawczy!S18/1000","v":0},{"$f":"IF(C$17=0,\"-\",C10/C$17)","v":"-"},{"$f":"Rachunek_ZiS_porównawczy!X18/1000","v":0},{"$f":"IF(E$17=0,\"-\",E10/E$17)","v":"-"},{"$f":"C10-E10","v":0},{"$f":"IF(OR(E10=0,C10*E10<0),\"-\",G10/(SIGN(E10)*E10))","v":"-"}]
["2.","Zużycie materiałów i energii",{"$f":"Rachunek_ZiS_porównawczy!S19/1000","v":0},"-",{"$f":"Rachunek_ZiS_porównawczy!X19/1000","v":0},"-",0,"-"]
["3.","Usługi obce",{"$f":"Rachunek_ZiS_porównawczy!S20/1000","v":0},"-",{"$f":"Rachunek_ZiS_porównawczy!X20/1000","v":0},"-",0,"-"]
["4.","Podatki i opłaty",{"$f":"Rachunek_ZiS_porównawczy!S21/1000","v":0},"-",{"$f":"Rachunek_ZiS_porównawczy!X21/1000","v":0},"-",0,"-"]
["5.","Wynagrodzenia",{"$f":"Rachunek_ZiS_porównawczy!S23/1000","v":0},"-",{"$f":"Rachunek_ZiS_porównawczy!X23/1000","v":0},"-",0,"-"]
["6.","Ubezpieczenia społeczne i inne świadczenia",{"$f":"Rachunek_ZiS_porównawczy!S24/1000","v":0},"-",{"$f":"Rachunek_ZiS_porównawczy!X24/1000","v":0},"-",0,"-"]
["7.","Pozostałe koszty rodzajowe",{"$f":"Rachunek_ZiS_porównawczy!S26/1000","v":0},"-",{"$f":"Rachunek_ZiS_porównawczy!X26/1000","v":0},"-",0,"-"]
["Koszty rodzajowe ogółem",null,{"$f":"SUM(C10:C16)","v":0},"-",{"$f":"SUM(E10:E16)","v":0},"-",{"$f":"C17-E17","v":0},{"$f":"IF(OR(E17=0,C17*E17<0),\"-\",G17/(SIGN(E17)*E17))","v":"-"}]
[]
[null,"sprawdzenie",{"$f":"Koszty_rodzajowe!AC27/1000","v":0},null,{"$f":"Koszty_rodzajowe!AM27/1000","v":0}]
[null,"różnica",{"$f":"C17-C19","v":0},null,{"$f":"E17-E19","v":0}]

{"sheet":"KOSZTY_RODZ_KALK_ANALIZA","index":99,"n_rows":20,"n_cols":10,"rows_kept":20,"cut":false,"hidden":true,"merged":[[2,9,2,14],[16,0,16,1],[3,0,3,7],[4,0,5,7],[6,0,7,0],[6,1,7,1],[6,2,6,3],[6,4,6,5],[6,6,6,7]]}
[{"$f":"nazwa","v":"DEMO"}]
[{"$f":"temat","v":"Sprawozdanie finansowe za rok 2023"}]
[null,null,null,null,null,null,null,null,null,"Powrót do parametrów"]
[]
["KOSZTY RODZAJOWE - ANALIZA"]
[]
["L.p.","Wyszczególnienie",{"$f":"rokb","v":"dd.mm-dd.mm.rrrr"},null,{"$f":"rokp","v":"dd.mm-dd.mm.rrrr"},null,"Zmiana"]
[null,null,"tys. zł","% struktura","tys. zł","% struktura","kwota  tys. zł (3-5)","% (5:3)"]
[1,2,3,4,5,6,7,8]
["1.","Amortyzacja",{"$f":"Koszty_ukł_kalkulacyjny!AC10/1000","v":0},{"$f":"IF(C$17=0,\"-\",C10/C$17)","v":"-"},{"$f":"Koszty_ukł_kalkulacyjny!AM10/1000","v":0},{"$f":"IF(E$17=0,\"-\",E10/E$17)","v":"-"},{"$f":"C10-E10","v":0},{"$f":"IF(OR(E10=0,C10*E10<0),\"-\",G10/(SIGN(E10)*E10))","v":"-"}]
["2.","Zużycie materiałów i energii",{"$f":"Koszty_ukł_kalkulacyjny!AC11/1000","v":0},"-",{"$f":"Koszty_ukł_kalkulacyjny!AM11/1000","v":0},"-",0,"-"]
["3.","Usługi obce",{"$f":"Koszty_ukł_kalkulacyjny!AC12/1000","v":0},"-",{"$f":"Koszty_ukł_kalkulacyjny!AM12/1000","v":0},"-",0,"-"]
["4.","Podatki i opłaty",{"$f":"Koszty_ukł_kalkulacyjny!AC17/1000","v":0},"-",{"$f":"Koszty_ukł_kalkulacyjny!AM17/1000","v":0},"-",0,"-"]
["5.","Wynagrodzenia",{"$f":"Koszty_ukł_kalkulacyjny!AC18/1000","v":0},"-",{"$f":"Koszty_ukł_kalkulacyjny!AM18/1000","v":0},"-",0,"-"]
["6.","Ubezpieczenia społeczne i inne świadczenia",{"$f":"Koszty_ukł_kalkulacyjny!AC19/1000","v":0},"-",{"$f":"Koszty_ukł_kalkulacyjny!AM19/1000","v":0},"-",0,"-"]
["7.","Pozostałe koszty rodzajowe",{"$f":"Koszty_ukł_kalkulacyjny!AC20/1000","v":0},"-",{"$f":"Koszty_ukł_kalkulacyjny!AM20/1000","v":0},"-",0,"-"]
["Koszty rodzajowe ogółem",null,{"$f":"SUM(C10:C16)","v":0},"-",{"$f":"SUM(E10:E16)","v":0},"-",{"$f":"C17-E17","v":0},{"$f":"IF(OR(E17=0,C17*E17<0),\"-\",G17/(SIGN(E17)*E17))","v":"-"}]
[]
[null,"sprawdzenie",{"$f":"Koszty_ukł_kalkulacyjny!AC25/1000","v":0},null,{"$f":"Koszty_ukł_kalkulacyjny!AM25/1000","v":0}]
[null,"różnica",{"$f":"C17-C19","v":0},null,{"$f":"E17-E19","v":0}]